BEGIN:VCALENDAR
VERSION:2.0
PRODID:-//Le Canton | O melhor Resort da Serra - ECPv6.15.17.1//NONSGML v1.0//EN
CALSCALE:GREGORIAN
METHOD:PUBLISH
X-ORIGINAL-URL:https://lecanton.com.br
X-WR-CALDESC:Eventos para Le Canton | O melhor Resort da Serra
REFRESH-INTERVAL;VALUE=DURATION:PT1H
X-Robots-Tag:noindex
X-PUBLISHED-TTL:PT1H
BEGIN:VTIMEZONE
TZID:America/Sao_Paulo
BEGIN:STANDARD
TZOFFSETFROM:-0300
TZOFFSETTO:-0300
TZNAME:-03
DTSTART:20250101T000000
END:STANDARD
END:VTIMEZONE
BEGIN:VEVENT
DTSTART;TZID=America/Sao_Paulo:20260523T122000
DTEND;TZID=America/Sao_Paulo:20260523T132000
DTSTAMP:20260419T124644
CREATED:20260401T203541Z
LAST-MODIFIED:20260416T211318Z
UID:10010792-1779538800-1779542400@lecanton.com.br
SUMMARY:Almoço com Recreação
DESCRIPTION:Um momento especial que une alimentação e diversão! As crianças de 5 a 14 anos almoçam junto com a equipe de recreação\, com interação\, brincadeiras e muita alegria durante a refeição\, tornando a experiência ainda mais divertida e inesquecível.O evento pode sofrer alterações de data\, local ou cancelamento sem aviso prévio.
URL:https://lecanton.com.br/evento/almoco-com-recreacao-30/2026-05-23/
LOCATION:Restaurante Lugano
CATEGORIES:Crianças de 5 a 8 anos,Crianças de 9 a 14 anos
END:VEVENT
BEGIN:VEVENT
DTSTART;TZID=America/Sao_Paulo:20260523T190000
DTEND;TZID=America/Sao_Paulo:20260523T194500
DTSTAMP:20260419T124644
CREATED:20260416T211310Z
LAST-MODIFIED:20260416T211310Z
UID:10017846-1779562800-1779565500@lecanton.com.br
SUMMARY:Jantar com Recreação
DESCRIPTION:Um momento especial que une refeição e diversão! Crianças de 5 a 14 anos aproveitam o jantar junto com a equipe de recreação\, com interação\, brincadeiras e um clima leve e animado que torna a experiência ainda mais divertida.\nO evento pode sofrer alterações de data\, local ou cancelamento sem aviso prévio.
URL:https://lecanton.com.br/evento/jantar-com-recreacao/2026-05-23/
LOCATION:Restaurante Lugano
CATEGORIES:Crianças de 5 a 8 anos,Crianças de 9 a 14 anos
END:VEVENT
BEGIN:VEVENT
DTSTART;TZID=America/Sao_Paulo:20260524T122000
DTEND;TZID=America/Sao_Paulo:20260524T132000
DTSTAMP:20260419T124644
CREATED:20260401T203541Z
LAST-MODIFIED:20260416T211318Z
UID:10010793-1779625200-1779628800@lecanton.com.br
SUMMARY:Almoço com Recreação
DESCRIPTION:Um momento especial que une alimentação e diversão! As crianças de 5 a 14 anos almoçam junto com a equipe de recreação\, com interação\, brincadeiras e muita alegria durante a refeição\, tornando a experiência ainda mais divertida e inesquecível.O evento pode sofrer alterações de data\, local ou cancelamento sem aviso prévio.
URL:https://lecanton.com.br/evento/almoco-com-recreacao-30/2026-05-24/
LOCATION:Restaurante Lugano
CATEGORIES:Crianças de 5 a 8 anos,Crianças de 9 a 14 anos
END:VEVENT
BEGIN:VEVENT
DTSTART;TZID=America/Sao_Paulo:20260524T190000
DTEND;TZID=America/Sao_Paulo:20260524T194500
DTSTAMP:20260419T124644
CREATED:20260416T211310Z
LAST-MODIFIED:20260416T211310Z
UID:10017847-1779649200-1779651900@lecanton.com.br
SUMMARY:Jantar com Recreação
DESCRIPTION:Um momento especial que une refeição e diversão! Crianças de 5 a 14 anos aproveitam o jantar junto com a equipe de recreação\, com interação\, brincadeiras e um clima leve e animado que torna a experiência ainda mais divertida.\nO evento pode sofrer alterações de data\, local ou cancelamento sem aviso prévio.
URL:https://lecanton.com.br/evento/jantar-com-recreacao/2026-05-24/
LOCATION:Restaurante Lugano
CATEGORIES:Crianças de 5 a 8 anos,Crianças de 9 a 14 anos
END:VEVENT
BEGIN:VEVENT
DTSTART;TZID=America/Sao_Paulo:20260525T122000
DTEND;TZID=America/Sao_Paulo:20260525T132000
DTSTAMP:20260419T124644
CREATED:20260401T203541Z
LAST-MODIFIED:20260416T211318Z
UID:10010794-1779711600-1779715200@lecanton.com.br
SUMMARY:Almoço com Recreação
DESCRIPTION:Um momento especial que une alimentação e diversão! As crianças de 5 a 14 anos almoçam junto com a equipe de recreação\, com interação\, brincadeiras e muita alegria durante a refeição\, tornando a experiência ainda mais divertida e inesquecível.O evento pode sofrer alterações de data\, local ou cancelamento sem aviso prévio.
URL:https://lecanton.com.br/evento/almoco-com-recreacao-30/2026-05-25/
LOCATION:Restaurante Lugano
CATEGORIES:Crianças de 5 a 8 anos,Crianças de 9 a 14 anos
END:VEVENT
BEGIN:VEVENT
DTSTART;TZID=America/Sao_Paulo:20260525T190000
DTEND;TZID=America/Sao_Paulo:20260525T194500
DTSTAMP:20260419T124644
CREATED:20260416T211310Z
LAST-MODIFIED:20260416T211310Z
UID:10017848-1779735600-1779738300@lecanton.com.br
SUMMARY:Jantar com Recreação
DESCRIPTION:Um momento especial que une refeição e diversão! Crianças de 5 a 14 anos aproveitam o jantar junto com a equipe de recreação\, com interação\, brincadeiras e um clima leve e animado que torna a experiência ainda mais divertida.\nO evento pode sofrer alterações de data\, local ou cancelamento sem aviso prévio.
URL:https://lecanton.com.br/evento/jantar-com-recreacao/2026-05-25/
LOCATION:Restaurante Lugano
CATEGORIES:Crianças de 5 a 8 anos,Crianças de 9 a 14 anos
END:VEVENT
BEGIN:VEVENT
DTSTART;TZID=America/Sao_Paulo:20260526T122000
DTEND;TZID=America/Sao_Paulo:20260526T132000
DTSTAMP:20260419T124644
CREATED:20260401T203541Z
LAST-MODIFIED:20260416T211318Z
UID:10010795-1779798000-1779801600@lecanton.com.br
SUMMARY:Almoço com Recreação
DESCRIPTION:Um momento especial que une alimentação e diversão! As crianças de 5 a 14 anos almoçam junto com a equipe de recreação\, com interação\, brincadeiras e muita alegria durante a refeição\, tornando a experiência ainda mais divertida e inesquecível.O evento pode sofrer alterações de data\, local ou cancelamento sem aviso prévio.
URL:https://lecanton.com.br/evento/almoco-com-recreacao-30/2026-05-26/
LOCATION:Restaurante Lugano
CATEGORIES:Crianças de 5 a 8 anos,Crianças de 9 a 14 anos
END:VEVENT
BEGIN:VEVENT
DTSTART;TZID=America/Sao_Paulo:20260526T190000
DTEND;TZID=America/Sao_Paulo:20260526T194500
DTSTAMP:20260419T124644
CREATED:20260416T211310Z
LAST-MODIFIED:20260416T211310Z
UID:10017849-1779822000-1779824700@lecanton.com.br
SUMMARY:Jantar com Recreação
DESCRIPTION:Um momento especial que une refeição e diversão! Crianças de 5 a 14 anos aproveitam o jantar junto com a equipe de recreação\, com interação\, brincadeiras e um clima leve e animado que torna a experiência ainda mais divertida.\nO evento pode sofrer alterações de data\, local ou cancelamento sem aviso prévio.
URL:https://lecanton.com.br/evento/jantar-com-recreacao/2026-05-26/
LOCATION:Restaurante Lugano
CATEGORIES:Crianças de 5 a 8 anos,Crianças de 9 a 14 anos
END:VEVENT
BEGIN:VEVENT
DTSTART;TZID=America/Sao_Paulo:20260527T122000
DTEND;TZID=America/Sao_Paulo:20260527T132000
DTSTAMP:20260419T124644
CREATED:20260401T203541Z
LAST-MODIFIED:20260416T211318Z
UID:10010796-1779884400-1779888000@lecanton.com.br
SUMMARY:Almoço com Recreação
DESCRIPTION:Um momento especial que une alimentação e diversão! As crianças de 5 a 14 anos almoçam junto com a equipe de recreação\, com interação\, brincadeiras e muita alegria durante a refeição\, tornando a experiência ainda mais divertida e inesquecível.O evento pode sofrer alterações de data\, local ou cancelamento sem aviso prévio.
URL:https://lecanton.com.br/evento/almoco-com-recreacao-30/2026-05-27/
LOCATION:Restaurante Lugano
CATEGORIES:Crianças de 5 a 8 anos,Crianças de 9 a 14 anos
END:VEVENT
BEGIN:VEVENT
DTSTART;TZID=America/Sao_Paulo:20260527T190000
DTEND;TZID=America/Sao_Paulo:20260527T194500
DTSTAMP:20260419T124644
CREATED:20260416T211310Z
LAST-MODIFIED:20260416T211310Z
UID:10017850-1779908400-1779911100@lecanton.com.br
SUMMARY:Jantar com Recreação
DESCRIPTION:Um momento especial que une refeição e diversão! Crianças de 5 a 14 anos aproveitam o jantar junto com a equipe de recreação\, com interação\, brincadeiras e um clima leve e animado que torna a experiência ainda mais divertida.\nO evento pode sofrer alterações de data\, local ou cancelamento sem aviso prévio.
URL:https://lecanton.com.br/evento/jantar-com-recreacao/2026-05-27/
LOCATION:Restaurante Lugano
CATEGORIES:Crianças de 5 a 8 anos,Crianças de 9 a 14 anos
END:VEVENT
BEGIN:VEVENT
DTSTART;TZID=America/Sao_Paulo:20260528T122000
DTEND;TZID=America/Sao_Paulo:20260528T132000
DTSTAMP:20260419T124644
CREATED:20260401T203541Z
LAST-MODIFIED:20260416T211318Z
UID:10010797-1779970800-1779974400@lecanton.com.br
SUMMARY:Almoço com Recreação
DESCRIPTION:Um momento especial que une alimentação e diversão! As crianças de 5 a 14 anos almoçam junto com a equipe de recreação\, com interação\, brincadeiras e muita alegria durante a refeição\, tornando a experiência ainda mais divertida e inesquecível.O evento pode sofrer alterações de data\, local ou cancelamento sem aviso prévio.
URL:https://lecanton.com.br/evento/almoco-com-recreacao-30/2026-05-28/
LOCATION:Restaurante Lugano
CATEGORIES:Crianças de 5 a 8 anos,Crianças de 9 a 14 anos
END:VEVENT
BEGIN:VEVENT
DTSTART;TZID=America/Sao_Paulo:20260528T190000
DTEND;TZID=America/Sao_Paulo:20260528T194500
DTSTAMP:20260419T124644
CREATED:20260416T211310Z
LAST-MODIFIED:20260416T211310Z
UID:10017851-1779994800-1779997500@lecanton.com.br
SUMMARY:Jantar com Recreação
DESCRIPTION:Um momento especial que une refeição e diversão! Crianças de 5 a 14 anos aproveitam o jantar junto com a equipe de recreação\, com interação\, brincadeiras e um clima leve e animado que torna a experiência ainda mais divertida.\nO evento pode sofrer alterações de data\, local ou cancelamento sem aviso prévio.
URL:https://lecanton.com.br/evento/jantar-com-recreacao/2026-05-28/
LOCATION:Restaurante Lugano
CATEGORIES:Crianças de 5 a 8 anos,Crianças de 9 a 14 anos
END:VEVENT
BEGIN:VEVENT
DTSTART;TZID=America/Sao_Paulo:20260529T122000
DTEND;TZID=America/Sao_Paulo:20260529T132000
DTSTAMP:20260419T124645
CREATED:20260401T203541Z
LAST-MODIFIED:20260416T211318Z
UID:10010798-1780057200-1780060800@lecanton.com.br
SUMMARY:Almoço com Recreação
DESCRIPTION:Um momento especial que une alimentação e diversão! As crianças de 5 a 14 anos almoçam junto com a equipe de recreação\, com interação\, brincadeiras e muita alegria durante a refeição\, tornando a experiência ainda mais divertida e inesquecível.O evento pode sofrer alterações de data\, local ou cancelamento sem aviso prévio.
URL:https://lecanton.com.br/evento/almoco-com-recreacao-30/2026-05-29/
LOCATION:Restaurante Lugano
CATEGORIES:Crianças de 5 a 8 anos,Crianças de 9 a 14 anos
END:VEVENT
BEGIN:VEVENT
DTSTART;TZID=America/Sao_Paulo:20260529T190000
DTEND;TZID=America/Sao_Paulo:20260529T194500
DTSTAMP:20260419T124645
CREATED:20260416T211310Z
LAST-MODIFIED:20260416T211310Z
UID:10017852-1780081200-1780083900@lecanton.com.br
SUMMARY:Jantar com Recreação
DESCRIPTION:Um momento especial que une refeição e diversão! Crianças de 5 a 14 anos aproveitam o jantar junto com a equipe de recreação\, com interação\, brincadeiras e um clima leve e animado que torna a experiência ainda mais divertida.\nO evento pode sofrer alterações de data\, local ou cancelamento sem aviso prévio.
URL:https://lecanton.com.br/evento/jantar-com-recreacao/2026-05-29/
LOCATION:Restaurante Lugano
CATEGORIES:Crianças de 5 a 8 anos,Crianças de 9 a 14 anos
END:VEVENT
BEGIN:VEVENT
DTSTART;TZID=America/Sao_Paulo:20260530T122000
DTEND;TZID=America/Sao_Paulo:20260530T132000
DTSTAMP:20260419T124645
CREATED:20260401T203541Z
LAST-MODIFIED:20260416T211318Z
UID:10010799-1780143600-1780147200@lecanton.com.br
SUMMARY:Almoço com Recreação
DESCRIPTION:Um momento especial que une alimentação e diversão! As crianças de 5 a 14 anos almoçam junto com a equipe de recreação\, com interação\, brincadeiras e muita alegria durante a refeição\, tornando a experiência ainda mais divertida e inesquecível.O evento pode sofrer alterações de data\, local ou cancelamento sem aviso prévio.
URL:https://lecanton.com.br/evento/almoco-com-recreacao-30/2026-05-30/
LOCATION:Restaurante Lugano
CATEGORIES:Crianças de 5 a 8 anos,Crianças de 9 a 14 anos
END:VEVENT
BEGIN:VEVENT
DTSTART;TZID=America/Sao_Paulo:20260530T190000
DTEND;TZID=America/Sao_Paulo:20260530T194500
DTSTAMP:20260419T124645
CREATED:20260416T211310Z
LAST-MODIFIED:20260416T211310Z
UID:10017853-1780167600-1780170300@lecanton.com.br
SUMMARY:Jantar com Recreação
DESCRIPTION:Um momento especial que une refeição e diversão! Crianças de 5 a 14 anos aproveitam o jantar junto com a equipe de recreação\, com interação\, brincadeiras e um clima leve e animado que torna a experiência ainda mais divertida.\nO evento pode sofrer alterações de data\, local ou cancelamento sem aviso prévio.
URL:https://lecanton.com.br/evento/jantar-com-recreacao/2026-05-30/
LOCATION:Restaurante Lugano
CATEGORIES:Crianças de 5 a 8 anos,Crianças de 9 a 14 anos
END:VEVENT
BEGIN:VEVENT
DTSTART;TZID=America/Sao_Paulo:20260531T122000
DTEND;TZID=America/Sao_Paulo:20260531T132000
DTSTAMP:20260419T124645
CREATED:20260401T203541Z
LAST-MODIFIED:20260416T211318Z
UID:10010800-1780230000-1780233600@lecanton.com.br
SUMMARY:Almoço com Recreação
DESCRIPTION:Um momento especial que une alimentação e diversão! As crianças de 5 a 14 anos almoçam junto com a equipe de recreação\, com interação\, brincadeiras e muita alegria durante a refeição\, tornando a experiência ainda mais divertida e inesquecível.O evento pode sofrer alterações de data\, local ou cancelamento sem aviso prévio.
URL:https://lecanton.com.br/evento/almoco-com-recreacao-30/2026-05-31/
LOCATION:Restaurante Lugano
CATEGORIES:Crianças de 5 a 8 anos,Crianças de 9 a 14 anos
END:VEVENT
BEGIN:VEVENT
DTSTART;TZID=America/Sao_Paulo:20260531T190000
DTEND;TZID=America/Sao_Paulo:20260531T194500
DTSTAMP:20260419T124645
CREATED:20260416T211310Z
LAST-MODIFIED:20260416T211310Z
UID:10017854-1780254000-1780256700@lecanton.com.br
SUMMARY:Jantar com Recreação
DESCRIPTION:Um momento especial que une refeição e diversão! Crianças de 5 a 14 anos aproveitam o jantar junto com a equipe de recreação\, com interação\, brincadeiras e um clima leve e animado que torna a experiência ainda mais divertida.\nO evento pode sofrer alterações de data\, local ou cancelamento sem aviso prévio.
URL:https://lecanton.com.br/evento/jantar-com-recreacao/2026-05-31/
LOCATION:Restaurante Lugano
CATEGORIES:Crianças de 5 a 8 anos,Crianças de 9 a 14 anos
END:VEVENT
BEGIN:VEVENT
DTSTART;TZID=America/Sao_Paulo:20260601T122000
DTEND;TZID=America/Sao_Paulo:20260601T132000
DTSTAMP:20260419T124645
CREATED:20260401T203541Z
LAST-MODIFIED:20260416T211318Z
UID:10010801-1780316400-1780320000@lecanton.com.br
SUMMARY:Almoço com Recreação
DESCRIPTION:Um momento especial que une alimentação e diversão! As crianças de 5 a 14 anos almoçam junto com a equipe de recreação\, com interação\, brincadeiras e muita alegria durante a refeição\, tornando a experiência ainda mais divertida e inesquecível.O evento pode sofrer alterações de data\, local ou cancelamento sem aviso prévio.
URL:https://lecanton.com.br/evento/almoco-com-recreacao-30/2026-06-01/
LOCATION:Restaurante Lugano
CATEGORIES:Crianças de 5 a 8 anos,Crianças de 9 a 14 anos
END:VEVENT
BEGIN:VEVENT
DTSTART;TZID=America/Sao_Paulo:20260601T190000
DTEND;TZID=America/Sao_Paulo:20260601T194500
DTSTAMP:20260419T124645
CREATED:20260416T211310Z
LAST-MODIFIED:20260416T211310Z
UID:10017855-1780340400-1780343100@lecanton.com.br
SUMMARY:Jantar com Recreação
DESCRIPTION:Um momento especial que une refeição e diversão! Crianças de 5 a 14 anos aproveitam o jantar junto com a equipe de recreação\, com interação\, brincadeiras e um clima leve e animado que torna a experiência ainda mais divertida.\nO evento pode sofrer alterações de data\, local ou cancelamento sem aviso prévio.
URL:https://lecanton.com.br/evento/jantar-com-recreacao/2026-06-01/
LOCATION:Restaurante Lugano
CATEGORIES:Crianças de 5 a 8 anos,Crianças de 9 a 14 anos
END:VEVENT
BEGIN:VEVENT
DTSTART;TZID=America/Sao_Paulo:20260602T122000
DTEND;TZID=America/Sao_Paulo:20260602T132000
DTSTAMP:20260419T124645
CREATED:20260401T203541Z
LAST-MODIFIED:20260416T211318Z
UID:10010802-1780402800-1780406400@lecanton.com.br
SUMMARY:Almoço com Recreação
DESCRIPTION:Um momento especial que une alimentação e diversão! As crianças de 5 a 14 anos almoçam junto com a equipe de recreação\, com interação\, brincadeiras e muita alegria durante a refeição\, tornando a experiência ainda mais divertida e inesquecível.O evento pode sofrer alterações de data\, local ou cancelamento sem aviso prévio.
URL:https://lecanton.com.br/evento/almoco-com-recreacao-30/2026-06-02/
LOCATION:Restaurante Lugano
CATEGORIES:Crianças de 5 a 8 anos,Crianças de 9 a 14 anos
END:VEVENT
BEGIN:VEVENT
DTSTART;TZID=America/Sao_Paulo:20260602T190000
DTEND;TZID=America/Sao_Paulo:20260602T194500
DTSTAMP:20260419T124645
CREATED:20260416T211310Z
LAST-MODIFIED:20260416T211310Z
UID:10017856-1780426800-1780429500@lecanton.com.br
SUMMARY:Jantar com Recreação
DESCRIPTION:Um momento especial que une refeição e diversão! Crianças de 5 a 14 anos aproveitam o jantar junto com a equipe de recreação\, com interação\, brincadeiras e um clima leve e animado que torna a experiência ainda mais divertida.\nO evento pode sofrer alterações de data\, local ou cancelamento sem aviso prévio.
URL:https://lecanton.com.br/evento/jantar-com-recreacao/2026-06-02/
LOCATION:Restaurante Lugano
CATEGORIES:Crianças de 5 a 8 anos,Crianças de 9 a 14 anos
END:VEVENT
BEGIN:VEVENT
DTSTART;TZID=America/Sao_Paulo:20260603T122000
DTEND;TZID=America/Sao_Paulo:20260603T132000
DTSTAMP:20260419T124645
CREATED:20260401T203541Z
LAST-MODIFIED:20260416T211318Z
UID:10010803-1780489200-1780492800@lecanton.com.br
SUMMARY:Almoço com Recreação
DESCRIPTION:Um momento especial que une alimentação e diversão! As crianças de 5 a 14 anos almoçam junto com a equipe de recreação\, com interação\, brincadeiras e muita alegria durante a refeição\, tornando a experiência ainda mais divertida e inesquecível.O evento pode sofrer alterações de data\, local ou cancelamento sem aviso prévio.
URL:https://lecanton.com.br/evento/almoco-com-recreacao-30/2026-06-03/
LOCATION:Restaurante Lugano
CATEGORIES:Crianças de 5 a 8 anos,Crianças de 9 a 14 anos
END:VEVENT
BEGIN:VEVENT
DTSTART;TZID=America/Sao_Paulo:20260603T190000
DTEND;TZID=America/Sao_Paulo:20260603T194500
DTSTAMP:20260419T124645
CREATED:20260416T211310Z
LAST-MODIFIED:20260416T211310Z
UID:10017857-1780513200-1780515900@lecanton.com.br
SUMMARY:Jantar com Recreação
DESCRIPTION:Um momento especial que une refeição e diversão! Crianças de 5 a 14 anos aproveitam o jantar junto com a equipe de recreação\, com interação\, brincadeiras e um clima leve e animado que torna a experiência ainda mais divertida.\nO evento pode sofrer alterações de data\, local ou cancelamento sem aviso prévio.
URL:https://lecanton.com.br/evento/jantar-com-recreacao/2026-06-03/
LOCATION:Restaurante Lugano
CATEGORIES:Crianças de 5 a 8 anos,Crianças de 9 a 14 anos
END:VEVENT
BEGIN:VEVENT
DTSTART;TZID=America/Sao_Paulo:20260604T122000
DTEND;TZID=America/Sao_Paulo:20260604T132000
DTSTAMP:20260419T124645
CREATED:20260401T203541Z
LAST-MODIFIED:20260416T211318Z
UID:10010804-1780575600-1780579200@lecanton.com.br
SUMMARY:Almoço com Recreação
DESCRIPTION:Um momento especial que une alimentação e diversão! As crianças de 5 a 14 anos almoçam junto com a equipe de recreação\, com interação\, brincadeiras e muita alegria durante a refeição\, tornando a experiência ainda mais divertida e inesquecível.O evento pode sofrer alterações de data\, local ou cancelamento sem aviso prévio.
URL:https://lecanton.com.br/evento/almoco-com-recreacao-30/2026-06-04/
LOCATION:Restaurante Lugano
CATEGORIES:Crianças de 5 a 8 anos,Crianças de 9 a 14 anos
END:VEVENT
BEGIN:VEVENT
DTSTART;TZID=America/Sao_Paulo:20260604T190000
DTEND;TZID=America/Sao_Paulo:20260604T194500
DTSTAMP:20260419T124645
CREATED:20260416T211310Z
LAST-MODIFIED:20260416T211310Z
UID:10017858-1780599600-1780602300@lecanton.com.br
SUMMARY:Jantar com Recreação
DESCRIPTION:Um momento especial que une refeição e diversão! Crianças de 5 a 14 anos aproveitam o jantar junto com a equipe de recreação\, com interação\, brincadeiras e um clima leve e animado que torna a experiência ainda mais divertida.\nO evento pode sofrer alterações de data\, local ou cancelamento sem aviso prévio.
URL:https://lecanton.com.br/evento/jantar-com-recreacao/2026-06-04/
LOCATION:Restaurante Lugano
CATEGORIES:Crianças de 5 a 8 anos,Crianças de 9 a 14 anos
END:VEVENT
BEGIN:VEVENT
DTSTART;TZID=America/Sao_Paulo:20260605T122000
DTEND;TZID=America/Sao_Paulo:20260605T132000
DTSTAMP:20260419T124645
CREATED:20260401T203541Z
LAST-MODIFIED:20260416T211318Z
UID:10010805-1780662000-1780665600@lecanton.com.br
SUMMARY:Almoço com Recreação
DESCRIPTION:Um momento especial que une alimentação e diversão! As crianças de 5 a 14 anos almoçam junto com a equipe de recreação\, com interação\, brincadeiras e muita alegria durante a refeição\, tornando a experiência ainda mais divertida e inesquecível.O evento pode sofrer alterações de data\, local ou cancelamento sem aviso prévio.
URL:https://lecanton.com.br/evento/almoco-com-recreacao-30/2026-06-05/
LOCATION:Restaurante Lugano
CATEGORIES:Crianças de 5 a 8 anos,Crianças de 9 a 14 anos
END:VEVENT
BEGIN:VEVENT
DTSTART;TZID=America/Sao_Paulo:20260605T190000
DTEND;TZID=America/Sao_Paulo:20260605T194500
DTSTAMP:20260419T124645
CREATED:20260416T211310Z
LAST-MODIFIED:20260416T211310Z
UID:10017859-1780686000-1780688700@lecanton.com.br
SUMMARY:Jantar com Recreação
DESCRIPTION:Um momento especial que une refeição e diversão! Crianças de 5 a 14 anos aproveitam o jantar junto com a equipe de recreação\, com interação\, brincadeiras e um clima leve e animado que torna a experiência ainda mais divertida.\nO evento pode sofrer alterações de data\, local ou cancelamento sem aviso prévio.
URL:https://lecanton.com.br/evento/jantar-com-recreacao/2026-06-05/
LOCATION:Restaurante Lugano
CATEGORIES:Crianças de 5 a 8 anos,Crianças de 9 a 14 anos
END:VEVENT
BEGIN:VEVENT
DTSTART;TZID=America/Sao_Paulo:20260606T122000
DTEND;TZID=America/Sao_Paulo:20260606T132000
DTSTAMP:20260419T124645
CREATED:20260401T203541Z
LAST-MODIFIED:20260416T211318Z
UID:10010806-1780748400-1780752000@lecanton.com.br
SUMMARY:Almoço com Recreação
DESCRIPTION:Um momento especial que une alimentação e diversão! As crianças de 5 a 14 anos almoçam junto com a equipe de recreação\, com interação\, brincadeiras e muita alegria durante a refeição\, tornando a experiência ainda mais divertida e inesquecível.O evento pode sofrer alterações de data\, local ou cancelamento sem aviso prévio.
URL:https://lecanton.com.br/evento/almoco-com-recreacao-30/2026-06-06/
LOCATION:Restaurante Lugano
CATEGORIES:Crianças de 5 a 8 anos,Crianças de 9 a 14 anos
END:VEVENT
BEGIN:VEVENT
DTSTART;TZID=America/Sao_Paulo:20260606T190000
DTEND;TZID=America/Sao_Paulo:20260606T194500
DTSTAMP:20260419T124645
CREATED:20260416T211310Z
LAST-MODIFIED:20260416T211310Z
UID:10017860-1780772400-1780775100@lecanton.com.br
SUMMARY:Jantar com Recreação
DESCRIPTION:Um momento especial que une refeição e diversão! Crianças de 5 a 14 anos aproveitam o jantar junto com a equipe de recreação\, com interação\, brincadeiras e um clima leve e animado que torna a experiência ainda mais divertida.\nO evento pode sofrer alterações de data\, local ou cancelamento sem aviso prévio.
URL:https://lecanton.com.br/evento/jantar-com-recreacao/2026-06-06/
LOCATION:Restaurante Lugano
CATEGORIES:Crianças de 5 a 8 anos,Crianças de 9 a 14 anos
END:VEVENT
END:VCALENDAR