BEGIN:VCALENDAR
VERSION:2.0
PRODID:-//Le Canton | O melhor Resort da Serra - ECPv6.15.17.1//NONSGML v1.0//EN
CALSCALE:GREGORIAN
METHOD:PUBLISH
X-WR-CALNAME:Le Canton | O melhor Resort da Serra
X-ORIGINAL-URL:https://lecanton.com.br
X-WR-CALDESC:Eventos para Le Canton | O melhor Resort da Serra
REFRESH-INTERVAL;VALUE=DURATION:PT1H
X-Robots-Tag:noindex
X-PUBLISHED-TTL:PT1H
BEGIN:VTIMEZONE
TZID:America/Sao_Paulo
BEGIN:STANDARD
TZOFFSETFROM:-0300
TZOFFSETTO:-0300
TZNAME:-03
DTSTART:20250101T000000
END:STANDARD
END:VTIMEZONE
BEGIN:VEVENT
DTSTART;TZID=America/Sao_Paulo:20260926T122000
DTEND;TZID=America/Sao_Paulo:20260926T132000
DTSTAMP:20260424T221853
CREATED:20260401T203541Z
LAST-MODIFIED:20260420T135539Z
UID:10010918-1790425200-1790428800@lecanton.com.br
SUMMARY:Almoço com Recreação
DESCRIPTION:Um momento especial que une alimentação e diversão! As crianças de 5 a 14 anos almoçam junto com a equipe de recreação\, com interação\, brincadeiras e muita alegria durante a refeição\, tornando a experiência ainda mais divertida e inesquecível.O evento pode sofrer alterações de data\, local ou cancelamento sem aviso prévio.
URL:https://lecanton.com.br/evento/almoco-com-recreacao-30/2026-09-26/
LOCATION:Restaurante Lugano
CATEGORIES:Crianças de 5 a 8 anos,Crianças de 9 a 14 anos
ATTACH;FMTTYPE=image/jpeg:https://lecanton.com.br/wp-content/uploads/2026/04/almoco-com-recreacao.jpg
END:VEVENT
BEGIN:VEVENT
DTSTART;TZID=America/Sao_Paulo:20260926T190000
DTEND;TZID=America/Sao_Paulo:20260926T194500
DTSTAMP:20260424T221853
CREATED:20260416T211310Z
LAST-MODIFIED:20260420T135016Z
UID:10017972-1790449200-1790451900@lecanton.com.br
SUMMARY:Jantar com Recreação
DESCRIPTION:Um momento especial que une refeição e diversão! Crianças de 5 a 14 anos aproveitam o jantar junto com a equipe de recreação\, com interação\, brincadeiras e um clima leve e animado que torna a experiência ainda mais divertida.\nO evento pode sofrer alterações de data\, local ou cancelamento sem aviso prévio.
URL:https://lecanton.com.br/evento/jantar-com-recreacao/2026-09-26/
LOCATION:Restaurante Lugano
CATEGORIES:Crianças de 5 a 8 anos,Crianças de 9 a 14 anos
ATTACH;FMTTYPE=image/jpeg:https://lecanton.com.br/wp-content/uploads/2026/04/almoco-com-recreacao.jpg
END:VEVENT
BEGIN:VEVENT
DTSTART;TZID=America/Sao_Paulo:20260927T122000
DTEND;TZID=America/Sao_Paulo:20260927T132000
DTSTAMP:20260424T221853
CREATED:20260401T203541Z
LAST-MODIFIED:20260420T135539Z
UID:10010919-1790511600-1790515200@lecanton.com.br
SUMMARY:Almoço com Recreação
DESCRIPTION:Um momento especial que une alimentação e diversão! As crianças de 5 a 14 anos almoçam junto com a equipe de recreação\, com interação\, brincadeiras e muita alegria durante a refeição\, tornando a experiência ainda mais divertida e inesquecível.O evento pode sofrer alterações de data\, local ou cancelamento sem aviso prévio.
URL:https://lecanton.com.br/evento/almoco-com-recreacao-30/2026-09-27/
LOCATION:Restaurante Lugano
CATEGORIES:Crianças de 5 a 8 anos,Crianças de 9 a 14 anos
ATTACH;FMTTYPE=image/jpeg:https://lecanton.com.br/wp-content/uploads/2026/04/almoco-com-recreacao.jpg
END:VEVENT
BEGIN:VEVENT
DTSTART;TZID=America/Sao_Paulo:20260927T190000
DTEND;TZID=America/Sao_Paulo:20260927T194500
DTSTAMP:20260424T221853
CREATED:20260416T211310Z
LAST-MODIFIED:20260420T135016Z
UID:10017973-1790535600-1790538300@lecanton.com.br
SUMMARY:Jantar com Recreação
DESCRIPTION:Um momento especial que une refeição e diversão! Crianças de 5 a 14 anos aproveitam o jantar junto com a equipe de recreação\, com interação\, brincadeiras e um clima leve e animado que torna a experiência ainda mais divertida.\nO evento pode sofrer alterações de data\, local ou cancelamento sem aviso prévio.
URL:https://lecanton.com.br/evento/jantar-com-recreacao/2026-09-27/
LOCATION:Restaurante Lugano
CATEGORIES:Crianças de 5 a 8 anos,Crianças de 9 a 14 anos
ATTACH;FMTTYPE=image/jpeg:https://lecanton.com.br/wp-content/uploads/2026/04/almoco-com-recreacao.jpg
END:VEVENT
BEGIN:VEVENT
DTSTART;TZID=America/Sao_Paulo:20260928T122000
DTEND;TZID=America/Sao_Paulo:20260928T132000
DTSTAMP:20260424T221853
CREATED:20260401T203541Z
LAST-MODIFIED:20260420T135539Z
UID:10010920-1790598000-1790601600@lecanton.com.br
SUMMARY:Almoço com Recreação
DESCRIPTION:Um momento especial que une alimentação e diversão! As crianças de 5 a 14 anos almoçam junto com a equipe de recreação\, com interação\, brincadeiras e muita alegria durante a refeição\, tornando a experiência ainda mais divertida e inesquecível.O evento pode sofrer alterações de data\, local ou cancelamento sem aviso prévio.
URL:https://lecanton.com.br/evento/almoco-com-recreacao-30/2026-09-28/
LOCATION:Restaurante Lugano
CATEGORIES:Crianças de 5 a 8 anos,Crianças de 9 a 14 anos
ATTACH;FMTTYPE=image/jpeg:https://lecanton.com.br/wp-content/uploads/2026/04/almoco-com-recreacao.jpg
END:VEVENT
BEGIN:VEVENT
DTSTART;TZID=America/Sao_Paulo:20260928T190000
DTEND;TZID=America/Sao_Paulo:20260928T194500
DTSTAMP:20260424T221853
CREATED:20260416T211310Z
LAST-MODIFIED:20260420T135016Z
UID:10017974-1790622000-1790624700@lecanton.com.br
SUMMARY:Jantar com Recreação
DESCRIPTION:Um momento especial que une refeição e diversão! Crianças de 5 a 14 anos aproveitam o jantar junto com a equipe de recreação\, com interação\, brincadeiras e um clima leve e animado que torna a experiência ainda mais divertida.\nO evento pode sofrer alterações de data\, local ou cancelamento sem aviso prévio.
URL:https://lecanton.com.br/evento/jantar-com-recreacao/2026-09-28/
LOCATION:Restaurante Lugano
CATEGORIES:Crianças de 5 a 8 anos,Crianças de 9 a 14 anos
ATTACH;FMTTYPE=image/jpeg:https://lecanton.com.br/wp-content/uploads/2026/04/almoco-com-recreacao.jpg
END:VEVENT
BEGIN:VEVENT
DTSTART;TZID=America/Sao_Paulo:20260929T122000
DTEND;TZID=America/Sao_Paulo:20260929T132000
DTSTAMP:20260424T221853
CREATED:20260401T203541Z
LAST-MODIFIED:20260420T135539Z
UID:10010921-1790684400-1790688000@lecanton.com.br
SUMMARY:Almoço com Recreação
DESCRIPTION:Um momento especial que une alimentação e diversão! As crianças de 5 a 14 anos almoçam junto com a equipe de recreação\, com interação\, brincadeiras e muita alegria durante a refeição\, tornando a experiência ainda mais divertida e inesquecível.O evento pode sofrer alterações de data\, local ou cancelamento sem aviso prévio.
URL:https://lecanton.com.br/evento/almoco-com-recreacao-30/2026-09-29/
LOCATION:Restaurante Lugano
CATEGORIES:Crianças de 5 a 8 anos,Crianças de 9 a 14 anos
ATTACH;FMTTYPE=image/jpeg:https://lecanton.com.br/wp-content/uploads/2026/04/almoco-com-recreacao.jpg
END:VEVENT
BEGIN:VEVENT
DTSTART;TZID=America/Sao_Paulo:20260929T190000
DTEND;TZID=America/Sao_Paulo:20260929T194500
DTSTAMP:20260424T221853
CREATED:20260416T211310Z
LAST-MODIFIED:20260420T135016Z
UID:10017975-1790708400-1790711100@lecanton.com.br
SUMMARY:Jantar com Recreação
DESCRIPTION:Um momento especial que une refeição e diversão! Crianças de 5 a 14 anos aproveitam o jantar junto com a equipe de recreação\, com interação\, brincadeiras e um clima leve e animado que torna a experiência ainda mais divertida.\nO evento pode sofrer alterações de data\, local ou cancelamento sem aviso prévio.
URL:https://lecanton.com.br/evento/jantar-com-recreacao/2026-09-29/
LOCATION:Restaurante Lugano
CATEGORIES:Crianças de 5 a 8 anos,Crianças de 9 a 14 anos
ATTACH;FMTTYPE=image/jpeg:https://lecanton.com.br/wp-content/uploads/2026/04/almoco-com-recreacao.jpg
END:VEVENT
BEGIN:VEVENT
DTSTART;TZID=America/Sao_Paulo:20260930T122000
DTEND;TZID=America/Sao_Paulo:20260930T132000
DTSTAMP:20260424T221853
CREATED:20260401T203541Z
LAST-MODIFIED:20260420T135539Z
UID:10010922-1790770800-1790774400@lecanton.com.br
SUMMARY:Almoço com Recreação
DESCRIPTION:Um momento especial que une alimentação e diversão! As crianças de 5 a 14 anos almoçam junto com a equipe de recreação\, com interação\, brincadeiras e muita alegria durante a refeição\, tornando a experiência ainda mais divertida e inesquecível.O evento pode sofrer alterações de data\, local ou cancelamento sem aviso prévio.
URL:https://lecanton.com.br/evento/almoco-com-recreacao-30/2026-09-30/
LOCATION:Restaurante Lugano
CATEGORIES:Crianças de 5 a 8 anos,Crianças de 9 a 14 anos
ATTACH;FMTTYPE=image/jpeg:https://lecanton.com.br/wp-content/uploads/2026/04/almoco-com-recreacao.jpg
END:VEVENT
BEGIN:VEVENT
DTSTART;TZID=America/Sao_Paulo:20260930T190000
DTEND;TZID=America/Sao_Paulo:20260930T194500
DTSTAMP:20260424T221853
CREATED:20260416T211310Z
LAST-MODIFIED:20260420T135016Z
UID:10017976-1790794800-1790797500@lecanton.com.br
SUMMARY:Jantar com Recreação
DESCRIPTION:Um momento especial que une refeição e diversão! Crianças de 5 a 14 anos aproveitam o jantar junto com a equipe de recreação\, com interação\, brincadeiras e um clima leve e animado que torna a experiência ainda mais divertida.\nO evento pode sofrer alterações de data\, local ou cancelamento sem aviso prévio.
URL:https://lecanton.com.br/evento/jantar-com-recreacao/2026-09-30/
LOCATION:Restaurante Lugano
CATEGORIES:Crianças de 5 a 8 anos,Crianças de 9 a 14 anos
ATTACH;FMTTYPE=image/jpeg:https://lecanton.com.br/wp-content/uploads/2026/04/almoco-com-recreacao.jpg
END:VEVENT
BEGIN:VEVENT
DTSTART;TZID=America/Sao_Paulo:20261001T122000
DTEND;TZID=America/Sao_Paulo:20261001T132000
DTSTAMP:20260424T221853
CREATED:20260401T203541Z
LAST-MODIFIED:20260420T135539Z
UID:10010923-1790857200-1790860800@lecanton.com.br
SUMMARY:Almoço com Recreação
DESCRIPTION:Um momento especial que une alimentação e diversão! As crianças de 5 a 14 anos almoçam junto com a equipe de recreação\, com interação\, brincadeiras e muita alegria durante a refeição\, tornando a experiência ainda mais divertida e inesquecível.O evento pode sofrer alterações de data\, local ou cancelamento sem aviso prévio.
URL:https://lecanton.com.br/evento/almoco-com-recreacao-30/2026-10-01/
LOCATION:Restaurante Lugano
CATEGORIES:Crianças de 5 a 8 anos,Crianças de 9 a 14 anos
ATTACH;FMTTYPE=image/jpeg:https://lecanton.com.br/wp-content/uploads/2026/04/almoco-com-recreacao.jpg
END:VEVENT
BEGIN:VEVENT
DTSTART;TZID=America/Sao_Paulo:20261001T190000
DTEND;TZID=America/Sao_Paulo:20261001T194500
DTSTAMP:20260424T221853
CREATED:20260416T211310Z
LAST-MODIFIED:20260420T135016Z
UID:10017977-1790881200-1790883900@lecanton.com.br
SUMMARY:Jantar com Recreação
DESCRIPTION:Um momento especial que une refeição e diversão! Crianças de 5 a 14 anos aproveitam o jantar junto com a equipe de recreação\, com interação\, brincadeiras e um clima leve e animado que torna a experiência ainda mais divertida.\nO evento pode sofrer alterações de data\, local ou cancelamento sem aviso prévio.
URL:https://lecanton.com.br/evento/jantar-com-recreacao/2026-10-01/
LOCATION:Restaurante Lugano
CATEGORIES:Crianças de 5 a 8 anos,Crianças de 9 a 14 anos
ATTACH;FMTTYPE=image/jpeg:https://lecanton.com.br/wp-content/uploads/2026/04/almoco-com-recreacao.jpg
END:VEVENT
BEGIN:VEVENT
DTSTART;TZID=America/Sao_Paulo:20261002T122000
DTEND;TZID=America/Sao_Paulo:20261002T132000
DTSTAMP:20260424T221853
CREATED:20260401T203541Z
LAST-MODIFIED:20260420T135539Z
UID:10010924-1790943600-1790947200@lecanton.com.br
SUMMARY:Almoço com Recreação
DESCRIPTION:Um momento especial que une alimentação e diversão! As crianças de 5 a 14 anos almoçam junto com a equipe de recreação\, com interação\, brincadeiras e muita alegria durante a refeição\, tornando a experiência ainda mais divertida e inesquecível.O evento pode sofrer alterações de data\, local ou cancelamento sem aviso prévio.
URL:https://lecanton.com.br/evento/almoco-com-recreacao-30/2026-10-02/
LOCATION:Restaurante Lugano
CATEGORIES:Crianças de 5 a 8 anos,Crianças de 9 a 14 anos
ATTACH;FMTTYPE=image/jpeg:https://lecanton.com.br/wp-content/uploads/2026/04/almoco-com-recreacao.jpg
END:VEVENT
BEGIN:VEVENT
DTSTART;TZID=America/Sao_Paulo:20261002T190000
DTEND;TZID=America/Sao_Paulo:20261002T194500
DTSTAMP:20260424T221853
CREATED:20260416T211310Z
LAST-MODIFIED:20260420T135016Z
UID:10017978-1790967600-1790970300@lecanton.com.br
SUMMARY:Jantar com Recreação
DESCRIPTION:Um momento especial que une refeição e diversão! Crianças de 5 a 14 anos aproveitam o jantar junto com a equipe de recreação\, com interação\, brincadeiras e um clima leve e animado que torna a experiência ainda mais divertida.\nO evento pode sofrer alterações de data\, local ou cancelamento sem aviso prévio.
URL:https://lecanton.com.br/evento/jantar-com-recreacao/2026-10-02/
LOCATION:Restaurante Lugano
CATEGORIES:Crianças de 5 a 8 anos,Crianças de 9 a 14 anos
ATTACH;FMTTYPE=image/jpeg:https://lecanton.com.br/wp-content/uploads/2026/04/almoco-com-recreacao.jpg
END:VEVENT
BEGIN:VEVENT
DTSTART;TZID=America/Sao_Paulo:20261003T122000
DTEND;TZID=America/Sao_Paulo:20261003T132000
DTSTAMP:20260424T221853
CREATED:20260401T203541Z
LAST-MODIFIED:20260420T135539Z
UID:10010925-1791030000-1791033600@lecanton.com.br
SUMMARY:Almoço com Recreação
DESCRIPTION:Um momento especial que une alimentação e diversão! As crianças de 5 a 14 anos almoçam junto com a equipe de recreação\, com interação\, brincadeiras e muita alegria durante a refeição\, tornando a experiência ainda mais divertida e inesquecível.O evento pode sofrer alterações de data\, local ou cancelamento sem aviso prévio.
URL:https://lecanton.com.br/evento/almoco-com-recreacao-30/2026-10-03/
LOCATION:Restaurante Lugano
CATEGORIES:Crianças de 5 a 8 anos,Crianças de 9 a 14 anos
ATTACH;FMTTYPE=image/jpeg:https://lecanton.com.br/wp-content/uploads/2026/04/almoco-com-recreacao.jpg
END:VEVENT
BEGIN:VEVENT
DTSTART;TZID=America/Sao_Paulo:20261003T190000
DTEND;TZID=America/Sao_Paulo:20261003T194500
DTSTAMP:20260424T221853
CREATED:20260416T211310Z
LAST-MODIFIED:20260420T135016Z
UID:10017979-1791054000-1791056700@lecanton.com.br
SUMMARY:Jantar com Recreação
DESCRIPTION:Um momento especial que une refeição e diversão! Crianças de 5 a 14 anos aproveitam o jantar junto com a equipe de recreação\, com interação\, brincadeiras e um clima leve e animado que torna a experiência ainda mais divertida.\nO evento pode sofrer alterações de data\, local ou cancelamento sem aviso prévio.
URL:https://lecanton.com.br/evento/jantar-com-recreacao/2026-10-03/
LOCATION:Restaurante Lugano
CATEGORIES:Crianças de 5 a 8 anos,Crianças de 9 a 14 anos
ATTACH;FMTTYPE=image/jpeg:https://lecanton.com.br/wp-content/uploads/2026/04/almoco-com-recreacao.jpg
END:VEVENT
BEGIN:VEVENT
DTSTART;TZID=America/Sao_Paulo:20261004T122000
DTEND;TZID=America/Sao_Paulo:20261004T132000
DTSTAMP:20260424T221853
CREATED:20260401T203541Z
LAST-MODIFIED:20260420T135539Z
UID:10010926-1791116400-1791120000@lecanton.com.br
SUMMARY:Almoço com Recreação
DESCRIPTION:Um momento especial que une alimentação e diversão! As crianças de 5 a 14 anos almoçam junto com a equipe de recreação\, com interação\, brincadeiras e muita alegria durante a refeição\, tornando a experiência ainda mais divertida e inesquecível.O evento pode sofrer alterações de data\, local ou cancelamento sem aviso prévio.
URL:https://lecanton.com.br/evento/almoco-com-recreacao-30/2026-10-04/
LOCATION:Restaurante Lugano
CATEGORIES:Crianças de 5 a 8 anos,Crianças de 9 a 14 anos
ATTACH;FMTTYPE=image/jpeg:https://lecanton.com.br/wp-content/uploads/2026/04/almoco-com-recreacao.jpg
END:VEVENT
BEGIN:VEVENT
DTSTART;TZID=America/Sao_Paulo:20261004T190000
DTEND;TZID=America/Sao_Paulo:20261004T194500
DTSTAMP:20260424T221853
CREATED:20260416T211310Z
LAST-MODIFIED:20260420T135016Z
UID:10017980-1791140400-1791143100@lecanton.com.br
SUMMARY:Jantar com Recreação
DESCRIPTION:Um momento especial que une refeição e diversão! Crianças de 5 a 14 anos aproveitam o jantar junto com a equipe de recreação\, com interação\, brincadeiras e um clima leve e animado que torna a experiência ainda mais divertida.\nO evento pode sofrer alterações de data\, local ou cancelamento sem aviso prévio.
URL:https://lecanton.com.br/evento/jantar-com-recreacao/2026-10-04/
LOCATION:Restaurante Lugano
CATEGORIES:Crianças de 5 a 8 anos,Crianças de 9 a 14 anos
ATTACH;FMTTYPE=image/jpeg:https://lecanton.com.br/wp-content/uploads/2026/04/almoco-com-recreacao.jpg
END:VEVENT
BEGIN:VEVENT
DTSTART;TZID=America/Sao_Paulo:20261005T122000
DTEND;TZID=America/Sao_Paulo:20261005T132000
DTSTAMP:20260424T221853
CREATED:20260401T203541Z
LAST-MODIFIED:20260420T135539Z
UID:10010927-1791202800-1791206400@lecanton.com.br
SUMMARY:Almoço com Recreação
DESCRIPTION:Um momento especial que une alimentação e diversão! As crianças de 5 a 14 anos almoçam junto com a equipe de recreação\, com interação\, brincadeiras e muita alegria durante a refeição\, tornando a experiência ainda mais divertida e inesquecível.O evento pode sofrer alterações de data\, local ou cancelamento sem aviso prévio.
URL:https://lecanton.com.br/evento/almoco-com-recreacao-30/2026-10-05/
LOCATION:Restaurante Lugano
CATEGORIES:Crianças de 5 a 8 anos,Crianças de 9 a 14 anos
ATTACH;FMTTYPE=image/jpeg:https://lecanton.com.br/wp-content/uploads/2026/04/almoco-com-recreacao.jpg
END:VEVENT
BEGIN:VEVENT
DTSTART;TZID=America/Sao_Paulo:20261005T190000
DTEND;TZID=America/Sao_Paulo:20261005T194500
DTSTAMP:20260424T221853
CREATED:20260416T211310Z
LAST-MODIFIED:20260420T135016Z
UID:10017981-1791226800-1791229500@lecanton.com.br
SUMMARY:Jantar com Recreação
DESCRIPTION:Um momento especial que une refeição e diversão! Crianças de 5 a 14 anos aproveitam o jantar junto com a equipe de recreação\, com interação\, brincadeiras e um clima leve e animado que torna a experiência ainda mais divertida.\nO evento pode sofrer alterações de data\, local ou cancelamento sem aviso prévio.
URL:https://lecanton.com.br/evento/jantar-com-recreacao/2026-10-05/
LOCATION:Restaurante Lugano
CATEGORIES:Crianças de 5 a 8 anos,Crianças de 9 a 14 anos
ATTACH;FMTTYPE=image/jpeg:https://lecanton.com.br/wp-content/uploads/2026/04/almoco-com-recreacao.jpg
END:VEVENT
BEGIN:VEVENT
DTSTART;TZID=America/Sao_Paulo:20261006T122000
DTEND;TZID=America/Sao_Paulo:20261006T132000
DTSTAMP:20260424T221853
CREATED:20260401T203541Z
LAST-MODIFIED:20260420T135539Z
UID:10010928-1791289200-1791292800@lecanton.com.br
SUMMARY:Almoço com Recreação
DESCRIPTION:Um momento especial que une alimentação e diversão! As crianças de 5 a 14 anos almoçam junto com a equipe de recreação\, com interação\, brincadeiras e muita alegria durante a refeição\, tornando a experiência ainda mais divertida e inesquecível.O evento pode sofrer alterações de data\, local ou cancelamento sem aviso prévio.
URL:https://lecanton.com.br/evento/almoco-com-recreacao-30/2026-10-06/
LOCATION:Restaurante Lugano
CATEGORIES:Crianças de 5 a 8 anos,Crianças de 9 a 14 anos
ATTACH;FMTTYPE=image/jpeg:https://lecanton.com.br/wp-content/uploads/2026/04/almoco-com-recreacao.jpg
END:VEVENT
BEGIN:VEVENT
DTSTART;TZID=America/Sao_Paulo:20261006T190000
DTEND;TZID=America/Sao_Paulo:20261006T194500
DTSTAMP:20260424T221853
CREATED:20260416T211310Z
LAST-MODIFIED:20260420T135016Z
UID:10017982-1791313200-1791315900@lecanton.com.br
SUMMARY:Jantar com Recreação
DESCRIPTION:Um momento especial que une refeição e diversão! Crianças de 5 a 14 anos aproveitam o jantar junto com a equipe de recreação\, com interação\, brincadeiras e um clima leve e animado que torna a experiência ainda mais divertida.\nO evento pode sofrer alterações de data\, local ou cancelamento sem aviso prévio.
URL:https://lecanton.com.br/evento/jantar-com-recreacao/2026-10-06/
LOCATION:Restaurante Lugano
CATEGORIES:Crianças de 5 a 8 anos,Crianças de 9 a 14 anos
ATTACH;FMTTYPE=image/jpeg:https://lecanton.com.br/wp-content/uploads/2026/04/almoco-com-recreacao.jpg
END:VEVENT
BEGIN:VEVENT
DTSTART;TZID=America/Sao_Paulo:20261007T122000
DTEND;TZID=America/Sao_Paulo:20261007T132000
DTSTAMP:20260424T221853
CREATED:20260401T203541Z
LAST-MODIFIED:20260420T135539Z
UID:10010929-1791375600-1791379200@lecanton.com.br
SUMMARY:Almoço com Recreação
DESCRIPTION:Um momento especial que une alimentação e diversão! As crianças de 5 a 14 anos almoçam junto com a equipe de recreação\, com interação\, brincadeiras e muita alegria durante a refeição\, tornando a experiência ainda mais divertida e inesquecível.O evento pode sofrer alterações de data\, local ou cancelamento sem aviso prévio.
URL:https://lecanton.com.br/evento/almoco-com-recreacao-30/2026-10-07/
LOCATION:Restaurante Lugano
CATEGORIES:Crianças de 5 a 8 anos,Crianças de 9 a 14 anos
ATTACH;FMTTYPE=image/jpeg:https://lecanton.com.br/wp-content/uploads/2026/04/almoco-com-recreacao.jpg
END:VEVENT
BEGIN:VEVENT
DTSTART;TZID=America/Sao_Paulo:20261007T190000
DTEND;TZID=America/Sao_Paulo:20261007T194500
DTSTAMP:20260424T221853
CREATED:20260416T211310Z
LAST-MODIFIED:20260420T135016Z
UID:10017983-1791399600-1791402300@lecanton.com.br
SUMMARY:Jantar com Recreação
DESCRIPTION:Um momento especial que une refeição e diversão! Crianças de 5 a 14 anos aproveitam o jantar junto com a equipe de recreação\, com interação\, brincadeiras e um clima leve e animado que torna a experiência ainda mais divertida.\nO evento pode sofrer alterações de data\, local ou cancelamento sem aviso prévio.
URL:https://lecanton.com.br/evento/jantar-com-recreacao/2026-10-07/
LOCATION:Restaurante Lugano
CATEGORIES:Crianças de 5 a 8 anos,Crianças de 9 a 14 anos
ATTACH;FMTTYPE=image/jpeg:https://lecanton.com.br/wp-content/uploads/2026/04/almoco-com-recreacao.jpg
END:VEVENT
BEGIN:VEVENT
DTSTART;TZID=America/Sao_Paulo:20261008T122000
DTEND;TZID=America/Sao_Paulo:20261008T132000
DTSTAMP:20260424T221854
CREATED:20260401T203541Z
LAST-MODIFIED:20260420T135539Z
UID:10010930-1791462000-1791465600@lecanton.com.br
SUMMARY:Almoço com Recreação
DESCRIPTION:Um momento especial que une alimentação e diversão! As crianças de 5 a 14 anos almoçam junto com a equipe de recreação\, com interação\, brincadeiras e muita alegria durante a refeição\, tornando a experiência ainda mais divertida e inesquecível.O evento pode sofrer alterações de data\, local ou cancelamento sem aviso prévio.
URL:https://lecanton.com.br/evento/almoco-com-recreacao-30/2026-10-08/
LOCATION:Restaurante Lugano
CATEGORIES:Crianças de 5 a 8 anos,Crianças de 9 a 14 anos
ATTACH;FMTTYPE=image/jpeg:https://lecanton.com.br/wp-content/uploads/2026/04/almoco-com-recreacao.jpg
END:VEVENT
BEGIN:VEVENT
DTSTART;TZID=America/Sao_Paulo:20261008T190000
DTEND;TZID=America/Sao_Paulo:20261008T194500
DTSTAMP:20260424T221854
CREATED:20260416T211310Z
LAST-MODIFIED:20260420T135016Z
UID:10017984-1791486000-1791488700@lecanton.com.br
SUMMARY:Jantar com Recreação
DESCRIPTION:Um momento especial que une refeição e diversão! Crianças de 5 a 14 anos aproveitam o jantar junto com a equipe de recreação\, com interação\, brincadeiras e um clima leve e animado que torna a experiência ainda mais divertida.\nO evento pode sofrer alterações de data\, local ou cancelamento sem aviso prévio.
URL:https://lecanton.com.br/evento/jantar-com-recreacao/2026-10-08/
LOCATION:Restaurante Lugano
CATEGORIES:Crianças de 5 a 8 anos,Crianças de 9 a 14 anos
ATTACH;FMTTYPE=image/jpeg:https://lecanton.com.br/wp-content/uploads/2026/04/almoco-com-recreacao.jpg
END:VEVENT
BEGIN:VEVENT
DTSTART;TZID=America/Sao_Paulo:20261009T122000
DTEND;TZID=America/Sao_Paulo:20261009T132000
DTSTAMP:20260424T221854
CREATED:20260401T203541Z
LAST-MODIFIED:20260420T135539Z
UID:10010931-1791548400-1791552000@lecanton.com.br
SUMMARY:Almoço com Recreação
DESCRIPTION:Um momento especial que une alimentação e diversão! As crianças de 5 a 14 anos almoçam junto com a equipe de recreação\, com interação\, brincadeiras e muita alegria durante a refeição\, tornando a experiência ainda mais divertida e inesquecível.O evento pode sofrer alterações de data\, local ou cancelamento sem aviso prévio.
URL:https://lecanton.com.br/evento/almoco-com-recreacao-30/2026-10-09/
LOCATION:Restaurante Lugano
CATEGORIES:Crianças de 5 a 8 anos,Crianças de 9 a 14 anos
ATTACH;FMTTYPE=image/jpeg:https://lecanton.com.br/wp-content/uploads/2026/04/almoco-com-recreacao.jpg
END:VEVENT
BEGIN:VEVENT
DTSTART;TZID=America/Sao_Paulo:20261009T190000
DTEND;TZID=America/Sao_Paulo:20261009T194500
DTSTAMP:20260424T221854
CREATED:20260416T211310Z
LAST-MODIFIED:20260420T135016Z
UID:10017985-1791572400-1791575100@lecanton.com.br
SUMMARY:Jantar com Recreação
DESCRIPTION:Um momento especial que une refeição e diversão! Crianças de 5 a 14 anos aproveitam o jantar junto com a equipe de recreação\, com interação\, brincadeiras e um clima leve e animado que torna a experiência ainda mais divertida.\nO evento pode sofrer alterações de data\, local ou cancelamento sem aviso prévio.
URL:https://lecanton.com.br/evento/jantar-com-recreacao/2026-10-09/
LOCATION:Restaurante Lugano
CATEGORIES:Crianças de 5 a 8 anos,Crianças de 9 a 14 anos
ATTACH;FMTTYPE=image/jpeg:https://lecanton.com.br/wp-content/uploads/2026/04/almoco-com-recreacao.jpg
END:VEVENT
BEGIN:VEVENT
DTSTART;TZID=America/Sao_Paulo:20261010T122000
DTEND;TZID=America/Sao_Paulo:20261010T132000
DTSTAMP:20260424T221854
CREATED:20260401T203541Z
LAST-MODIFIED:20260420T135539Z
UID:10010932-1791634800-1791638400@lecanton.com.br
SUMMARY:Almoço com Recreação
DESCRIPTION:Um momento especial que une alimentação e diversão! As crianças de 5 a 14 anos almoçam junto com a equipe de recreação\, com interação\, brincadeiras e muita alegria durante a refeição\, tornando a experiência ainda mais divertida e inesquecível.O evento pode sofrer alterações de data\, local ou cancelamento sem aviso prévio.
URL:https://lecanton.com.br/evento/almoco-com-recreacao-30/2026-10-10/
LOCATION:Restaurante Lugano
CATEGORIES:Crianças de 5 a 8 anos,Crianças de 9 a 14 anos
ATTACH;FMTTYPE=image/jpeg:https://lecanton.com.br/wp-content/uploads/2026/04/almoco-com-recreacao.jpg
END:VEVENT
BEGIN:VEVENT
DTSTART;TZID=America/Sao_Paulo:20261010T190000
DTEND;TZID=America/Sao_Paulo:20261010T194500
DTSTAMP:20260424T221854
CREATED:20260416T211310Z
LAST-MODIFIED:20260420T135016Z
UID:10017986-1791658800-1791661500@lecanton.com.br
SUMMARY:Jantar com Recreação
DESCRIPTION:Um momento especial que une refeição e diversão! Crianças de 5 a 14 anos aproveitam o jantar junto com a equipe de recreação\, com interação\, brincadeiras e um clima leve e animado que torna a experiência ainda mais divertida.\nO evento pode sofrer alterações de data\, local ou cancelamento sem aviso prévio.
URL:https://lecanton.com.br/evento/jantar-com-recreacao/2026-10-10/
LOCATION:Restaurante Lugano
CATEGORIES:Crianças de 5 a 8 anos,Crianças de 9 a 14 anos
ATTACH;FMTTYPE=image/jpeg:https://lecanton.com.br/wp-content/uploads/2026/04/almoco-com-recreacao.jpg
END:VEVENT
END:VCALENDAR