BEGIN:VCALENDAR
VERSION:2.0
PRODID:-//Le Canton | O melhor Resort da Serra - ECPv6.15.17.1//NONSGML v1.0//EN
CALSCALE:GREGORIAN
METHOD:PUBLISH
X-ORIGINAL-URL:https://lecanton.com.br
X-WR-CALDESC:Eventos para Le Canton | O melhor Resort da Serra
REFRESH-INTERVAL;VALUE=DURATION:PT1H
X-Robots-Tag:noindex
X-PUBLISHED-TTL:PT1H
BEGIN:VTIMEZONE
TZID:America/Sao_Paulo
BEGIN:STANDARD
TZOFFSETFROM:-0300
TZOFFSETTO:-0300
TZNAME:-03
DTSTART:20250101T000000
END:STANDARD
END:VTIMEZONE
BEGIN:VEVENT
DTSTART;TZID=America/Sao_Paulo:20260813T122000
DTEND;TZID=America/Sao_Paulo:20260813T132000
DTSTAMP:20260422T200125
CREATED:20260401T203541Z
LAST-MODIFIED:20260420T135539Z
UID:10010874-1786623600-1786627200@lecanton.com.br
SUMMARY:Almoço com Recreação
DESCRIPTION:Um momento especial que une alimentação e diversão! As crianças de 5 a 14 anos almoçam junto com a equipe de recreação\, com interação\, brincadeiras e muita alegria durante a refeição\, tornando a experiência ainda mais divertida e inesquecível.O evento pode sofrer alterações de data\, local ou cancelamento sem aviso prévio.
URL:https://lecanton.com.br/evento/almoco-com-recreacao-30/2026-08-13/
LOCATION:Restaurante Lugano
CATEGORIES:Crianças de 5 a 8 anos,Crianças de 9 a 14 anos
ATTACH;FMTTYPE=image/jpeg:https://lecanton.com.br/wp-content/uploads/2026/04/almoco-com-recreacao.jpg
END:VEVENT
BEGIN:VEVENT
DTSTART;TZID=America/Sao_Paulo:20260813T190000
DTEND;TZID=America/Sao_Paulo:20260813T194500
DTSTAMP:20260422T200125
CREATED:20260416T211310Z
LAST-MODIFIED:20260420T135016Z
UID:10017928-1786647600-1786650300@lecanton.com.br
SUMMARY:Jantar com Recreação
DESCRIPTION:Um momento especial que une refeição e diversão! Crianças de 5 a 14 anos aproveitam o jantar junto com a equipe de recreação\, com interação\, brincadeiras e um clima leve e animado que torna a experiência ainda mais divertida.\nO evento pode sofrer alterações de data\, local ou cancelamento sem aviso prévio.
URL:https://lecanton.com.br/evento/jantar-com-recreacao/2026-08-13/
LOCATION:Restaurante Lugano
CATEGORIES:Crianças de 5 a 8 anos,Crianças de 9 a 14 anos
ATTACH;FMTTYPE=image/jpeg:https://lecanton.com.br/wp-content/uploads/2026/04/almoco-com-recreacao.jpg
END:VEVENT
BEGIN:VEVENT
DTSTART;TZID=America/Sao_Paulo:20260814T122000
DTEND;TZID=America/Sao_Paulo:20260814T132000
DTSTAMP:20260422T200126
CREATED:20260401T203541Z
LAST-MODIFIED:20260420T135539Z
UID:10010875-1786710000-1786713600@lecanton.com.br
SUMMARY:Almoço com Recreação
DESCRIPTION:Um momento especial que une alimentação e diversão! As crianças de 5 a 14 anos almoçam junto com a equipe de recreação\, com interação\, brincadeiras e muita alegria durante a refeição\, tornando a experiência ainda mais divertida e inesquecível.O evento pode sofrer alterações de data\, local ou cancelamento sem aviso prévio.
URL:https://lecanton.com.br/evento/almoco-com-recreacao-30/2026-08-14/
LOCATION:Restaurante Lugano
CATEGORIES:Crianças de 5 a 8 anos,Crianças de 9 a 14 anos
ATTACH;FMTTYPE=image/jpeg:https://lecanton.com.br/wp-content/uploads/2026/04/almoco-com-recreacao.jpg
END:VEVENT
BEGIN:VEVENT
DTSTART;TZID=America/Sao_Paulo:20260814T190000
DTEND;TZID=America/Sao_Paulo:20260814T194500
DTSTAMP:20260422T200126
CREATED:20260416T211310Z
LAST-MODIFIED:20260420T135016Z
UID:10017929-1786734000-1786736700@lecanton.com.br
SUMMARY:Jantar com Recreação
DESCRIPTION:Um momento especial que une refeição e diversão! Crianças de 5 a 14 anos aproveitam o jantar junto com a equipe de recreação\, com interação\, brincadeiras e um clima leve e animado que torna a experiência ainda mais divertida.\nO evento pode sofrer alterações de data\, local ou cancelamento sem aviso prévio.
URL:https://lecanton.com.br/evento/jantar-com-recreacao/2026-08-14/
LOCATION:Restaurante Lugano
CATEGORIES:Crianças de 5 a 8 anos,Crianças de 9 a 14 anos
ATTACH;FMTTYPE=image/jpeg:https://lecanton.com.br/wp-content/uploads/2026/04/almoco-com-recreacao.jpg
END:VEVENT
BEGIN:VEVENT
DTSTART;TZID=America/Sao_Paulo:20260815T122000
DTEND;TZID=America/Sao_Paulo:20260815T132000
DTSTAMP:20260422T200126
CREATED:20260401T203541Z
LAST-MODIFIED:20260420T135539Z
UID:10010876-1786796400-1786800000@lecanton.com.br
SUMMARY:Almoço com Recreação
DESCRIPTION:Um momento especial que une alimentação e diversão! As crianças de 5 a 14 anos almoçam junto com a equipe de recreação\, com interação\, brincadeiras e muita alegria durante a refeição\, tornando a experiência ainda mais divertida e inesquecível.O evento pode sofrer alterações de data\, local ou cancelamento sem aviso prévio.
URL:https://lecanton.com.br/evento/almoco-com-recreacao-30/2026-08-15/
LOCATION:Restaurante Lugano
CATEGORIES:Crianças de 5 a 8 anos,Crianças de 9 a 14 anos
ATTACH;FMTTYPE=image/jpeg:https://lecanton.com.br/wp-content/uploads/2026/04/almoco-com-recreacao.jpg
END:VEVENT
BEGIN:VEVENT
DTSTART;TZID=America/Sao_Paulo:20260815T190000
DTEND;TZID=America/Sao_Paulo:20260815T194500
DTSTAMP:20260422T200126
CREATED:20260416T211310Z
LAST-MODIFIED:20260420T135016Z
UID:10017930-1786820400-1786823100@lecanton.com.br
SUMMARY:Jantar com Recreação
DESCRIPTION:Um momento especial que une refeição e diversão! Crianças de 5 a 14 anos aproveitam o jantar junto com a equipe de recreação\, com interação\, brincadeiras e um clima leve e animado que torna a experiência ainda mais divertida.\nO evento pode sofrer alterações de data\, local ou cancelamento sem aviso prévio.
URL:https://lecanton.com.br/evento/jantar-com-recreacao/2026-08-15/
LOCATION:Restaurante Lugano
CATEGORIES:Crianças de 5 a 8 anos,Crianças de 9 a 14 anos
ATTACH;FMTTYPE=image/jpeg:https://lecanton.com.br/wp-content/uploads/2026/04/almoco-com-recreacao.jpg
END:VEVENT
BEGIN:VEVENT
DTSTART;TZID=America/Sao_Paulo:20260816T122000
DTEND;TZID=America/Sao_Paulo:20260816T132000
DTSTAMP:20260422T200126
CREATED:20260401T203541Z
LAST-MODIFIED:20260420T135539Z
UID:10010877-1786882800-1786886400@lecanton.com.br
SUMMARY:Almoço com Recreação
DESCRIPTION:Um momento especial que une alimentação e diversão! As crianças de 5 a 14 anos almoçam junto com a equipe de recreação\, com interação\, brincadeiras e muita alegria durante a refeição\, tornando a experiência ainda mais divertida e inesquecível.O evento pode sofrer alterações de data\, local ou cancelamento sem aviso prévio.
URL:https://lecanton.com.br/evento/almoco-com-recreacao-30/2026-08-16/
LOCATION:Restaurante Lugano
CATEGORIES:Crianças de 5 a 8 anos,Crianças de 9 a 14 anos
ATTACH;FMTTYPE=image/jpeg:https://lecanton.com.br/wp-content/uploads/2026/04/almoco-com-recreacao.jpg
END:VEVENT
BEGIN:VEVENT
DTSTART;TZID=America/Sao_Paulo:20260816T190000
DTEND;TZID=America/Sao_Paulo:20260816T194500
DTSTAMP:20260422T200126
CREATED:20260416T211310Z
LAST-MODIFIED:20260420T135016Z
UID:10017931-1786906800-1786909500@lecanton.com.br
SUMMARY:Jantar com Recreação
DESCRIPTION:Um momento especial que une refeição e diversão! Crianças de 5 a 14 anos aproveitam o jantar junto com a equipe de recreação\, com interação\, brincadeiras e um clima leve e animado que torna a experiência ainda mais divertida.\nO evento pode sofrer alterações de data\, local ou cancelamento sem aviso prévio.
URL:https://lecanton.com.br/evento/jantar-com-recreacao/2026-08-16/
LOCATION:Restaurante Lugano
CATEGORIES:Crianças de 5 a 8 anos,Crianças de 9 a 14 anos
ATTACH;FMTTYPE=image/jpeg:https://lecanton.com.br/wp-content/uploads/2026/04/almoco-com-recreacao.jpg
END:VEVENT
BEGIN:VEVENT
DTSTART;TZID=America/Sao_Paulo:20260817T122000
DTEND;TZID=America/Sao_Paulo:20260817T132000
DTSTAMP:20260422T200126
CREATED:20260401T203541Z
LAST-MODIFIED:20260420T135539Z
UID:10010878-1786969200-1786972800@lecanton.com.br
SUMMARY:Almoço com Recreação
DESCRIPTION:Um momento especial que une alimentação e diversão! As crianças de 5 a 14 anos almoçam junto com a equipe de recreação\, com interação\, brincadeiras e muita alegria durante a refeição\, tornando a experiência ainda mais divertida e inesquecível.O evento pode sofrer alterações de data\, local ou cancelamento sem aviso prévio.
URL:https://lecanton.com.br/evento/almoco-com-recreacao-30/2026-08-17/
LOCATION:Restaurante Lugano
CATEGORIES:Crianças de 5 a 8 anos,Crianças de 9 a 14 anos
ATTACH;FMTTYPE=image/jpeg:https://lecanton.com.br/wp-content/uploads/2026/04/almoco-com-recreacao.jpg
END:VEVENT
BEGIN:VEVENT
DTSTART;TZID=America/Sao_Paulo:20260817T190000
DTEND;TZID=America/Sao_Paulo:20260817T194500
DTSTAMP:20260422T200126
CREATED:20260416T211310Z
LAST-MODIFIED:20260420T135016Z
UID:10017932-1786993200-1786995900@lecanton.com.br
SUMMARY:Jantar com Recreação
DESCRIPTION:Um momento especial que une refeição e diversão! Crianças de 5 a 14 anos aproveitam o jantar junto com a equipe de recreação\, com interação\, brincadeiras e um clima leve e animado que torna a experiência ainda mais divertida.\nO evento pode sofrer alterações de data\, local ou cancelamento sem aviso prévio.
URL:https://lecanton.com.br/evento/jantar-com-recreacao/2026-08-17/
LOCATION:Restaurante Lugano
CATEGORIES:Crianças de 5 a 8 anos,Crianças de 9 a 14 anos
ATTACH;FMTTYPE=image/jpeg:https://lecanton.com.br/wp-content/uploads/2026/04/almoco-com-recreacao.jpg
END:VEVENT
BEGIN:VEVENT
DTSTART;TZID=America/Sao_Paulo:20260818T122000
DTEND;TZID=America/Sao_Paulo:20260818T132000
DTSTAMP:20260422T200126
CREATED:20260401T203541Z
LAST-MODIFIED:20260420T135539Z
UID:10010879-1787055600-1787059200@lecanton.com.br
SUMMARY:Almoço com Recreação
DESCRIPTION:Um momento especial que une alimentação e diversão! As crianças de 5 a 14 anos almoçam junto com a equipe de recreação\, com interação\, brincadeiras e muita alegria durante a refeição\, tornando a experiência ainda mais divertida e inesquecível.O evento pode sofrer alterações de data\, local ou cancelamento sem aviso prévio.
URL:https://lecanton.com.br/evento/almoco-com-recreacao-30/2026-08-18/
LOCATION:Restaurante Lugano
CATEGORIES:Crianças de 5 a 8 anos,Crianças de 9 a 14 anos
ATTACH;FMTTYPE=image/jpeg:https://lecanton.com.br/wp-content/uploads/2026/04/almoco-com-recreacao.jpg
END:VEVENT
BEGIN:VEVENT
DTSTART;TZID=America/Sao_Paulo:20260818T190000
DTEND;TZID=America/Sao_Paulo:20260818T194500
DTSTAMP:20260422T200126
CREATED:20260416T211310Z
LAST-MODIFIED:20260420T135016Z
UID:10017933-1787079600-1787082300@lecanton.com.br
SUMMARY:Jantar com Recreação
DESCRIPTION:Um momento especial que une refeição e diversão! Crianças de 5 a 14 anos aproveitam o jantar junto com a equipe de recreação\, com interação\, brincadeiras e um clima leve e animado que torna a experiência ainda mais divertida.\nO evento pode sofrer alterações de data\, local ou cancelamento sem aviso prévio.
URL:https://lecanton.com.br/evento/jantar-com-recreacao/2026-08-18/
LOCATION:Restaurante Lugano
CATEGORIES:Crianças de 5 a 8 anos,Crianças de 9 a 14 anos
ATTACH;FMTTYPE=image/jpeg:https://lecanton.com.br/wp-content/uploads/2026/04/almoco-com-recreacao.jpg
END:VEVENT
BEGIN:VEVENT
DTSTART;TZID=America/Sao_Paulo:20260819T122000
DTEND;TZID=America/Sao_Paulo:20260819T132000
DTSTAMP:20260422T200126
CREATED:20260401T203541Z
LAST-MODIFIED:20260420T135539Z
UID:10010880-1787142000-1787145600@lecanton.com.br
SUMMARY:Almoço com Recreação
DESCRIPTION:Um momento especial que une alimentação e diversão! As crianças de 5 a 14 anos almoçam junto com a equipe de recreação\, com interação\, brincadeiras e muita alegria durante a refeição\, tornando a experiência ainda mais divertida e inesquecível.O evento pode sofrer alterações de data\, local ou cancelamento sem aviso prévio.
URL:https://lecanton.com.br/evento/almoco-com-recreacao-30/2026-08-19/
LOCATION:Restaurante Lugano
CATEGORIES:Crianças de 5 a 8 anos,Crianças de 9 a 14 anos
ATTACH;FMTTYPE=image/jpeg:https://lecanton.com.br/wp-content/uploads/2026/04/almoco-com-recreacao.jpg
END:VEVENT
BEGIN:VEVENT
DTSTART;TZID=America/Sao_Paulo:20260819T190000
DTEND;TZID=America/Sao_Paulo:20260819T194500
DTSTAMP:20260422T200126
CREATED:20260416T211310Z
LAST-MODIFIED:20260420T135016Z
UID:10017934-1787166000-1787168700@lecanton.com.br
SUMMARY:Jantar com Recreação
DESCRIPTION:Um momento especial que une refeição e diversão! Crianças de 5 a 14 anos aproveitam o jantar junto com a equipe de recreação\, com interação\, brincadeiras e um clima leve e animado que torna a experiência ainda mais divertida.\nO evento pode sofrer alterações de data\, local ou cancelamento sem aviso prévio.
URL:https://lecanton.com.br/evento/jantar-com-recreacao/2026-08-19/
LOCATION:Restaurante Lugano
CATEGORIES:Crianças de 5 a 8 anos,Crianças de 9 a 14 anos
ATTACH;FMTTYPE=image/jpeg:https://lecanton.com.br/wp-content/uploads/2026/04/almoco-com-recreacao.jpg
END:VEVENT
BEGIN:VEVENT
DTSTART;TZID=America/Sao_Paulo:20260820T122000
DTEND;TZID=America/Sao_Paulo:20260820T132000
DTSTAMP:20260422T200126
CREATED:20260401T203541Z
LAST-MODIFIED:20260420T135539Z
UID:10010881-1787228400-1787232000@lecanton.com.br
SUMMARY:Almoço com Recreação
DESCRIPTION:Um momento especial que une alimentação e diversão! As crianças de 5 a 14 anos almoçam junto com a equipe de recreação\, com interação\, brincadeiras e muita alegria durante a refeição\, tornando a experiência ainda mais divertida e inesquecível.O evento pode sofrer alterações de data\, local ou cancelamento sem aviso prévio.
URL:https://lecanton.com.br/evento/almoco-com-recreacao-30/2026-08-20/
LOCATION:Restaurante Lugano
CATEGORIES:Crianças de 5 a 8 anos,Crianças de 9 a 14 anos
ATTACH;FMTTYPE=image/jpeg:https://lecanton.com.br/wp-content/uploads/2026/04/almoco-com-recreacao.jpg
END:VEVENT
BEGIN:VEVENT
DTSTART;TZID=America/Sao_Paulo:20260820T190000
DTEND;TZID=America/Sao_Paulo:20260820T194500
DTSTAMP:20260422T200126
CREATED:20260416T211310Z
LAST-MODIFIED:20260420T135016Z
UID:10017935-1787252400-1787255100@lecanton.com.br
SUMMARY:Jantar com Recreação
DESCRIPTION:Um momento especial que une refeição e diversão! Crianças de 5 a 14 anos aproveitam o jantar junto com a equipe de recreação\, com interação\, brincadeiras e um clima leve e animado que torna a experiência ainda mais divertida.\nO evento pode sofrer alterações de data\, local ou cancelamento sem aviso prévio.
URL:https://lecanton.com.br/evento/jantar-com-recreacao/2026-08-20/
LOCATION:Restaurante Lugano
CATEGORIES:Crianças de 5 a 8 anos,Crianças de 9 a 14 anos
ATTACH;FMTTYPE=image/jpeg:https://lecanton.com.br/wp-content/uploads/2026/04/almoco-com-recreacao.jpg
END:VEVENT
BEGIN:VEVENT
DTSTART;TZID=America/Sao_Paulo:20260821T122000
DTEND;TZID=America/Sao_Paulo:20260821T132000
DTSTAMP:20260422T200126
CREATED:20260401T203541Z
LAST-MODIFIED:20260420T135539Z
UID:10010882-1787314800-1787318400@lecanton.com.br
SUMMARY:Almoço com Recreação
DESCRIPTION:Um momento especial que une alimentação e diversão! As crianças de 5 a 14 anos almoçam junto com a equipe de recreação\, com interação\, brincadeiras e muita alegria durante a refeição\, tornando a experiência ainda mais divertida e inesquecível.O evento pode sofrer alterações de data\, local ou cancelamento sem aviso prévio.
URL:https://lecanton.com.br/evento/almoco-com-recreacao-30/2026-08-21/
LOCATION:Restaurante Lugano
CATEGORIES:Crianças de 5 a 8 anos,Crianças de 9 a 14 anos
ATTACH;FMTTYPE=image/jpeg:https://lecanton.com.br/wp-content/uploads/2026/04/almoco-com-recreacao.jpg
END:VEVENT
BEGIN:VEVENT
DTSTART;TZID=America/Sao_Paulo:20260821T190000
DTEND;TZID=America/Sao_Paulo:20260821T194500
DTSTAMP:20260422T200126
CREATED:20260416T211310Z
LAST-MODIFIED:20260420T135016Z
UID:10017936-1787338800-1787341500@lecanton.com.br
SUMMARY:Jantar com Recreação
DESCRIPTION:Um momento especial que une refeição e diversão! Crianças de 5 a 14 anos aproveitam o jantar junto com a equipe de recreação\, com interação\, brincadeiras e um clima leve e animado que torna a experiência ainda mais divertida.\nO evento pode sofrer alterações de data\, local ou cancelamento sem aviso prévio.
URL:https://lecanton.com.br/evento/jantar-com-recreacao/2026-08-21/
LOCATION:Restaurante Lugano
CATEGORIES:Crianças de 5 a 8 anos,Crianças de 9 a 14 anos
ATTACH;FMTTYPE=image/jpeg:https://lecanton.com.br/wp-content/uploads/2026/04/almoco-com-recreacao.jpg
END:VEVENT
BEGIN:VEVENT
DTSTART;TZID=America/Sao_Paulo:20260822T122000
DTEND;TZID=America/Sao_Paulo:20260822T132000
DTSTAMP:20260422T200126
CREATED:20260401T203541Z
LAST-MODIFIED:20260420T135539Z
UID:10010883-1787401200-1787404800@lecanton.com.br
SUMMARY:Almoço com Recreação
DESCRIPTION:Um momento especial que une alimentação e diversão! As crianças de 5 a 14 anos almoçam junto com a equipe de recreação\, com interação\, brincadeiras e muita alegria durante a refeição\, tornando a experiência ainda mais divertida e inesquecível.O evento pode sofrer alterações de data\, local ou cancelamento sem aviso prévio.
URL:https://lecanton.com.br/evento/almoco-com-recreacao-30/2026-08-22/
LOCATION:Restaurante Lugano
CATEGORIES:Crianças de 5 a 8 anos,Crianças de 9 a 14 anos
ATTACH;FMTTYPE=image/jpeg:https://lecanton.com.br/wp-content/uploads/2026/04/almoco-com-recreacao.jpg
END:VEVENT
BEGIN:VEVENT
DTSTART;TZID=America/Sao_Paulo:20260822T190000
DTEND;TZID=America/Sao_Paulo:20260822T194500
DTSTAMP:20260422T200126
CREATED:20260416T211310Z
LAST-MODIFIED:20260420T135016Z
UID:10017937-1787425200-1787427900@lecanton.com.br
SUMMARY:Jantar com Recreação
DESCRIPTION:Um momento especial que une refeição e diversão! Crianças de 5 a 14 anos aproveitam o jantar junto com a equipe de recreação\, com interação\, brincadeiras e um clima leve e animado que torna a experiência ainda mais divertida.\nO evento pode sofrer alterações de data\, local ou cancelamento sem aviso prévio.
URL:https://lecanton.com.br/evento/jantar-com-recreacao/2026-08-22/
LOCATION:Restaurante Lugano
CATEGORIES:Crianças de 5 a 8 anos,Crianças de 9 a 14 anos
ATTACH;FMTTYPE=image/jpeg:https://lecanton.com.br/wp-content/uploads/2026/04/almoco-com-recreacao.jpg
END:VEVENT
BEGIN:VEVENT
DTSTART;TZID=America/Sao_Paulo:20260823T122000
DTEND;TZID=America/Sao_Paulo:20260823T132000
DTSTAMP:20260422T200126
CREATED:20260401T203541Z
LAST-MODIFIED:20260420T135539Z
UID:10010884-1787487600-1787491200@lecanton.com.br
SUMMARY:Almoço com Recreação
DESCRIPTION:Um momento especial que une alimentação e diversão! As crianças de 5 a 14 anos almoçam junto com a equipe de recreação\, com interação\, brincadeiras e muita alegria durante a refeição\, tornando a experiência ainda mais divertida e inesquecível.O evento pode sofrer alterações de data\, local ou cancelamento sem aviso prévio.
URL:https://lecanton.com.br/evento/almoco-com-recreacao-30/2026-08-23/
LOCATION:Restaurante Lugano
CATEGORIES:Crianças de 5 a 8 anos,Crianças de 9 a 14 anos
ATTACH;FMTTYPE=image/jpeg:https://lecanton.com.br/wp-content/uploads/2026/04/almoco-com-recreacao.jpg
END:VEVENT
BEGIN:VEVENT
DTSTART;TZID=America/Sao_Paulo:20260823T190000
DTEND;TZID=America/Sao_Paulo:20260823T194500
DTSTAMP:20260422T200126
CREATED:20260416T211310Z
LAST-MODIFIED:20260420T135016Z
UID:10017938-1787511600-1787514300@lecanton.com.br
SUMMARY:Jantar com Recreação
DESCRIPTION:Um momento especial que une refeição e diversão! Crianças de 5 a 14 anos aproveitam o jantar junto com a equipe de recreação\, com interação\, brincadeiras e um clima leve e animado que torna a experiência ainda mais divertida.\nO evento pode sofrer alterações de data\, local ou cancelamento sem aviso prévio.
URL:https://lecanton.com.br/evento/jantar-com-recreacao/2026-08-23/
LOCATION:Restaurante Lugano
CATEGORIES:Crianças de 5 a 8 anos,Crianças de 9 a 14 anos
ATTACH;FMTTYPE=image/jpeg:https://lecanton.com.br/wp-content/uploads/2026/04/almoco-com-recreacao.jpg
END:VEVENT
BEGIN:VEVENT
DTSTART;TZID=America/Sao_Paulo:20260824T122000
DTEND;TZID=America/Sao_Paulo:20260824T132000
DTSTAMP:20260422T200126
CREATED:20260401T203541Z
LAST-MODIFIED:20260420T135539Z
UID:10010885-1787574000-1787577600@lecanton.com.br
SUMMARY:Almoço com Recreação
DESCRIPTION:Um momento especial que une alimentação e diversão! As crianças de 5 a 14 anos almoçam junto com a equipe de recreação\, com interação\, brincadeiras e muita alegria durante a refeição\, tornando a experiência ainda mais divertida e inesquecível.O evento pode sofrer alterações de data\, local ou cancelamento sem aviso prévio.
URL:https://lecanton.com.br/evento/almoco-com-recreacao-30/2026-08-24/
LOCATION:Restaurante Lugano
CATEGORIES:Crianças de 5 a 8 anos,Crianças de 9 a 14 anos
ATTACH;FMTTYPE=image/jpeg:https://lecanton.com.br/wp-content/uploads/2026/04/almoco-com-recreacao.jpg
END:VEVENT
BEGIN:VEVENT
DTSTART;TZID=America/Sao_Paulo:20260824T190000
DTEND;TZID=America/Sao_Paulo:20260824T194500
DTSTAMP:20260422T200126
CREATED:20260416T211310Z
LAST-MODIFIED:20260420T135016Z
UID:10017939-1787598000-1787600700@lecanton.com.br
SUMMARY:Jantar com Recreação
DESCRIPTION:Um momento especial que une refeição e diversão! Crianças de 5 a 14 anos aproveitam o jantar junto com a equipe de recreação\, com interação\, brincadeiras e um clima leve e animado que torna a experiência ainda mais divertida.\nO evento pode sofrer alterações de data\, local ou cancelamento sem aviso prévio.
URL:https://lecanton.com.br/evento/jantar-com-recreacao/2026-08-24/
LOCATION:Restaurante Lugano
CATEGORIES:Crianças de 5 a 8 anos,Crianças de 9 a 14 anos
ATTACH;FMTTYPE=image/jpeg:https://lecanton.com.br/wp-content/uploads/2026/04/almoco-com-recreacao.jpg
END:VEVENT
BEGIN:VEVENT
DTSTART;TZID=America/Sao_Paulo:20260825T122000
DTEND;TZID=America/Sao_Paulo:20260825T132000
DTSTAMP:20260422T200126
CREATED:20260401T203541Z
LAST-MODIFIED:20260420T135539Z
UID:10010886-1787660400-1787664000@lecanton.com.br
SUMMARY:Almoço com Recreação
DESCRIPTION:Um momento especial que une alimentação e diversão! As crianças de 5 a 14 anos almoçam junto com a equipe de recreação\, com interação\, brincadeiras e muita alegria durante a refeição\, tornando a experiência ainda mais divertida e inesquecível.O evento pode sofrer alterações de data\, local ou cancelamento sem aviso prévio.
URL:https://lecanton.com.br/evento/almoco-com-recreacao-30/2026-08-25/
LOCATION:Restaurante Lugano
CATEGORIES:Crianças de 5 a 8 anos,Crianças de 9 a 14 anos
ATTACH;FMTTYPE=image/jpeg:https://lecanton.com.br/wp-content/uploads/2026/04/almoco-com-recreacao.jpg
END:VEVENT
BEGIN:VEVENT
DTSTART;TZID=America/Sao_Paulo:20260825T190000
DTEND;TZID=America/Sao_Paulo:20260825T194500
DTSTAMP:20260422T200126
CREATED:20260416T211310Z
LAST-MODIFIED:20260420T135016Z
UID:10017940-1787684400-1787687100@lecanton.com.br
SUMMARY:Jantar com Recreação
DESCRIPTION:Um momento especial que une refeição e diversão! Crianças de 5 a 14 anos aproveitam o jantar junto com a equipe de recreação\, com interação\, brincadeiras e um clima leve e animado que torna a experiência ainda mais divertida.\nO evento pode sofrer alterações de data\, local ou cancelamento sem aviso prévio.
URL:https://lecanton.com.br/evento/jantar-com-recreacao/2026-08-25/
LOCATION:Restaurante Lugano
CATEGORIES:Crianças de 5 a 8 anos,Crianças de 9 a 14 anos
ATTACH;FMTTYPE=image/jpeg:https://lecanton.com.br/wp-content/uploads/2026/04/almoco-com-recreacao.jpg
END:VEVENT
BEGIN:VEVENT
DTSTART;TZID=America/Sao_Paulo:20260826T122000
DTEND;TZID=America/Sao_Paulo:20260826T132000
DTSTAMP:20260422T200126
CREATED:20260401T203541Z
LAST-MODIFIED:20260420T135539Z
UID:10010887-1787746800-1787750400@lecanton.com.br
SUMMARY:Almoço com Recreação
DESCRIPTION:Um momento especial que une alimentação e diversão! As crianças de 5 a 14 anos almoçam junto com a equipe de recreação\, com interação\, brincadeiras e muita alegria durante a refeição\, tornando a experiência ainda mais divertida e inesquecível.O evento pode sofrer alterações de data\, local ou cancelamento sem aviso prévio.
URL:https://lecanton.com.br/evento/almoco-com-recreacao-30/2026-08-26/
LOCATION:Restaurante Lugano
CATEGORIES:Crianças de 5 a 8 anos,Crianças de 9 a 14 anos
ATTACH;FMTTYPE=image/jpeg:https://lecanton.com.br/wp-content/uploads/2026/04/almoco-com-recreacao.jpg
END:VEVENT
BEGIN:VEVENT
DTSTART;TZID=America/Sao_Paulo:20260826T190000
DTEND;TZID=America/Sao_Paulo:20260826T194500
DTSTAMP:20260422T200126
CREATED:20260416T211310Z
LAST-MODIFIED:20260420T135016Z
UID:10017941-1787770800-1787773500@lecanton.com.br
SUMMARY:Jantar com Recreação
DESCRIPTION:Um momento especial que une refeição e diversão! Crianças de 5 a 14 anos aproveitam o jantar junto com a equipe de recreação\, com interação\, brincadeiras e um clima leve e animado que torna a experiência ainda mais divertida.\nO evento pode sofrer alterações de data\, local ou cancelamento sem aviso prévio.
URL:https://lecanton.com.br/evento/jantar-com-recreacao/2026-08-26/
LOCATION:Restaurante Lugano
CATEGORIES:Crianças de 5 a 8 anos,Crianças de 9 a 14 anos
ATTACH;FMTTYPE=image/jpeg:https://lecanton.com.br/wp-content/uploads/2026/04/almoco-com-recreacao.jpg
END:VEVENT
BEGIN:VEVENT
DTSTART;TZID=America/Sao_Paulo:20260827T122000
DTEND;TZID=America/Sao_Paulo:20260827T132000
DTSTAMP:20260422T200126
CREATED:20260401T203541Z
LAST-MODIFIED:20260420T135539Z
UID:10010888-1787833200-1787836800@lecanton.com.br
SUMMARY:Almoço com Recreação
DESCRIPTION:Um momento especial que une alimentação e diversão! As crianças de 5 a 14 anos almoçam junto com a equipe de recreação\, com interação\, brincadeiras e muita alegria durante a refeição\, tornando a experiência ainda mais divertida e inesquecível.O evento pode sofrer alterações de data\, local ou cancelamento sem aviso prévio.
URL:https://lecanton.com.br/evento/almoco-com-recreacao-30/2026-08-27/
LOCATION:Restaurante Lugano
CATEGORIES:Crianças de 5 a 8 anos,Crianças de 9 a 14 anos
ATTACH;FMTTYPE=image/jpeg:https://lecanton.com.br/wp-content/uploads/2026/04/almoco-com-recreacao.jpg
END:VEVENT
BEGIN:VEVENT
DTSTART;TZID=America/Sao_Paulo:20260827T190000
DTEND;TZID=America/Sao_Paulo:20260827T194500
DTSTAMP:20260422T200126
CREATED:20260416T211310Z
LAST-MODIFIED:20260420T135016Z
UID:10017942-1787857200-1787859900@lecanton.com.br
SUMMARY:Jantar com Recreação
DESCRIPTION:Um momento especial que une refeição e diversão! Crianças de 5 a 14 anos aproveitam o jantar junto com a equipe de recreação\, com interação\, brincadeiras e um clima leve e animado que torna a experiência ainda mais divertida.\nO evento pode sofrer alterações de data\, local ou cancelamento sem aviso prévio.
URL:https://lecanton.com.br/evento/jantar-com-recreacao/2026-08-27/
LOCATION:Restaurante Lugano
CATEGORIES:Crianças de 5 a 8 anos,Crianças de 9 a 14 anos
ATTACH;FMTTYPE=image/jpeg:https://lecanton.com.br/wp-content/uploads/2026/04/almoco-com-recreacao.jpg
END:VEVENT
END:VCALENDAR