BEGIN:VCALENDAR
VERSION:2.0
PRODID:-//Le Canton | O melhor Resort da Serra - ECPv6.15.17.1//NONSGML v1.0//EN
CALSCALE:GREGORIAN
METHOD:PUBLISH
X-WR-CALNAME:Le Canton | O melhor Resort da Serra
X-ORIGINAL-URL:https://lecanton.com.br
X-WR-CALDESC:Eventos para Le Canton | O melhor Resort da Serra
REFRESH-INTERVAL;VALUE=DURATION:PT1H
X-Robots-Tag:noindex
X-PUBLISHED-TTL:PT1H
BEGIN:VTIMEZONE
TZID:America/Sao_Paulo
BEGIN:STANDARD
TZOFFSETFROM:-0300
TZOFFSETTO:-0300
TZNAME:-03
DTSTART:20250101T000000
END:STANDARD
END:VTIMEZONE
BEGIN:VEVENT
DTSTART;TZID=America/Sao_Paulo:20260719T122000
DTEND;TZID=America/Sao_Paulo:20260719T132000
DTSTAMP:20260422T092304
CREATED:20260401T203541Z
LAST-MODIFIED:20260420T135539Z
UID:10010849-1784463600-1784467200@lecanton.com.br
SUMMARY:Almoço com Recreação
DESCRIPTION:Um momento especial que une alimentação e diversão! As crianças de 5 a 14 anos almoçam junto com a equipe de recreação\, com interação\, brincadeiras e muita alegria durante a refeição\, tornando a experiência ainda mais divertida e inesquecível.O evento pode sofrer alterações de data\, local ou cancelamento sem aviso prévio.
URL:https://lecanton.com.br/evento/almoco-com-recreacao-30/2026-07-19/
LOCATION:Restaurante Lugano
CATEGORIES:Crianças de 5 a 8 anos,Crianças de 9 a 14 anos
ATTACH;FMTTYPE=image/jpeg:https://lecanton.com.br/wp-content/uploads/2026/04/almoco-com-recreacao.jpg
END:VEVENT
BEGIN:VEVENT
DTSTART;TZID=America/Sao_Paulo:20260719T190000
DTEND;TZID=America/Sao_Paulo:20260719T194500
DTSTAMP:20260422T092304
CREATED:20260416T211310Z
LAST-MODIFIED:20260420T135016Z
UID:10017903-1784487600-1784490300@lecanton.com.br
SUMMARY:Jantar com Recreação
DESCRIPTION:Um momento especial que une refeição e diversão! Crianças de 5 a 14 anos aproveitam o jantar junto com a equipe de recreação\, com interação\, brincadeiras e um clima leve e animado que torna a experiência ainda mais divertida.\nO evento pode sofrer alterações de data\, local ou cancelamento sem aviso prévio.
URL:https://lecanton.com.br/evento/jantar-com-recreacao/2026-07-19/
LOCATION:Restaurante Lugano
CATEGORIES:Crianças de 5 a 8 anos,Crianças de 9 a 14 anos
ATTACH;FMTTYPE=image/jpeg:https://lecanton.com.br/wp-content/uploads/2026/04/almoco-com-recreacao.jpg
END:VEVENT
BEGIN:VEVENT
DTSTART;TZID=America/Sao_Paulo:20260720T122000
DTEND;TZID=America/Sao_Paulo:20260720T132000
DTSTAMP:20260422T092304
CREATED:20260401T203541Z
LAST-MODIFIED:20260420T135539Z
UID:10010850-1784550000-1784553600@lecanton.com.br
SUMMARY:Almoço com Recreação
DESCRIPTION:Um momento especial que une alimentação e diversão! As crianças de 5 a 14 anos almoçam junto com a equipe de recreação\, com interação\, brincadeiras e muita alegria durante a refeição\, tornando a experiência ainda mais divertida e inesquecível.O evento pode sofrer alterações de data\, local ou cancelamento sem aviso prévio.
URL:https://lecanton.com.br/evento/almoco-com-recreacao-30/2026-07-20/
LOCATION:Restaurante Lugano
CATEGORIES:Crianças de 5 a 8 anos,Crianças de 9 a 14 anos
ATTACH;FMTTYPE=image/jpeg:https://lecanton.com.br/wp-content/uploads/2026/04/almoco-com-recreacao.jpg
END:VEVENT
BEGIN:VEVENT
DTSTART;TZID=America/Sao_Paulo:20260720T190000
DTEND;TZID=America/Sao_Paulo:20260720T194500
DTSTAMP:20260422T092304
CREATED:20260416T211310Z
LAST-MODIFIED:20260420T135016Z
UID:10017904-1784574000-1784576700@lecanton.com.br
SUMMARY:Jantar com Recreação
DESCRIPTION:Um momento especial que une refeição e diversão! Crianças de 5 a 14 anos aproveitam o jantar junto com a equipe de recreação\, com interação\, brincadeiras e um clima leve e animado que torna a experiência ainda mais divertida.\nO evento pode sofrer alterações de data\, local ou cancelamento sem aviso prévio.
URL:https://lecanton.com.br/evento/jantar-com-recreacao/2026-07-20/
LOCATION:Restaurante Lugano
CATEGORIES:Crianças de 5 a 8 anos,Crianças de 9 a 14 anos
ATTACH;FMTTYPE=image/jpeg:https://lecanton.com.br/wp-content/uploads/2026/04/almoco-com-recreacao.jpg
END:VEVENT
BEGIN:VEVENT
DTSTART;TZID=America/Sao_Paulo:20260721T122000
DTEND;TZID=America/Sao_Paulo:20260721T132000
DTSTAMP:20260422T092304
CREATED:20260401T203541Z
LAST-MODIFIED:20260420T135539Z
UID:10010851-1784636400-1784640000@lecanton.com.br
SUMMARY:Almoço com Recreação
DESCRIPTION:Um momento especial que une alimentação e diversão! As crianças de 5 a 14 anos almoçam junto com a equipe de recreação\, com interação\, brincadeiras e muita alegria durante a refeição\, tornando a experiência ainda mais divertida e inesquecível.O evento pode sofrer alterações de data\, local ou cancelamento sem aviso prévio.
URL:https://lecanton.com.br/evento/almoco-com-recreacao-30/2026-07-21/
LOCATION:Restaurante Lugano
CATEGORIES:Crianças de 5 a 8 anos,Crianças de 9 a 14 anos
ATTACH;FMTTYPE=image/jpeg:https://lecanton.com.br/wp-content/uploads/2026/04/almoco-com-recreacao.jpg
END:VEVENT
BEGIN:VEVENT
DTSTART;TZID=America/Sao_Paulo:20260721T190000
DTEND;TZID=America/Sao_Paulo:20260721T194500
DTSTAMP:20260422T092304
CREATED:20260416T211310Z
LAST-MODIFIED:20260420T135016Z
UID:10017905-1784660400-1784663100@lecanton.com.br
SUMMARY:Jantar com Recreação
DESCRIPTION:Um momento especial que une refeição e diversão! Crianças de 5 a 14 anos aproveitam o jantar junto com a equipe de recreação\, com interação\, brincadeiras e um clima leve e animado que torna a experiência ainda mais divertida.\nO evento pode sofrer alterações de data\, local ou cancelamento sem aviso prévio.
URL:https://lecanton.com.br/evento/jantar-com-recreacao/2026-07-21/
LOCATION:Restaurante Lugano
CATEGORIES:Crianças de 5 a 8 anos,Crianças de 9 a 14 anos
ATTACH;FMTTYPE=image/jpeg:https://lecanton.com.br/wp-content/uploads/2026/04/almoco-com-recreacao.jpg
END:VEVENT
BEGIN:VEVENT
DTSTART;TZID=America/Sao_Paulo:20260722T122000
DTEND;TZID=America/Sao_Paulo:20260722T132000
DTSTAMP:20260422T092304
CREATED:20260401T203541Z
LAST-MODIFIED:20260420T135539Z
UID:10010852-1784722800-1784726400@lecanton.com.br
SUMMARY:Almoço com Recreação
DESCRIPTION:Um momento especial que une alimentação e diversão! As crianças de 5 a 14 anos almoçam junto com a equipe de recreação\, com interação\, brincadeiras e muita alegria durante a refeição\, tornando a experiência ainda mais divertida e inesquecível.O evento pode sofrer alterações de data\, local ou cancelamento sem aviso prévio.
URL:https://lecanton.com.br/evento/almoco-com-recreacao-30/2026-07-22/
LOCATION:Restaurante Lugano
CATEGORIES:Crianças de 5 a 8 anos,Crianças de 9 a 14 anos
ATTACH;FMTTYPE=image/jpeg:https://lecanton.com.br/wp-content/uploads/2026/04/almoco-com-recreacao.jpg
END:VEVENT
BEGIN:VEVENT
DTSTART;TZID=America/Sao_Paulo:20260722T190000
DTEND;TZID=America/Sao_Paulo:20260722T194500
DTSTAMP:20260422T092304
CREATED:20260416T211310Z
LAST-MODIFIED:20260420T135016Z
UID:10017906-1784746800-1784749500@lecanton.com.br
SUMMARY:Jantar com Recreação
DESCRIPTION:Um momento especial que une refeição e diversão! Crianças de 5 a 14 anos aproveitam o jantar junto com a equipe de recreação\, com interação\, brincadeiras e um clima leve e animado que torna a experiência ainda mais divertida.\nO evento pode sofrer alterações de data\, local ou cancelamento sem aviso prévio.
URL:https://lecanton.com.br/evento/jantar-com-recreacao/2026-07-22/
LOCATION:Restaurante Lugano
CATEGORIES:Crianças de 5 a 8 anos,Crianças de 9 a 14 anos
ATTACH;FMTTYPE=image/jpeg:https://lecanton.com.br/wp-content/uploads/2026/04/almoco-com-recreacao.jpg
END:VEVENT
BEGIN:VEVENT
DTSTART;TZID=America/Sao_Paulo:20260723T122000
DTEND;TZID=America/Sao_Paulo:20260723T132000
DTSTAMP:20260422T092304
CREATED:20260401T203541Z
LAST-MODIFIED:20260420T135539Z
UID:10010853-1784809200-1784812800@lecanton.com.br
SUMMARY:Almoço com Recreação
DESCRIPTION:Um momento especial que une alimentação e diversão! As crianças de 5 a 14 anos almoçam junto com a equipe de recreação\, com interação\, brincadeiras e muita alegria durante a refeição\, tornando a experiência ainda mais divertida e inesquecível.O evento pode sofrer alterações de data\, local ou cancelamento sem aviso prévio.
URL:https://lecanton.com.br/evento/almoco-com-recreacao-30/2026-07-23/
LOCATION:Restaurante Lugano
CATEGORIES:Crianças de 5 a 8 anos,Crianças de 9 a 14 anos
ATTACH;FMTTYPE=image/jpeg:https://lecanton.com.br/wp-content/uploads/2026/04/almoco-com-recreacao.jpg
END:VEVENT
BEGIN:VEVENT
DTSTART;TZID=America/Sao_Paulo:20260723T190000
DTEND;TZID=America/Sao_Paulo:20260723T194500
DTSTAMP:20260422T092304
CREATED:20260416T211310Z
LAST-MODIFIED:20260420T135016Z
UID:10017907-1784833200-1784835900@lecanton.com.br
SUMMARY:Jantar com Recreação
DESCRIPTION:Um momento especial que une refeição e diversão! Crianças de 5 a 14 anos aproveitam o jantar junto com a equipe de recreação\, com interação\, brincadeiras e um clima leve e animado que torna a experiência ainda mais divertida.\nO evento pode sofrer alterações de data\, local ou cancelamento sem aviso prévio.
URL:https://lecanton.com.br/evento/jantar-com-recreacao/2026-07-23/
LOCATION:Restaurante Lugano
CATEGORIES:Crianças de 5 a 8 anos,Crianças de 9 a 14 anos
ATTACH;FMTTYPE=image/jpeg:https://lecanton.com.br/wp-content/uploads/2026/04/almoco-com-recreacao.jpg
END:VEVENT
BEGIN:VEVENT
DTSTART;TZID=America/Sao_Paulo:20260724T122000
DTEND;TZID=America/Sao_Paulo:20260724T132000
DTSTAMP:20260422T092304
CREATED:20260401T203541Z
LAST-MODIFIED:20260420T135539Z
UID:10010854-1784895600-1784899200@lecanton.com.br
SUMMARY:Almoço com Recreação
DESCRIPTION:Um momento especial que une alimentação e diversão! As crianças de 5 a 14 anos almoçam junto com a equipe de recreação\, com interação\, brincadeiras e muita alegria durante a refeição\, tornando a experiência ainda mais divertida e inesquecível.O evento pode sofrer alterações de data\, local ou cancelamento sem aviso prévio.
URL:https://lecanton.com.br/evento/almoco-com-recreacao-30/2026-07-24/
LOCATION:Restaurante Lugano
CATEGORIES:Crianças de 5 a 8 anos,Crianças de 9 a 14 anos
ATTACH;FMTTYPE=image/jpeg:https://lecanton.com.br/wp-content/uploads/2026/04/almoco-com-recreacao.jpg
END:VEVENT
BEGIN:VEVENT
DTSTART;TZID=America/Sao_Paulo:20260724T190000
DTEND;TZID=America/Sao_Paulo:20260724T194500
DTSTAMP:20260422T092304
CREATED:20260416T211310Z
LAST-MODIFIED:20260420T135016Z
UID:10017908-1784919600-1784922300@lecanton.com.br
SUMMARY:Jantar com Recreação
DESCRIPTION:Um momento especial que une refeição e diversão! Crianças de 5 a 14 anos aproveitam o jantar junto com a equipe de recreação\, com interação\, brincadeiras e um clima leve e animado que torna a experiência ainda mais divertida.\nO evento pode sofrer alterações de data\, local ou cancelamento sem aviso prévio.
URL:https://lecanton.com.br/evento/jantar-com-recreacao/2026-07-24/
LOCATION:Restaurante Lugano
CATEGORIES:Crianças de 5 a 8 anos,Crianças de 9 a 14 anos
ATTACH;FMTTYPE=image/jpeg:https://lecanton.com.br/wp-content/uploads/2026/04/almoco-com-recreacao.jpg
END:VEVENT
BEGIN:VEVENT
DTSTART;TZID=America/Sao_Paulo:20260725T122000
DTEND;TZID=America/Sao_Paulo:20260725T132000
DTSTAMP:20260422T092304
CREATED:20260401T203541Z
LAST-MODIFIED:20260420T135539Z
UID:10010855-1784982000-1784985600@lecanton.com.br
SUMMARY:Almoço com Recreação
DESCRIPTION:Um momento especial que une alimentação e diversão! As crianças de 5 a 14 anos almoçam junto com a equipe de recreação\, com interação\, brincadeiras e muita alegria durante a refeição\, tornando a experiência ainda mais divertida e inesquecível.O evento pode sofrer alterações de data\, local ou cancelamento sem aviso prévio.
URL:https://lecanton.com.br/evento/almoco-com-recreacao-30/2026-07-25/
LOCATION:Restaurante Lugano
CATEGORIES:Crianças de 5 a 8 anos,Crianças de 9 a 14 anos
ATTACH;FMTTYPE=image/jpeg:https://lecanton.com.br/wp-content/uploads/2026/04/almoco-com-recreacao.jpg
END:VEVENT
BEGIN:VEVENT
DTSTART;TZID=America/Sao_Paulo:20260725T190000
DTEND;TZID=America/Sao_Paulo:20260725T194500
DTSTAMP:20260422T092304
CREATED:20260416T211310Z
LAST-MODIFIED:20260420T135016Z
UID:10017909-1785006000-1785008700@lecanton.com.br
SUMMARY:Jantar com Recreação
DESCRIPTION:Um momento especial que une refeição e diversão! Crianças de 5 a 14 anos aproveitam o jantar junto com a equipe de recreação\, com interação\, brincadeiras e um clima leve e animado que torna a experiência ainda mais divertida.\nO evento pode sofrer alterações de data\, local ou cancelamento sem aviso prévio.
URL:https://lecanton.com.br/evento/jantar-com-recreacao/2026-07-25/
LOCATION:Restaurante Lugano
CATEGORIES:Crianças de 5 a 8 anos,Crianças de 9 a 14 anos
ATTACH;FMTTYPE=image/jpeg:https://lecanton.com.br/wp-content/uploads/2026/04/almoco-com-recreacao.jpg
END:VEVENT
BEGIN:VEVENT
DTSTART;TZID=America/Sao_Paulo:20260726T122000
DTEND;TZID=America/Sao_Paulo:20260726T132000
DTSTAMP:20260422T092304
CREATED:20260401T203541Z
LAST-MODIFIED:20260420T135539Z
UID:10010856-1785068400-1785072000@lecanton.com.br
SUMMARY:Almoço com Recreação
DESCRIPTION:Um momento especial que une alimentação e diversão! As crianças de 5 a 14 anos almoçam junto com a equipe de recreação\, com interação\, brincadeiras e muita alegria durante a refeição\, tornando a experiência ainda mais divertida e inesquecível.O evento pode sofrer alterações de data\, local ou cancelamento sem aviso prévio.
URL:https://lecanton.com.br/evento/almoco-com-recreacao-30/2026-07-26/
LOCATION:Restaurante Lugano
CATEGORIES:Crianças de 5 a 8 anos,Crianças de 9 a 14 anos
ATTACH;FMTTYPE=image/jpeg:https://lecanton.com.br/wp-content/uploads/2026/04/almoco-com-recreacao.jpg
END:VEVENT
BEGIN:VEVENT
DTSTART;TZID=America/Sao_Paulo:20260726T190000
DTEND;TZID=America/Sao_Paulo:20260726T194500
DTSTAMP:20260422T092304
CREATED:20260416T211310Z
LAST-MODIFIED:20260420T135016Z
UID:10017910-1785092400-1785095100@lecanton.com.br
SUMMARY:Jantar com Recreação
DESCRIPTION:Um momento especial que une refeição e diversão! Crianças de 5 a 14 anos aproveitam o jantar junto com a equipe de recreação\, com interação\, brincadeiras e um clima leve e animado que torna a experiência ainda mais divertida.\nO evento pode sofrer alterações de data\, local ou cancelamento sem aviso prévio.
URL:https://lecanton.com.br/evento/jantar-com-recreacao/2026-07-26/
LOCATION:Restaurante Lugano
CATEGORIES:Crianças de 5 a 8 anos,Crianças de 9 a 14 anos
ATTACH;FMTTYPE=image/jpeg:https://lecanton.com.br/wp-content/uploads/2026/04/almoco-com-recreacao.jpg
END:VEVENT
BEGIN:VEVENT
DTSTART;TZID=America/Sao_Paulo:20260727T122000
DTEND;TZID=America/Sao_Paulo:20260727T132000
DTSTAMP:20260422T092304
CREATED:20260401T203541Z
LAST-MODIFIED:20260420T135539Z
UID:10010857-1785154800-1785158400@lecanton.com.br
SUMMARY:Almoço com Recreação
DESCRIPTION:Um momento especial que une alimentação e diversão! As crianças de 5 a 14 anos almoçam junto com a equipe de recreação\, com interação\, brincadeiras e muita alegria durante a refeição\, tornando a experiência ainda mais divertida e inesquecível.O evento pode sofrer alterações de data\, local ou cancelamento sem aviso prévio.
URL:https://lecanton.com.br/evento/almoco-com-recreacao-30/2026-07-27/
LOCATION:Restaurante Lugano
CATEGORIES:Crianças de 5 a 8 anos,Crianças de 9 a 14 anos
ATTACH;FMTTYPE=image/jpeg:https://lecanton.com.br/wp-content/uploads/2026/04/almoco-com-recreacao.jpg
END:VEVENT
BEGIN:VEVENT
DTSTART;TZID=America/Sao_Paulo:20260727T190000
DTEND;TZID=America/Sao_Paulo:20260727T194500
DTSTAMP:20260422T092304
CREATED:20260416T211310Z
LAST-MODIFIED:20260420T135016Z
UID:10017911-1785178800-1785181500@lecanton.com.br
SUMMARY:Jantar com Recreação
DESCRIPTION:Um momento especial que une refeição e diversão! Crianças de 5 a 14 anos aproveitam o jantar junto com a equipe de recreação\, com interação\, brincadeiras e um clima leve e animado que torna a experiência ainda mais divertida.\nO evento pode sofrer alterações de data\, local ou cancelamento sem aviso prévio.
URL:https://lecanton.com.br/evento/jantar-com-recreacao/2026-07-27/
LOCATION:Restaurante Lugano
CATEGORIES:Crianças de 5 a 8 anos,Crianças de 9 a 14 anos
ATTACH;FMTTYPE=image/jpeg:https://lecanton.com.br/wp-content/uploads/2026/04/almoco-com-recreacao.jpg
END:VEVENT
BEGIN:VEVENT
DTSTART;TZID=America/Sao_Paulo:20260728T122000
DTEND;TZID=America/Sao_Paulo:20260728T132000
DTSTAMP:20260422T092304
CREATED:20260401T203541Z
LAST-MODIFIED:20260420T135539Z
UID:10010858-1785241200-1785244800@lecanton.com.br
SUMMARY:Almoço com Recreação
DESCRIPTION:Um momento especial que une alimentação e diversão! As crianças de 5 a 14 anos almoçam junto com a equipe de recreação\, com interação\, brincadeiras e muita alegria durante a refeição\, tornando a experiência ainda mais divertida e inesquecível.O evento pode sofrer alterações de data\, local ou cancelamento sem aviso prévio.
URL:https://lecanton.com.br/evento/almoco-com-recreacao-30/2026-07-28/
LOCATION:Restaurante Lugano
CATEGORIES:Crianças de 5 a 8 anos,Crianças de 9 a 14 anos
ATTACH;FMTTYPE=image/jpeg:https://lecanton.com.br/wp-content/uploads/2026/04/almoco-com-recreacao.jpg
END:VEVENT
BEGIN:VEVENT
DTSTART;TZID=America/Sao_Paulo:20260728T190000
DTEND;TZID=America/Sao_Paulo:20260728T194500
DTSTAMP:20260422T092304
CREATED:20260416T211310Z
LAST-MODIFIED:20260420T135016Z
UID:10017912-1785265200-1785267900@lecanton.com.br
SUMMARY:Jantar com Recreação
DESCRIPTION:Um momento especial que une refeição e diversão! Crianças de 5 a 14 anos aproveitam o jantar junto com a equipe de recreação\, com interação\, brincadeiras e um clima leve e animado que torna a experiência ainda mais divertida.\nO evento pode sofrer alterações de data\, local ou cancelamento sem aviso prévio.
URL:https://lecanton.com.br/evento/jantar-com-recreacao/2026-07-28/
LOCATION:Restaurante Lugano
CATEGORIES:Crianças de 5 a 8 anos,Crianças de 9 a 14 anos
ATTACH;FMTTYPE=image/jpeg:https://lecanton.com.br/wp-content/uploads/2026/04/almoco-com-recreacao.jpg
END:VEVENT
BEGIN:VEVENT
DTSTART;TZID=America/Sao_Paulo:20260729T122000
DTEND;TZID=America/Sao_Paulo:20260729T132000
DTSTAMP:20260422T092304
CREATED:20260401T203541Z
LAST-MODIFIED:20260420T135539Z
UID:10010859-1785327600-1785331200@lecanton.com.br
SUMMARY:Almoço com Recreação
DESCRIPTION:Um momento especial que une alimentação e diversão! As crianças de 5 a 14 anos almoçam junto com a equipe de recreação\, com interação\, brincadeiras e muita alegria durante a refeição\, tornando a experiência ainda mais divertida e inesquecível.O evento pode sofrer alterações de data\, local ou cancelamento sem aviso prévio.
URL:https://lecanton.com.br/evento/almoco-com-recreacao-30/2026-07-29/
LOCATION:Restaurante Lugano
CATEGORIES:Crianças de 5 a 8 anos,Crianças de 9 a 14 anos
ATTACH;FMTTYPE=image/jpeg:https://lecanton.com.br/wp-content/uploads/2026/04/almoco-com-recreacao.jpg
END:VEVENT
BEGIN:VEVENT
DTSTART;TZID=America/Sao_Paulo:20260729T190000
DTEND;TZID=America/Sao_Paulo:20260729T194500
DTSTAMP:20260422T092304
CREATED:20260416T211310Z
LAST-MODIFIED:20260420T135016Z
UID:10017913-1785351600-1785354300@lecanton.com.br
SUMMARY:Jantar com Recreação
DESCRIPTION:Um momento especial que une refeição e diversão! Crianças de 5 a 14 anos aproveitam o jantar junto com a equipe de recreação\, com interação\, brincadeiras e um clima leve e animado que torna a experiência ainda mais divertida.\nO evento pode sofrer alterações de data\, local ou cancelamento sem aviso prévio.
URL:https://lecanton.com.br/evento/jantar-com-recreacao/2026-07-29/
LOCATION:Restaurante Lugano
CATEGORIES:Crianças de 5 a 8 anos,Crianças de 9 a 14 anos
ATTACH;FMTTYPE=image/jpeg:https://lecanton.com.br/wp-content/uploads/2026/04/almoco-com-recreacao.jpg
END:VEVENT
BEGIN:VEVENT
DTSTART;TZID=America/Sao_Paulo:20260730T122000
DTEND;TZID=America/Sao_Paulo:20260730T132000
DTSTAMP:20260422T092304
CREATED:20260401T203541Z
LAST-MODIFIED:20260420T135539Z
UID:10010860-1785414000-1785417600@lecanton.com.br
SUMMARY:Almoço com Recreação
DESCRIPTION:Um momento especial que une alimentação e diversão! As crianças de 5 a 14 anos almoçam junto com a equipe de recreação\, com interação\, brincadeiras e muita alegria durante a refeição\, tornando a experiência ainda mais divertida e inesquecível.O evento pode sofrer alterações de data\, local ou cancelamento sem aviso prévio.
URL:https://lecanton.com.br/evento/almoco-com-recreacao-30/2026-07-30/
LOCATION:Restaurante Lugano
CATEGORIES:Crianças de 5 a 8 anos,Crianças de 9 a 14 anos
ATTACH;FMTTYPE=image/jpeg:https://lecanton.com.br/wp-content/uploads/2026/04/almoco-com-recreacao.jpg
END:VEVENT
BEGIN:VEVENT
DTSTART;TZID=America/Sao_Paulo:20260730T190000
DTEND;TZID=America/Sao_Paulo:20260730T194500
DTSTAMP:20260422T092304
CREATED:20260416T211310Z
LAST-MODIFIED:20260420T135016Z
UID:10017914-1785438000-1785440700@lecanton.com.br
SUMMARY:Jantar com Recreação
DESCRIPTION:Um momento especial que une refeição e diversão! Crianças de 5 a 14 anos aproveitam o jantar junto com a equipe de recreação\, com interação\, brincadeiras e um clima leve e animado que torna a experiência ainda mais divertida.\nO evento pode sofrer alterações de data\, local ou cancelamento sem aviso prévio.
URL:https://lecanton.com.br/evento/jantar-com-recreacao/2026-07-30/
LOCATION:Restaurante Lugano
CATEGORIES:Crianças de 5 a 8 anos,Crianças de 9 a 14 anos
ATTACH;FMTTYPE=image/jpeg:https://lecanton.com.br/wp-content/uploads/2026/04/almoco-com-recreacao.jpg
END:VEVENT
BEGIN:VEVENT
DTSTART;TZID=America/Sao_Paulo:20260731T122000
DTEND;TZID=America/Sao_Paulo:20260731T132000
DTSTAMP:20260422T092304
CREATED:20260401T203541Z
LAST-MODIFIED:20260420T135539Z
UID:10010861-1785500400-1785504000@lecanton.com.br
SUMMARY:Almoço com Recreação
DESCRIPTION:Um momento especial que une alimentação e diversão! As crianças de 5 a 14 anos almoçam junto com a equipe de recreação\, com interação\, brincadeiras e muita alegria durante a refeição\, tornando a experiência ainda mais divertida e inesquecível.O evento pode sofrer alterações de data\, local ou cancelamento sem aviso prévio.
URL:https://lecanton.com.br/evento/almoco-com-recreacao-30/2026-07-31/
LOCATION:Restaurante Lugano
CATEGORIES:Crianças de 5 a 8 anos,Crianças de 9 a 14 anos
ATTACH;FMTTYPE=image/jpeg:https://lecanton.com.br/wp-content/uploads/2026/04/almoco-com-recreacao.jpg
END:VEVENT
BEGIN:VEVENT
DTSTART;TZID=America/Sao_Paulo:20260731T190000
DTEND;TZID=America/Sao_Paulo:20260731T194500
DTSTAMP:20260422T092304
CREATED:20260416T211310Z
LAST-MODIFIED:20260420T135016Z
UID:10017915-1785524400-1785527100@lecanton.com.br
SUMMARY:Jantar com Recreação
DESCRIPTION:Um momento especial que une refeição e diversão! Crianças de 5 a 14 anos aproveitam o jantar junto com a equipe de recreação\, com interação\, brincadeiras e um clima leve e animado que torna a experiência ainda mais divertida.\nO evento pode sofrer alterações de data\, local ou cancelamento sem aviso prévio.
URL:https://lecanton.com.br/evento/jantar-com-recreacao/2026-07-31/
LOCATION:Restaurante Lugano
CATEGORIES:Crianças de 5 a 8 anos,Crianças de 9 a 14 anos
ATTACH;FMTTYPE=image/jpeg:https://lecanton.com.br/wp-content/uploads/2026/04/almoco-com-recreacao.jpg
END:VEVENT
BEGIN:VEVENT
DTSTART;TZID=America/Sao_Paulo:20260801T122000
DTEND;TZID=America/Sao_Paulo:20260801T132000
DTSTAMP:20260422T092304
CREATED:20260401T203541Z
LAST-MODIFIED:20260420T135539Z
UID:10010862-1785586800-1785590400@lecanton.com.br
SUMMARY:Almoço com Recreação
DESCRIPTION:Um momento especial que une alimentação e diversão! As crianças de 5 a 14 anos almoçam junto com a equipe de recreação\, com interação\, brincadeiras e muita alegria durante a refeição\, tornando a experiência ainda mais divertida e inesquecível.O evento pode sofrer alterações de data\, local ou cancelamento sem aviso prévio.
URL:https://lecanton.com.br/evento/almoco-com-recreacao-30/2026-08-01/
LOCATION:Restaurante Lugano
CATEGORIES:Crianças de 5 a 8 anos,Crianças de 9 a 14 anos
ATTACH;FMTTYPE=image/jpeg:https://lecanton.com.br/wp-content/uploads/2026/04/almoco-com-recreacao.jpg
END:VEVENT
BEGIN:VEVENT
DTSTART;TZID=America/Sao_Paulo:20260801T190000
DTEND;TZID=America/Sao_Paulo:20260801T194500
DTSTAMP:20260422T092304
CREATED:20260416T211310Z
LAST-MODIFIED:20260420T135016Z
UID:10017916-1785610800-1785613500@lecanton.com.br
SUMMARY:Jantar com Recreação
DESCRIPTION:Um momento especial que une refeição e diversão! Crianças de 5 a 14 anos aproveitam o jantar junto com a equipe de recreação\, com interação\, brincadeiras e um clima leve e animado que torna a experiência ainda mais divertida.\nO evento pode sofrer alterações de data\, local ou cancelamento sem aviso prévio.
URL:https://lecanton.com.br/evento/jantar-com-recreacao/2026-08-01/
LOCATION:Restaurante Lugano
CATEGORIES:Crianças de 5 a 8 anos,Crianças de 9 a 14 anos
ATTACH;FMTTYPE=image/jpeg:https://lecanton.com.br/wp-content/uploads/2026/04/almoco-com-recreacao.jpg
END:VEVENT
BEGIN:VEVENT
DTSTART;TZID=America/Sao_Paulo:20260802T122000
DTEND;TZID=America/Sao_Paulo:20260802T132000
DTSTAMP:20260422T092304
CREATED:20260401T203541Z
LAST-MODIFIED:20260420T135539Z
UID:10010863-1785673200-1785676800@lecanton.com.br
SUMMARY:Almoço com Recreação
DESCRIPTION:Um momento especial que une alimentação e diversão! As crianças de 5 a 14 anos almoçam junto com a equipe de recreação\, com interação\, brincadeiras e muita alegria durante a refeição\, tornando a experiência ainda mais divertida e inesquecível.O evento pode sofrer alterações de data\, local ou cancelamento sem aviso prévio.
URL:https://lecanton.com.br/evento/almoco-com-recreacao-30/2026-08-02/
LOCATION:Restaurante Lugano
CATEGORIES:Crianças de 5 a 8 anos,Crianças de 9 a 14 anos
ATTACH;FMTTYPE=image/jpeg:https://lecanton.com.br/wp-content/uploads/2026/04/almoco-com-recreacao.jpg
END:VEVENT
BEGIN:VEVENT
DTSTART;TZID=America/Sao_Paulo:20260802T190000
DTEND;TZID=America/Sao_Paulo:20260802T194500
DTSTAMP:20260422T092304
CREATED:20260416T211310Z
LAST-MODIFIED:20260420T135016Z
UID:10017917-1785697200-1785699900@lecanton.com.br
SUMMARY:Jantar com Recreação
DESCRIPTION:Um momento especial que une refeição e diversão! Crianças de 5 a 14 anos aproveitam o jantar junto com a equipe de recreação\, com interação\, brincadeiras e um clima leve e animado que torna a experiência ainda mais divertida.\nO evento pode sofrer alterações de data\, local ou cancelamento sem aviso prévio.
URL:https://lecanton.com.br/evento/jantar-com-recreacao/2026-08-02/
LOCATION:Restaurante Lugano
CATEGORIES:Crianças de 5 a 8 anos,Crianças de 9 a 14 anos
ATTACH;FMTTYPE=image/jpeg:https://lecanton.com.br/wp-content/uploads/2026/04/almoco-com-recreacao.jpg
END:VEVENT
END:VCALENDAR