BEGIN:VCALENDAR
VERSION:2.0
PRODID:-//Le Canton | O melhor Resort da Serra - ECPv6.15.17.1//NONSGML v1.0//EN
CALSCALE:GREGORIAN
METHOD:PUBLISH
X-ORIGINAL-URL:https://lecanton.com.br
X-WR-CALDESC:Eventos para Le Canton | O melhor Resort da Serra
REFRESH-INTERVAL;VALUE=DURATION:PT1H
X-Robots-Tag:noindex
X-PUBLISHED-TTL:PT1H
BEGIN:VTIMEZONE
TZID:America/Sao_Paulo
BEGIN:STANDARD
TZOFFSETFROM:-0300
TZOFFSETTO:-0300
TZNAME:-03
DTSTART:20250101T000000
END:STANDARD
END:VTIMEZONE
BEGIN:VEVENT
DTSTART;TZID=America/Sao_Paulo:20260705T122000
DTEND;TZID=America/Sao_Paulo:20260705T132000
DTSTAMP:20260420T030521
CREATED:20260401T203541Z
LAST-MODIFIED:20260416T211318Z
UID:10010835-1783254000-1783257600@lecanton.com.br
SUMMARY:Almoço com Recreação
DESCRIPTION:Um momento especial que une alimentação e diversão! As crianças de 5 a 14 anos almoçam junto com a equipe de recreação\, com interação\, brincadeiras e muita alegria durante a refeição\, tornando a experiência ainda mais divertida e inesquecível.O evento pode sofrer alterações de data\, local ou cancelamento sem aviso prévio.
URL:https://lecanton.com.br/evento/almoco-com-recreacao-30/2026-07-05/
LOCATION:Restaurante Lugano
CATEGORIES:Crianças de 5 a 8 anos,Crianças de 9 a 14 anos
END:VEVENT
BEGIN:VEVENT
DTSTART;TZID=America/Sao_Paulo:20260705T190000
DTEND;TZID=America/Sao_Paulo:20260705T194500
DTSTAMP:20260420T030521
CREATED:20260416T211310Z
LAST-MODIFIED:20260416T211310Z
UID:10017889-1783278000-1783280700@lecanton.com.br
SUMMARY:Jantar com Recreação
DESCRIPTION:Um momento especial que une refeição e diversão! Crianças de 5 a 14 anos aproveitam o jantar junto com a equipe de recreação\, com interação\, brincadeiras e um clima leve e animado que torna a experiência ainda mais divertida.\nO evento pode sofrer alterações de data\, local ou cancelamento sem aviso prévio.
URL:https://lecanton.com.br/evento/jantar-com-recreacao/2026-07-05/
LOCATION:Restaurante Lugano
CATEGORIES:Crianças de 5 a 8 anos,Crianças de 9 a 14 anos
END:VEVENT
BEGIN:VEVENT
DTSTART;TZID=America/Sao_Paulo:20260706T122000
DTEND;TZID=America/Sao_Paulo:20260706T132000
DTSTAMP:20260420T030521
CREATED:20260401T203541Z
LAST-MODIFIED:20260416T211318Z
UID:10010836-1783340400-1783344000@lecanton.com.br
SUMMARY:Almoço com Recreação
DESCRIPTION:Um momento especial que une alimentação e diversão! As crianças de 5 a 14 anos almoçam junto com a equipe de recreação\, com interação\, brincadeiras e muita alegria durante a refeição\, tornando a experiência ainda mais divertida e inesquecível.O evento pode sofrer alterações de data\, local ou cancelamento sem aviso prévio.
URL:https://lecanton.com.br/evento/almoco-com-recreacao-30/2026-07-06/
LOCATION:Restaurante Lugano
CATEGORIES:Crianças de 5 a 8 anos,Crianças de 9 a 14 anos
END:VEVENT
BEGIN:VEVENT
DTSTART;TZID=America/Sao_Paulo:20260706T190000
DTEND;TZID=America/Sao_Paulo:20260706T194500
DTSTAMP:20260420T030521
CREATED:20260416T211310Z
LAST-MODIFIED:20260416T211310Z
UID:10017890-1783364400-1783367100@lecanton.com.br
SUMMARY:Jantar com Recreação
DESCRIPTION:Um momento especial que une refeição e diversão! Crianças de 5 a 14 anos aproveitam o jantar junto com a equipe de recreação\, com interação\, brincadeiras e um clima leve e animado que torna a experiência ainda mais divertida.\nO evento pode sofrer alterações de data\, local ou cancelamento sem aviso prévio.
URL:https://lecanton.com.br/evento/jantar-com-recreacao/2026-07-06/
LOCATION:Restaurante Lugano
CATEGORIES:Crianças de 5 a 8 anos,Crianças de 9 a 14 anos
END:VEVENT
BEGIN:VEVENT
DTSTART;TZID=America/Sao_Paulo:20260707T122000
DTEND;TZID=America/Sao_Paulo:20260707T132000
DTSTAMP:20260420T030521
CREATED:20260401T203541Z
LAST-MODIFIED:20260416T211318Z
UID:10010837-1783426800-1783430400@lecanton.com.br
SUMMARY:Almoço com Recreação
DESCRIPTION:Um momento especial que une alimentação e diversão! As crianças de 5 a 14 anos almoçam junto com a equipe de recreação\, com interação\, brincadeiras e muita alegria durante a refeição\, tornando a experiência ainda mais divertida e inesquecível.O evento pode sofrer alterações de data\, local ou cancelamento sem aviso prévio.
URL:https://lecanton.com.br/evento/almoco-com-recreacao-30/2026-07-07/
LOCATION:Restaurante Lugano
CATEGORIES:Crianças de 5 a 8 anos,Crianças de 9 a 14 anos
END:VEVENT
BEGIN:VEVENT
DTSTART;TZID=America/Sao_Paulo:20260707T190000
DTEND;TZID=America/Sao_Paulo:20260707T194500
DTSTAMP:20260420T030521
CREATED:20260416T211310Z
LAST-MODIFIED:20260416T211310Z
UID:10017891-1783450800-1783453500@lecanton.com.br
SUMMARY:Jantar com Recreação
DESCRIPTION:Um momento especial que une refeição e diversão! Crianças de 5 a 14 anos aproveitam o jantar junto com a equipe de recreação\, com interação\, brincadeiras e um clima leve e animado que torna a experiência ainda mais divertida.\nO evento pode sofrer alterações de data\, local ou cancelamento sem aviso prévio.
URL:https://lecanton.com.br/evento/jantar-com-recreacao/2026-07-07/
LOCATION:Restaurante Lugano
CATEGORIES:Crianças de 5 a 8 anos,Crianças de 9 a 14 anos
END:VEVENT
BEGIN:VEVENT
DTSTART;TZID=America/Sao_Paulo:20260708T122000
DTEND;TZID=America/Sao_Paulo:20260708T132000
DTSTAMP:20260420T030521
CREATED:20260401T203541Z
LAST-MODIFIED:20260416T211318Z
UID:10010838-1783513200-1783516800@lecanton.com.br
SUMMARY:Almoço com Recreação
DESCRIPTION:Um momento especial que une alimentação e diversão! As crianças de 5 a 14 anos almoçam junto com a equipe de recreação\, com interação\, brincadeiras e muita alegria durante a refeição\, tornando a experiência ainda mais divertida e inesquecível.O evento pode sofrer alterações de data\, local ou cancelamento sem aviso prévio.
URL:https://lecanton.com.br/evento/almoco-com-recreacao-30/2026-07-08/
LOCATION:Restaurante Lugano
CATEGORIES:Crianças de 5 a 8 anos,Crianças de 9 a 14 anos
END:VEVENT
BEGIN:VEVENT
DTSTART;TZID=America/Sao_Paulo:20260708T190000
DTEND;TZID=America/Sao_Paulo:20260708T194500
DTSTAMP:20260420T030521
CREATED:20260416T211310Z
LAST-MODIFIED:20260416T211310Z
UID:10017892-1783537200-1783539900@lecanton.com.br
SUMMARY:Jantar com Recreação
DESCRIPTION:Um momento especial que une refeição e diversão! Crianças de 5 a 14 anos aproveitam o jantar junto com a equipe de recreação\, com interação\, brincadeiras e um clima leve e animado que torna a experiência ainda mais divertida.\nO evento pode sofrer alterações de data\, local ou cancelamento sem aviso prévio.
URL:https://lecanton.com.br/evento/jantar-com-recreacao/2026-07-08/
LOCATION:Restaurante Lugano
CATEGORIES:Crianças de 5 a 8 anos,Crianças de 9 a 14 anos
END:VEVENT
BEGIN:VEVENT
DTSTART;TZID=America/Sao_Paulo:20260709T122000
DTEND;TZID=America/Sao_Paulo:20260709T132000
DTSTAMP:20260420T030521
CREATED:20260401T203541Z
LAST-MODIFIED:20260416T211318Z
UID:10010839-1783599600-1783603200@lecanton.com.br
SUMMARY:Almoço com Recreação
DESCRIPTION:Um momento especial que une alimentação e diversão! As crianças de 5 a 14 anos almoçam junto com a equipe de recreação\, com interação\, brincadeiras e muita alegria durante a refeição\, tornando a experiência ainda mais divertida e inesquecível.O evento pode sofrer alterações de data\, local ou cancelamento sem aviso prévio.
URL:https://lecanton.com.br/evento/almoco-com-recreacao-30/2026-07-09/
LOCATION:Restaurante Lugano
CATEGORIES:Crianças de 5 a 8 anos,Crianças de 9 a 14 anos
END:VEVENT
BEGIN:VEVENT
DTSTART;TZID=America/Sao_Paulo:20260709T190000
DTEND;TZID=America/Sao_Paulo:20260709T194500
DTSTAMP:20260420T030521
CREATED:20260416T211310Z
LAST-MODIFIED:20260416T211310Z
UID:10017893-1783623600-1783626300@lecanton.com.br
SUMMARY:Jantar com Recreação
DESCRIPTION:Um momento especial que une refeição e diversão! Crianças de 5 a 14 anos aproveitam o jantar junto com a equipe de recreação\, com interação\, brincadeiras e um clima leve e animado que torna a experiência ainda mais divertida.\nO evento pode sofrer alterações de data\, local ou cancelamento sem aviso prévio.
URL:https://lecanton.com.br/evento/jantar-com-recreacao/2026-07-09/
LOCATION:Restaurante Lugano
CATEGORIES:Crianças de 5 a 8 anos,Crianças de 9 a 14 anos
END:VEVENT
BEGIN:VEVENT
DTSTART;TZID=America/Sao_Paulo:20260710T122000
DTEND;TZID=America/Sao_Paulo:20260710T132000
DTSTAMP:20260420T030521
CREATED:20260401T203541Z
LAST-MODIFIED:20260416T211318Z
UID:10010840-1783686000-1783689600@lecanton.com.br
SUMMARY:Almoço com Recreação
DESCRIPTION:Um momento especial que une alimentação e diversão! As crianças de 5 a 14 anos almoçam junto com a equipe de recreação\, com interação\, brincadeiras e muita alegria durante a refeição\, tornando a experiência ainda mais divertida e inesquecível.O evento pode sofrer alterações de data\, local ou cancelamento sem aviso prévio.
URL:https://lecanton.com.br/evento/almoco-com-recreacao-30/2026-07-10/
LOCATION:Restaurante Lugano
CATEGORIES:Crianças de 5 a 8 anos,Crianças de 9 a 14 anos
END:VEVENT
BEGIN:VEVENT
DTSTART;TZID=America/Sao_Paulo:20260710T190000
DTEND;TZID=America/Sao_Paulo:20260710T194500
DTSTAMP:20260420T030521
CREATED:20260416T211310Z
LAST-MODIFIED:20260416T211310Z
UID:10017894-1783710000-1783712700@lecanton.com.br
SUMMARY:Jantar com Recreação
DESCRIPTION:Um momento especial que une refeição e diversão! Crianças de 5 a 14 anos aproveitam o jantar junto com a equipe de recreação\, com interação\, brincadeiras e um clima leve e animado que torna a experiência ainda mais divertida.\nO evento pode sofrer alterações de data\, local ou cancelamento sem aviso prévio.
URL:https://lecanton.com.br/evento/jantar-com-recreacao/2026-07-10/
LOCATION:Restaurante Lugano
CATEGORIES:Crianças de 5 a 8 anos,Crianças de 9 a 14 anos
END:VEVENT
BEGIN:VEVENT
DTSTART;TZID=America/Sao_Paulo:20260711T122000
DTEND;TZID=America/Sao_Paulo:20260711T132000
DTSTAMP:20260420T030521
CREATED:20260401T203541Z
LAST-MODIFIED:20260416T211318Z
UID:10010841-1783772400-1783776000@lecanton.com.br
SUMMARY:Almoço com Recreação
DESCRIPTION:Um momento especial que une alimentação e diversão! As crianças de 5 a 14 anos almoçam junto com a equipe de recreação\, com interação\, brincadeiras e muita alegria durante a refeição\, tornando a experiência ainda mais divertida e inesquecível.O evento pode sofrer alterações de data\, local ou cancelamento sem aviso prévio.
URL:https://lecanton.com.br/evento/almoco-com-recreacao-30/2026-07-11/
LOCATION:Restaurante Lugano
CATEGORIES:Crianças de 5 a 8 anos,Crianças de 9 a 14 anos
END:VEVENT
BEGIN:VEVENT
DTSTART;TZID=America/Sao_Paulo:20260711T190000
DTEND;TZID=America/Sao_Paulo:20260711T194500
DTSTAMP:20260420T030521
CREATED:20260416T211310Z
LAST-MODIFIED:20260416T211310Z
UID:10017895-1783796400-1783799100@lecanton.com.br
SUMMARY:Jantar com Recreação
DESCRIPTION:Um momento especial que une refeição e diversão! Crianças de 5 a 14 anos aproveitam o jantar junto com a equipe de recreação\, com interação\, brincadeiras e um clima leve e animado que torna a experiência ainda mais divertida.\nO evento pode sofrer alterações de data\, local ou cancelamento sem aviso prévio.
URL:https://lecanton.com.br/evento/jantar-com-recreacao/2026-07-11/
LOCATION:Restaurante Lugano
CATEGORIES:Crianças de 5 a 8 anos,Crianças de 9 a 14 anos
END:VEVENT
BEGIN:VEVENT
DTSTART;TZID=America/Sao_Paulo:20260712T122000
DTEND;TZID=America/Sao_Paulo:20260712T132000
DTSTAMP:20260420T030521
CREATED:20260401T203541Z
LAST-MODIFIED:20260416T211318Z
UID:10010842-1783858800-1783862400@lecanton.com.br
SUMMARY:Almoço com Recreação
DESCRIPTION:Um momento especial que une alimentação e diversão! As crianças de 5 a 14 anos almoçam junto com a equipe de recreação\, com interação\, brincadeiras e muita alegria durante a refeição\, tornando a experiência ainda mais divertida e inesquecível.O evento pode sofrer alterações de data\, local ou cancelamento sem aviso prévio.
URL:https://lecanton.com.br/evento/almoco-com-recreacao-30/2026-07-12/
LOCATION:Restaurante Lugano
CATEGORIES:Crianças de 5 a 8 anos,Crianças de 9 a 14 anos
END:VEVENT
BEGIN:VEVENT
DTSTART;TZID=America/Sao_Paulo:20260712T190000
DTEND;TZID=America/Sao_Paulo:20260712T194500
DTSTAMP:20260420T030521
CREATED:20260416T211310Z
LAST-MODIFIED:20260416T211310Z
UID:10017896-1783882800-1783885500@lecanton.com.br
SUMMARY:Jantar com Recreação
DESCRIPTION:Um momento especial que une refeição e diversão! Crianças de 5 a 14 anos aproveitam o jantar junto com a equipe de recreação\, com interação\, brincadeiras e um clima leve e animado que torna a experiência ainda mais divertida.\nO evento pode sofrer alterações de data\, local ou cancelamento sem aviso prévio.
URL:https://lecanton.com.br/evento/jantar-com-recreacao/2026-07-12/
LOCATION:Restaurante Lugano
CATEGORIES:Crianças de 5 a 8 anos,Crianças de 9 a 14 anos
END:VEVENT
BEGIN:VEVENT
DTSTART;TZID=America/Sao_Paulo:20260713T122000
DTEND;TZID=America/Sao_Paulo:20260713T132000
DTSTAMP:20260420T030521
CREATED:20260401T203541Z
LAST-MODIFIED:20260416T211318Z
UID:10010843-1783945200-1783948800@lecanton.com.br
SUMMARY:Almoço com Recreação
DESCRIPTION:Um momento especial que une alimentação e diversão! As crianças de 5 a 14 anos almoçam junto com a equipe de recreação\, com interação\, brincadeiras e muita alegria durante a refeição\, tornando a experiência ainda mais divertida e inesquecível.O evento pode sofrer alterações de data\, local ou cancelamento sem aviso prévio.
URL:https://lecanton.com.br/evento/almoco-com-recreacao-30/2026-07-13/
LOCATION:Restaurante Lugano
CATEGORIES:Crianças de 5 a 8 anos,Crianças de 9 a 14 anos
END:VEVENT
BEGIN:VEVENT
DTSTART;TZID=America/Sao_Paulo:20260713T190000
DTEND;TZID=America/Sao_Paulo:20260713T194500
DTSTAMP:20260420T030521
CREATED:20260416T211310Z
LAST-MODIFIED:20260416T211310Z
UID:10017897-1783969200-1783971900@lecanton.com.br
SUMMARY:Jantar com Recreação
DESCRIPTION:Um momento especial que une refeição e diversão! Crianças de 5 a 14 anos aproveitam o jantar junto com a equipe de recreação\, com interação\, brincadeiras e um clima leve e animado que torna a experiência ainda mais divertida.\nO evento pode sofrer alterações de data\, local ou cancelamento sem aviso prévio.
URL:https://lecanton.com.br/evento/jantar-com-recreacao/2026-07-13/
LOCATION:Restaurante Lugano
CATEGORIES:Crianças de 5 a 8 anos,Crianças de 9 a 14 anos
END:VEVENT
BEGIN:VEVENT
DTSTART;TZID=America/Sao_Paulo:20260714T122000
DTEND;TZID=America/Sao_Paulo:20260714T132000
DTSTAMP:20260420T030521
CREATED:20260401T203541Z
LAST-MODIFIED:20260416T211318Z
UID:10010844-1784031600-1784035200@lecanton.com.br
SUMMARY:Almoço com Recreação
DESCRIPTION:Um momento especial que une alimentação e diversão! As crianças de 5 a 14 anos almoçam junto com a equipe de recreação\, com interação\, brincadeiras e muita alegria durante a refeição\, tornando a experiência ainda mais divertida e inesquecível.O evento pode sofrer alterações de data\, local ou cancelamento sem aviso prévio.
URL:https://lecanton.com.br/evento/almoco-com-recreacao-30/2026-07-14/
LOCATION:Restaurante Lugano
CATEGORIES:Crianças de 5 a 8 anos,Crianças de 9 a 14 anos
END:VEVENT
BEGIN:VEVENT
DTSTART;TZID=America/Sao_Paulo:20260714T190000
DTEND;TZID=America/Sao_Paulo:20260714T194500
DTSTAMP:20260420T030521
CREATED:20260416T211310Z
LAST-MODIFIED:20260416T211310Z
UID:10017898-1784055600-1784058300@lecanton.com.br
SUMMARY:Jantar com Recreação
DESCRIPTION:Um momento especial que une refeição e diversão! Crianças de 5 a 14 anos aproveitam o jantar junto com a equipe de recreação\, com interação\, brincadeiras e um clima leve e animado que torna a experiência ainda mais divertida.\nO evento pode sofrer alterações de data\, local ou cancelamento sem aviso prévio.
URL:https://lecanton.com.br/evento/jantar-com-recreacao/2026-07-14/
LOCATION:Restaurante Lugano
CATEGORIES:Crianças de 5 a 8 anos,Crianças de 9 a 14 anos
END:VEVENT
BEGIN:VEVENT
DTSTART;TZID=America/Sao_Paulo:20260715T122000
DTEND;TZID=America/Sao_Paulo:20260715T132000
DTSTAMP:20260420T030521
CREATED:20260401T203541Z
LAST-MODIFIED:20260416T211318Z
UID:10010845-1784118000-1784121600@lecanton.com.br
SUMMARY:Almoço com Recreação
DESCRIPTION:Um momento especial que une alimentação e diversão! As crianças de 5 a 14 anos almoçam junto com a equipe de recreação\, com interação\, brincadeiras e muita alegria durante a refeição\, tornando a experiência ainda mais divertida e inesquecível.O evento pode sofrer alterações de data\, local ou cancelamento sem aviso prévio.
URL:https://lecanton.com.br/evento/almoco-com-recreacao-30/2026-07-15/
LOCATION:Restaurante Lugano
CATEGORIES:Crianças de 5 a 8 anos,Crianças de 9 a 14 anos
END:VEVENT
BEGIN:VEVENT
DTSTART;TZID=America/Sao_Paulo:20260715T190000
DTEND;TZID=America/Sao_Paulo:20260715T194500
DTSTAMP:20260420T030521
CREATED:20260416T211310Z
LAST-MODIFIED:20260416T211310Z
UID:10017899-1784142000-1784144700@lecanton.com.br
SUMMARY:Jantar com Recreação
DESCRIPTION:Um momento especial que une refeição e diversão! Crianças de 5 a 14 anos aproveitam o jantar junto com a equipe de recreação\, com interação\, brincadeiras e um clima leve e animado que torna a experiência ainda mais divertida.\nO evento pode sofrer alterações de data\, local ou cancelamento sem aviso prévio.
URL:https://lecanton.com.br/evento/jantar-com-recreacao/2026-07-15/
LOCATION:Restaurante Lugano
CATEGORIES:Crianças de 5 a 8 anos,Crianças de 9 a 14 anos
END:VEVENT
BEGIN:VEVENT
DTSTART;TZID=America/Sao_Paulo:20260716T122000
DTEND;TZID=America/Sao_Paulo:20260716T132000
DTSTAMP:20260420T030521
CREATED:20260401T203541Z
LAST-MODIFIED:20260416T211318Z
UID:10010846-1784204400-1784208000@lecanton.com.br
SUMMARY:Almoço com Recreação
DESCRIPTION:Um momento especial que une alimentação e diversão! As crianças de 5 a 14 anos almoçam junto com a equipe de recreação\, com interação\, brincadeiras e muita alegria durante a refeição\, tornando a experiência ainda mais divertida e inesquecível.O evento pode sofrer alterações de data\, local ou cancelamento sem aviso prévio.
URL:https://lecanton.com.br/evento/almoco-com-recreacao-30/2026-07-16/
LOCATION:Restaurante Lugano
CATEGORIES:Crianças de 5 a 8 anos,Crianças de 9 a 14 anos
END:VEVENT
BEGIN:VEVENT
DTSTART;TZID=America/Sao_Paulo:20260716T190000
DTEND;TZID=America/Sao_Paulo:20260716T194500
DTSTAMP:20260420T030521
CREATED:20260416T211310Z
LAST-MODIFIED:20260416T211310Z
UID:10017900-1784228400-1784231100@lecanton.com.br
SUMMARY:Jantar com Recreação
DESCRIPTION:Um momento especial que une refeição e diversão! Crianças de 5 a 14 anos aproveitam o jantar junto com a equipe de recreação\, com interação\, brincadeiras e um clima leve e animado que torna a experiência ainda mais divertida.\nO evento pode sofrer alterações de data\, local ou cancelamento sem aviso prévio.
URL:https://lecanton.com.br/evento/jantar-com-recreacao/2026-07-16/
LOCATION:Restaurante Lugano
CATEGORIES:Crianças de 5 a 8 anos,Crianças de 9 a 14 anos
END:VEVENT
BEGIN:VEVENT
DTSTART;TZID=America/Sao_Paulo:20260717T122000
DTEND;TZID=America/Sao_Paulo:20260717T132000
DTSTAMP:20260420T030521
CREATED:20260401T203541Z
LAST-MODIFIED:20260416T211318Z
UID:10010847-1784290800-1784294400@lecanton.com.br
SUMMARY:Almoço com Recreação
DESCRIPTION:Um momento especial que une alimentação e diversão! As crianças de 5 a 14 anos almoçam junto com a equipe de recreação\, com interação\, brincadeiras e muita alegria durante a refeição\, tornando a experiência ainda mais divertida e inesquecível.O evento pode sofrer alterações de data\, local ou cancelamento sem aviso prévio.
URL:https://lecanton.com.br/evento/almoco-com-recreacao-30/2026-07-17/
LOCATION:Restaurante Lugano
CATEGORIES:Crianças de 5 a 8 anos,Crianças de 9 a 14 anos
END:VEVENT
BEGIN:VEVENT
DTSTART;TZID=America/Sao_Paulo:20260717T190000
DTEND;TZID=America/Sao_Paulo:20260717T194500
DTSTAMP:20260420T030521
CREATED:20260416T211310Z
LAST-MODIFIED:20260416T211310Z
UID:10017901-1784314800-1784317500@lecanton.com.br
SUMMARY:Jantar com Recreação
DESCRIPTION:Um momento especial que une refeição e diversão! Crianças de 5 a 14 anos aproveitam o jantar junto com a equipe de recreação\, com interação\, brincadeiras e um clima leve e animado que torna a experiência ainda mais divertida.\nO evento pode sofrer alterações de data\, local ou cancelamento sem aviso prévio.
URL:https://lecanton.com.br/evento/jantar-com-recreacao/2026-07-17/
LOCATION:Restaurante Lugano
CATEGORIES:Crianças de 5 a 8 anos,Crianças de 9 a 14 anos
END:VEVENT
BEGIN:VEVENT
DTSTART;TZID=America/Sao_Paulo:20260718T122000
DTEND;TZID=America/Sao_Paulo:20260718T132000
DTSTAMP:20260420T030521
CREATED:20260401T203541Z
LAST-MODIFIED:20260416T211318Z
UID:10010848-1784377200-1784380800@lecanton.com.br
SUMMARY:Almoço com Recreação
DESCRIPTION:Um momento especial que une alimentação e diversão! As crianças de 5 a 14 anos almoçam junto com a equipe de recreação\, com interação\, brincadeiras e muita alegria durante a refeição\, tornando a experiência ainda mais divertida e inesquecível.O evento pode sofrer alterações de data\, local ou cancelamento sem aviso prévio.
URL:https://lecanton.com.br/evento/almoco-com-recreacao-30/2026-07-18/
LOCATION:Restaurante Lugano
CATEGORIES:Crianças de 5 a 8 anos,Crianças de 9 a 14 anos
END:VEVENT
BEGIN:VEVENT
DTSTART;TZID=America/Sao_Paulo:20260718T190000
DTEND;TZID=America/Sao_Paulo:20260718T194500
DTSTAMP:20260420T030521
CREATED:20260416T211310Z
LAST-MODIFIED:20260416T211310Z
UID:10017902-1784401200-1784403900@lecanton.com.br
SUMMARY:Jantar com Recreação
DESCRIPTION:Um momento especial que une refeição e diversão! Crianças de 5 a 14 anos aproveitam o jantar junto com a equipe de recreação\, com interação\, brincadeiras e um clima leve e animado que torna a experiência ainda mais divertida.\nO evento pode sofrer alterações de data\, local ou cancelamento sem aviso prévio.
URL:https://lecanton.com.br/evento/jantar-com-recreacao/2026-07-18/
LOCATION:Restaurante Lugano
CATEGORIES:Crianças de 5 a 8 anos,Crianças de 9 a 14 anos
END:VEVENT
BEGIN:VEVENT
DTSTART;TZID=America/Sao_Paulo:20260719T122000
DTEND;TZID=America/Sao_Paulo:20260719T132000
DTSTAMP:20260420T030521
CREATED:20260401T203541Z
LAST-MODIFIED:20260416T211318Z
UID:10010849-1784463600-1784467200@lecanton.com.br
SUMMARY:Almoço com Recreação
DESCRIPTION:Um momento especial que une alimentação e diversão! As crianças de 5 a 14 anos almoçam junto com a equipe de recreação\, com interação\, brincadeiras e muita alegria durante a refeição\, tornando a experiência ainda mais divertida e inesquecível.O evento pode sofrer alterações de data\, local ou cancelamento sem aviso prévio.
URL:https://lecanton.com.br/evento/almoco-com-recreacao-30/2026-07-19/
LOCATION:Restaurante Lugano
CATEGORIES:Crianças de 5 a 8 anos,Crianças de 9 a 14 anos
END:VEVENT
BEGIN:VEVENT
DTSTART;TZID=America/Sao_Paulo:20260719T190000
DTEND;TZID=America/Sao_Paulo:20260719T194500
DTSTAMP:20260420T030521
CREATED:20260416T211310Z
LAST-MODIFIED:20260416T211310Z
UID:10017903-1784487600-1784490300@lecanton.com.br
SUMMARY:Jantar com Recreação
DESCRIPTION:Um momento especial que une refeição e diversão! Crianças de 5 a 14 anos aproveitam o jantar junto com a equipe de recreação\, com interação\, brincadeiras e um clima leve e animado que torna a experiência ainda mais divertida.\nO evento pode sofrer alterações de data\, local ou cancelamento sem aviso prévio.
URL:https://lecanton.com.br/evento/jantar-com-recreacao/2026-07-19/
LOCATION:Restaurante Lugano
CATEGORIES:Crianças de 5 a 8 anos,Crianças de 9 a 14 anos
END:VEVENT
END:VCALENDAR