BEGIN:VCALENDAR
VERSION:2.0
PRODID:-//Le Canton | O melhor Resort da Serra - ECPv6.15.17.1//NONSGML v1.0//EN
CALSCALE:GREGORIAN
METHOD:PUBLISH
X-WR-CALNAME:Le Canton | O melhor Resort da Serra
X-ORIGINAL-URL:https://lecanton.com.br
X-WR-CALDESC:Eventos para Le Canton | O melhor Resort da Serra
REFRESH-INTERVAL;VALUE=DURATION:PT1H
X-Robots-Tag:noindex
X-PUBLISHED-TTL:PT1H
BEGIN:VTIMEZONE
TZID:America/Sao_Paulo
BEGIN:STANDARD
TZOFFSETFROM:-0300
TZOFFSETTO:-0300
TZNAME:-03
DTSTART:20250101T000000
END:STANDARD
END:VTIMEZONE
BEGIN:VEVENT
DTSTART;TZID=America/Sao_Paulo:20260606T121500
DTEND;TZID=America/Sao_Paulo:20260606T124500
DTSTAMP:20260419T113743
CREATED:20260414T193014Z
LAST-MODIFIED:20260414T193014Z
UID:10005119-1780748100-1780749900@lecanton.com.br
SUMMARY:Hidroginástica
DESCRIPTION:Uma atividade leve e revitalizante realizada na água\, ideal para quem busca bem-estar\, movimento e baixo impacto nas articulações. A hidroginástica combina exercícios físicos com diversão\, promovendo saúde e disposição. Exclusivo para adultos maiores de 18 anos.O evento pode sofrer alterações de data\, local ou cancelamento sem aviso prévio.
URL:https://lecanton.com.br/evento/hidroginastica/2026-06-06/
LOCATION:Parque Aquático
CATEGORIES:Adultos acima de 18 anos
ATTACH;FMTTYPE=image/jpeg:https://lecanton.com.br/wp-content/uploads/2026/04/ativ.jpg
END:VEVENT
BEGIN:VEVENT
DTSTART;TZID=America/Sao_Paulo:20260607T121500
DTEND;TZID=America/Sao_Paulo:20260607T124500
DTSTAMP:20260419T113743
CREATED:20260414T193014Z
LAST-MODIFIED:20260414T193014Z
UID:10005120-1780834500-1780836300@lecanton.com.br
SUMMARY:Hidroginástica
DESCRIPTION:Uma atividade leve e revitalizante realizada na água\, ideal para quem busca bem-estar\, movimento e baixo impacto nas articulações. A hidroginástica combina exercícios físicos com diversão\, promovendo saúde e disposição. Exclusivo para adultos maiores de 18 anos.O evento pode sofrer alterações de data\, local ou cancelamento sem aviso prévio.
URL:https://lecanton.com.br/evento/hidroginastica/2026-06-07/
LOCATION:Parque Aquático
CATEGORIES:Adultos acima de 18 anos
ATTACH;FMTTYPE=image/jpeg:https://lecanton.com.br/wp-content/uploads/2026/04/ativ.jpg
END:VEVENT
BEGIN:VEVENT
DTSTART;TZID=America/Sao_Paulo:20260608T121500
DTEND;TZID=America/Sao_Paulo:20260608T124500
DTSTAMP:20260419T113743
CREATED:20260414T193014Z
LAST-MODIFIED:20260414T193014Z
UID:10005121-1780920900-1780922700@lecanton.com.br
SUMMARY:Hidroginástica
DESCRIPTION:Uma atividade leve e revitalizante realizada na água\, ideal para quem busca bem-estar\, movimento e baixo impacto nas articulações. A hidroginástica combina exercícios físicos com diversão\, promovendo saúde e disposição. Exclusivo para adultos maiores de 18 anos.O evento pode sofrer alterações de data\, local ou cancelamento sem aviso prévio.
URL:https://lecanton.com.br/evento/hidroginastica/2026-06-08/
LOCATION:Parque Aquático
CATEGORIES:Adultos acima de 18 anos
ATTACH;FMTTYPE=image/jpeg:https://lecanton.com.br/wp-content/uploads/2026/04/ativ.jpg
END:VEVENT
BEGIN:VEVENT
DTSTART;TZID=America/Sao_Paulo:20260609T121500
DTEND;TZID=America/Sao_Paulo:20260609T131500
DTSTAMP:20260419T113743
CREATED:20260413T194345Z
LAST-MODIFIED:20260413T194345Z
UID:10001164-1781007300-1781010900@lecanton.com.br
SUMMARY:Atividades Recreativas
DESCRIPTION:Diversão e descontração em um ambiente refrescante! As atividades recreativas na piscina são ideais para quem quer se movimentar\, interagir e aproveitar momentos leves com música\, jogos e dinâmicas aquáticas. Exclusivo para adultos acima de 18 anos.O evento pode sofrer alterações de data\, local ou cancelamento sem aviso prévio.
URL:https://lecanton.com.br/evento/atividades-recreativas-26/2026-06-09/
LOCATION:Parque Aquático
CATEGORIES:Adultos acima de 18 anos
ATTACH;FMTTYPE=image/jpeg:https://lecanton.com.br/wp-content/uploads/2026/04/ativ.jpg
END:VEVENT
BEGIN:VEVENT
DTSTART;TZID=America/Sao_Paulo:20260610T121500
DTEND;TZID=America/Sao_Paulo:20260610T124500
DTSTAMP:20260419T113743
CREATED:20260414T193014Z
LAST-MODIFIED:20260414T193014Z
UID:10005122-1781093700-1781095500@lecanton.com.br
SUMMARY:Hidroginástica
DESCRIPTION:Uma atividade leve e revitalizante realizada na água\, ideal para quem busca bem-estar\, movimento e baixo impacto nas articulações. A hidroginástica combina exercícios físicos com diversão\, promovendo saúde e disposição. Exclusivo para adultos maiores de 18 anos.O evento pode sofrer alterações de data\, local ou cancelamento sem aviso prévio.
URL:https://lecanton.com.br/evento/hidroginastica/2026-06-10/
LOCATION:Parque Aquático
CATEGORIES:Adultos acima de 18 anos
ATTACH;FMTTYPE=image/jpeg:https://lecanton.com.br/wp-content/uploads/2026/04/ativ.jpg
END:VEVENT
BEGIN:VEVENT
DTSTART;TZID=America/Sao_Paulo:20260611T121500
DTEND;TZID=America/Sao_Paulo:20260611T124500
DTSTAMP:20260419T113743
CREATED:20260414T193014Z
LAST-MODIFIED:20260414T193014Z
UID:10005123-1781180100-1781181900@lecanton.com.br
SUMMARY:Hidroginástica
DESCRIPTION:Uma atividade leve e revitalizante realizada na água\, ideal para quem busca bem-estar\, movimento e baixo impacto nas articulações. A hidroginástica combina exercícios físicos com diversão\, promovendo saúde e disposição. Exclusivo para adultos maiores de 18 anos.O evento pode sofrer alterações de data\, local ou cancelamento sem aviso prévio.
URL:https://lecanton.com.br/evento/hidroginastica/2026-06-11/
LOCATION:Parque Aquático
CATEGORIES:Adultos acima de 18 anos
ATTACH;FMTTYPE=image/jpeg:https://lecanton.com.br/wp-content/uploads/2026/04/ativ.jpg
END:VEVENT
BEGIN:VEVENT
DTSTART;TZID=America/Sao_Paulo:20260612T121500
DTEND;TZID=America/Sao_Paulo:20260612T124500
DTSTAMP:20260419T113743
CREATED:20260414T193014Z
LAST-MODIFIED:20260414T193014Z
UID:10005124-1781266500-1781268300@lecanton.com.br
SUMMARY:Hidroginástica
DESCRIPTION:Uma atividade leve e revitalizante realizada na água\, ideal para quem busca bem-estar\, movimento e baixo impacto nas articulações. A hidroginástica combina exercícios físicos com diversão\, promovendo saúde e disposição. Exclusivo para adultos maiores de 18 anos.O evento pode sofrer alterações de data\, local ou cancelamento sem aviso prévio.
URL:https://lecanton.com.br/evento/hidroginastica/2026-06-12/
LOCATION:Parque Aquático
CATEGORIES:Adultos acima de 18 anos
ATTACH;FMTTYPE=image/jpeg:https://lecanton.com.br/wp-content/uploads/2026/04/ativ.jpg
END:VEVENT
BEGIN:VEVENT
DTSTART;TZID=America/Sao_Paulo:20260613T121500
DTEND;TZID=America/Sao_Paulo:20260613T124500
DTSTAMP:20260419T113743
CREATED:20260414T193014Z
LAST-MODIFIED:20260414T193014Z
UID:10005125-1781352900-1781354700@lecanton.com.br
SUMMARY:Hidroginástica
DESCRIPTION:Uma atividade leve e revitalizante realizada na água\, ideal para quem busca bem-estar\, movimento e baixo impacto nas articulações. A hidroginástica combina exercícios físicos com diversão\, promovendo saúde e disposição. Exclusivo para adultos maiores de 18 anos.O evento pode sofrer alterações de data\, local ou cancelamento sem aviso prévio.
URL:https://lecanton.com.br/evento/hidroginastica/2026-06-13/
LOCATION:Parque Aquático
CATEGORIES:Adultos acima de 18 anos
ATTACH;FMTTYPE=image/jpeg:https://lecanton.com.br/wp-content/uploads/2026/04/ativ.jpg
END:VEVENT
BEGIN:VEVENT
DTSTART;TZID=America/Sao_Paulo:20260614T121500
DTEND;TZID=America/Sao_Paulo:20260614T124500
DTSTAMP:20260419T113743
CREATED:20260414T193014Z
LAST-MODIFIED:20260414T193014Z
UID:10005126-1781439300-1781441100@lecanton.com.br
SUMMARY:Hidroginástica
DESCRIPTION:Uma atividade leve e revitalizante realizada na água\, ideal para quem busca bem-estar\, movimento e baixo impacto nas articulações. A hidroginástica combina exercícios físicos com diversão\, promovendo saúde e disposição. Exclusivo para adultos maiores de 18 anos.O evento pode sofrer alterações de data\, local ou cancelamento sem aviso prévio.
URL:https://lecanton.com.br/evento/hidroginastica/2026-06-14/
LOCATION:Parque Aquático
CATEGORIES:Adultos acima de 18 anos
ATTACH;FMTTYPE=image/jpeg:https://lecanton.com.br/wp-content/uploads/2026/04/ativ.jpg
END:VEVENT
BEGIN:VEVENT
DTSTART;TZID=America/Sao_Paulo:20260615T121500
DTEND;TZID=America/Sao_Paulo:20260615T124500
DTSTAMP:20260419T113743
CREATED:20260414T193014Z
LAST-MODIFIED:20260414T193014Z
UID:10005127-1781525700-1781527500@lecanton.com.br
SUMMARY:Hidroginástica
DESCRIPTION:Uma atividade leve e revitalizante realizada na água\, ideal para quem busca bem-estar\, movimento e baixo impacto nas articulações. A hidroginástica combina exercícios físicos com diversão\, promovendo saúde e disposição. Exclusivo para adultos maiores de 18 anos.O evento pode sofrer alterações de data\, local ou cancelamento sem aviso prévio.
URL:https://lecanton.com.br/evento/hidroginastica/2026-06-15/
LOCATION:Parque Aquático
CATEGORIES:Adultos acima de 18 anos
ATTACH;FMTTYPE=image/jpeg:https://lecanton.com.br/wp-content/uploads/2026/04/ativ.jpg
END:VEVENT
BEGIN:VEVENT
DTSTART;TZID=America/Sao_Paulo:20260616T121500
DTEND;TZID=America/Sao_Paulo:20260616T131500
DTSTAMP:20260419T113743
CREATED:20260413T194345Z
LAST-MODIFIED:20260413T194345Z
UID:10001165-1781612100-1781615700@lecanton.com.br
SUMMARY:Atividades Recreativas
DESCRIPTION:Diversão e descontração em um ambiente refrescante! As atividades recreativas na piscina são ideais para quem quer se movimentar\, interagir e aproveitar momentos leves com música\, jogos e dinâmicas aquáticas. Exclusivo para adultos acima de 18 anos.O evento pode sofrer alterações de data\, local ou cancelamento sem aviso prévio.
URL:https://lecanton.com.br/evento/atividades-recreativas-26/2026-06-16/
LOCATION:Parque Aquático
CATEGORIES:Adultos acima de 18 anos
ATTACH;FMTTYPE=image/jpeg:https://lecanton.com.br/wp-content/uploads/2026/04/ativ.jpg
END:VEVENT
BEGIN:VEVENT
DTSTART;TZID=America/Sao_Paulo:20260617T121500
DTEND;TZID=America/Sao_Paulo:20260617T124500
DTSTAMP:20260419T113743
CREATED:20260414T193014Z
LAST-MODIFIED:20260414T193014Z
UID:10005128-1781698500-1781700300@lecanton.com.br
SUMMARY:Hidroginástica
DESCRIPTION:Uma atividade leve e revitalizante realizada na água\, ideal para quem busca bem-estar\, movimento e baixo impacto nas articulações. A hidroginástica combina exercícios físicos com diversão\, promovendo saúde e disposição. Exclusivo para adultos maiores de 18 anos.O evento pode sofrer alterações de data\, local ou cancelamento sem aviso prévio.
URL:https://lecanton.com.br/evento/hidroginastica/2026-06-17/
LOCATION:Parque Aquático
CATEGORIES:Adultos acima de 18 anos
ATTACH;FMTTYPE=image/jpeg:https://lecanton.com.br/wp-content/uploads/2026/04/ativ.jpg
END:VEVENT
BEGIN:VEVENT
DTSTART;TZID=America/Sao_Paulo:20260618T121500
DTEND;TZID=America/Sao_Paulo:20260618T124500
DTSTAMP:20260419T113743
CREATED:20260414T193014Z
LAST-MODIFIED:20260414T193014Z
UID:10005129-1781784900-1781786700@lecanton.com.br
SUMMARY:Hidroginástica
DESCRIPTION:Uma atividade leve e revitalizante realizada na água\, ideal para quem busca bem-estar\, movimento e baixo impacto nas articulações. A hidroginástica combina exercícios físicos com diversão\, promovendo saúde e disposição. Exclusivo para adultos maiores de 18 anos.O evento pode sofrer alterações de data\, local ou cancelamento sem aviso prévio.
URL:https://lecanton.com.br/evento/hidroginastica/2026-06-18/
LOCATION:Parque Aquático
CATEGORIES:Adultos acima de 18 anos
ATTACH;FMTTYPE=image/jpeg:https://lecanton.com.br/wp-content/uploads/2026/04/ativ.jpg
END:VEVENT
BEGIN:VEVENT
DTSTART;TZID=America/Sao_Paulo:20260619T121500
DTEND;TZID=America/Sao_Paulo:20260619T124500
DTSTAMP:20260419T113743
CREATED:20260414T193014Z
LAST-MODIFIED:20260414T193014Z
UID:10005130-1781871300-1781873100@lecanton.com.br
SUMMARY:Hidroginástica
DESCRIPTION:Uma atividade leve e revitalizante realizada na água\, ideal para quem busca bem-estar\, movimento e baixo impacto nas articulações. A hidroginástica combina exercícios físicos com diversão\, promovendo saúde e disposição. Exclusivo para adultos maiores de 18 anos.O evento pode sofrer alterações de data\, local ou cancelamento sem aviso prévio.
URL:https://lecanton.com.br/evento/hidroginastica/2026-06-19/
LOCATION:Parque Aquático
CATEGORIES:Adultos acima de 18 anos
ATTACH;FMTTYPE=image/jpeg:https://lecanton.com.br/wp-content/uploads/2026/04/ativ.jpg
END:VEVENT
BEGIN:VEVENT
DTSTART;TZID=America/Sao_Paulo:20260620T121500
DTEND;TZID=America/Sao_Paulo:20260620T124500
DTSTAMP:20260419T113743
CREATED:20260414T193014Z
LAST-MODIFIED:20260414T193014Z
UID:10005131-1781957700-1781959500@lecanton.com.br
SUMMARY:Hidroginástica
DESCRIPTION:Uma atividade leve e revitalizante realizada na água\, ideal para quem busca bem-estar\, movimento e baixo impacto nas articulações. A hidroginástica combina exercícios físicos com diversão\, promovendo saúde e disposição. Exclusivo para adultos maiores de 18 anos.O evento pode sofrer alterações de data\, local ou cancelamento sem aviso prévio.
URL:https://lecanton.com.br/evento/hidroginastica/2026-06-20/
LOCATION:Parque Aquático
CATEGORIES:Adultos acima de 18 anos
ATTACH;FMTTYPE=image/jpeg:https://lecanton.com.br/wp-content/uploads/2026/04/ativ.jpg
END:VEVENT
BEGIN:VEVENT
DTSTART;TZID=America/Sao_Paulo:20260621T121500
DTEND;TZID=America/Sao_Paulo:20260621T124500
DTSTAMP:20260419T113743
CREATED:20260414T193014Z
LAST-MODIFIED:20260414T193014Z
UID:10005132-1782044100-1782045900@lecanton.com.br
SUMMARY:Hidroginástica
DESCRIPTION:Uma atividade leve e revitalizante realizada na água\, ideal para quem busca bem-estar\, movimento e baixo impacto nas articulações. A hidroginástica combina exercícios físicos com diversão\, promovendo saúde e disposição. Exclusivo para adultos maiores de 18 anos.O evento pode sofrer alterações de data\, local ou cancelamento sem aviso prévio.
URL:https://lecanton.com.br/evento/hidroginastica/2026-06-21/
LOCATION:Parque Aquático
CATEGORIES:Adultos acima de 18 anos
ATTACH;FMTTYPE=image/jpeg:https://lecanton.com.br/wp-content/uploads/2026/04/ativ.jpg
END:VEVENT
BEGIN:VEVENT
DTSTART;TZID=America/Sao_Paulo:20260622T121500
DTEND;TZID=America/Sao_Paulo:20260622T124500
DTSTAMP:20260419T113743
CREATED:20260414T193014Z
LAST-MODIFIED:20260414T193014Z
UID:10005133-1782130500-1782132300@lecanton.com.br
SUMMARY:Hidroginástica
DESCRIPTION:Uma atividade leve e revitalizante realizada na água\, ideal para quem busca bem-estar\, movimento e baixo impacto nas articulações. A hidroginástica combina exercícios físicos com diversão\, promovendo saúde e disposição. Exclusivo para adultos maiores de 18 anos.O evento pode sofrer alterações de data\, local ou cancelamento sem aviso prévio.
URL:https://lecanton.com.br/evento/hidroginastica/2026-06-22/
LOCATION:Parque Aquático
CATEGORIES:Adultos acima de 18 anos
ATTACH;FMTTYPE=image/jpeg:https://lecanton.com.br/wp-content/uploads/2026/04/ativ.jpg
END:VEVENT
BEGIN:VEVENT
DTSTART;TZID=America/Sao_Paulo:20260623T121500
DTEND;TZID=America/Sao_Paulo:20260623T131500
DTSTAMP:20260419T113743
CREATED:20260413T194345Z
LAST-MODIFIED:20260413T194345Z
UID:10001166-1782216900-1782220500@lecanton.com.br
SUMMARY:Atividades Recreativas
DESCRIPTION:Diversão e descontração em um ambiente refrescante! As atividades recreativas na piscina são ideais para quem quer se movimentar\, interagir e aproveitar momentos leves com música\, jogos e dinâmicas aquáticas. Exclusivo para adultos acima de 18 anos.O evento pode sofrer alterações de data\, local ou cancelamento sem aviso prévio.
URL:https://lecanton.com.br/evento/atividades-recreativas-26/2026-06-23/
LOCATION:Parque Aquático
CATEGORIES:Adultos acima de 18 anos
ATTACH;FMTTYPE=image/jpeg:https://lecanton.com.br/wp-content/uploads/2026/04/ativ.jpg
END:VEVENT
BEGIN:VEVENT
DTSTART;TZID=America/Sao_Paulo:20260624T121500
DTEND;TZID=America/Sao_Paulo:20260624T124500
DTSTAMP:20260419T113743
CREATED:20260414T193014Z
LAST-MODIFIED:20260414T193014Z
UID:10005134-1782303300-1782305100@lecanton.com.br
SUMMARY:Hidroginástica
DESCRIPTION:Uma atividade leve e revitalizante realizada na água\, ideal para quem busca bem-estar\, movimento e baixo impacto nas articulações. A hidroginástica combina exercícios físicos com diversão\, promovendo saúde e disposição. Exclusivo para adultos maiores de 18 anos.O evento pode sofrer alterações de data\, local ou cancelamento sem aviso prévio.
URL:https://lecanton.com.br/evento/hidroginastica/2026-06-24/
LOCATION:Parque Aquático
CATEGORIES:Adultos acima de 18 anos
ATTACH;FMTTYPE=image/jpeg:https://lecanton.com.br/wp-content/uploads/2026/04/ativ.jpg
END:VEVENT
BEGIN:VEVENT
DTSTART;TZID=America/Sao_Paulo:20260625T121500
DTEND;TZID=America/Sao_Paulo:20260625T124500
DTSTAMP:20260419T113743
CREATED:20260414T193014Z
LAST-MODIFIED:20260414T193014Z
UID:10005135-1782389700-1782391500@lecanton.com.br
SUMMARY:Hidroginástica
DESCRIPTION:Uma atividade leve e revitalizante realizada na água\, ideal para quem busca bem-estar\, movimento e baixo impacto nas articulações. A hidroginástica combina exercícios físicos com diversão\, promovendo saúde e disposição. Exclusivo para adultos maiores de 18 anos.O evento pode sofrer alterações de data\, local ou cancelamento sem aviso prévio.
URL:https://lecanton.com.br/evento/hidroginastica/2026-06-25/
LOCATION:Parque Aquático
CATEGORIES:Adultos acima de 18 anos
ATTACH;FMTTYPE=image/jpeg:https://lecanton.com.br/wp-content/uploads/2026/04/ativ.jpg
END:VEVENT
BEGIN:VEVENT
DTSTART;TZID=America/Sao_Paulo:20260626T121500
DTEND;TZID=America/Sao_Paulo:20260626T124500
DTSTAMP:20260419T113743
CREATED:20260414T193014Z
LAST-MODIFIED:20260414T193014Z
UID:10005136-1782476100-1782477900@lecanton.com.br
SUMMARY:Hidroginástica
DESCRIPTION:Uma atividade leve e revitalizante realizada na água\, ideal para quem busca bem-estar\, movimento e baixo impacto nas articulações. A hidroginástica combina exercícios físicos com diversão\, promovendo saúde e disposição. Exclusivo para adultos maiores de 18 anos.O evento pode sofrer alterações de data\, local ou cancelamento sem aviso prévio.
URL:https://lecanton.com.br/evento/hidroginastica/2026-06-26/
LOCATION:Parque Aquático
CATEGORIES:Adultos acima de 18 anos
ATTACH;FMTTYPE=image/jpeg:https://lecanton.com.br/wp-content/uploads/2026/04/ativ.jpg
END:VEVENT
BEGIN:VEVENT
DTSTART;TZID=America/Sao_Paulo:20260627T121500
DTEND;TZID=America/Sao_Paulo:20260627T124500
DTSTAMP:20260419T113743
CREATED:20260414T193014Z
LAST-MODIFIED:20260414T193014Z
UID:10005137-1782562500-1782564300@lecanton.com.br
SUMMARY:Hidroginástica
DESCRIPTION:Uma atividade leve e revitalizante realizada na água\, ideal para quem busca bem-estar\, movimento e baixo impacto nas articulações. A hidroginástica combina exercícios físicos com diversão\, promovendo saúde e disposição. Exclusivo para adultos maiores de 18 anos.O evento pode sofrer alterações de data\, local ou cancelamento sem aviso prévio.
URL:https://lecanton.com.br/evento/hidroginastica/2026-06-27/
LOCATION:Parque Aquático
CATEGORIES:Adultos acima de 18 anos
ATTACH;FMTTYPE=image/jpeg:https://lecanton.com.br/wp-content/uploads/2026/04/ativ.jpg
END:VEVENT
BEGIN:VEVENT
DTSTART;TZID=America/Sao_Paulo:20260628T121500
DTEND;TZID=America/Sao_Paulo:20260628T124500
DTSTAMP:20260419T113743
CREATED:20260414T193014Z
LAST-MODIFIED:20260414T193014Z
UID:10005138-1782648900-1782650700@lecanton.com.br
SUMMARY:Hidroginástica
DESCRIPTION:Uma atividade leve e revitalizante realizada na água\, ideal para quem busca bem-estar\, movimento e baixo impacto nas articulações. A hidroginástica combina exercícios físicos com diversão\, promovendo saúde e disposição. Exclusivo para adultos maiores de 18 anos.O evento pode sofrer alterações de data\, local ou cancelamento sem aviso prévio.
URL:https://lecanton.com.br/evento/hidroginastica/2026-06-28/
LOCATION:Parque Aquático
CATEGORIES:Adultos acima de 18 anos
ATTACH;FMTTYPE=image/jpeg:https://lecanton.com.br/wp-content/uploads/2026/04/ativ.jpg
END:VEVENT
BEGIN:VEVENT
DTSTART;TZID=America/Sao_Paulo:20260629T121500
DTEND;TZID=America/Sao_Paulo:20260629T124500
DTSTAMP:20260419T113743
CREATED:20260414T193014Z
LAST-MODIFIED:20260414T193014Z
UID:10005139-1782735300-1782737100@lecanton.com.br
SUMMARY:Hidroginástica
DESCRIPTION:Uma atividade leve e revitalizante realizada na água\, ideal para quem busca bem-estar\, movimento e baixo impacto nas articulações. A hidroginástica combina exercícios físicos com diversão\, promovendo saúde e disposição. Exclusivo para adultos maiores de 18 anos.O evento pode sofrer alterações de data\, local ou cancelamento sem aviso prévio.
URL:https://lecanton.com.br/evento/hidroginastica/2026-06-29/
LOCATION:Parque Aquático
CATEGORIES:Adultos acima de 18 anos
ATTACH;FMTTYPE=image/jpeg:https://lecanton.com.br/wp-content/uploads/2026/04/ativ.jpg
END:VEVENT
BEGIN:VEVENT
DTSTART;TZID=America/Sao_Paulo:20260630T121500
DTEND;TZID=America/Sao_Paulo:20260630T131500
DTSTAMP:20260419T113743
CREATED:20260413T194345Z
LAST-MODIFIED:20260413T194345Z
UID:10001167-1782821700-1782825300@lecanton.com.br
SUMMARY:Atividades Recreativas
DESCRIPTION:Diversão e descontração em um ambiente refrescante! As atividades recreativas na piscina são ideais para quem quer se movimentar\, interagir e aproveitar momentos leves com música\, jogos e dinâmicas aquáticas. Exclusivo para adultos acima de 18 anos.O evento pode sofrer alterações de data\, local ou cancelamento sem aviso prévio.
URL:https://lecanton.com.br/evento/atividades-recreativas-26/2026-06-30/
LOCATION:Parque Aquático
CATEGORIES:Adultos acima de 18 anos
ATTACH;FMTTYPE=image/jpeg:https://lecanton.com.br/wp-content/uploads/2026/04/ativ.jpg
END:VEVENT
BEGIN:VEVENT
DTSTART;TZID=America/Sao_Paulo:20260701T121500
DTEND;TZID=America/Sao_Paulo:20260701T124500
DTSTAMP:20260419T113743
CREATED:20260414T193014Z
LAST-MODIFIED:20260414T193014Z
UID:10005140-1782908100-1782909900@lecanton.com.br
SUMMARY:Hidroginástica
DESCRIPTION:Uma atividade leve e revitalizante realizada na água\, ideal para quem busca bem-estar\, movimento e baixo impacto nas articulações. A hidroginástica combina exercícios físicos com diversão\, promovendo saúde e disposição. Exclusivo para adultos maiores de 18 anos.O evento pode sofrer alterações de data\, local ou cancelamento sem aviso prévio.
URL:https://lecanton.com.br/evento/hidroginastica/2026-07-01/
LOCATION:Parque Aquático
CATEGORIES:Adultos acima de 18 anos
ATTACH;FMTTYPE=image/jpeg:https://lecanton.com.br/wp-content/uploads/2026/04/ativ.jpg
END:VEVENT
BEGIN:VEVENT
DTSTART;TZID=America/Sao_Paulo:20260702T121500
DTEND;TZID=America/Sao_Paulo:20260702T124500
DTSTAMP:20260419T113743
CREATED:20260414T193014Z
LAST-MODIFIED:20260414T193014Z
UID:10005141-1782994500-1782996300@lecanton.com.br
SUMMARY:Hidroginástica
DESCRIPTION:Uma atividade leve e revitalizante realizada na água\, ideal para quem busca bem-estar\, movimento e baixo impacto nas articulações. A hidroginástica combina exercícios físicos com diversão\, promovendo saúde e disposição. Exclusivo para adultos maiores de 18 anos.O evento pode sofrer alterações de data\, local ou cancelamento sem aviso prévio.
URL:https://lecanton.com.br/evento/hidroginastica/2026-07-02/
LOCATION:Parque Aquático
CATEGORIES:Adultos acima de 18 anos
ATTACH;FMTTYPE=image/jpeg:https://lecanton.com.br/wp-content/uploads/2026/04/ativ.jpg
END:VEVENT
BEGIN:VEVENT
DTSTART;TZID=America/Sao_Paulo:20260703T121500
DTEND;TZID=America/Sao_Paulo:20260703T124500
DTSTAMP:20260419T113743
CREATED:20260414T193014Z
LAST-MODIFIED:20260414T193014Z
UID:10005142-1783080900-1783082700@lecanton.com.br
SUMMARY:Hidroginástica
DESCRIPTION:Uma atividade leve e revitalizante realizada na água\, ideal para quem busca bem-estar\, movimento e baixo impacto nas articulações. A hidroginástica combina exercícios físicos com diversão\, promovendo saúde e disposição. Exclusivo para adultos maiores de 18 anos.O evento pode sofrer alterações de data\, local ou cancelamento sem aviso prévio.
URL:https://lecanton.com.br/evento/hidroginastica/2026-07-03/
LOCATION:Parque Aquático
CATEGORIES:Adultos acima de 18 anos
ATTACH;FMTTYPE=image/jpeg:https://lecanton.com.br/wp-content/uploads/2026/04/ativ.jpg
END:VEVENT
BEGIN:VEVENT
DTSTART;TZID=America/Sao_Paulo:20260704T121500
DTEND;TZID=America/Sao_Paulo:20260704T124500
DTSTAMP:20260419T113743
CREATED:20260414T193014Z
LAST-MODIFIED:20260414T193014Z
UID:10005143-1783167300-1783169100@lecanton.com.br
SUMMARY:Hidroginástica
DESCRIPTION:Uma atividade leve e revitalizante realizada na água\, ideal para quem busca bem-estar\, movimento e baixo impacto nas articulações. A hidroginástica combina exercícios físicos com diversão\, promovendo saúde e disposição. Exclusivo para adultos maiores de 18 anos.O evento pode sofrer alterações de data\, local ou cancelamento sem aviso prévio.
URL:https://lecanton.com.br/evento/hidroginastica/2026-07-04/
LOCATION:Parque Aquático
CATEGORIES:Adultos acima de 18 anos
ATTACH;FMTTYPE=image/jpeg:https://lecanton.com.br/wp-content/uploads/2026/04/ativ.jpg
END:VEVENT
BEGIN:VEVENT
DTSTART;TZID=America/Sao_Paulo:20260705T121500
DTEND;TZID=America/Sao_Paulo:20260705T124500
DTSTAMP:20260419T113743
CREATED:20260414T193014Z
LAST-MODIFIED:20260414T193014Z
UID:10005144-1783253700-1783255500@lecanton.com.br
SUMMARY:Hidroginástica
DESCRIPTION:Uma atividade leve e revitalizante realizada na água\, ideal para quem busca bem-estar\, movimento e baixo impacto nas articulações. A hidroginástica combina exercícios físicos com diversão\, promovendo saúde e disposição. Exclusivo para adultos maiores de 18 anos.O evento pode sofrer alterações de data\, local ou cancelamento sem aviso prévio.
URL:https://lecanton.com.br/evento/hidroginastica/2026-07-05/
LOCATION:Parque Aquático
CATEGORIES:Adultos acima de 18 anos
ATTACH;FMTTYPE=image/jpeg:https://lecanton.com.br/wp-content/uploads/2026/04/ativ.jpg
END:VEVENT
END:VCALENDAR