BEGIN:VCALENDAR
VERSION:2.0
PRODID:-//Le Canton | O melhor Resort da Serra - ECPv6.15.17.1//NONSGML v1.0//EN
CALSCALE:GREGORIAN
METHOD:PUBLISH
X-ORIGINAL-URL:https://lecanton.com.br
X-WR-CALDESC:Eventos para Le Canton | O melhor Resort da Serra
REFRESH-INTERVAL;VALUE=DURATION:PT1H
X-Robots-Tag:noindex
X-PUBLISHED-TTL:PT1H
BEGIN:VTIMEZONE
TZID:America/Sao_Paulo
BEGIN:STANDARD
TZOFFSETFROM:-0300
TZOFFSETTO:-0300
TZNAME:-03
DTSTART:20250101T000000
END:STANDARD
END:VTIMEZONE
BEGIN:VEVENT
DTSTART;TZID=America/Sao_Paulo:20261210T121500
DTEND;TZID=America/Sao_Paulo:20261210T124500
DTSTAMP:20260425T142540
CREATED:20260414T193014Z
LAST-MODIFIED:20260414T193014Z
UID:10005279-1796904900-1796906700@lecanton.com.br
SUMMARY:Hidroginástica
DESCRIPTION:Uma atividade leve e revitalizante realizada na água\, ideal para quem busca bem-estar\, movimento e baixo impacto nas articulações. A hidroginástica combina exercícios físicos com diversão\, promovendo saúde e disposição. Exclusivo para adultos maiores de 18 anos.O evento pode sofrer alterações de data\, local ou cancelamento sem aviso prévio.
URL:https://lecanton.com.br/evento/hidroginastica/2026-12-10/
LOCATION:Parque Aquático
CATEGORIES:Adultos acima de 18 anos
ATTACH;FMTTYPE=image/jpeg:https://lecanton.com.br/wp-content/uploads/2026/04/ativ.jpg
END:VEVENT
BEGIN:VEVENT
DTSTART;TZID=America/Sao_Paulo:20261211T121500
DTEND;TZID=America/Sao_Paulo:20261211T124500
DTSTAMP:20260425T142540
CREATED:20260414T193014Z
LAST-MODIFIED:20260414T193014Z
UID:10005280-1796991300-1796993100@lecanton.com.br
SUMMARY:Hidroginástica
DESCRIPTION:Uma atividade leve e revitalizante realizada na água\, ideal para quem busca bem-estar\, movimento e baixo impacto nas articulações. A hidroginástica combina exercícios físicos com diversão\, promovendo saúde e disposição. Exclusivo para adultos maiores de 18 anos.O evento pode sofrer alterações de data\, local ou cancelamento sem aviso prévio.
URL:https://lecanton.com.br/evento/hidroginastica/2026-12-11/
LOCATION:Parque Aquático
CATEGORIES:Adultos acima de 18 anos
ATTACH;FMTTYPE=image/jpeg:https://lecanton.com.br/wp-content/uploads/2026/04/ativ.jpg
END:VEVENT
BEGIN:VEVENT
DTSTART;TZID=America/Sao_Paulo:20261212T121500
DTEND;TZID=America/Sao_Paulo:20261212T124500
DTSTAMP:20260425T142540
CREATED:20260414T193014Z
LAST-MODIFIED:20260414T193014Z
UID:10005281-1797077700-1797079500@lecanton.com.br
SUMMARY:Hidroginástica
DESCRIPTION:Uma atividade leve e revitalizante realizada na água\, ideal para quem busca bem-estar\, movimento e baixo impacto nas articulações. A hidroginástica combina exercícios físicos com diversão\, promovendo saúde e disposição. Exclusivo para adultos maiores de 18 anos.O evento pode sofrer alterações de data\, local ou cancelamento sem aviso prévio.
URL:https://lecanton.com.br/evento/hidroginastica/2026-12-12/
LOCATION:Parque Aquático
CATEGORIES:Adultos acima de 18 anos
ATTACH;FMTTYPE=image/jpeg:https://lecanton.com.br/wp-content/uploads/2026/04/ativ.jpg
END:VEVENT
BEGIN:VEVENT
DTSTART;TZID=America/Sao_Paulo:20261213T121500
DTEND;TZID=America/Sao_Paulo:20261213T124500
DTSTAMP:20260425T142540
CREATED:20260414T193014Z
LAST-MODIFIED:20260414T193014Z
UID:10005282-1797164100-1797165900@lecanton.com.br
SUMMARY:Hidroginástica
DESCRIPTION:Uma atividade leve e revitalizante realizada na água\, ideal para quem busca bem-estar\, movimento e baixo impacto nas articulações. A hidroginástica combina exercícios físicos com diversão\, promovendo saúde e disposição. Exclusivo para adultos maiores de 18 anos.O evento pode sofrer alterações de data\, local ou cancelamento sem aviso prévio.
URL:https://lecanton.com.br/evento/hidroginastica/2026-12-13/
LOCATION:Parque Aquático
CATEGORIES:Adultos acima de 18 anos
ATTACH;FMTTYPE=image/jpeg:https://lecanton.com.br/wp-content/uploads/2026/04/ativ.jpg
END:VEVENT
BEGIN:VEVENT
DTSTART;TZID=America/Sao_Paulo:20261214T121500
DTEND;TZID=America/Sao_Paulo:20261214T124500
DTSTAMP:20260425T142540
CREATED:20260414T193014Z
LAST-MODIFIED:20260414T193014Z
UID:10005283-1797250500-1797252300@lecanton.com.br
SUMMARY:Hidroginástica
DESCRIPTION:Uma atividade leve e revitalizante realizada na água\, ideal para quem busca bem-estar\, movimento e baixo impacto nas articulações. A hidroginástica combina exercícios físicos com diversão\, promovendo saúde e disposição. Exclusivo para adultos maiores de 18 anos.O evento pode sofrer alterações de data\, local ou cancelamento sem aviso prévio.
URL:https://lecanton.com.br/evento/hidroginastica/2026-12-14/
LOCATION:Parque Aquático
CATEGORIES:Adultos acima de 18 anos
ATTACH;FMTTYPE=image/jpeg:https://lecanton.com.br/wp-content/uploads/2026/04/ativ.jpg
END:VEVENT
BEGIN:VEVENT
DTSTART;TZID=America/Sao_Paulo:20261215T121500
DTEND;TZID=America/Sao_Paulo:20261215T131500
DTSTAMP:20260425T142540
CREATED:20260413T194345Z
LAST-MODIFIED:20260413T194345Z
UID:10001191-1797336900-1797340500@lecanton.com.br
SUMMARY:Atividades Recreativas
DESCRIPTION:Diversão e descontração em um ambiente refrescante! As atividades recreativas na piscina são ideais para quem quer se movimentar\, interagir e aproveitar momentos leves com música\, jogos e dinâmicas aquáticas. Exclusivo para adultos acima de 18 anos.O evento pode sofrer alterações de data\, local ou cancelamento sem aviso prévio.
URL:https://lecanton.com.br/evento/atividades-recreativas-26/2026-12-15/
LOCATION:Parque Aquático
CATEGORIES:Adultos acima de 18 anos
ATTACH;FMTTYPE=image/jpeg:https://lecanton.com.br/wp-content/uploads/2026/04/ativ.jpg
END:VEVENT
BEGIN:VEVENT
DTSTART;TZID=America/Sao_Paulo:20261216T121500
DTEND;TZID=America/Sao_Paulo:20261216T124500
DTSTAMP:20260425T142540
CREATED:20260414T193014Z
LAST-MODIFIED:20260414T193014Z
UID:10005284-1797423300-1797425100@lecanton.com.br
SUMMARY:Hidroginástica
DESCRIPTION:Uma atividade leve e revitalizante realizada na água\, ideal para quem busca bem-estar\, movimento e baixo impacto nas articulações. A hidroginástica combina exercícios físicos com diversão\, promovendo saúde e disposição. Exclusivo para adultos maiores de 18 anos.O evento pode sofrer alterações de data\, local ou cancelamento sem aviso prévio.
URL:https://lecanton.com.br/evento/hidroginastica/2026-12-16/
LOCATION:Parque Aquático
CATEGORIES:Adultos acima de 18 anos
ATTACH;FMTTYPE=image/jpeg:https://lecanton.com.br/wp-content/uploads/2026/04/ativ.jpg
END:VEVENT
BEGIN:VEVENT
DTSTART;TZID=America/Sao_Paulo:20261217T121500
DTEND;TZID=America/Sao_Paulo:20261217T124500
DTSTAMP:20260425T142540
CREATED:20260414T193014Z
LAST-MODIFIED:20260414T193014Z
UID:10005285-1797509700-1797511500@lecanton.com.br
SUMMARY:Hidroginástica
DESCRIPTION:Uma atividade leve e revitalizante realizada na água\, ideal para quem busca bem-estar\, movimento e baixo impacto nas articulações. A hidroginástica combina exercícios físicos com diversão\, promovendo saúde e disposição. Exclusivo para adultos maiores de 18 anos.O evento pode sofrer alterações de data\, local ou cancelamento sem aviso prévio.
URL:https://lecanton.com.br/evento/hidroginastica/2026-12-17/
LOCATION:Parque Aquático
CATEGORIES:Adultos acima de 18 anos
ATTACH;FMTTYPE=image/jpeg:https://lecanton.com.br/wp-content/uploads/2026/04/ativ.jpg
END:VEVENT
BEGIN:VEVENT
DTSTART;TZID=America/Sao_Paulo:20261218T121500
DTEND;TZID=America/Sao_Paulo:20261218T124500
DTSTAMP:20260425T142540
CREATED:20260414T193014Z
LAST-MODIFIED:20260414T193014Z
UID:10005286-1797596100-1797597900@lecanton.com.br
SUMMARY:Hidroginástica
DESCRIPTION:Uma atividade leve e revitalizante realizada na água\, ideal para quem busca bem-estar\, movimento e baixo impacto nas articulações. A hidroginástica combina exercícios físicos com diversão\, promovendo saúde e disposição. Exclusivo para adultos maiores de 18 anos.O evento pode sofrer alterações de data\, local ou cancelamento sem aviso prévio.
URL:https://lecanton.com.br/evento/hidroginastica/2026-12-18/
LOCATION:Parque Aquático
CATEGORIES:Adultos acima de 18 anos
ATTACH;FMTTYPE=image/jpeg:https://lecanton.com.br/wp-content/uploads/2026/04/ativ.jpg
END:VEVENT
BEGIN:VEVENT
DTSTART;TZID=America/Sao_Paulo:20261219T121500
DTEND;TZID=America/Sao_Paulo:20261219T124500
DTSTAMP:20260425T142540
CREATED:20260414T193014Z
LAST-MODIFIED:20260414T193014Z
UID:10005287-1797682500-1797684300@lecanton.com.br
SUMMARY:Hidroginástica
DESCRIPTION:Uma atividade leve e revitalizante realizada na água\, ideal para quem busca bem-estar\, movimento e baixo impacto nas articulações. A hidroginástica combina exercícios físicos com diversão\, promovendo saúde e disposição. Exclusivo para adultos maiores de 18 anos.O evento pode sofrer alterações de data\, local ou cancelamento sem aviso prévio.
URL:https://lecanton.com.br/evento/hidroginastica/2026-12-19/
LOCATION:Parque Aquático
CATEGORIES:Adultos acima de 18 anos
ATTACH;FMTTYPE=image/jpeg:https://lecanton.com.br/wp-content/uploads/2026/04/ativ.jpg
END:VEVENT
BEGIN:VEVENT
DTSTART;TZID=America/Sao_Paulo:20261220T121500
DTEND;TZID=America/Sao_Paulo:20261220T124500
DTSTAMP:20260425T142540
CREATED:20260414T193014Z
LAST-MODIFIED:20260414T193014Z
UID:10005288-1797768900-1797770700@lecanton.com.br
SUMMARY:Hidroginástica
DESCRIPTION:Uma atividade leve e revitalizante realizada na água\, ideal para quem busca bem-estar\, movimento e baixo impacto nas articulações. A hidroginástica combina exercícios físicos com diversão\, promovendo saúde e disposição. Exclusivo para adultos maiores de 18 anos.O evento pode sofrer alterações de data\, local ou cancelamento sem aviso prévio.
URL:https://lecanton.com.br/evento/hidroginastica/2026-12-20/
LOCATION:Parque Aquático
CATEGORIES:Adultos acima de 18 anos
ATTACH;FMTTYPE=image/jpeg:https://lecanton.com.br/wp-content/uploads/2026/04/ativ.jpg
END:VEVENT
BEGIN:VEVENT
DTSTART;TZID=America/Sao_Paulo:20261221T121500
DTEND;TZID=America/Sao_Paulo:20261221T124500
DTSTAMP:20260425T142540
CREATED:20260414T193014Z
LAST-MODIFIED:20260414T193014Z
UID:10005289-1797855300-1797857100@lecanton.com.br
SUMMARY:Hidroginástica
DESCRIPTION:Uma atividade leve e revitalizante realizada na água\, ideal para quem busca bem-estar\, movimento e baixo impacto nas articulações. A hidroginástica combina exercícios físicos com diversão\, promovendo saúde e disposição. Exclusivo para adultos maiores de 18 anos.O evento pode sofrer alterações de data\, local ou cancelamento sem aviso prévio.
URL:https://lecanton.com.br/evento/hidroginastica/2026-12-21/
LOCATION:Parque Aquático
CATEGORIES:Adultos acima de 18 anos
ATTACH;FMTTYPE=image/jpeg:https://lecanton.com.br/wp-content/uploads/2026/04/ativ.jpg
END:VEVENT
BEGIN:VEVENT
DTSTART;TZID=America/Sao_Paulo:20261222T121500
DTEND;TZID=America/Sao_Paulo:20261222T131500
DTSTAMP:20260425T142540
CREATED:20260413T194345Z
LAST-MODIFIED:20260413T194345Z
UID:10001192-1797941700-1797945300@lecanton.com.br
SUMMARY:Atividades Recreativas
DESCRIPTION:Diversão e descontração em um ambiente refrescante! As atividades recreativas na piscina são ideais para quem quer se movimentar\, interagir e aproveitar momentos leves com música\, jogos e dinâmicas aquáticas. Exclusivo para adultos acima de 18 anos.O evento pode sofrer alterações de data\, local ou cancelamento sem aviso prévio.
URL:https://lecanton.com.br/evento/atividades-recreativas-26/2026-12-22/
LOCATION:Parque Aquático
CATEGORIES:Adultos acima de 18 anos
ATTACH;FMTTYPE=image/jpeg:https://lecanton.com.br/wp-content/uploads/2026/04/ativ.jpg
END:VEVENT
BEGIN:VEVENT
DTSTART;TZID=America/Sao_Paulo:20261223T121500
DTEND;TZID=America/Sao_Paulo:20261223T124500
DTSTAMP:20260425T142540
CREATED:20260414T193014Z
LAST-MODIFIED:20260414T193014Z
UID:10005290-1798028100-1798029900@lecanton.com.br
SUMMARY:Hidroginástica
DESCRIPTION:Uma atividade leve e revitalizante realizada na água\, ideal para quem busca bem-estar\, movimento e baixo impacto nas articulações. A hidroginástica combina exercícios físicos com diversão\, promovendo saúde e disposição. Exclusivo para adultos maiores de 18 anos.O evento pode sofrer alterações de data\, local ou cancelamento sem aviso prévio.
URL:https://lecanton.com.br/evento/hidroginastica/2026-12-23/
LOCATION:Parque Aquático
CATEGORIES:Adultos acima de 18 anos
ATTACH;FMTTYPE=image/jpeg:https://lecanton.com.br/wp-content/uploads/2026/04/ativ.jpg
END:VEVENT
BEGIN:VEVENT
DTSTART;TZID=America/Sao_Paulo:20261224T121500
DTEND;TZID=America/Sao_Paulo:20261224T124500
DTSTAMP:20260425T142540
CREATED:20260414T193014Z
LAST-MODIFIED:20260414T193014Z
UID:10005291-1798114500-1798116300@lecanton.com.br
SUMMARY:Hidroginástica
DESCRIPTION:Uma atividade leve e revitalizante realizada na água\, ideal para quem busca bem-estar\, movimento e baixo impacto nas articulações. A hidroginástica combina exercícios físicos com diversão\, promovendo saúde e disposição. Exclusivo para adultos maiores de 18 anos.O evento pode sofrer alterações de data\, local ou cancelamento sem aviso prévio.
URL:https://lecanton.com.br/evento/hidroginastica/2026-12-24/
LOCATION:Parque Aquático
CATEGORIES:Adultos acima de 18 anos
ATTACH;FMTTYPE=image/jpeg:https://lecanton.com.br/wp-content/uploads/2026/04/ativ.jpg
END:VEVENT
BEGIN:VEVENT
DTSTART;TZID=America/Sao_Paulo:20261225T121500
DTEND;TZID=America/Sao_Paulo:20261225T124500
DTSTAMP:20260425T142540
CREATED:20260414T193014Z
LAST-MODIFIED:20260414T193014Z
UID:10005292-1798200900-1798202700@lecanton.com.br
SUMMARY:Hidroginástica
DESCRIPTION:Uma atividade leve e revitalizante realizada na água\, ideal para quem busca bem-estar\, movimento e baixo impacto nas articulações. A hidroginástica combina exercícios físicos com diversão\, promovendo saúde e disposição. Exclusivo para adultos maiores de 18 anos.O evento pode sofrer alterações de data\, local ou cancelamento sem aviso prévio.
URL:https://lecanton.com.br/evento/hidroginastica/2026-12-25/
LOCATION:Parque Aquático
CATEGORIES:Adultos acima de 18 anos
ATTACH;FMTTYPE=image/jpeg:https://lecanton.com.br/wp-content/uploads/2026/04/ativ.jpg
END:VEVENT
BEGIN:VEVENT
DTSTART;TZID=America/Sao_Paulo:20261226T121500
DTEND;TZID=America/Sao_Paulo:20261226T124500
DTSTAMP:20260425T142540
CREATED:20260414T193014Z
LAST-MODIFIED:20260414T193014Z
UID:10005293-1798287300-1798289100@lecanton.com.br
SUMMARY:Hidroginástica
DESCRIPTION:Uma atividade leve e revitalizante realizada na água\, ideal para quem busca bem-estar\, movimento e baixo impacto nas articulações. A hidroginástica combina exercícios físicos com diversão\, promovendo saúde e disposição. Exclusivo para adultos maiores de 18 anos.O evento pode sofrer alterações de data\, local ou cancelamento sem aviso prévio.
URL:https://lecanton.com.br/evento/hidroginastica/2026-12-26/
LOCATION:Parque Aquático
CATEGORIES:Adultos acima de 18 anos
ATTACH;FMTTYPE=image/jpeg:https://lecanton.com.br/wp-content/uploads/2026/04/ativ.jpg
END:VEVENT
BEGIN:VEVENT
DTSTART;TZID=America/Sao_Paulo:20261227T121500
DTEND;TZID=America/Sao_Paulo:20261227T124500
DTSTAMP:20260425T142540
CREATED:20260414T193014Z
LAST-MODIFIED:20260414T193014Z
UID:10005294-1798373700-1798375500@lecanton.com.br
SUMMARY:Hidroginástica
DESCRIPTION:Uma atividade leve e revitalizante realizada na água\, ideal para quem busca bem-estar\, movimento e baixo impacto nas articulações. A hidroginástica combina exercícios físicos com diversão\, promovendo saúde e disposição. Exclusivo para adultos maiores de 18 anos.O evento pode sofrer alterações de data\, local ou cancelamento sem aviso prévio.
URL:https://lecanton.com.br/evento/hidroginastica/2026-12-27/
LOCATION:Parque Aquático
CATEGORIES:Adultos acima de 18 anos
ATTACH;FMTTYPE=image/jpeg:https://lecanton.com.br/wp-content/uploads/2026/04/ativ.jpg
END:VEVENT
BEGIN:VEVENT
DTSTART;TZID=America/Sao_Paulo:20261228T121500
DTEND;TZID=America/Sao_Paulo:20261228T124500
DTSTAMP:20260425T142540
CREATED:20260414T193014Z
LAST-MODIFIED:20260414T193014Z
UID:10005295-1798460100-1798461900@lecanton.com.br
SUMMARY:Hidroginástica
DESCRIPTION:Uma atividade leve e revitalizante realizada na água\, ideal para quem busca bem-estar\, movimento e baixo impacto nas articulações. A hidroginástica combina exercícios físicos com diversão\, promovendo saúde e disposição. Exclusivo para adultos maiores de 18 anos.O evento pode sofrer alterações de data\, local ou cancelamento sem aviso prévio.
URL:https://lecanton.com.br/evento/hidroginastica/2026-12-28/
LOCATION:Parque Aquático
CATEGORIES:Adultos acima de 18 anos
ATTACH;FMTTYPE=image/jpeg:https://lecanton.com.br/wp-content/uploads/2026/04/ativ.jpg
END:VEVENT
BEGIN:VEVENT
DTSTART;TZID=America/Sao_Paulo:20261229T121500
DTEND;TZID=America/Sao_Paulo:20261229T131500
DTSTAMP:20260425T142540
CREATED:20260413T194345Z
LAST-MODIFIED:20260413T194345Z
UID:10001193-1798546500-1798550100@lecanton.com.br
SUMMARY:Atividades Recreativas
DESCRIPTION:Diversão e descontração em um ambiente refrescante! As atividades recreativas na piscina são ideais para quem quer se movimentar\, interagir e aproveitar momentos leves com música\, jogos e dinâmicas aquáticas. Exclusivo para adultos acima de 18 anos.O evento pode sofrer alterações de data\, local ou cancelamento sem aviso prévio.
URL:https://lecanton.com.br/evento/atividades-recreativas-26/2026-12-29/
LOCATION:Parque Aquático
CATEGORIES:Adultos acima de 18 anos
ATTACH;FMTTYPE=image/jpeg:https://lecanton.com.br/wp-content/uploads/2026/04/ativ.jpg
END:VEVENT
BEGIN:VEVENT
DTSTART;TZID=America/Sao_Paulo:20261230T121500
DTEND;TZID=America/Sao_Paulo:20261230T124500
DTSTAMP:20260425T142540
CREATED:20260414T193014Z
LAST-MODIFIED:20260414T193014Z
UID:10005296-1798632900-1798634700@lecanton.com.br
SUMMARY:Hidroginástica
DESCRIPTION:Uma atividade leve e revitalizante realizada na água\, ideal para quem busca bem-estar\, movimento e baixo impacto nas articulações. A hidroginástica combina exercícios físicos com diversão\, promovendo saúde e disposição. Exclusivo para adultos maiores de 18 anos.O evento pode sofrer alterações de data\, local ou cancelamento sem aviso prévio.
URL:https://lecanton.com.br/evento/hidroginastica/2026-12-30/
LOCATION:Parque Aquático
CATEGORIES:Adultos acima de 18 anos
ATTACH;FMTTYPE=image/jpeg:https://lecanton.com.br/wp-content/uploads/2026/04/ativ.jpg
END:VEVENT
BEGIN:VEVENT
DTSTART;TZID=America/Sao_Paulo:20261231T121500
DTEND;TZID=America/Sao_Paulo:20261231T124500
DTSTAMP:20260425T142540
CREATED:20260414T193014Z
LAST-MODIFIED:20260414T193014Z
UID:10005297-1798719300-1798721100@lecanton.com.br
SUMMARY:Hidroginástica
DESCRIPTION:Uma atividade leve e revitalizante realizada na água\, ideal para quem busca bem-estar\, movimento e baixo impacto nas articulações. A hidroginástica combina exercícios físicos com diversão\, promovendo saúde e disposição. Exclusivo para adultos maiores de 18 anos.O evento pode sofrer alterações de data\, local ou cancelamento sem aviso prévio.
URL:https://lecanton.com.br/evento/hidroginastica/2026-12-31/
LOCATION:Parque Aquático
CATEGORIES:Adultos acima de 18 anos
ATTACH;FMTTYPE=image/jpeg:https://lecanton.com.br/wp-content/uploads/2026/04/ativ.jpg
END:VEVENT
BEGIN:VEVENT
DTSTART;TZID=America/Sao_Paulo:20270101T121500
DTEND;TZID=America/Sao_Paulo:20270101T124500
DTSTAMP:20260425T142540
CREATED:20260414T193014Z
LAST-MODIFIED:20260414T193014Z
UID:10005298-1798805700-1798807500@lecanton.com.br
SUMMARY:Hidroginástica
DESCRIPTION:Uma atividade leve e revitalizante realizada na água\, ideal para quem busca bem-estar\, movimento e baixo impacto nas articulações. A hidroginástica combina exercícios físicos com diversão\, promovendo saúde e disposição. Exclusivo para adultos maiores de 18 anos.O evento pode sofrer alterações de data\, local ou cancelamento sem aviso prévio.
URL:https://lecanton.com.br/evento/hidroginastica/2027-01-01/
LOCATION:Parque Aquático
CATEGORIES:Adultos acima de 18 anos
ATTACH;FMTTYPE=image/jpeg:https://lecanton.com.br/wp-content/uploads/2026/04/ativ.jpg
END:VEVENT
BEGIN:VEVENT
DTSTART;TZID=America/Sao_Paulo:20270102T121500
DTEND;TZID=America/Sao_Paulo:20270102T124500
DTSTAMP:20260425T142540
CREATED:20260414T193014Z
LAST-MODIFIED:20260414T193014Z
UID:10005299-1798892100-1798893900@lecanton.com.br
SUMMARY:Hidroginástica
DESCRIPTION:Uma atividade leve e revitalizante realizada na água\, ideal para quem busca bem-estar\, movimento e baixo impacto nas articulações. A hidroginástica combina exercícios físicos com diversão\, promovendo saúde e disposição. Exclusivo para adultos maiores de 18 anos.O evento pode sofrer alterações de data\, local ou cancelamento sem aviso prévio.
URL:https://lecanton.com.br/evento/hidroginastica/2027-01-02/
LOCATION:Parque Aquático
CATEGORIES:Adultos acima de 18 anos
ATTACH;FMTTYPE=image/jpeg:https://lecanton.com.br/wp-content/uploads/2026/04/ativ.jpg
END:VEVENT
BEGIN:VEVENT
DTSTART;TZID=America/Sao_Paulo:20270103T121500
DTEND;TZID=America/Sao_Paulo:20270103T124500
DTSTAMP:20260425T142540
CREATED:20260414T193014Z
LAST-MODIFIED:20260414T193014Z
UID:10005300-1798978500-1798980300@lecanton.com.br
SUMMARY:Hidroginástica
DESCRIPTION:Uma atividade leve e revitalizante realizada na água\, ideal para quem busca bem-estar\, movimento e baixo impacto nas articulações. A hidroginástica combina exercícios físicos com diversão\, promovendo saúde e disposição. Exclusivo para adultos maiores de 18 anos.O evento pode sofrer alterações de data\, local ou cancelamento sem aviso prévio.
URL:https://lecanton.com.br/evento/hidroginastica/2027-01-03/
LOCATION:Parque Aquático
CATEGORIES:Adultos acima de 18 anos
ATTACH;FMTTYPE=image/jpeg:https://lecanton.com.br/wp-content/uploads/2026/04/ativ.jpg
END:VEVENT
BEGIN:VEVENT
DTSTART;TZID=America/Sao_Paulo:20270104T121500
DTEND;TZID=America/Sao_Paulo:20270104T124500
DTSTAMP:20260425T142540
CREATED:20260414T193014Z
LAST-MODIFIED:20260414T193014Z
UID:10005301-1799064900-1799066700@lecanton.com.br
SUMMARY:Hidroginástica
DESCRIPTION:Uma atividade leve e revitalizante realizada na água\, ideal para quem busca bem-estar\, movimento e baixo impacto nas articulações. A hidroginástica combina exercícios físicos com diversão\, promovendo saúde e disposição. Exclusivo para adultos maiores de 18 anos.O evento pode sofrer alterações de data\, local ou cancelamento sem aviso prévio.
URL:https://lecanton.com.br/evento/hidroginastica/2027-01-04/
LOCATION:Parque Aquático
CATEGORIES:Adultos acima de 18 anos
ATTACH;FMTTYPE=image/jpeg:https://lecanton.com.br/wp-content/uploads/2026/04/ativ.jpg
END:VEVENT
BEGIN:VEVENT
DTSTART;TZID=America/Sao_Paulo:20270105T121500
DTEND;TZID=America/Sao_Paulo:20270105T131500
DTSTAMP:20260425T142540
CREATED:20260413T194345Z
LAST-MODIFIED:20260413T194345Z
UID:10001194-1799151300-1799154900@lecanton.com.br
SUMMARY:Atividades Recreativas
DESCRIPTION:Diversão e descontração em um ambiente refrescante! As atividades recreativas na piscina são ideais para quem quer se movimentar\, interagir e aproveitar momentos leves com música\, jogos e dinâmicas aquáticas. Exclusivo para adultos acima de 18 anos.O evento pode sofrer alterações de data\, local ou cancelamento sem aviso prévio.
URL:https://lecanton.com.br/evento/atividades-recreativas-26/2027-01-05/
LOCATION:Parque Aquático
CATEGORIES:Adultos acima de 18 anos
ATTACH;FMTTYPE=image/jpeg:https://lecanton.com.br/wp-content/uploads/2026/04/ativ.jpg
END:VEVENT
BEGIN:VEVENT
DTSTART;TZID=America/Sao_Paulo:20270106T121500
DTEND;TZID=America/Sao_Paulo:20270106T124500
DTSTAMP:20260425T142540
CREATED:20260414T193014Z
LAST-MODIFIED:20260414T193014Z
UID:10005302-1799237700-1799239500@lecanton.com.br
SUMMARY:Hidroginástica
DESCRIPTION:Uma atividade leve e revitalizante realizada na água\, ideal para quem busca bem-estar\, movimento e baixo impacto nas articulações. A hidroginástica combina exercícios físicos com diversão\, promovendo saúde e disposição. Exclusivo para adultos maiores de 18 anos.O evento pode sofrer alterações de data\, local ou cancelamento sem aviso prévio.
URL:https://lecanton.com.br/evento/hidroginastica/2027-01-06/
LOCATION:Parque Aquático
CATEGORIES:Adultos acima de 18 anos
ATTACH;FMTTYPE=image/jpeg:https://lecanton.com.br/wp-content/uploads/2026/04/ativ.jpg
END:VEVENT
BEGIN:VEVENT
DTSTART;TZID=America/Sao_Paulo:20270107T121500
DTEND;TZID=America/Sao_Paulo:20270107T124500
DTSTAMP:20260425T142540
CREATED:20260414T193014Z
LAST-MODIFIED:20260414T193014Z
UID:10005303-1799324100-1799325900@lecanton.com.br
SUMMARY:Hidroginástica
DESCRIPTION:Uma atividade leve e revitalizante realizada na água\, ideal para quem busca bem-estar\, movimento e baixo impacto nas articulações. A hidroginástica combina exercícios físicos com diversão\, promovendo saúde e disposição. Exclusivo para adultos maiores de 18 anos.O evento pode sofrer alterações de data\, local ou cancelamento sem aviso prévio.
URL:https://lecanton.com.br/evento/hidroginastica/2027-01-07/
LOCATION:Parque Aquático
CATEGORIES:Adultos acima de 18 anos
ATTACH;FMTTYPE=image/jpeg:https://lecanton.com.br/wp-content/uploads/2026/04/ativ.jpg
END:VEVENT
BEGIN:VEVENT
DTSTART;TZID=America/Sao_Paulo:20270108T121500
DTEND;TZID=America/Sao_Paulo:20270108T124500
DTSTAMP:20260425T142540
CREATED:20260414T193014Z
LAST-MODIFIED:20260414T193014Z
UID:10005304-1799410500-1799412300@lecanton.com.br
SUMMARY:Hidroginástica
DESCRIPTION:Uma atividade leve e revitalizante realizada na água\, ideal para quem busca bem-estar\, movimento e baixo impacto nas articulações. A hidroginástica combina exercícios físicos com diversão\, promovendo saúde e disposição. Exclusivo para adultos maiores de 18 anos.O evento pode sofrer alterações de data\, local ou cancelamento sem aviso prévio.
URL:https://lecanton.com.br/evento/hidroginastica/2027-01-08/
LOCATION:Parque Aquático
CATEGORIES:Adultos acima de 18 anos
ATTACH;FMTTYPE=image/jpeg:https://lecanton.com.br/wp-content/uploads/2026/04/ativ.jpg
END:VEVENT
END:VCALENDAR