BEGIN:VCALENDAR
VERSION:2.0
PRODID:-//Le Canton | O melhor Resort da Serra - ECPv6.15.17.1//NONSGML v1.0//EN
CALSCALE:GREGORIAN
METHOD:PUBLISH
X-WR-CALNAME:Le Canton | O melhor Resort da Serra
X-ORIGINAL-URL:https://lecanton.com.br
X-WR-CALDESC:Eventos para Le Canton | O melhor Resort da Serra
REFRESH-INTERVAL;VALUE=DURATION:PT1H
X-Robots-Tag:noindex
X-PUBLISHED-TTL:PT1H
BEGIN:VTIMEZONE
TZID:America/Sao_Paulo
BEGIN:STANDARD
TZOFFSETFROM:-0300
TZOFFSETTO:-0300
TZNAME:-03
DTSTART:20250101T000000
END:STANDARD
END:VTIMEZONE
BEGIN:VEVENT
DTSTART;TZID=America/Sao_Paulo:20261113T121500
DTEND;TZID=America/Sao_Paulo:20261113T124500
DTSTAMP:20260422T200017
CREATED:20260414T193014Z
LAST-MODIFIED:20260414T193014Z
UID:10005256-1794572100-1794573900@lecanton.com.br
SUMMARY:Hidroginástica
DESCRIPTION:Uma atividade leve e revitalizante realizada na água\, ideal para quem busca bem-estar\, movimento e baixo impacto nas articulações. A hidroginástica combina exercícios físicos com diversão\, promovendo saúde e disposição. Exclusivo para adultos maiores de 18 anos.O evento pode sofrer alterações de data\, local ou cancelamento sem aviso prévio.
URL:https://lecanton.com.br/evento/hidroginastica/2026-11-13/
LOCATION:Parque Aquático
CATEGORIES:Adultos acima de 18 anos
ATTACH;FMTTYPE=image/jpeg:https://lecanton.com.br/wp-content/uploads/2026/04/ativ.jpg
END:VEVENT
BEGIN:VEVENT
DTSTART;TZID=America/Sao_Paulo:20261114T121500
DTEND;TZID=America/Sao_Paulo:20261114T124500
DTSTAMP:20260422T200017
CREATED:20260414T193014Z
LAST-MODIFIED:20260414T193014Z
UID:10005257-1794658500-1794660300@lecanton.com.br
SUMMARY:Hidroginástica
DESCRIPTION:Uma atividade leve e revitalizante realizada na água\, ideal para quem busca bem-estar\, movimento e baixo impacto nas articulações. A hidroginástica combina exercícios físicos com diversão\, promovendo saúde e disposição. Exclusivo para adultos maiores de 18 anos.O evento pode sofrer alterações de data\, local ou cancelamento sem aviso prévio.
URL:https://lecanton.com.br/evento/hidroginastica/2026-11-14/
LOCATION:Parque Aquático
CATEGORIES:Adultos acima de 18 anos
ATTACH;FMTTYPE=image/jpeg:https://lecanton.com.br/wp-content/uploads/2026/04/ativ.jpg
END:VEVENT
BEGIN:VEVENT
DTSTART;TZID=America/Sao_Paulo:20261115T121500
DTEND;TZID=America/Sao_Paulo:20261115T124500
DTSTAMP:20260422T200017
CREATED:20260414T193014Z
LAST-MODIFIED:20260414T193014Z
UID:10005258-1794744900-1794746700@lecanton.com.br
SUMMARY:Hidroginástica
DESCRIPTION:Uma atividade leve e revitalizante realizada na água\, ideal para quem busca bem-estar\, movimento e baixo impacto nas articulações. A hidroginástica combina exercícios físicos com diversão\, promovendo saúde e disposição. Exclusivo para adultos maiores de 18 anos.O evento pode sofrer alterações de data\, local ou cancelamento sem aviso prévio.
URL:https://lecanton.com.br/evento/hidroginastica/2026-11-15/
LOCATION:Parque Aquático
CATEGORIES:Adultos acima de 18 anos
ATTACH;FMTTYPE=image/jpeg:https://lecanton.com.br/wp-content/uploads/2026/04/ativ.jpg
END:VEVENT
BEGIN:VEVENT
DTSTART;TZID=America/Sao_Paulo:20261116T121500
DTEND;TZID=America/Sao_Paulo:20261116T124500
DTSTAMP:20260422T200017
CREATED:20260414T193014Z
LAST-MODIFIED:20260414T193014Z
UID:10005259-1794831300-1794833100@lecanton.com.br
SUMMARY:Hidroginástica
DESCRIPTION:Uma atividade leve e revitalizante realizada na água\, ideal para quem busca bem-estar\, movimento e baixo impacto nas articulações. A hidroginástica combina exercícios físicos com diversão\, promovendo saúde e disposição. Exclusivo para adultos maiores de 18 anos.O evento pode sofrer alterações de data\, local ou cancelamento sem aviso prévio.
URL:https://lecanton.com.br/evento/hidroginastica/2026-11-16/
LOCATION:Parque Aquático
CATEGORIES:Adultos acima de 18 anos
ATTACH;FMTTYPE=image/jpeg:https://lecanton.com.br/wp-content/uploads/2026/04/ativ.jpg
END:VEVENT
BEGIN:VEVENT
DTSTART;TZID=America/Sao_Paulo:20261117T121500
DTEND;TZID=America/Sao_Paulo:20261117T131500
DTSTAMP:20260422T200017
CREATED:20260413T194345Z
LAST-MODIFIED:20260413T194345Z
UID:10001187-1794917700-1794921300@lecanton.com.br
SUMMARY:Atividades Recreativas
DESCRIPTION:Diversão e descontração em um ambiente refrescante! As atividades recreativas na piscina são ideais para quem quer se movimentar\, interagir e aproveitar momentos leves com música\, jogos e dinâmicas aquáticas. Exclusivo para adultos acima de 18 anos.O evento pode sofrer alterações de data\, local ou cancelamento sem aviso prévio.
URL:https://lecanton.com.br/evento/atividades-recreativas-26/2026-11-17/
LOCATION:Parque Aquático
CATEGORIES:Adultos acima de 18 anos
ATTACH;FMTTYPE=image/jpeg:https://lecanton.com.br/wp-content/uploads/2026/04/ativ.jpg
END:VEVENT
BEGIN:VEVENT
DTSTART;TZID=America/Sao_Paulo:20261118T121500
DTEND;TZID=America/Sao_Paulo:20261118T124500
DTSTAMP:20260422T200017
CREATED:20260414T193014Z
LAST-MODIFIED:20260414T193014Z
UID:10005260-1795004100-1795005900@lecanton.com.br
SUMMARY:Hidroginástica
DESCRIPTION:Uma atividade leve e revitalizante realizada na água\, ideal para quem busca bem-estar\, movimento e baixo impacto nas articulações. A hidroginástica combina exercícios físicos com diversão\, promovendo saúde e disposição. Exclusivo para adultos maiores de 18 anos.O evento pode sofrer alterações de data\, local ou cancelamento sem aviso prévio.
URL:https://lecanton.com.br/evento/hidroginastica/2026-11-18/
LOCATION:Parque Aquático
CATEGORIES:Adultos acima de 18 anos
ATTACH;FMTTYPE=image/jpeg:https://lecanton.com.br/wp-content/uploads/2026/04/ativ.jpg
END:VEVENT
BEGIN:VEVENT
DTSTART;TZID=America/Sao_Paulo:20261119T121500
DTEND;TZID=America/Sao_Paulo:20261119T124500
DTSTAMP:20260422T200017
CREATED:20260414T193014Z
LAST-MODIFIED:20260414T193014Z
UID:10005261-1795090500-1795092300@lecanton.com.br
SUMMARY:Hidroginástica
DESCRIPTION:Uma atividade leve e revitalizante realizada na água\, ideal para quem busca bem-estar\, movimento e baixo impacto nas articulações. A hidroginástica combina exercícios físicos com diversão\, promovendo saúde e disposição. Exclusivo para adultos maiores de 18 anos.O evento pode sofrer alterações de data\, local ou cancelamento sem aviso prévio.
URL:https://lecanton.com.br/evento/hidroginastica/2026-11-19/
LOCATION:Parque Aquático
CATEGORIES:Adultos acima de 18 anos
ATTACH;FMTTYPE=image/jpeg:https://lecanton.com.br/wp-content/uploads/2026/04/ativ.jpg
END:VEVENT
BEGIN:VEVENT
DTSTART;TZID=America/Sao_Paulo:20261120T121500
DTEND;TZID=America/Sao_Paulo:20261120T124500
DTSTAMP:20260422T200017
CREATED:20260414T193014Z
LAST-MODIFIED:20260414T193014Z
UID:10005262-1795176900-1795178700@lecanton.com.br
SUMMARY:Hidroginástica
DESCRIPTION:Uma atividade leve e revitalizante realizada na água\, ideal para quem busca bem-estar\, movimento e baixo impacto nas articulações. A hidroginástica combina exercícios físicos com diversão\, promovendo saúde e disposição. Exclusivo para adultos maiores de 18 anos.O evento pode sofrer alterações de data\, local ou cancelamento sem aviso prévio.
URL:https://lecanton.com.br/evento/hidroginastica/2026-11-20/
LOCATION:Parque Aquático
CATEGORIES:Adultos acima de 18 anos
ATTACH;FMTTYPE=image/jpeg:https://lecanton.com.br/wp-content/uploads/2026/04/ativ.jpg
END:VEVENT
BEGIN:VEVENT
DTSTART;TZID=America/Sao_Paulo:20261121T121500
DTEND;TZID=America/Sao_Paulo:20261121T124500
DTSTAMP:20260422T200017
CREATED:20260414T193014Z
LAST-MODIFIED:20260414T193014Z
UID:10005263-1795263300-1795265100@lecanton.com.br
SUMMARY:Hidroginástica
DESCRIPTION:Uma atividade leve e revitalizante realizada na água\, ideal para quem busca bem-estar\, movimento e baixo impacto nas articulações. A hidroginástica combina exercícios físicos com diversão\, promovendo saúde e disposição. Exclusivo para adultos maiores de 18 anos.O evento pode sofrer alterações de data\, local ou cancelamento sem aviso prévio.
URL:https://lecanton.com.br/evento/hidroginastica/2026-11-21/
LOCATION:Parque Aquático
CATEGORIES:Adultos acima de 18 anos
ATTACH;FMTTYPE=image/jpeg:https://lecanton.com.br/wp-content/uploads/2026/04/ativ.jpg
END:VEVENT
BEGIN:VEVENT
DTSTART;TZID=America/Sao_Paulo:20261122T121500
DTEND;TZID=America/Sao_Paulo:20261122T124500
DTSTAMP:20260422T200018
CREATED:20260414T193014Z
LAST-MODIFIED:20260414T193014Z
UID:10005264-1795349700-1795351500@lecanton.com.br
SUMMARY:Hidroginástica
DESCRIPTION:Uma atividade leve e revitalizante realizada na água\, ideal para quem busca bem-estar\, movimento e baixo impacto nas articulações. A hidroginástica combina exercícios físicos com diversão\, promovendo saúde e disposição. Exclusivo para adultos maiores de 18 anos.O evento pode sofrer alterações de data\, local ou cancelamento sem aviso prévio.
URL:https://lecanton.com.br/evento/hidroginastica/2026-11-22/
LOCATION:Parque Aquático
CATEGORIES:Adultos acima de 18 anos
ATTACH;FMTTYPE=image/jpeg:https://lecanton.com.br/wp-content/uploads/2026/04/ativ.jpg
END:VEVENT
BEGIN:VEVENT
DTSTART;TZID=America/Sao_Paulo:20261123T121500
DTEND;TZID=America/Sao_Paulo:20261123T124500
DTSTAMP:20260422T200018
CREATED:20260414T193014Z
LAST-MODIFIED:20260414T193014Z
UID:10005265-1795436100-1795437900@lecanton.com.br
SUMMARY:Hidroginástica
DESCRIPTION:Uma atividade leve e revitalizante realizada na água\, ideal para quem busca bem-estar\, movimento e baixo impacto nas articulações. A hidroginástica combina exercícios físicos com diversão\, promovendo saúde e disposição. Exclusivo para adultos maiores de 18 anos.O evento pode sofrer alterações de data\, local ou cancelamento sem aviso prévio.
URL:https://lecanton.com.br/evento/hidroginastica/2026-11-23/
LOCATION:Parque Aquático
CATEGORIES:Adultos acima de 18 anos
ATTACH;FMTTYPE=image/jpeg:https://lecanton.com.br/wp-content/uploads/2026/04/ativ.jpg
END:VEVENT
BEGIN:VEVENT
DTSTART;TZID=America/Sao_Paulo:20261124T121500
DTEND;TZID=America/Sao_Paulo:20261124T131500
DTSTAMP:20260422T200018
CREATED:20260413T194345Z
LAST-MODIFIED:20260413T194345Z
UID:10001188-1795522500-1795526100@lecanton.com.br
SUMMARY:Atividades Recreativas
DESCRIPTION:Diversão e descontração em um ambiente refrescante! As atividades recreativas na piscina são ideais para quem quer se movimentar\, interagir e aproveitar momentos leves com música\, jogos e dinâmicas aquáticas. Exclusivo para adultos acima de 18 anos.O evento pode sofrer alterações de data\, local ou cancelamento sem aviso prévio.
URL:https://lecanton.com.br/evento/atividades-recreativas-26/2026-11-24/
LOCATION:Parque Aquático
CATEGORIES:Adultos acima de 18 anos
ATTACH;FMTTYPE=image/jpeg:https://lecanton.com.br/wp-content/uploads/2026/04/ativ.jpg
END:VEVENT
BEGIN:VEVENT
DTSTART;TZID=America/Sao_Paulo:20261125T121500
DTEND;TZID=America/Sao_Paulo:20261125T124500
DTSTAMP:20260422T200018
CREATED:20260414T193014Z
LAST-MODIFIED:20260414T193014Z
UID:10005266-1795608900-1795610700@lecanton.com.br
SUMMARY:Hidroginástica
DESCRIPTION:Uma atividade leve e revitalizante realizada na água\, ideal para quem busca bem-estar\, movimento e baixo impacto nas articulações. A hidroginástica combina exercícios físicos com diversão\, promovendo saúde e disposição. Exclusivo para adultos maiores de 18 anos.O evento pode sofrer alterações de data\, local ou cancelamento sem aviso prévio.
URL:https://lecanton.com.br/evento/hidroginastica/2026-11-25/
LOCATION:Parque Aquático
CATEGORIES:Adultos acima de 18 anos
ATTACH;FMTTYPE=image/jpeg:https://lecanton.com.br/wp-content/uploads/2026/04/ativ.jpg
END:VEVENT
BEGIN:VEVENT
DTSTART;TZID=America/Sao_Paulo:20261126T121500
DTEND;TZID=America/Sao_Paulo:20261126T124500
DTSTAMP:20260422T200018
CREATED:20260414T193014Z
LAST-MODIFIED:20260414T193014Z
UID:10005267-1795695300-1795697100@lecanton.com.br
SUMMARY:Hidroginástica
DESCRIPTION:Uma atividade leve e revitalizante realizada na água\, ideal para quem busca bem-estar\, movimento e baixo impacto nas articulações. A hidroginástica combina exercícios físicos com diversão\, promovendo saúde e disposição. Exclusivo para adultos maiores de 18 anos.O evento pode sofrer alterações de data\, local ou cancelamento sem aviso prévio.
URL:https://lecanton.com.br/evento/hidroginastica/2026-11-26/
LOCATION:Parque Aquático
CATEGORIES:Adultos acima de 18 anos
ATTACH;FMTTYPE=image/jpeg:https://lecanton.com.br/wp-content/uploads/2026/04/ativ.jpg
END:VEVENT
BEGIN:VEVENT
DTSTART;TZID=America/Sao_Paulo:20261127T121500
DTEND;TZID=America/Sao_Paulo:20261127T124500
DTSTAMP:20260422T200018
CREATED:20260414T193014Z
LAST-MODIFIED:20260414T193014Z
UID:10005268-1795781700-1795783500@lecanton.com.br
SUMMARY:Hidroginástica
DESCRIPTION:Uma atividade leve e revitalizante realizada na água\, ideal para quem busca bem-estar\, movimento e baixo impacto nas articulações. A hidroginástica combina exercícios físicos com diversão\, promovendo saúde e disposição. Exclusivo para adultos maiores de 18 anos.O evento pode sofrer alterações de data\, local ou cancelamento sem aviso prévio.
URL:https://lecanton.com.br/evento/hidroginastica/2026-11-27/
LOCATION:Parque Aquático
CATEGORIES:Adultos acima de 18 anos
ATTACH;FMTTYPE=image/jpeg:https://lecanton.com.br/wp-content/uploads/2026/04/ativ.jpg
END:VEVENT
BEGIN:VEVENT
DTSTART;TZID=America/Sao_Paulo:20261128T121500
DTEND;TZID=America/Sao_Paulo:20261128T124500
DTSTAMP:20260422T200018
CREATED:20260414T193014Z
LAST-MODIFIED:20260414T193014Z
UID:10005269-1795868100-1795869900@lecanton.com.br
SUMMARY:Hidroginástica
DESCRIPTION:Uma atividade leve e revitalizante realizada na água\, ideal para quem busca bem-estar\, movimento e baixo impacto nas articulações. A hidroginástica combina exercícios físicos com diversão\, promovendo saúde e disposição. Exclusivo para adultos maiores de 18 anos.O evento pode sofrer alterações de data\, local ou cancelamento sem aviso prévio.
URL:https://lecanton.com.br/evento/hidroginastica/2026-11-28/
LOCATION:Parque Aquático
CATEGORIES:Adultos acima de 18 anos
ATTACH;FMTTYPE=image/jpeg:https://lecanton.com.br/wp-content/uploads/2026/04/ativ.jpg
END:VEVENT
BEGIN:VEVENT
DTSTART;TZID=America/Sao_Paulo:20261129T121500
DTEND;TZID=America/Sao_Paulo:20261129T124500
DTSTAMP:20260422T200018
CREATED:20260414T193014Z
LAST-MODIFIED:20260414T193014Z
UID:10005270-1795954500-1795956300@lecanton.com.br
SUMMARY:Hidroginástica
DESCRIPTION:Uma atividade leve e revitalizante realizada na água\, ideal para quem busca bem-estar\, movimento e baixo impacto nas articulações. A hidroginástica combina exercícios físicos com diversão\, promovendo saúde e disposição. Exclusivo para adultos maiores de 18 anos.O evento pode sofrer alterações de data\, local ou cancelamento sem aviso prévio.
URL:https://lecanton.com.br/evento/hidroginastica/2026-11-29/
LOCATION:Parque Aquático
CATEGORIES:Adultos acima de 18 anos
ATTACH;FMTTYPE=image/jpeg:https://lecanton.com.br/wp-content/uploads/2026/04/ativ.jpg
END:VEVENT
BEGIN:VEVENT
DTSTART;TZID=America/Sao_Paulo:20261130T121500
DTEND;TZID=America/Sao_Paulo:20261130T124500
DTSTAMP:20260422T200018
CREATED:20260414T193014Z
LAST-MODIFIED:20260414T193014Z
UID:10005271-1796040900-1796042700@lecanton.com.br
SUMMARY:Hidroginástica
DESCRIPTION:Uma atividade leve e revitalizante realizada na água\, ideal para quem busca bem-estar\, movimento e baixo impacto nas articulações. A hidroginástica combina exercícios físicos com diversão\, promovendo saúde e disposição. Exclusivo para adultos maiores de 18 anos.O evento pode sofrer alterações de data\, local ou cancelamento sem aviso prévio.
URL:https://lecanton.com.br/evento/hidroginastica/2026-11-30/
LOCATION:Parque Aquático
CATEGORIES:Adultos acima de 18 anos
ATTACH;FMTTYPE=image/jpeg:https://lecanton.com.br/wp-content/uploads/2026/04/ativ.jpg
END:VEVENT
BEGIN:VEVENT
DTSTART;TZID=America/Sao_Paulo:20261201T121500
DTEND;TZID=America/Sao_Paulo:20261201T131500
DTSTAMP:20260422T200018
CREATED:20260413T194345Z
LAST-MODIFIED:20260413T194345Z
UID:10001189-1796127300-1796130900@lecanton.com.br
SUMMARY:Atividades Recreativas
DESCRIPTION:Diversão e descontração em um ambiente refrescante! As atividades recreativas na piscina são ideais para quem quer se movimentar\, interagir e aproveitar momentos leves com música\, jogos e dinâmicas aquáticas. Exclusivo para adultos acima de 18 anos.O evento pode sofrer alterações de data\, local ou cancelamento sem aviso prévio.
URL:https://lecanton.com.br/evento/atividades-recreativas-26/2026-12-01/
LOCATION:Parque Aquático
CATEGORIES:Adultos acima de 18 anos
ATTACH;FMTTYPE=image/jpeg:https://lecanton.com.br/wp-content/uploads/2026/04/ativ.jpg
END:VEVENT
BEGIN:VEVENT
DTSTART;TZID=America/Sao_Paulo:20261202T121500
DTEND;TZID=America/Sao_Paulo:20261202T124500
DTSTAMP:20260422T200018
CREATED:20260414T193014Z
LAST-MODIFIED:20260414T193014Z
UID:10005272-1796213700-1796215500@lecanton.com.br
SUMMARY:Hidroginástica
DESCRIPTION:Uma atividade leve e revitalizante realizada na água\, ideal para quem busca bem-estar\, movimento e baixo impacto nas articulações. A hidroginástica combina exercícios físicos com diversão\, promovendo saúde e disposição. Exclusivo para adultos maiores de 18 anos.O evento pode sofrer alterações de data\, local ou cancelamento sem aviso prévio.
URL:https://lecanton.com.br/evento/hidroginastica/2026-12-02/
LOCATION:Parque Aquático
CATEGORIES:Adultos acima de 18 anos
ATTACH;FMTTYPE=image/jpeg:https://lecanton.com.br/wp-content/uploads/2026/04/ativ.jpg
END:VEVENT
BEGIN:VEVENT
DTSTART;TZID=America/Sao_Paulo:20261203T121500
DTEND;TZID=America/Sao_Paulo:20261203T124500
DTSTAMP:20260422T200018
CREATED:20260414T193014Z
LAST-MODIFIED:20260414T193014Z
UID:10005273-1796300100-1796301900@lecanton.com.br
SUMMARY:Hidroginástica
DESCRIPTION:Uma atividade leve e revitalizante realizada na água\, ideal para quem busca bem-estar\, movimento e baixo impacto nas articulações. A hidroginástica combina exercícios físicos com diversão\, promovendo saúde e disposição. Exclusivo para adultos maiores de 18 anos.O evento pode sofrer alterações de data\, local ou cancelamento sem aviso prévio.
URL:https://lecanton.com.br/evento/hidroginastica/2026-12-03/
LOCATION:Parque Aquático
CATEGORIES:Adultos acima de 18 anos
ATTACH;FMTTYPE=image/jpeg:https://lecanton.com.br/wp-content/uploads/2026/04/ativ.jpg
END:VEVENT
BEGIN:VEVENT
DTSTART;TZID=America/Sao_Paulo:20261204T121500
DTEND;TZID=America/Sao_Paulo:20261204T124500
DTSTAMP:20260422T200018
CREATED:20260414T193014Z
LAST-MODIFIED:20260414T193014Z
UID:10005274-1796386500-1796388300@lecanton.com.br
SUMMARY:Hidroginástica
DESCRIPTION:Uma atividade leve e revitalizante realizada na água\, ideal para quem busca bem-estar\, movimento e baixo impacto nas articulações. A hidroginástica combina exercícios físicos com diversão\, promovendo saúde e disposição. Exclusivo para adultos maiores de 18 anos.O evento pode sofrer alterações de data\, local ou cancelamento sem aviso prévio.
URL:https://lecanton.com.br/evento/hidroginastica/2026-12-04/
LOCATION:Parque Aquático
CATEGORIES:Adultos acima de 18 anos
ATTACH;FMTTYPE=image/jpeg:https://lecanton.com.br/wp-content/uploads/2026/04/ativ.jpg
END:VEVENT
BEGIN:VEVENT
DTSTART;TZID=America/Sao_Paulo:20261205T121500
DTEND;TZID=America/Sao_Paulo:20261205T124500
DTSTAMP:20260422T200018
CREATED:20260414T193014Z
LAST-MODIFIED:20260414T193014Z
UID:10005275-1796472900-1796474700@lecanton.com.br
SUMMARY:Hidroginástica
DESCRIPTION:Uma atividade leve e revitalizante realizada na água\, ideal para quem busca bem-estar\, movimento e baixo impacto nas articulações. A hidroginástica combina exercícios físicos com diversão\, promovendo saúde e disposição. Exclusivo para adultos maiores de 18 anos.O evento pode sofrer alterações de data\, local ou cancelamento sem aviso prévio.
URL:https://lecanton.com.br/evento/hidroginastica/2026-12-05/
LOCATION:Parque Aquático
CATEGORIES:Adultos acima de 18 anos
ATTACH;FMTTYPE=image/jpeg:https://lecanton.com.br/wp-content/uploads/2026/04/ativ.jpg
END:VEVENT
BEGIN:VEVENT
DTSTART;TZID=America/Sao_Paulo:20261206T121500
DTEND;TZID=America/Sao_Paulo:20261206T124500
DTSTAMP:20260422T200018
CREATED:20260414T193014Z
LAST-MODIFIED:20260414T193014Z
UID:10005276-1796559300-1796561100@lecanton.com.br
SUMMARY:Hidroginástica
DESCRIPTION:Uma atividade leve e revitalizante realizada na água\, ideal para quem busca bem-estar\, movimento e baixo impacto nas articulações. A hidroginástica combina exercícios físicos com diversão\, promovendo saúde e disposição. Exclusivo para adultos maiores de 18 anos.O evento pode sofrer alterações de data\, local ou cancelamento sem aviso prévio.
URL:https://lecanton.com.br/evento/hidroginastica/2026-12-06/
LOCATION:Parque Aquático
CATEGORIES:Adultos acima de 18 anos
ATTACH;FMTTYPE=image/jpeg:https://lecanton.com.br/wp-content/uploads/2026/04/ativ.jpg
END:VEVENT
BEGIN:VEVENT
DTSTART;TZID=America/Sao_Paulo:20261207T121500
DTEND;TZID=America/Sao_Paulo:20261207T124500
DTSTAMP:20260422T200018
CREATED:20260414T193014Z
LAST-MODIFIED:20260414T193014Z
UID:10005277-1796645700-1796647500@lecanton.com.br
SUMMARY:Hidroginástica
DESCRIPTION:Uma atividade leve e revitalizante realizada na água\, ideal para quem busca bem-estar\, movimento e baixo impacto nas articulações. A hidroginástica combina exercícios físicos com diversão\, promovendo saúde e disposição. Exclusivo para adultos maiores de 18 anos.O evento pode sofrer alterações de data\, local ou cancelamento sem aviso prévio.
URL:https://lecanton.com.br/evento/hidroginastica/2026-12-07/
LOCATION:Parque Aquático
CATEGORIES:Adultos acima de 18 anos
ATTACH;FMTTYPE=image/jpeg:https://lecanton.com.br/wp-content/uploads/2026/04/ativ.jpg
END:VEVENT
BEGIN:VEVENT
DTSTART;TZID=America/Sao_Paulo:20261208T121500
DTEND;TZID=America/Sao_Paulo:20261208T131500
DTSTAMP:20260422T200018
CREATED:20260413T194345Z
LAST-MODIFIED:20260413T194345Z
UID:10001190-1796732100-1796735700@lecanton.com.br
SUMMARY:Atividades Recreativas
DESCRIPTION:Diversão e descontração em um ambiente refrescante! As atividades recreativas na piscina são ideais para quem quer se movimentar\, interagir e aproveitar momentos leves com música\, jogos e dinâmicas aquáticas. Exclusivo para adultos acima de 18 anos.O evento pode sofrer alterações de data\, local ou cancelamento sem aviso prévio.
URL:https://lecanton.com.br/evento/atividades-recreativas-26/2026-12-08/
LOCATION:Parque Aquático
CATEGORIES:Adultos acima de 18 anos
ATTACH;FMTTYPE=image/jpeg:https://lecanton.com.br/wp-content/uploads/2026/04/ativ.jpg
END:VEVENT
BEGIN:VEVENT
DTSTART;TZID=America/Sao_Paulo:20261209T121500
DTEND;TZID=America/Sao_Paulo:20261209T124500
DTSTAMP:20260422T200018
CREATED:20260414T193014Z
LAST-MODIFIED:20260414T193014Z
UID:10005278-1796818500-1796820300@lecanton.com.br
SUMMARY:Hidroginástica
DESCRIPTION:Uma atividade leve e revitalizante realizada na água\, ideal para quem busca bem-estar\, movimento e baixo impacto nas articulações. A hidroginástica combina exercícios físicos com diversão\, promovendo saúde e disposição. Exclusivo para adultos maiores de 18 anos.O evento pode sofrer alterações de data\, local ou cancelamento sem aviso prévio.
URL:https://lecanton.com.br/evento/hidroginastica/2026-12-09/
LOCATION:Parque Aquático
CATEGORIES:Adultos acima de 18 anos
ATTACH;FMTTYPE=image/jpeg:https://lecanton.com.br/wp-content/uploads/2026/04/ativ.jpg
END:VEVENT
BEGIN:VEVENT
DTSTART;TZID=America/Sao_Paulo:20261210T121500
DTEND;TZID=America/Sao_Paulo:20261210T124500
DTSTAMP:20260422T200018
CREATED:20260414T193014Z
LAST-MODIFIED:20260414T193014Z
UID:10005279-1796904900-1796906700@lecanton.com.br
SUMMARY:Hidroginástica
DESCRIPTION:Uma atividade leve e revitalizante realizada na água\, ideal para quem busca bem-estar\, movimento e baixo impacto nas articulações. A hidroginástica combina exercícios físicos com diversão\, promovendo saúde e disposição. Exclusivo para adultos maiores de 18 anos.O evento pode sofrer alterações de data\, local ou cancelamento sem aviso prévio.
URL:https://lecanton.com.br/evento/hidroginastica/2026-12-10/
LOCATION:Parque Aquático
CATEGORIES:Adultos acima de 18 anos
ATTACH;FMTTYPE=image/jpeg:https://lecanton.com.br/wp-content/uploads/2026/04/ativ.jpg
END:VEVENT
BEGIN:VEVENT
DTSTART;TZID=America/Sao_Paulo:20261211T121500
DTEND;TZID=America/Sao_Paulo:20261211T124500
DTSTAMP:20260422T200018
CREATED:20260414T193014Z
LAST-MODIFIED:20260414T193014Z
UID:10005280-1796991300-1796993100@lecanton.com.br
SUMMARY:Hidroginástica
DESCRIPTION:Uma atividade leve e revitalizante realizada na água\, ideal para quem busca bem-estar\, movimento e baixo impacto nas articulações. A hidroginástica combina exercícios físicos com diversão\, promovendo saúde e disposição. Exclusivo para adultos maiores de 18 anos.O evento pode sofrer alterações de data\, local ou cancelamento sem aviso prévio.
URL:https://lecanton.com.br/evento/hidroginastica/2026-12-11/
LOCATION:Parque Aquático
CATEGORIES:Adultos acima de 18 anos
ATTACH;FMTTYPE=image/jpeg:https://lecanton.com.br/wp-content/uploads/2026/04/ativ.jpg
END:VEVENT
BEGIN:VEVENT
DTSTART;TZID=America/Sao_Paulo:20261212T121500
DTEND;TZID=America/Sao_Paulo:20261212T124500
DTSTAMP:20260422T200018
CREATED:20260414T193014Z
LAST-MODIFIED:20260414T193014Z
UID:10005281-1797077700-1797079500@lecanton.com.br
SUMMARY:Hidroginástica
DESCRIPTION:Uma atividade leve e revitalizante realizada na água\, ideal para quem busca bem-estar\, movimento e baixo impacto nas articulações. A hidroginástica combina exercícios físicos com diversão\, promovendo saúde e disposição. Exclusivo para adultos maiores de 18 anos.O evento pode sofrer alterações de data\, local ou cancelamento sem aviso prévio.
URL:https://lecanton.com.br/evento/hidroginastica/2026-12-12/
LOCATION:Parque Aquático
CATEGORIES:Adultos acima de 18 anos
ATTACH;FMTTYPE=image/jpeg:https://lecanton.com.br/wp-content/uploads/2026/04/ativ.jpg
END:VEVENT
END:VCALENDAR