BEGIN:VCALENDAR
VERSION:2.0
PRODID:-//Le Canton | O melhor Resort da Serra - ECPv6.15.17.1//NONSGML v1.0//EN
CALSCALE:GREGORIAN
METHOD:PUBLISH
X-WR-CALNAME:Le Canton | O melhor Resort da Serra
X-ORIGINAL-URL:https://lecanton.com.br
X-WR-CALDESC:Eventos para Le Canton | O melhor Resort da Serra
REFRESH-INTERVAL;VALUE=DURATION:PT1H
X-Robots-Tag:noindex
X-PUBLISHED-TTL:PT1H
BEGIN:VTIMEZONE
TZID:America/Sao_Paulo
BEGIN:STANDARD
TZOFFSETFROM:-0300
TZOFFSETTO:-0300
TZNAME:-03
DTSTART:20250101T000000
END:STANDARD
END:VTIMEZONE
BEGIN:VEVENT
DTSTART;TZID=America/Sao_Paulo:20261007T121500
DTEND;TZID=America/Sao_Paulo:20261007T124500
DTSTAMP:20260422T121026
CREATED:20260414T193014Z
LAST-MODIFIED:20260414T193014Z
UID:10005224-1791375300-1791377100@lecanton.com.br
SUMMARY:Hidroginástica
DESCRIPTION:Uma atividade leve e revitalizante realizada na água\, ideal para quem busca bem-estar\, movimento e baixo impacto nas articulações. A hidroginástica combina exercícios físicos com diversão\, promovendo saúde e disposição. Exclusivo para adultos maiores de 18 anos.O evento pode sofrer alterações de data\, local ou cancelamento sem aviso prévio.
URL:https://lecanton.com.br/evento/hidroginastica/2026-10-07/
LOCATION:Parque Aquático
CATEGORIES:Adultos acima de 18 anos
ATTACH;FMTTYPE=image/jpeg:https://lecanton.com.br/wp-content/uploads/2026/04/ativ.jpg
END:VEVENT
BEGIN:VEVENT
DTSTART;TZID=America/Sao_Paulo:20261008T121500
DTEND;TZID=America/Sao_Paulo:20261008T124500
DTSTAMP:20260422T121026
CREATED:20260414T193014Z
LAST-MODIFIED:20260414T193014Z
UID:10005225-1791461700-1791463500@lecanton.com.br
SUMMARY:Hidroginástica
DESCRIPTION:Uma atividade leve e revitalizante realizada na água\, ideal para quem busca bem-estar\, movimento e baixo impacto nas articulações. A hidroginástica combina exercícios físicos com diversão\, promovendo saúde e disposição. Exclusivo para adultos maiores de 18 anos.O evento pode sofrer alterações de data\, local ou cancelamento sem aviso prévio.
URL:https://lecanton.com.br/evento/hidroginastica/2026-10-08/
LOCATION:Parque Aquático
CATEGORIES:Adultos acima de 18 anos
ATTACH;FMTTYPE=image/jpeg:https://lecanton.com.br/wp-content/uploads/2026/04/ativ.jpg
END:VEVENT
BEGIN:VEVENT
DTSTART;TZID=America/Sao_Paulo:20261009T121500
DTEND;TZID=America/Sao_Paulo:20261009T124500
DTSTAMP:20260422T121026
CREATED:20260414T193014Z
LAST-MODIFIED:20260414T193014Z
UID:10005226-1791548100-1791549900@lecanton.com.br
SUMMARY:Hidroginástica
DESCRIPTION:Uma atividade leve e revitalizante realizada na água\, ideal para quem busca bem-estar\, movimento e baixo impacto nas articulações. A hidroginástica combina exercícios físicos com diversão\, promovendo saúde e disposição. Exclusivo para adultos maiores de 18 anos.O evento pode sofrer alterações de data\, local ou cancelamento sem aviso prévio.
URL:https://lecanton.com.br/evento/hidroginastica/2026-10-09/
LOCATION:Parque Aquático
CATEGORIES:Adultos acima de 18 anos
ATTACH;FMTTYPE=image/jpeg:https://lecanton.com.br/wp-content/uploads/2026/04/ativ.jpg
END:VEVENT
BEGIN:VEVENT
DTSTART;TZID=America/Sao_Paulo:20261010T121500
DTEND;TZID=America/Sao_Paulo:20261010T124500
DTSTAMP:20260422T121026
CREATED:20260414T193014Z
LAST-MODIFIED:20260414T193014Z
UID:10005227-1791634500-1791636300@lecanton.com.br
SUMMARY:Hidroginástica
DESCRIPTION:Uma atividade leve e revitalizante realizada na água\, ideal para quem busca bem-estar\, movimento e baixo impacto nas articulações. A hidroginástica combina exercícios físicos com diversão\, promovendo saúde e disposição. Exclusivo para adultos maiores de 18 anos.O evento pode sofrer alterações de data\, local ou cancelamento sem aviso prévio.
URL:https://lecanton.com.br/evento/hidroginastica/2026-10-10/
LOCATION:Parque Aquático
CATEGORIES:Adultos acima de 18 anos
ATTACH;FMTTYPE=image/jpeg:https://lecanton.com.br/wp-content/uploads/2026/04/ativ.jpg
END:VEVENT
BEGIN:VEVENT
DTSTART;TZID=America/Sao_Paulo:20261011T121500
DTEND;TZID=America/Sao_Paulo:20261011T124500
DTSTAMP:20260422T121026
CREATED:20260414T193014Z
LAST-MODIFIED:20260414T193014Z
UID:10005228-1791720900-1791722700@lecanton.com.br
SUMMARY:Hidroginástica
DESCRIPTION:Uma atividade leve e revitalizante realizada na água\, ideal para quem busca bem-estar\, movimento e baixo impacto nas articulações. A hidroginástica combina exercícios físicos com diversão\, promovendo saúde e disposição. Exclusivo para adultos maiores de 18 anos.O evento pode sofrer alterações de data\, local ou cancelamento sem aviso prévio.
URL:https://lecanton.com.br/evento/hidroginastica/2026-10-11/
LOCATION:Parque Aquático
CATEGORIES:Adultos acima de 18 anos
ATTACH;FMTTYPE=image/jpeg:https://lecanton.com.br/wp-content/uploads/2026/04/ativ.jpg
END:VEVENT
BEGIN:VEVENT
DTSTART;TZID=America/Sao_Paulo:20261012T121500
DTEND;TZID=America/Sao_Paulo:20261012T124500
DTSTAMP:20260422T121026
CREATED:20260414T193014Z
LAST-MODIFIED:20260414T193014Z
UID:10005229-1791807300-1791809100@lecanton.com.br
SUMMARY:Hidroginástica
DESCRIPTION:Uma atividade leve e revitalizante realizada na água\, ideal para quem busca bem-estar\, movimento e baixo impacto nas articulações. A hidroginástica combina exercícios físicos com diversão\, promovendo saúde e disposição. Exclusivo para adultos maiores de 18 anos.O evento pode sofrer alterações de data\, local ou cancelamento sem aviso prévio.
URL:https://lecanton.com.br/evento/hidroginastica/2026-10-12/
LOCATION:Parque Aquático
CATEGORIES:Adultos acima de 18 anos
ATTACH;FMTTYPE=image/jpeg:https://lecanton.com.br/wp-content/uploads/2026/04/ativ.jpg
END:VEVENT
BEGIN:VEVENT
DTSTART;TZID=America/Sao_Paulo:20261013T121500
DTEND;TZID=America/Sao_Paulo:20261013T131500
DTSTAMP:20260422T121026
CREATED:20260413T194345Z
LAST-MODIFIED:20260413T194345Z
UID:10001182-1791893700-1791897300@lecanton.com.br
SUMMARY:Atividades Recreativas
DESCRIPTION:Diversão e descontração em um ambiente refrescante! As atividades recreativas na piscina são ideais para quem quer se movimentar\, interagir e aproveitar momentos leves com música\, jogos e dinâmicas aquáticas. Exclusivo para adultos acima de 18 anos.O evento pode sofrer alterações de data\, local ou cancelamento sem aviso prévio.
URL:https://lecanton.com.br/evento/atividades-recreativas-26/2026-10-13/
LOCATION:Parque Aquático
CATEGORIES:Adultos acima de 18 anos
ATTACH;FMTTYPE=image/jpeg:https://lecanton.com.br/wp-content/uploads/2026/04/ativ.jpg
END:VEVENT
BEGIN:VEVENT
DTSTART;TZID=America/Sao_Paulo:20261014T121500
DTEND;TZID=America/Sao_Paulo:20261014T124500
DTSTAMP:20260422T121026
CREATED:20260414T193014Z
LAST-MODIFIED:20260414T193014Z
UID:10005230-1791980100-1791981900@lecanton.com.br
SUMMARY:Hidroginástica
DESCRIPTION:Uma atividade leve e revitalizante realizada na água\, ideal para quem busca bem-estar\, movimento e baixo impacto nas articulações. A hidroginástica combina exercícios físicos com diversão\, promovendo saúde e disposição. Exclusivo para adultos maiores de 18 anos.O evento pode sofrer alterações de data\, local ou cancelamento sem aviso prévio.
URL:https://lecanton.com.br/evento/hidroginastica/2026-10-14/
LOCATION:Parque Aquático
CATEGORIES:Adultos acima de 18 anos
ATTACH;FMTTYPE=image/jpeg:https://lecanton.com.br/wp-content/uploads/2026/04/ativ.jpg
END:VEVENT
BEGIN:VEVENT
DTSTART;TZID=America/Sao_Paulo:20261015T121500
DTEND;TZID=America/Sao_Paulo:20261015T124500
DTSTAMP:20260422T121026
CREATED:20260414T193014Z
LAST-MODIFIED:20260414T193014Z
UID:10005231-1792066500-1792068300@lecanton.com.br
SUMMARY:Hidroginástica
DESCRIPTION:Uma atividade leve e revitalizante realizada na água\, ideal para quem busca bem-estar\, movimento e baixo impacto nas articulações. A hidroginástica combina exercícios físicos com diversão\, promovendo saúde e disposição. Exclusivo para adultos maiores de 18 anos.O evento pode sofrer alterações de data\, local ou cancelamento sem aviso prévio.
URL:https://lecanton.com.br/evento/hidroginastica/2026-10-15/
LOCATION:Parque Aquático
CATEGORIES:Adultos acima de 18 anos
ATTACH;FMTTYPE=image/jpeg:https://lecanton.com.br/wp-content/uploads/2026/04/ativ.jpg
END:VEVENT
BEGIN:VEVENT
DTSTART;TZID=America/Sao_Paulo:20261016T121500
DTEND;TZID=America/Sao_Paulo:20261016T124500
DTSTAMP:20260422T121026
CREATED:20260414T193014Z
LAST-MODIFIED:20260414T193014Z
UID:10005232-1792152900-1792154700@lecanton.com.br
SUMMARY:Hidroginástica
DESCRIPTION:Uma atividade leve e revitalizante realizada na água\, ideal para quem busca bem-estar\, movimento e baixo impacto nas articulações. A hidroginástica combina exercícios físicos com diversão\, promovendo saúde e disposição. Exclusivo para adultos maiores de 18 anos.O evento pode sofrer alterações de data\, local ou cancelamento sem aviso prévio.
URL:https://lecanton.com.br/evento/hidroginastica/2026-10-16/
LOCATION:Parque Aquático
CATEGORIES:Adultos acima de 18 anos
ATTACH;FMTTYPE=image/jpeg:https://lecanton.com.br/wp-content/uploads/2026/04/ativ.jpg
END:VEVENT
BEGIN:VEVENT
DTSTART;TZID=America/Sao_Paulo:20261017T121500
DTEND;TZID=America/Sao_Paulo:20261017T124500
DTSTAMP:20260422T121026
CREATED:20260414T193014Z
LAST-MODIFIED:20260414T193014Z
UID:10005233-1792239300-1792241100@lecanton.com.br
SUMMARY:Hidroginástica
DESCRIPTION:Uma atividade leve e revitalizante realizada na água\, ideal para quem busca bem-estar\, movimento e baixo impacto nas articulações. A hidroginástica combina exercícios físicos com diversão\, promovendo saúde e disposição. Exclusivo para adultos maiores de 18 anos.O evento pode sofrer alterações de data\, local ou cancelamento sem aviso prévio.
URL:https://lecanton.com.br/evento/hidroginastica/2026-10-17/
LOCATION:Parque Aquático
CATEGORIES:Adultos acima de 18 anos
ATTACH;FMTTYPE=image/jpeg:https://lecanton.com.br/wp-content/uploads/2026/04/ativ.jpg
END:VEVENT
BEGIN:VEVENT
DTSTART;TZID=America/Sao_Paulo:20261018T121500
DTEND;TZID=America/Sao_Paulo:20261018T124500
DTSTAMP:20260422T121026
CREATED:20260414T193014Z
LAST-MODIFIED:20260414T193014Z
UID:10005234-1792325700-1792327500@lecanton.com.br
SUMMARY:Hidroginástica
DESCRIPTION:Uma atividade leve e revitalizante realizada na água\, ideal para quem busca bem-estar\, movimento e baixo impacto nas articulações. A hidroginástica combina exercícios físicos com diversão\, promovendo saúde e disposição. Exclusivo para adultos maiores de 18 anos.O evento pode sofrer alterações de data\, local ou cancelamento sem aviso prévio.
URL:https://lecanton.com.br/evento/hidroginastica/2026-10-18/
LOCATION:Parque Aquático
CATEGORIES:Adultos acima de 18 anos
ATTACH;FMTTYPE=image/jpeg:https://lecanton.com.br/wp-content/uploads/2026/04/ativ.jpg
END:VEVENT
BEGIN:VEVENT
DTSTART;TZID=America/Sao_Paulo:20261019T121500
DTEND;TZID=America/Sao_Paulo:20261019T124500
DTSTAMP:20260422T121027
CREATED:20260414T193014Z
LAST-MODIFIED:20260414T193014Z
UID:10005235-1792412100-1792413900@lecanton.com.br
SUMMARY:Hidroginástica
DESCRIPTION:Uma atividade leve e revitalizante realizada na água\, ideal para quem busca bem-estar\, movimento e baixo impacto nas articulações. A hidroginástica combina exercícios físicos com diversão\, promovendo saúde e disposição. Exclusivo para adultos maiores de 18 anos.O evento pode sofrer alterações de data\, local ou cancelamento sem aviso prévio.
URL:https://lecanton.com.br/evento/hidroginastica/2026-10-19/
LOCATION:Parque Aquático
CATEGORIES:Adultos acima de 18 anos
ATTACH;FMTTYPE=image/jpeg:https://lecanton.com.br/wp-content/uploads/2026/04/ativ.jpg
END:VEVENT
BEGIN:VEVENT
DTSTART;TZID=America/Sao_Paulo:20261020T121500
DTEND;TZID=America/Sao_Paulo:20261020T131500
DTSTAMP:20260422T121027
CREATED:20260413T194345Z
LAST-MODIFIED:20260413T194345Z
UID:10001183-1792498500-1792502100@lecanton.com.br
SUMMARY:Atividades Recreativas
DESCRIPTION:Diversão e descontração em um ambiente refrescante! As atividades recreativas na piscina são ideais para quem quer se movimentar\, interagir e aproveitar momentos leves com música\, jogos e dinâmicas aquáticas. Exclusivo para adultos acima de 18 anos.O evento pode sofrer alterações de data\, local ou cancelamento sem aviso prévio.
URL:https://lecanton.com.br/evento/atividades-recreativas-26/2026-10-20/
LOCATION:Parque Aquático
CATEGORIES:Adultos acima de 18 anos
ATTACH;FMTTYPE=image/jpeg:https://lecanton.com.br/wp-content/uploads/2026/04/ativ.jpg
END:VEVENT
BEGIN:VEVENT
DTSTART;TZID=America/Sao_Paulo:20261021T121500
DTEND;TZID=America/Sao_Paulo:20261021T124500
DTSTAMP:20260422T121027
CREATED:20260414T193014Z
LAST-MODIFIED:20260414T193014Z
UID:10005236-1792584900-1792586700@lecanton.com.br
SUMMARY:Hidroginástica
DESCRIPTION:Uma atividade leve e revitalizante realizada na água\, ideal para quem busca bem-estar\, movimento e baixo impacto nas articulações. A hidroginástica combina exercícios físicos com diversão\, promovendo saúde e disposição. Exclusivo para adultos maiores de 18 anos.O evento pode sofrer alterações de data\, local ou cancelamento sem aviso prévio.
URL:https://lecanton.com.br/evento/hidroginastica/2026-10-21/
LOCATION:Parque Aquático
CATEGORIES:Adultos acima de 18 anos
ATTACH;FMTTYPE=image/jpeg:https://lecanton.com.br/wp-content/uploads/2026/04/ativ.jpg
END:VEVENT
BEGIN:VEVENT
DTSTART;TZID=America/Sao_Paulo:20261022T121500
DTEND;TZID=America/Sao_Paulo:20261022T124500
DTSTAMP:20260422T121027
CREATED:20260414T193014Z
LAST-MODIFIED:20260414T193014Z
UID:10005237-1792671300-1792673100@lecanton.com.br
SUMMARY:Hidroginástica
DESCRIPTION:Uma atividade leve e revitalizante realizada na água\, ideal para quem busca bem-estar\, movimento e baixo impacto nas articulações. A hidroginástica combina exercícios físicos com diversão\, promovendo saúde e disposição. Exclusivo para adultos maiores de 18 anos.O evento pode sofrer alterações de data\, local ou cancelamento sem aviso prévio.
URL:https://lecanton.com.br/evento/hidroginastica/2026-10-22/
LOCATION:Parque Aquático
CATEGORIES:Adultos acima de 18 anos
ATTACH;FMTTYPE=image/jpeg:https://lecanton.com.br/wp-content/uploads/2026/04/ativ.jpg
END:VEVENT
BEGIN:VEVENT
DTSTART;TZID=America/Sao_Paulo:20261023T121500
DTEND;TZID=America/Sao_Paulo:20261023T124500
DTSTAMP:20260422T121027
CREATED:20260414T193014Z
LAST-MODIFIED:20260414T193014Z
UID:10005238-1792757700-1792759500@lecanton.com.br
SUMMARY:Hidroginástica
DESCRIPTION:Uma atividade leve e revitalizante realizada na água\, ideal para quem busca bem-estar\, movimento e baixo impacto nas articulações. A hidroginástica combina exercícios físicos com diversão\, promovendo saúde e disposição. Exclusivo para adultos maiores de 18 anos.O evento pode sofrer alterações de data\, local ou cancelamento sem aviso prévio.
URL:https://lecanton.com.br/evento/hidroginastica/2026-10-23/
LOCATION:Parque Aquático
CATEGORIES:Adultos acima de 18 anos
ATTACH;FMTTYPE=image/jpeg:https://lecanton.com.br/wp-content/uploads/2026/04/ativ.jpg
END:VEVENT
BEGIN:VEVENT
DTSTART;TZID=America/Sao_Paulo:20261024T121500
DTEND;TZID=America/Sao_Paulo:20261024T124500
DTSTAMP:20260422T121027
CREATED:20260414T193014Z
LAST-MODIFIED:20260414T193014Z
UID:10005239-1792844100-1792845900@lecanton.com.br
SUMMARY:Hidroginástica
DESCRIPTION:Uma atividade leve e revitalizante realizada na água\, ideal para quem busca bem-estar\, movimento e baixo impacto nas articulações. A hidroginástica combina exercícios físicos com diversão\, promovendo saúde e disposição. Exclusivo para adultos maiores de 18 anos.O evento pode sofrer alterações de data\, local ou cancelamento sem aviso prévio.
URL:https://lecanton.com.br/evento/hidroginastica/2026-10-24/
LOCATION:Parque Aquático
CATEGORIES:Adultos acima de 18 anos
ATTACH;FMTTYPE=image/jpeg:https://lecanton.com.br/wp-content/uploads/2026/04/ativ.jpg
END:VEVENT
BEGIN:VEVENT
DTSTART;TZID=America/Sao_Paulo:20261025T121500
DTEND;TZID=America/Sao_Paulo:20261025T124500
DTSTAMP:20260422T121027
CREATED:20260414T193014Z
LAST-MODIFIED:20260414T193014Z
UID:10005240-1792930500-1792932300@lecanton.com.br
SUMMARY:Hidroginástica
DESCRIPTION:Uma atividade leve e revitalizante realizada na água\, ideal para quem busca bem-estar\, movimento e baixo impacto nas articulações. A hidroginástica combina exercícios físicos com diversão\, promovendo saúde e disposição. Exclusivo para adultos maiores de 18 anos.O evento pode sofrer alterações de data\, local ou cancelamento sem aviso prévio.
URL:https://lecanton.com.br/evento/hidroginastica/2026-10-25/
LOCATION:Parque Aquático
CATEGORIES:Adultos acima de 18 anos
ATTACH;FMTTYPE=image/jpeg:https://lecanton.com.br/wp-content/uploads/2026/04/ativ.jpg
END:VEVENT
BEGIN:VEVENT
DTSTART;TZID=America/Sao_Paulo:20261026T121500
DTEND;TZID=America/Sao_Paulo:20261026T124500
DTSTAMP:20260422T121027
CREATED:20260414T193014Z
LAST-MODIFIED:20260414T193014Z
UID:10005241-1793016900-1793018700@lecanton.com.br
SUMMARY:Hidroginástica
DESCRIPTION:Uma atividade leve e revitalizante realizada na água\, ideal para quem busca bem-estar\, movimento e baixo impacto nas articulações. A hidroginástica combina exercícios físicos com diversão\, promovendo saúde e disposição. Exclusivo para adultos maiores de 18 anos.O evento pode sofrer alterações de data\, local ou cancelamento sem aviso prévio.
URL:https://lecanton.com.br/evento/hidroginastica/2026-10-26/
LOCATION:Parque Aquático
CATEGORIES:Adultos acima de 18 anos
ATTACH;FMTTYPE=image/jpeg:https://lecanton.com.br/wp-content/uploads/2026/04/ativ.jpg
END:VEVENT
BEGIN:VEVENT
DTSTART;TZID=America/Sao_Paulo:20261027T121500
DTEND;TZID=America/Sao_Paulo:20261027T131500
DTSTAMP:20260422T121027
CREATED:20260413T194345Z
LAST-MODIFIED:20260413T194345Z
UID:10001184-1793103300-1793106900@lecanton.com.br
SUMMARY:Atividades Recreativas
DESCRIPTION:Diversão e descontração em um ambiente refrescante! As atividades recreativas na piscina são ideais para quem quer se movimentar\, interagir e aproveitar momentos leves com música\, jogos e dinâmicas aquáticas. Exclusivo para adultos acima de 18 anos.O evento pode sofrer alterações de data\, local ou cancelamento sem aviso prévio.
URL:https://lecanton.com.br/evento/atividades-recreativas-26/2026-10-27/
LOCATION:Parque Aquático
CATEGORIES:Adultos acima de 18 anos
ATTACH;FMTTYPE=image/jpeg:https://lecanton.com.br/wp-content/uploads/2026/04/ativ.jpg
END:VEVENT
BEGIN:VEVENT
DTSTART;TZID=America/Sao_Paulo:20261028T121500
DTEND;TZID=America/Sao_Paulo:20261028T124500
DTSTAMP:20260422T121027
CREATED:20260414T193014Z
LAST-MODIFIED:20260414T193014Z
UID:10005242-1793189700-1793191500@lecanton.com.br
SUMMARY:Hidroginástica
DESCRIPTION:Uma atividade leve e revitalizante realizada na água\, ideal para quem busca bem-estar\, movimento e baixo impacto nas articulações. A hidroginástica combina exercícios físicos com diversão\, promovendo saúde e disposição. Exclusivo para adultos maiores de 18 anos.O evento pode sofrer alterações de data\, local ou cancelamento sem aviso prévio.
URL:https://lecanton.com.br/evento/hidroginastica/2026-10-28/
LOCATION:Parque Aquático
CATEGORIES:Adultos acima de 18 anos
ATTACH;FMTTYPE=image/jpeg:https://lecanton.com.br/wp-content/uploads/2026/04/ativ.jpg
END:VEVENT
BEGIN:VEVENT
DTSTART;TZID=America/Sao_Paulo:20261029T121500
DTEND;TZID=America/Sao_Paulo:20261029T124500
DTSTAMP:20260422T121027
CREATED:20260414T193014Z
LAST-MODIFIED:20260414T193014Z
UID:10005243-1793276100-1793277900@lecanton.com.br
SUMMARY:Hidroginástica
DESCRIPTION:Uma atividade leve e revitalizante realizada na água\, ideal para quem busca bem-estar\, movimento e baixo impacto nas articulações. A hidroginástica combina exercícios físicos com diversão\, promovendo saúde e disposição. Exclusivo para adultos maiores de 18 anos.O evento pode sofrer alterações de data\, local ou cancelamento sem aviso prévio.
URL:https://lecanton.com.br/evento/hidroginastica/2026-10-29/
LOCATION:Parque Aquático
CATEGORIES:Adultos acima de 18 anos
ATTACH;FMTTYPE=image/jpeg:https://lecanton.com.br/wp-content/uploads/2026/04/ativ.jpg
END:VEVENT
BEGIN:VEVENT
DTSTART;TZID=America/Sao_Paulo:20261030T121500
DTEND;TZID=America/Sao_Paulo:20261030T124500
DTSTAMP:20260422T121027
CREATED:20260414T193014Z
LAST-MODIFIED:20260414T193014Z
UID:10005244-1793362500-1793364300@lecanton.com.br
SUMMARY:Hidroginástica
DESCRIPTION:Uma atividade leve e revitalizante realizada na água\, ideal para quem busca bem-estar\, movimento e baixo impacto nas articulações. A hidroginástica combina exercícios físicos com diversão\, promovendo saúde e disposição. Exclusivo para adultos maiores de 18 anos.O evento pode sofrer alterações de data\, local ou cancelamento sem aviso prévio.
URL:https://lecanton.com.br/evento/hidroginastica/2026-10-30/
LOCATION:Parque Aquático
CATEGORIES:Adultos acima de 18 anos
ATTACH;FMTTYPE=image/jpeg:https://lecanton.com.br/wp-content/uploads/2026/04/ativ.jpg
END:VEVENT
BEGIN:VEVENT
DTSTART;TZID=America/Sao_Paulo:20261031T121500
DTEND;TZID=America/Sao_Paulo:20261031T124500
DTSTAMP:20260422T121027
CREATED:20260414T193014Z
LAST-MODIFIED:20260414T193014Z
UID:10005245-1793448900-1793450700@lecanton.com.br
SUMMARY:Hidroginástica
DESCRIPTION:Uma atividade leve e revitalizante realizada na água\, ideal para quem busca bem-estar\, movimento e baixo impacto nas articulações. A hidroginástica combina exercícios físicos com diversão\, promovendo saúde e disposição. Exclusivo para adultos maiores de 18 anos.O evento pode sofrer alterações de data\, local ou cancelamento sem aviso prévio.
URL:https://lecanton.com.br/evento/hidroginastica/2026-10-31/
LOCATION:Parque Aquático
CATEGORIES:Adultos acima de 18 anos
ATTACH;FMTTYPE=image/jpeg:https://lecanton.com.br/wp-content/uploads/2026/04/ativ.jpg
END:VEVENT
BEGIN:VEVENT
DTSTART;TZID=America/Sao_Paulo:20261101T121500
DTEND;TZID=America/Sao_Paulo:20261101T124500
DTSTAMP:20260422T121027
CREATED:20260414T193014Z
LAST-MODIFIED:20260414T193014Z
UID:10005246-1793535300-1793537100@lecanton.com.br
SUMMARY:Hidroginástica
DESCRIPTION:Uma atividade leve e revitalizante realizada na água\, ideal para quem busca bem-estar\, movimento e baixo impacto nas articulações. A hidroginástica combina exercícios físicos com diversão\, promovendo saúde e disposição. Exclusivo para adultos maiores de 18 anos.O evento pode sofrer alterações de data\, local ou cancelamento sem aviso prévio.
URL:https://lecanton.com.br/evento/hidroginastica/2026-11-01/
LOCATION:Parque Aquático
CATEGORIES:Adultos acima de 18 anos
ATTACH;FMTTYPE=image/jpeg:https://lecanton.com.br/wp-content/uploads/2026/04/ativ.jpg
END:VEVENT
BEGIN:VEVENT
DTSTART;TZID=America/Sao_Paulo:20261102T121500
DTEND;TZID=America/Sao_Paulo:20261102T124500
DTSTAMP:20260422T121027
CREATED:20260414T193014Z
LAST-MODIFIED:20260414T193014Z
UID:10005247-1793621700-1793623500@lecanton.com.br
SUMMARY:Hidroginástica
DESCRIPTION:Uma atividade leve e revitalizante realizada na água\, ideal para quem busca bem-estar\, movimento e baixo impacto nas articulações. A hidroginástica combina exercícios físicos com diversão\, promovendo saúde e disposição. Exclusivo para adultos maiores de 18 anos.O evento pode sofrer alterações de data\, local ou cancelamento sem aviso prévio.
URL:https://lecanton.com.br/evento/hidroginastica/2026-11-02/
LOCATION:Parque Aquático
CATEGORIES:Adultos acima de 18 anos
ATTACH;FMTTYPE=image/jpeg:https://lecanton.com.br/wp-content/uploads/2026/04/ativ.jpg
END:VEVENT
BEGIN:VEVENT
DTSTART;TZID=America/Sao_Paulo:20261103T121500
DTEND;TZID=America/Sao_Paulo:20261103T131500
DTSTAMP:20260422T121027
CREATED:20260413T194345Z
LAST-MODIFIED:20260413T194345Z
UID:10001185-1793708100-1793711700@lecanton.com.br
SUMMARY:Atividades Recreativas
DESCRIPTION:Diversão e descontração em um ambiente refrescante! As atividades recreativas na piscina são ideais para quem quer se movimentar\, interagir e aproveitar momentos leves com música\, jogos e dinâmicas aquáticas. Exclusivo para adultos acima de 18 anos.O evento pode sofrer alterações de data\, local ou cancelamento sem aviso prévio.
URL:https://lecanton.com.br/evento/atividades-recreativas-26/2026-11-03/
LOCATION:Parque Aquático
CATEGORIES:Adultos acima de 18 anos
ATTACH;FMTTYPE=image/jpeg:https://lecanton.com.br/wp-content/uploads/2026/04/ativ.jpg
END:VEVENT
BEGIN:VEVENT
DTSTART;TZID=America/Sao_Paulo:20261104T121500
DTEND;TZID=America/Sao_Paulo:20261104T124500
DTSTAMP:20260422T121027
CREATED:20260414T193014Z
LAST-MODIFIED:20260414T193014Z
UID:10005248-1793794500-1793796300@lecanton.com.br
SUMMARY:Hidroginástica
DESCRIPTION:Uma atividade leve e revitalizante realizada na água\, ideal para quem busca bem-estar\, movimento e baixo impacto nas articulações. A hidroginástica combina exercícios físicos com diversão\, promovendo saúde e disposição. Exclusivo para adultos maiores de 18 anos.O evento pode sofrer alterações de data\, local ou cancelamento sem aviso prévio.
URL:https://lecanton.com.br/evento/hidroginastica/2026-11-04/
LOCATION:Parque Aquático
CATEGORIES:Adultos acima de 18 anos
ATTACH;FMTTYPE=image/jpeg:https://lecanton.com.br/wp-content/uploads/2026/04/ativ.jpg
END:VEVENT
BEGIN:VEVENT
DTSTART;TZID=America/Sao_Paulo:20261105T121500
DTEND;TZID=America/Sao_Paulo:20261105T124500
DTSTAMP:20260422T121027
CREATED:20260414T193014Z
LAST-MODIFIED:20260414T193014Z
UID:10005249-1793880900-1793882700@lecanton.com.br
SUMMARY:Hidroginástica
DESCRIPTION:Uma atividade leve e revitalizante realizada na água\, ideal para quem busca bem-estar\, movimento e baixo impacto nas articulações. A hidroginástica combina exercícios físicos com diversão\, promovendo saúde e disposição. Exclusivo para adultos maiores de 18 anos.O evento pode sofrer alterações de data\, local ou cancelamento sem aviso prévio.
URL:https://lecanton.com.br/evento/hidroginastica/2026-11-05/
LOCATION:Parque Aquático
CATEGORIES:Adultos acima de 18 anos
ATTACH;FMTTYPE=image/jpeg:https://lecanton.com.br/wp-content/uploads/2026/04/ativ.jpg
END:VEVENT
END:VCALENDAR