BEGIN:VCALENDAR
VERSION:2.0
PRODID:-//Le Canton | O melhor Resort da Serra - ECPv6.15.17.1//NONSGML v1.0//EN
CALSCALE:GREGORIAN
METHOD:PUBLISH
X-WR-CALNAME:Le Canton | O melhor Resort da Serra
X-ORIGINAL-URL:https://lecanton.com.br
X-WR-CALDESC:Eventos para Le Canton | O melhor Resort da Serra
REFRESH-INTERVAL;VALUE=DURATION:PT1H
X-Robots-Tag:noindex
X-PUBLISHED-TTL:PT1H
BEGIN:VTIMEZONE
TZID:America/Sao_Paulo
BEGIN:STANDARD
TZOFFSETFROM:-0300
TZOFFSETTO:-0300
TZNAME:-03
DTSTART:20250101T000000
END:STANDARD
END:VTIMEZONE
BEGIN:VEVENT
DTSTART;TZID=America/Sao_Paulo:20260913T121500
DTEND;TZID=America/Sao_Paulo:20260913T124500
DTSTAMP:20260422T072615
CREATED:20260414T193014Z
LAST-MODIFIED:20260414T193014Z
UID:10005204-1789301700-1789303500@lecanton.com.br
SUMMARY:Hidroginástica
DESCRIPTION:Uma atividade leve e revitalizante realizada na água\, ideal para quem busca bem-estar\, movimento e baixo impacto nas articulações. A hidroginástica combina exercícios físicos com diversão\, promovendo saúde e disposição. Exclusivo para adultos maiores de 18 anos.O evento pode sofrer alterações de data\, local ou cancelamento sem aviso prévio.
URL:https://lecanton.com.br/evento/hidroginastica/2026-09-13/
LOCATION:Parque Aquático
CATEGORIES:Adultos acima de 18 anos
ATTACH;FMTTYPE=image/jpeg:https://lecanton.com.br/wp-content/uploads/2026/04/ativ.jpg
END:VEVENT
BEGIN:VEVENT
DTSTART;TZID=America/Sao_Paulo:20260914T121500
DTEND;TZID=America/Sao_Paulo:20260914T124500
DTSTAMP:20260422T072615
CREATED:20260414T193014Z
LAST-MODIFIED:20260414T193014Z
UID:10005205-1789388100-1789389900@lecanton.com.br
SUMMARY:Hidroginástica
DESCRIPTION:Uma atividade leve e revitalizante realizada na água\, ideal para quem busca bem-estar\, movimento e baixo impacto nas articulações. A hidroginástica combina exercícios físicos com diversão\, promovendo saúde e disposição. Exclusivo para adultos maiores de 18 anos.O evento pode sofrer alterações de data\, local ou cancelamento sem aviso prévio.
URL:https://lecanton.com.br/evento/hidroginastica/2026-09-14/
LOCATION:Parque Aquático
CATEGORIES:Adultos acima de 18 anos
ATTACH;FMTTYPE=image/jpeg:https://lecanton.com.br/wp-content/uploads/2026/04/ativ.jpg
END:VEVENT
BEGIN:VEVENT
DTSTART;TZID=America/Sao_Paulo:20260915T121500
DTEND;TZID=America/Sao_Paulo:20260915T131500
DTSTAMP:20260422T072615
CREATED:20260413T194345Z
LAST-MODIFIED:20260413T194345Z
UID:10001178-1789474500-1789478100@lecanton.com.br
SUMMARY:Atividades Recreativas
DESCRIPTION:Diversão e descontração em um ambiente refrescante! As atividades recreativas na piscina são ideais para quem quer se movimentar\, interagir e aproveitar momentos leves com música\, jogos e dinâmicas aquáticas. Exclusivo para adultos acima de 18 anos.O evento pode sofrer alterações de data\, local ou cancelamento sem aviso prévio.
URL:https://lecanton.com.br/evento/atividades-recreativas-26/2026-09-15/
LOCATION:Parque Aquático
CATEGORIES:Adultos acima de 18 anos
ATTACH;FMTTYPE=image/jpeg:https://lecanton.com.br/wp-content/uploads/2026/04/ativ.jpg
END:VEVENT
BEGIN:VEVENT
DTSTART;TZID=America/Sao_Paulo:20260916T121500
DTEND;TZID=America/Sao_Paulo:20260916T124500
DTSTAMP:20260422T072615
CREATED:20260414T193014Z
LAST-MODIFIED:20260414T193014Z
UID:10005206-1789560900-1789562700@lecanton.com.br
SUMMARY:Hidroginástica
DESCRIPTION:Uma atividade leve e revitalizante realizada na água\, ideal para quem busca bem-estar\, movimento e baixo impacto nas articulações. A hidroginástica combina exercícios físicos com diversão\, promovendo saúde e disposição. Exclusivo para adultos maiores de 18 anos.O evento pode sofrer alterações de data\, local ou cancelamento sem aviso prévio.
URL:https://lecanton.com.br/evento/hidroginastica/2026-09-16/
LOCATION:Parque Aquático
CATEGORIES:Adultos acima de 18 anos
ATTACH;FMTTYPE=image/jpeg:https://lecanton.com.br/wp-content/uploads/2026/04/ativ.jpg
END:VEVENT
BEGIN:VEVENT
DTSTART;TZID=America/Sao_Paulo:20260917T121500
DTEND;TZID=America/Sao_Paulo:20260917T124500
DTSTAMP:20260422T072615
CREATED:20260414T193014Z
LAST-MODIFIED:20260414T193014Z
UID:10005207-1789647300-1789649100@lecanton.com.br
SUMMARY:Hidroginástica
DESCRIPTION:Uma atividade leve e revitalizante realizada na água\, ideal para quem busca bem-estar\, movimento e baixo impacto nas articulações. A hidroginástica combina exercícios físicos com diversão\, promovendo saúde e disposição. Exclusivo para adultos maiores de 18 anos.O evento pode sofrer alterações de data\, local ou cancelamento sem aviso prévio.
URL:https://lecanton.com.br/evento/hidroginastica/2026-09-17/
LOCATION:Parque Aquático
CATEGORIES:Adultos acima de 18 anos
ATTACH;FMTTYPE=image/jpeg:https://lecanton.com.br/wp-content/uploads/2026/04/ativ.jpg
END:VEVENT
BEGIN:VEVENT
DTSTART;TZID=America/Sao_Paulo:20260918T121500
DTEND;TZID=America/Sao_Paulo:20260918T124500
DTSTAMP:20260422T072615
CREATED:20260414T193014Z
LAST-MODIFIED:20260414T193014Z
UID:10005208-1789733700-1789735500@lecanton.com.br
SUMMARY:Hidroginástica
DESCRIPTION:Uma atividade leve e revitalizante realizada na água\, ideal para quem busca bem-estar\, movimento e baixo impacto nas articulações. A hidroginástica combina exercícios físicos com diversão\, promovendo saúde e disposição. Exclusivo para adultos maiores de 18 anos.O evento pode sofrer alterações de data\, local ou cancelamento sem aviso prévio.
URL:https://lecanton.com.br/evento/hidroginastica/2026-09-18/
LOCATION:Parque Aquático
CATEGORIES:Adultos acima de 18 anos
ATTACH;FMTTYPE=image/jpeg:https://lecanton.com.br/wp-content/uploads/2026/04/ativ.jpg
END:VEVENT
BEGIN:VEVENT
DTSTART;TZID=America/Sao_Paulo:20260919T121500
DTEND;TZID=America/Sao_Paulo:20260919T124500
DTSTAMP:20260422T072615
CREATED:20260414T193014Z
LAST-MODIFIED:20260414T193014Z
UID:10005209-1789820100-1789821900@lecanton.com.br
SUMMARY:Hidroginástica
DESCRIPTION:Uma atividade leve e revitalizante realizada na água\, ideal para quem busca bem-estar\, movimento e baixo impacto nas articulações. A hidroginástica combina exercícios físicos com diversão\, promovendo saúde e disposição. Exclusivo para adultos maiores de 18 anos.O evento pode sofrer alterações de data\, local ou cancelamento sem aviso prévio.
URL:https://lecanton.com.br/evento/hidroginastica/2026-09-19/
LOCATION:Parque Aquático
CATEGORIES:Adultos acima de 18 anos
ATTACH;FMTTYPE=image/jpeg:https://lecanton.com.br/wp-content/uploads/2026/04/ativ.jpg
END:VEVENT
BEGIN:VEVENT
DTSTART;TZID=America/Sao_Paulo:20260920T121500
DTEND;TZID=America/Sao_Paulo:20260920T124500
DTSTAMP:20260422T072615
CREATED:20260414T193014Z
LAST-MODIFIED:20260414T193014Z
UID:10005210-1789906500-1789908300@lecanton.com.br
SUMMARY:Hidroginástica
DESCRIPTION:Uma atividade leve e revitalizante realizada na água\, ideal para quem busca bem-estar\, movimento e baixo impacto nas articulações. A hidroginástica combina exercícios físicos com diversão\, promovendo saúde e disposição. Exclusivo para adultos maiores de 18 anos.O evento pode sofrer alterações de data\, local ou cancelamento sem aviso prévio.
URL:https://lecanton.com.br/evento/hidroginastica/2026-09-20/
LOCATION:Parque Aquático
CATEGORIES:Adultos acima de 18 anos
ATTACH;FMTTYPE=image/jpeg:https://lecanton.com.br/wp-content/uploads/2026/04/ativ.jpg
END:VEVENT
BEGIN:VEVENT
DTSTART;TZID=America/Sao_Paulo:20260921T121500
DTEND;TZID=America/Sao_Paulo:20260921T124500
DTSTAMP:20260422T072615
CREATED:20260414T193014Z
LAST-MODIFIED:20260414T193014Z
UID:10005211-1789992900-1789994700@lecanton.com.br
SUMMARY:Hidroginástica
DESCRIPTION:Uma atividade leve e revitalizante realizada na água\, ideal para quem busca bem-estar\, movimento e baixo impacto nas articulações. A hidroginástica combina exercícios físicos com diversão\, promovendo saúde e disposição. Exclusivo para adultos maiores de 18 anos.O evento pode sofrer alterações de data\, local ou cancelamento sem aviso prévio.
URL:https://lecanton.com.br/evento/hidroginastica/2026-09-21/
LOCATION:Parque Aquático
CATEGORIES:Adultos acima de 18 anos
ATTACH;FMTTYPE=image/jpeg:https://lecanton.com.br/wp-content/uploads/2026/04/ativ.jpg
END:VEVENT
BEGIN:VEVENT
DTSTART;TZID=America/Sao_Paulo:20260922T121500
DTEND;TZID=America/Sao_Paulo:20260922T131500
DTSTAMP:20260422T072615
CREATED:20260413T194345Z
LAST-MODIFIED:20260413T194345Z
UID:10001179-1790079300-1790082900@lecanton.com.br
SUMMARY:Atividades Recreativas
DESCRIPTION:Diversão e descontração em um ambiente refrescante! As atividades recreativas na piscina são ideais para quem quer se movimentar\, interagir e aproveitar momentos leves com música\, jogos e dinâmicas aquáticas. Exclusivo para adultos acima de 18 anos.O evento pode sofrer alterações de data\, local ou cancelamento sem aviso prévio.
URL:https://lecanton.com.br/evento/atividades-recreativas-26/2026-09-22/
LOCATION:Parque Aquático
CATEGORIES:Adultos acima de 18 anos
ATTACH;FMTTYPE=image/jpeg:https://lecanton.com.br/wp-content/uploads/2026/04/ativ.jpg
END:VEVENT
BEGIN:VEVENT
DTSTART;TZID=America/Sao_Paulo:20260923T121500
DTEND;TZID=America/Sao_Paulo:20260923T124500
DTSTAMP:20260422T072615
CREATED:20260414T193014Z
LAST-MODIFIED:20260414T193014Z
UID:10005212-1790165700-1790167500@lecanton.com.br
SUMMARY:Hidroginástica
DESCRIPTION:Uma atividade leve e revitalizante realizada na água\, ideal para quem busca bem-estar\, movimento e baixo impacto nas articulações. A hidroginástica combina exercícios físicos com diversão\, promovendo saúde e disposição. Exclusivo para adultos maiores de 18 anos.O evento pode sofrer alterações de data\, local ou cancelamento sem aviso prévio.
URL:https://lecanton.com.br/evento/hidroginastica/2026-09-23/
LOCATION:Parque Aquático
CATEGORIES:Adultos acima de 18 anos
ATTACH;FMTTYPE=image/jpeg:https://lecanton.com.br/wp-content/uploads/2026/04/ativ.jpg
END:VEVENT
BEGIN:VEVENT
DTSTART;TZID=America/Sao_Paulo:20260924T121500
DTEND;TZID=America/Sao_Paulo:20260924T124500
DTSTAMP:20260422T072615
CREATED:20260414T193014Z
LAST-MODIFIED:20260414T193014Z
UID:10005213-1790252100-1790253900@lecanton.com.br
SUMMARY:Hidroginástica
DESCRIPTION:Uma atividade leve e revitalizante realizada na água\, ideal para quem busca bem-estar\, movimento e baixo impacto nas articulações. A hidroginástica combina exercícios físicos com diversão\, promovendo saúde e disposição. Exclusivo para adultos maiores de 18 anos.O evento pode sofrer alterações de data\, local ou cancelamento sem aviso prévio.
URL:https://lecanton.com.br/evento/hidroginastica/2026-09-24/
LOCATION:Parque Aquático
CATEGORIES:Adultos acima de 18 anos
ATTACH;FMTTYPE=image/jpeg:https://lecanton.com.br/wp-content/uploads/2026/04/ativ.jpg
END:VEVENT
BEGIN:VEVENT
DTSTART;TZID=America/Sao_Paulo:20260925T121500
DTEND;TZID=America/Sao_Paulo:20260925T124500
DTSTAMP:20260422T072615
CREATED:20260414T193014Z
LAST-MODIFIED:20260414T193014Z
UID:10005214-1790338500-1790340300@lecanton.com.br
SUMMARY:Hidroginástica
DESCRIPTION:Uma atividade leve e revitalizante realizada na água\, ideal para quem busca bem-estar\, movimento e baixo impacto nas articulações. A hidroginástica combina exercícios físicos com diversão\, promovendo saúde e disposição. Exclusivo para adultos maiores de 18 anos.O evento pode sofrer alterações de data\, local ou cancelamento sem aviso prévio.
URL:https://lecanton.com.br/evento/hidroginastica/2026-09-25/
LOCATION:Parque Aquático
CATEGORIES:Adultos acima de 18 anos
ATTACH;FMTTYPE=image/jpeg:https://lecanton.com.br/wp-content/uploads/2026/04/ativ.jpg
END:VEVENT
BEGIN:VEVENT
DTSTART;TZID=America/Sao_Paulo:20260926T121500
DTEND;TZID=America/Sao_Paulo:20260926T124500
DTSTAMP:20260422T072615
CREATED:20260414T193014Z
LAST-MODIFIED:20260414T193014Z
UID:10005215-1790424900-1790426700@lecanton.com.br
SUMMARY:Hidroginástica
DESCRIPTION:Uma atividade leve e revitalizante realizada na água\, ideal para quem busca bem-estar\, movimento e baixo impacto nas articulações. A hidroginástica combina exercícios físicos com diversão\, promovendo saúde e disposição. Exclusivo para adultos maiores de 18 anos.O evento pode sofrer alterações de data\, local ou cancelamento sem aviso prévio.
URL:https://lecanton.com.br/evento/hidroginastica/2026-09-26/
LOCATION:Parque Aquático
CATEGORIES:Adultos acima de 18 anos
ATTACH;FMTTYPE=image/jpeg:https://lecanton.com.br/wp-content/uploads/2026/04/ativ.jpg
END:VEVENT
BEGIN:VEVENT
DTSTART;TZID=America/Sao_Paulo:20260927T121500
DTEND;TZID=America/Sao_Paulo:20260927T124500
DTSTAMP:20260422T072615
CREATED:20260414T193014Z
LAST-MODIFIED:20260414T193014Z
UID:10005216-1790511300-1790513100@lecanton.com.br
SUMMARY:Hidroginástica
DESCRIPTION:Uma atividade leve e revitalizante realizada na água\, ideal para quem busca bem-estar\, movimento e baixo impacto nas articulações. A hidroginástica combina exercícios físicos com diversão\, promovendo saúde e disposição. Exclusivo para adultos maiores de 18 anos.O evento pode sofrer alterações de data\, local ou cancelamento sem aviso prévio.
URL:https://lecanton.com.br/evento/hidroginastica/2026-09-27/
LOCATION:Parque Aquático
CATEGORIES:Adultos acima de 18 anos
ATTACH;FMTTYPE=image/jpeg:https://lecanton.com.br/wp-content/uploads/2026/04/ativ.jpg
END:VEVENT
BEGIN:VEVENT
DTSTART;TZID=America/Sao_Paulo:20260928T121500
DTEND;TZID=America/Sao_Paulo:20260928T124500
DTSTAMP:20260422T072615
CREATED:20260414T193014Z
LAST-MODIFIED:20260414T193014Z
UID:10005217-1790597700-1790599500@lecanton.com.br
SUMMARY:Hidroginástica
DESCRIPTION:Uma atividade leve e revitalizante realizada na água\, ideal para quem busca bem-estar\, movimento e baixo impacto nas articulações. A hidroginástica combina exercícios físicos com diversão\, promovendo saúde e disposição. Exclusivo para adultos maiores de 18 anos.O evento pode sofrer alterações de data\, local ou cancelamento sem aviso prévio.
URL:https://lecanton.com.br/evento/hidroginastica/2026-09-28/
LOCATION:Parque Aquático
CATEGORIES:Adultos acima de 18 anos
ATTACH;FMTTYPE=image/jpeg:https://lecanton.com.br/wp-content/uploads/2026/04/ativ.jpg
END:VEVENT
BEGIN:VEVENT
DTSTART;TZID=America/Sao_Paulo:20260929T121500
DTEND;TZID=America/Sao_Paulo:20260929T131500
DTSTAMP:20260422T072615
CREATED:20260413T194345Z
LAST-MODIFIED:20260413T194345Z
UID:10001180-1790684100-1790687700@lecanton.com.br
SUMMARY:Atividades Recreativas
DESCRIPTION:Diversão e descontração em um ambiente refrescante! As atividades recreativas na piscina são ideais para quem quer se movimentar\, interagir e aproveitar momentos leves com música\, jogos e dinâmicas aquáticas. Exclusivo para adultos acima de 18 anos.O evento pode sofrer alterações de data\, local ou cancelamento sem aviso prévio.
URL:https://lecanton.com.br/evento/atividades-recreativas-26/2026-09-29/
LOCATION:Parque Aquático
CATEGORIES:Adultos acima de 18 anos
ATTACH;FMTTYPE=image/jpeg:https://lecanton.com.br/wp-content/uploads/2026/04/ativ.jpg
END:VEVENT
BEGIN:VEVENT
DTSTART;TZID=America/Sao_Paulo:20260930T121500
DTEND;TZID=America/Sao_Paulo:20260930T124500
DTSTAMP:20260422T072615
CREATED:20260414T193014Z
LAST-MODIFIED:20260414T193014Z
UID:10005218-1790770500-1790772300@lecanton.com.br
SUMMARY:Hidroginástica
DESCRIPTION:Uma atividade leve e revitalizante realizada na água\, ideal para quem busca bem-estar\, movimento e baixo impacto nas articulações. A hidroginástica combina exercícios físicos com diversão\, promovendo saúde e disposição. Exclusivo para adultos maiores de 18 anos.O evento pode sofrer alterações de data\, local ou cancelamento sem aviso prévio.
URL:https://lecanton.com.br/evento/hidroginastica/2026-09-30/
LOCATION:Parque Aquático
CATEGORIES:Adultos acima de 18 anos
ATTACH;FMTTYPE=image/jpeg:https://lecanton.com.br/wp-content/uploads/2026/04/ativ.jpg
END:VEVENT
BEGIN:VEVENT
DTSTART;TZID=America/Sao_Paulo:20261001T121500
DTEND;TZID=America/Sao_Paulo:20261001T124500
DTSTAMP:20260422T072615
CREATED:20260414T193014Z
LAST-MODIFIED:20260414T193014Z
UID:10005219-1790856900-1790858700@lecanton.com.br
SUMMARY:Hidroginástica
DESCRIPTION:Uma atividade leve e revitalizante realizada na água\, ideal para quem busca bem-estar\, movimento e baixo impacto nas articulações. A hidroginástica combina exercícios físicos com diversão\, promovendo saúde e disposição. Exclusivo para adultos maiores de 18 anos.O evento pode sofrer alterações de data\, local ou cancelamento sem aviso prévio.
URL:https://lecanton.com.br/evento/hidroginastica/2026-10-01/
LOCATION:Parque Aquático
CATEGORIES:Adultos acima de 18 anos
ATTACH;FMTTYPE=image/jpeg:https://lecanton.com.br/wp-content/uploads/2026/04/ativ.jpg
END:VEVENT
BEGIN:VEVENT
DTSTART;TZID=America/Sao_Paulo:20261002T121500
DTEND;TZID=America/Sao_Paulo:20261002T124500
DTSTAMP:20260422T072615
CREATED:20260414T193014Z
LAST-MODIFIED:20260414T193014Z
UID:10005220-1790943300-1790945100@lecanton.com.br
SUMMARY:Hidroginástica
DESCRIPTION:Uma atividade leve e revitalizante realizada na água\, ideal para quem busca bem-estar\, movimento e baixo impacto nas articulações. A hidroginástica combina exercícios físicos com diversão\, promovendo saúde e disposição. Exclusivo para adultos maiores de 18 anos.O evento pode sofrer alterações de data\, local ou cancelamento sem aviso prévio.
URL:https://lecanton.com.br/evento/hidroginastica/2026-10-02/
LOCATION:Parque Aquático
CATEGORIES:Adultos acima de 18 anos
ATTACH;FMTTYPE=image/jpeg:https://lecanton.com.br/wp-content/uploads/2026/04/ativ.jpg
END:VEVENT
BEGIN:VEVENT
DTSTART;TZID=America/Sao_Paulo:20261003T121500
DTEND;TZID=America/Sao_Paulo:20261003T124500
DTSTAMP:20260422T072615
CREATED:20260414T193014Z
LAST-MODIFIED:20260414T193014Z
UID:10005221-1791029700-1791031500@lecanton.com.br
SUMMARY:Hidroginástica
DESCRIPTION:Uma atividade leve e revitalizante realizada na água\, ideal para quem busca bem-estar\, movimento e baixo impacto nas articulações. A hidroginástica combina exercícios físicos com diversão\, promovendo saúde e disposição. Exclusivo para adultos maiores de 18 anos.O evento pode sofrer alterações de data\, local ou cancelamento sem aviso prévio.
URL:https://lecanton.com.br/evento/hidroginastica/2026-10-03/
LOCATION:Parque Aquático
CATEGORIES:Adultos acima de 18 anos
ATTACH;FMTTYPE=image/jpeg:https://lecanton.com.br/wp-content/uploads/2026/04/ativ.jpg
END:VEVENT
BEGIN:VEVENT
DTSTART;TZID=America/Sao_Paulo:20261004T121500
DTEND;TZID=America/Sao_Paulo:20261004T124500
DTSTAMP:20260422T072615
CREATED:20260414T193014Z
LAST-MODIFIED:20260414T193014Z
UID:10005222-1791116100-1791117900@lecanton.com.br
SUMMARY:Hidroginástica
DESCRIPTION:Uma atividade leve e revitalizante realizada na água\, ideal para quem busca bem-estar\, movimento e baixo impacto nas articulações. A hidroginástica combina exercícios físicos com diversão\, promovendo saúde e disposição. Exclusivo para adultos maiores de 18 anos.O evento pode sofrer alterações de data\, local ou cancelamento sem aviso prévio.
URL:https://lecanton.com.br/evento/hidroginastica/2026-10-04/
LOCATION:Parque Aquático
CATEGORIES:Adultos acima de 18 anos
ATTACH;FMTTYPE=image/jpeg:https://lecanton.com.br/wp-content/uploads/2026/04/ativ.jpg
END:VEVENT
BEGIN:VEVENT
DTSTART;TZID=America/Sao_Paulo:20261005T121500
DTEND;TZID=America/Sao_Paulo:20261005T124500
DTSTAMP:20260422T072615
CREATED:20260414T193014Z
LAST-MODIFIED:20260414T193014Z
UID:10005223-1791202500-1791204300@lecanton.com.br
SUMMARY:Hidroginástica
DESCRIPTION:Uma atividade leve e revitalizante realizada na água\, ideal para quem busca bem-estar\, movimento e baixo impacto nas articulações. A hidroginástica combina exercícios físicos com diversão\, promovendo saúde e disposição. Exclusivo para adultos maiores de 18 anos.O evento pode sofrer alterações de data\, local ou cancelamento sem aviso prévio.
URL:https://lecanton.com.br/evento/hidroginastica/2026-10-05/
LOCATION:Parque Aquático
CATEGORIES:Adultos acima de 18 anos
ATTACH;FMTTYPE=image/jpeg:https://lecanton.com.br/wp-content/uploads/2026/04/ativ.jpg
END:VEVENT
BEGIN:VEVENT
DTSTART;TZID=America/Sao_Paulo:20261006T121500
DTEND;TZID=America/Sao_Paulo:20261006T131500
DTSTAMP:20260422T072615
CREATED:20260413T194345Z
LAST-MODIFIED:20260413T194345Z
UID:10001181-1791288900-1791292500@lecanton.com.br
SUMMARY:Atividades Recreativas
DESCRIPTION:Diversão e descontração em um ambiente refrescante! As atividades recreativas na piscina são ideais para quem quer se movimentar\, interagir e aproveitar momentos leves com música\, jogos e dinâmicas aquáticas. Exclusivo para adultos acima de 18 anos.O evento pode sofrer alterações de data\, local ou cancelamento sem aviso prévio.
URL:https://lecanton.com.br/evento/atividades-recreativas-26/2026-10-06/
LOCATION:Parque Aquático
CATEGORIES:Adultos acima de 18 anos
ATTACH;FMTTYPE=image/jpeg:https://lecanton.com.br/wp-content/uploads/2026/04/ativ.jpg
END:VEVENT
BEGIN:VEVENT
DTSTART;TZID=America/Sao_Paulo:20261007T121500
DTEND;TZID=America/Sao_Paulo:20261007T124500
DTSTAMP:20260422T072615
CREATED:20260414T193014Z
LAST-MODIFIED:20260414T193014Z
UID:10005224-1791375300-1791377100@lecanton.com.br
SUMMARY:Hidroginástica
DESCRIPTION:Uma atividade leve e revitalizante realizada na água\, ideal para quem busca bem-estar\, movimento e baixo impacto nas articulações. A hidroginástica combina exercícios físicos com diversão\, promovendo saúde e disposição. Exclusivo para adultos maiores de 18 anos.O evento pode sofrer alterações de data\, local ou cancelamento sem aviso prévio.
URL:https://lecanton.com.br/evento/hidroginastica/2026-10-07/
LOCATION:Parque Aquático
CATEGORIES:Adultos acima de 18 anos
ATTACH;FMTTYPE=image/jpeg:https://lecanton.com.br/wp-content/uploads/2026/04/ativ.jpg
END:VEVENT
BEGIN:VEVENT
DTSTART;TZID=America/Sao_Paulo:20261008T121500
DTEND;TZID=America/Sao_Paulo:20261008T124500
DTSTAMP:20260422T072615
CREATED:20260414T193014Z
LAST-MODIFIED:20260414T193014Z
UID:10005225-1791461700-1791463500@lecanton.com.br
SUMMARY:Hidroginástica
DESCRIPTION:Uma atividade leve e revitalizante realizada na água\, ideal para quem busca bem-estar\, movimento e baixo impacto nas articulações. A hidroginástica combina exercícios físicos com diversão\, promovendo saúde e disposição. Exclusivo para adultos maiores de 18 anos.O evento pode sofrer alterações de data\, local ou cancelamento sem aviso prévio.
URL:https://lecanton.com.br/evento/hidroginastica/2026-10-08/
LOCATION:Parque Aquático
CATEGORIES:Adultos acima de 18 anos
ATTACH;FMTTYPE=image/jpeg:https://lecanton.com.br/wp-content/uploads/2026/04/ativ.jpg
END:VEVENT
BEGIN:VEVENT
DTSTART;TZID=America/Sao_Paulo:20261009T121500
DTEND;TZID=America/Sao_Paulo:20261009T124500
DTSTAMP:20260422T072615
CREATED:20260414T193014Z
LAST-MODIFIED:20260414T193014Z
UID:10005226-1791548100-1791549900@lecanton.com.br
SUMMARY:Hidroginástica
DESCRIPTION:Uma atividade leve e revitalizante realizada na água\, ideal para quem busca bem-estar\, movimento e baixo impacto nas articulações. A hidroginástica combina exercícios físicos com diversão\, promovendo saúde e disposição. Exclusivo para adultos maiores de 18 anos.O evento pode sofrer alterações de data\, local ou cancelamento sem aviso prévio.
URL:https://lecanton.com.br/evento/hidroginastica/2026-10-09/
LOCATION:Parque Aquático
CATEGORIES:Adultos acima de 18 anos
ATTACH;FMTTYPE=image/jpeg:https://lecanton.com.br/wp-content/uploads/2026/04/ativ.jpg
END:VEVENT
BEGIN:VEVENT
DTSTART;TZID=America/Sao_Paulo:20261010T121500
DTEND;TZID=America/Sao_Paulo:20261010T124500
DTSTAMP:20260422T072615
CREATED:20260414T193014Z
LAST-MODIFIED:20260414T193014Z
UID:10005227-1791634500-1791636300@lecanton.com.br
SUMMARY:Hidroginástica
DESCRIPTION:Uma atividade leve e revitalizante realizada na água\, ideal para quem busca bem-estar\, movimento e baixo impacto nas articulações. A hidroginástica combina exercícios físicos com diversão\, promovendo saúde e disposição. Exclusivo para adultos maiores de 18 anos.O evento pode sofrer alterações de data\, local ou cancelamento sem aviso prévio.
URL:https://lecanton.com.br/evento/hidroginastica/2026-10-10/
LOCATION:Parque Aquático
CATEGORIES:Adultos acima de 18 anos
ATTACH;FMTTYPE=image/jpeg:https://lecanton.com.br/wp-content/uploads/2026/04/ativ.jpg
END:VEVENT
BEGIN:VEVENT
DTSTART;TZID=America/Sao_Paulo:20261011T121500
DTEND;TZID=America/Sao_Paulo:20261011T124500
DTSTAMP:20260422T072615
CREATED:20260414T193014Z
LAST-MODIFIED:20260414T193014Z
UID:10005228-1791720900-1791722700@lecanton.com.br
SUMMARY:Hidroginástica
DESCRIPTION:Uma atividade leve e revitalizante realizada na água\, ideal para quem busca bem-estar\, movimento e baixo impacto nas articulações. A hidroginástica combina exercícios físicos com diversão\, promovendo saúde e disposição. Exclusivo para adultos maiores de 18 anos.O evento pode sofrer alterações de data\, local ou cancelamento sem aviso prévio.
URL:https://lecanton.com.br/evento/hidroginastica/2026-10-11/
LOCATION:Parque Aquático
CATEGORIES:Adultos acima de 18 anos
ATTACH;FMTTYPE=image/jpeg:https://lecanton.com.br/wp-content/uploads/2026/04/ativ.jpg
END:VEVENT
BEGIN:VEVENT
DTSTART;TZID=America/Sao_Paulo:20261012T121500
DTEND;TZID=America/Sao_Paulo:20261012T124500
DTSTAMP:20260422T072615
CREATED:20260414T193014Z
LAST-MODIFIED:20260414T193014Z
UID:10005229-1791807300-1791809100@lecanton.com.br
SUMMARY:Hidroginástica
DESCRIPTION:Uma atividade leve e revitalizante realizada na água\, ideal para quem busca bem-estar\, movimento e baixo impacto nas articulações. A hidroginástica combina exercícios físicos com diversão\, promovendo saúde e disposição. Exclusivo para adultos maiores de 18 anos.O evento pode sofrer alterações de data\, local ou cancelamento sem aviso prévio.
URL:https://lecanton.com.br/evento/hidroginastica/2026-10-12/
LOCATION:Parque Aquático
CATEGORIES:Adultos acima de 18 anos
ATTACH;FMTTYPE=image/jpeg:https://lecanton.com.br/wp-content/uploads/2026/04/ativ.jpg
END:VEVENT
END:VCALENDAR