BEGIN:VCALENDAR
VERSION:2.0
PRODID:-//Le Canton | O melhor Resort da Serra - ECPv6.15.17.1//NONSGML v1.0//EN
CALSCALE:GREGORIAN
METHOD:PUBLISH
X-WR-CALNAME:Le Canton | O melhor Resort da Serra
X-ORIGINAL-URL:https://lecanton.com.br
X-WR-CALDESC:Eventos para Le Canton | O melhor Resort da Serra
REFRESH-INTERVAL;VALUE=DURATION:PT1H
X-Robots-Tag:noindex
X-PUBLISHED-TTL:PT1H
BEGIN:VTIMEZONE
TZID:America/Sao_Paulo
BEGIN:STANDARD
TZOFFSETFROM:-0300
TZOFFSETTO:-0300
TZNAME:-03
DTSTART:20250101T000000
END:STANDARD
END:VTIMEZONE
BEGIN:VEVENT
DTSTART;TZID=America/Sao_Paulo:20260425T120000
DTEND;TZID=America/Sao_Paulo:20260425T150000
DTSTAMP:20260421T135745
CREATED:20260325T200346Z
LAST-MODIFIED:20260327T023453Z
UID:10000150-1777118400-1777129200@lecanton.com.br
SUMMARY:Samba no Parc
DESCRIPTION:Uma verdadeira celebração do ritmo brasileiro! O Samba no Parc traz o show animado do grupo Nós do Samba\, com muito pagode e samba para todo mundo cantar junto. E no intervalo\, a energia continua com a bateria de escola de samba\, garantindo ainda mais vibração e emoção. Um evento contagiante para curtir com amigos e família. Livre para todos os públicos.
URL:https://lecanton.com.br/evento/samba-no-parc/
LOCATION:Parc Magique
CATEGORIES:Livre
ATTACH;FMTTYPE=image/jpeg:https://lecanton.com.br/wp-content/uploads/2026/03/samba-no-parc.jpg
END:VEVENT
BEGIN:VEVENT
DTSTART;TZID=America/Sao_Paulo:20260502T120000
DTEND;TZID=America/Sao_Paulo:20260502T150000
DTSTAMP:20260421T135745
CREATED:20260408T191603Z
LAST-MODIFIED:20260408T191603Z
UID:10000272-1777723200-1777734000@lecanton.com.br
SUMMARY:BBQ com Banda cover do Charlie Brown Jr.
DESCRIPTION:Uma experiência que combina boa gastronomia e muita música! O BBQ traz um clima descontraído com churrasco especial e show ao vivo da banda Markyse\, com um repertório cover de Charlie Brown Jr. que promete animar o público. Perfeito para curtir com amigos e família. Livre para todos os públicos.
URL:https://lecanton.com.br/evento/bbq-com-banda-cover-do-charlie-brown-jr/
LOCATION:Parc Magique
CATEGORIES:Livre
ATTACH;FMTTYPE=image/jpeg:https://lecanton.com.br/wp-content/uploads/2026/04/bbq1.jpg
END:VEVENT
BEGIN:VEVENT
DTSTART;TZID=America/Sao_Paulo:20260516T120000
DTEND;TZID=America/Sao_Paulo:20260516T150000
DTSTAMP:20260421T135745
CREATED:20260408T195250Z
LAST-MODIFIED:20260408T195250Z
UID:10000273-1778932800-1778943600@lecanton.com.br
SUMMARY:Fogo de Chão com Samba de Base
DESCRIPTION:Uma experiência completa que une gastronomia e música! O Fogo de Chão traz um delicioso open food com cortes especiais preparados na brasa\, enquanto o grupo Samba de Base anima a noite com muito ritmo e energia. Perfeito para curtir bons momentos em um clima descontraído. Livre para todos os públicos.
URL:https://lecanton.com.br/evento/fogo-de-chao-com-samba-de-base/
LOCATION:Parc Magique
CATEGORIES:Livre
ATTACH;FMTTYPE=image/jpeg:https://lecanton.com.br/wp-content/uploads/2026/04/fogo2.jpg
END:VEVENT
BEGIN:VEVENT
DTSTART;TZID=America/Sao_Paulo:20260530T120000
DTEND;TZID=America/Sao_Paulo:20260530T150000
DTSTAMP:20260421T135745
CREATED:20260408T201215Z
LAST-MODIFIED:20260408T201215Z
UID:10000277-1780142400-1780153200@lecanton.com.br
SUMMARY:BBQ com cover do Cazuza
DESCRIPTION:Uma experiência que une sabor e música de qualidade! O BBQ traz um delicioso churrasco acompanhado de um show ao vivo do cantor Valério Araújo\, com um repertório especial em homenagem a Cazuza. Perfeito para curtir bons momentos em um clima descontraído. Livre para todos os públicos.
URL:https://lecanton.com.br/evento/bbq-com-cover-do-cazuza/
LOCATION:Parc Magique
CATEGORIES:Livre
ATTACH;FMTTYPE=image/jpeg:https://lecanton.com.br/wp-content/uploads/2026/04/bbq2.jpg
END:VEVENT
END:VCALENDAR