BEGIN:VCALENDAR
VERSION:2.0
PRODID:-//Le Canton | O melhor Resort da Serra - ECPv6.15.17.1//NONSGML v1.0//EN
CALSCALE:GREGORIAN
METHOD:PUBLISH
X-WR-CALNAME:Le Canton | O melhor Resort da Serra
X-ORIGINAL-URL:https://lecanton.com.br
X-WR-CALDESC:Eventos para Le Canton | O melhor Resort da Serra
REFRESH-INTERVAL;VALUE=DURATION:PT1H
X-Robots-Tag:noindex
X-PUBLISHED-TTL:PT1H
BEGIN:VTIMEZONE
TZID:America/Sao_Paulo
BEGIN:STANDARD
TZOFFSETFROM:-0300
TZOFFSETTO:-0300
TZNAME:-03
DTSTART:20250101T000000
END:STANDARD
END:VTIMEZONE
BEGIN:VEVENT
DTSTART;TZID=America/Sao_Paulo:20260411T120000
DTEND;TZID=America/Sao_Paulo:20260411T150000
DTSTAMP:20260421T152256
CREATED:20260319T181909Z
LAST-MODIFIED:20260319T181909Z
UID:10000010-1775908800-1775919600@lecanton.com.br
SUMMARY:Boteco com Samba
DESCRIPTION:Uma noite descontraída com o melhor do clima carioca! O Boteco com Samba traz o show animado do grupo Samba de Base\, com muito ritmo\, alegria e aquele repertório que todo mundo canta junto. Perfeito para curtir com amigos e família em um ambiente leve e festivo. Livre para todos os públicos.
URL:https://lecanton.com.br/evento/boteco-com-samba/
LOCATION:Parc Magique
CATEGORIES:Livre
ATTACH;FMTTYPE=image/jpeg:https://lecanton.com.br/wp-content/uploads/2026/03/boteco.jpg
END:VEVENT
BEGIN:VEVENT
DTSTART;TZID=America/Sao_Paulo:20260321T120000
DTEND;TZID=America/Sao_Paulo:20260321T150000
DTSTAMP:20260421T152256
CREATED:20260316T135642Z
LAST-MODIFIED:20260318T203529Z
UID:10000001-1774094400-1774105200@lecanton.com.br
SUMMARY:Festa Sertaneja
DESCRIPTION:Prepare-se para uma noite animada e cheia de energia com o melhor do sertanejo! A Festa Sertaneja traz um show especial de Alyny Melo\, muita música boa\, clima descontraído e diversão para toda a família. Um evento perfeito para cantar\, dançar e aproveitar momentos inesquecíveis. Público livre.
URL:https://lecanton.com.br/evento/festa-sertaneja/
LOCATION:Parc Magique
CATEGORIES:Livre
ATTACH;FMTTYPE=image/jpeg:https://lecanton.com.br/wp-content/uploads/2026/02/Festa-Sertaneja.jpg
END:VEVENT
END:VCALENDAR