BEGIN:VCALENDAR
VERSION:2.0
PRODID:-//Le Canton | O melhor Resort da Serra - ECPv6.15.17.1//NONSGML v1.0//EN
CALSCALE:GREGORIAN
METHOD:PUBLISH
X-ORIGINAL-URL:https://lecanton.com.br
X-WR-CALDESC:Eventos para Le Canton | O melhor Resort da Serra
REFRESH-INTERVAL;VALUE=DURATION:PT1H
X-Robots-Tag:noindex
X-PUBLISHED-TTL:PT1H
BEGIN:VTIMEZONE
TZID:America/Sao_Paulo
BEGIN:STANDARD
TZOFFSETFROM:-0300
TZOFFSETTO:-0300
TZNAME:-03
DTSTART:20250101T000000
END:STANDARD
END:VTIMEZONE
BEGIN:VEVENT
DTSTART;TZID=America/Sao_Paulo:20260831T163000
DTEND;TZID=America/Sao_Paulo:20260831T170000
DTSTAMP:20260419T124644
CREATED:20260413T190247Z
LAST-MODIFIED:20260413T190247Z
UID:10000915-1788193800-1788195600@lecanton.com.br
SUMMARY:Alongamento
DESCRIPTION:Um momento dedicado ao bem-estar e à leveza do corpo! A atividade de alongamento promove relaxamento\, melhora da mobilidade e equilíbrio\, sendo ideal para começar ou encerrar o dia com mais disposição. Exclusivo para adultos acima de 18 anos.O evento pode sofrer alterações de data\, local ou cancelamento sem aviso prévio.
URL:https://lecanton.com.br/evento/alongamento/2026-08-31/
LOCATION:Gramado Village
CATEGORIES:Adultos acima de 18 anos
ATTACH;FMTTYPE=image/jpeg:https://lecanton.com.br/wp-content/uploads/2026/04/alongamento.jpg
END:VEVENT
BEGIN:VEVENT
DTSTART;TZID=America/Sao_Paulo:20260902T153000
DTEND;TZID=America/Sao_Paulo:20260902T160000
DTSTAMP:20260419T124644
CREATED:20260413T205143Z
LAST-MODIFIED:20260413T205143Z
UID:10003788-1788363000-1788364800@lecanton.com.br
SUMMARY:Dardo
DESCRIPTION:Uma atividade clássica e descontraída que combina precisão e diversão. O jogo de dardo é perfeito para momentos de lazer entre amigos\, estimulando concentração e uma competição leve em um ambiente agradável. Exclusivo para adultos maiores de 18 anos.O evento pode sofrer alterações de data\, local ou cancelamento sem aviso prévio.
URL:https://lecanton.com.br/evento/dardo/2026-09-02/
LOCATION:Gramado Village
CATEGORIES:Adultos acima de 18 anos
ATTACH;FMTTYPE=image/jpeg:https://lecanton.com.br/wp-content/uploads/2026/04/dardo.jpg
END:VEVENT
BEGIN:VEVENT
DTSTART;TZID=America/Sao_Paulo:20260905T170000
DTEND;TZID=America/Sao_Paulo:20260905T173000
DTSTAMP:20260419T124645
CREATED:20260413T201947Z
LAST-MODIFIED:20260413T201947Z
UID:10001437-1788627600-1788629400@lecanton.com.br
SUMMARY:Aula de Yoga
DESCRIPTION:Um momento de conexão entre corpo e mente em meio a um ambiente tranquilo e acolhedor. A prática de yoga promove relaxamento\, equilíbrio e bem-estar\, sendo ideal para renovar as energias ao longo do dia. Exclusivo para adultos maiores de 18 anos.O evento pode sofrer alterações de data\, local ou cancelamento sem aviso prévio.
URL:https://lecanton.com.br/evento/aula-de-yoga/2026-09-05/
LOCATION:Gramado Village
ATTACH;FMTTYPE=image/jpeg:https://lecanton.com.br/wp-content/uploads/2026/04/yoga-1.jpg
END:VEVENT
BEGIN:VEVENT
DTSTART;TZID=America/Sao_Paulo:20260907T163000
DTEND;TZID=America/Sao_Paulo:20260907T170000
DTSTAMP:20260419T124645
CREATED:20260413T190247Z
LAST-MODIFIED:20260413T190247Z
UID:10000916-1788798600-1788800400@lecanton.com.br
SUMMARY:Alongamento
DESCRIPTION:Um momento dedicado ao bem-estar e à leveza do corpo! A atividade de alongamento promove relaxamento\, melhora da mobilidade e equilíbrio\, sendo ideal para começar ou encerrar o dia com mais disposição. Exclusivo para adultos acima de 18 anos.O evento pode sofrer alterações de data\, local ou cancelamento sem aviso prévio.
URL:https://lecanton.com.br/evento/alongamento/2026-09-07/
LOCATION:Gramado Village
CATEGORIES:Adultos acima de 18 anos
ATTACH;FMTTYPE=image/jpeg:https://lecanton.com.br/wp-content/uploads/2026/04/alongamento.jpg
END:VEVENT
BEGIN:VEVENT
DTSTART;TZID=America/Sao_Paulo:20260909T153000
DTEND;TZID=America/Sao_Paulo:20260909T160000
DTSTAMP:20260419T124645
CREATED:20260413T205143Z
LAST-MODIFIED:20260413T205143Z
UID:10003789-1788967800-1788969600@lecanton.com.br
SUMMARY:Dardo
DESCRIPTION:Uma atividade clássica e descontraída que combina precisão e diversão. O jogo de dardo é perfeito para momentos de lazer entre amigos\, estimulando concentração e uma competição leve em um ambiente agradável. Exclusivo para adultos maiores de 18 anos.O evento pode sofrer alterações de data\, local ou cancelamento sem aviso prévio.
URL:https://lecanton.com.br/evento/dardo/2026-09-09/
LOCATION:Gramado Village
CATEGORIES:Adultos acima de 18 anos
ATTACH;FMTTYPE=image/jpeg:https://lecanton.com.br/wp-content/uploads/2026/04/dardo.jpg
END:VEVENT
BEGIN:VEVENT
DTSTART;TZID=America/Sao_Paulo:20260912T170000
DTEND;TZID=America/Sao_Paulo:20260912T173000
DTSTAMP:20260419T124645
CREATED:20260413T201947Z
LAST-MODIFIED:20260413T201947Z
UID:10001438-1789232400-1789234200@lecanton.com.br
SUMMARY:Aula de Yoga
DESCRIPTION:Um momento de conexão entre corpo e mente em meio a um ambiente tranquilo e acolhedor. A prática de yoga promove relaxamento\, equilíbrio e bem-estar\, sendo ideal para renovar as energias ao longo do dia. Exclusivo para adultos maiores de 18 anos.O evento pode sofrer alterações de data\, local ou cancelamento sem aviso prévio.
URL:https://lecanton.com.br/evento/aula-de-yoga/2026-09-12/
LOCATION:Gramado Village
ATTACH;FMTTYPE=image/jpeg:https://lecanton.com.br/wp-content/uploads/2026/04/yoga-1.jpg
END:VEVENT
BEGIN:VEVENT
DTSTART;TZID=America/Sao_Paulo:20260914T163000
DTEND;TZID=America/Sao_Paulo:20260914T170000
DTSTAMP:20260419T124645
CREATED:20260413T190247Z
LAST-MODIFIED:20260413T190247Z
UID:10000917-1789403400-1789405200@lecanton.com.br
SUMMARY:Alongamento
DESCRIPTION:Um momento dedicado ao bem-estar e à leveza do corpo! A atividade de alongamento promove relaxamento\, melhora da mobilidade e equilíbrio\, sendo ideal para começar ou encerrar o dia com mais disposição. Exclusivo para adultos acima de 18 anos.O evento pode sofrer alterações de data\, local ou cancelamento sem aviso prévio.
URL:https://lecanton.com.br/evento/alongamento/2026-09-14/
LOCATION:Gramado Village
CATEGORIES:Adultos acima de 18 anos
ATTACH;FMTTYPE=image/jpeg:https://lecanton.com.br/wp-content/uploads/2026/04/alongamento.jpg
END:VEVENT
BEGIN:VEVENT
DTSTART;TZID=America/Sao_Paulo:20260916T153000
DTEND;TZID=America/Sao_Paulo:20260916T160000
DTSTAMP:20260419T124645
CREATED:20260413T205143Z
LAST-MODIFIED:20260413T205143Z
UID:10003790-1789572600-1789574400@lecanton.com.br
SUMMARY:Dardo
DESCRIPTION:Uma atividade clássica e descontraída que combina precisão e diversão. O jogo de dardo é perfeito para momentos de lazer entre amigos\, estimulando concentração e uma competição leve em um ambiente agradável. Exclusivo para adultos maiores de 18 anos.O evento pode sofrer alterações de data\, local ou cancelamento sem aviso prévio.
URL:https://lecanton.com.br/evento/dardo/2026-09-16/
LOCATION:Gramado Village
CATEGORIES:Adultos acima de 18 anos
ATTACH;FMTTYPE=image/jpeg:https://lecanton.com.br/wp-content/uploads/2026/04/dardo.jpg
END:VEVENT
BEGIN:VEVENT
DTSTART;TZID=America/Sao_Paulo:20260919T170000
DTEND;TZID=America/Sao_Paulo:20260919T173000
DTSTAMP:20260419T124645
CREATED:20260413T201947Z
LAST-MODIFIED:20260413T201947Z
UID:10001439-1789837200-1789839000@lecanton.com.br
SUMMARY:Aula de Yoga
DESCRIPTION:Um momento de conexão entre corpo e mente em meio a um ambiente tranquilo e acolhedor. A prática de yoga promove relaxamento\, equilíbrio e bem-estar\, sendo ideal para renovar as energias ao longo do dia. Exclusivo para adultos maiores de 18 anos.O evento pode sofrer alterações de data\, local ou cancelamento sem aviso prévio.
URL:https://lecanton.com.br/evento/aula-de-yoga/2026-09-19/
LOCATION:Gramado Village
ATTACH;FMTTYPE=image/jpeg:https://lecanton.com.br/wp-content/uploads/2026/04/yoga-1.jpg
END:VEVENT
BEGIN:VEVENT
DTSTART;TZID=America/Sao_Paulo:20260921T163000
DTEND;TZID=America/Sao_Paulo:20260921T170000
DTSTAMP:20260419T124645
CREATED:20260413T190247Z
LAST-MODIFIED:20260413T190247Z
UID:10000918-1790008200-1790010000@lecanton.com.br
SUMMARY:Alongamento
DESCRIPTION:Um momento dedicado ao bem-estar e à leveza do corpo! A atividade de alongamento promove relaxamento\, melhora da mobilidade e equilíbrio\, sendo ideal para começar ou encerrar o dia com mais disposição. Exclusivo para adultos acima de 18 anos.O evento pode sofrer alterações de data\, local ou cancelamento sem aviso prévio.
URL:https://lecanton.com.br/evento/alongamento/2026-09-21/
LOCATION:Gramado Village
CATEGORIES:Adultos acima de 18 anos
ATTACH;FMTTYPE=image/jpeg:https://lecanton.com.br/wp-content/uploads/2026/04/alongamento.jpg
END:VEVENT
BEGIN:VEVENT
DTSTART;TZID=America/Sao_Paulo:20260923T153000
DTEND;TZID=America/Sao_Paulo:20260923T160000
DTSTAMP:20260419T124645
CREATED:20260413T205143Z
LAST-MODIFIED:20260413T205143Z
UID:10003791-1790177400-1790179200@lecanton.com.br
SUMMARY:Dardo
DESCRIPTION:Uma atividade clássica e descontraída que combina precisão e diversão. O jogo de dardo é perfeito para momentos de lazer entre amigos\, estimulando concentração e uma competição leve em um ambiente agradável. Exclusivo para adultos maiores de 18 anos.O evento pode sofrer alterações de data\, local ou cancelamento sem aviso prévio.
URL:https://lecanton.com.br/evento/dardo/2026-09-23/
LOCATION:Gramado Village
CATEGORIES:Adultos acima de 18 anos
ATTACH;FMTTYPE=image/jpeg:https://lecanton.com.br/wp-content/uploads/2026/04/dardo.jpg
END:VEVENT
BEGIN:VEVENT
DTSTART;TZID=America/Sao_Paulo:20260926T170000
DTEND;TZID=America/Sao_Paulo:20260926T173000
DTSTAMP:20260419T124645
CREATED:20260413T201947Z
LAST-MODIFIED:20260413T201947Z
UID:10001440-1790442000-1790443800@lecanton.com.br
SUMMARY:Aula de Yoga
DESCRIPTION:Um momento de conexão entre corpo e mente em meio a um ambiente tranquilo e acolhedor. A prática de yoga promove relaxamento\, equilíbrio e bem-estar\, sendo ideal para renovar as energias ao longo do dia. Exclusivo para adultos maiores de 18 anos.O evento pode sofrer alterações de data\, local ou cancelamento sem aviso prévio.
URL:https://lecanton.com.br/evento/aula-de-yoga/2026-09-26/
LOCATION:Gramado Village
ATTACH;FMTTYPE=image/jpeg:https://lecanton.com.br/wp-content/uploads/2026/04/yoga-1.jpg
END:VEVENT
BEGIN:VEVENT
DTSTART;TZID=America/Sao_Paulo:20260928T163000
DTEND;TZID=America/Sao_Paulo:20260928T170000
DTSTAMP:20260419T124645
CREATED:20260413T190247Z
LAST-MODIFIED:20260413T190247Z
UID:10000919-1790613000-1790614800@lecanton.com.br
SUMMARY:Alongamento
DESCRIPTION:Um momento dedicado ao bem-estar e à leveza do corpo! A atividade de alongamento promove relaxamento\, melhora da mobilidade e equilíbrio\, sendo ideal para começar ou encerrar o dia com mais disposição. Exclusivo para adultos acima de 18 anos.O evento pode sofrer alterações de data\, local ou cancelamento sem aviso prévio.
URL:https://lecanton.com.br/evento/alongamento/2026-09-28/
LOCATION:Gramado Village
CATEGORIES:Adultos acima de 18 anos
ATTACH;FMTTYPE=image/jpeg:https://lecanton.com.br/wp-content/uploads/2026/04/alongamento.jpg
END:VEVENT
BEGIN:VEVENT
DTSTART;TZID=America/Sao_Paulo:20260930T153000
DTEND;TZID=America/Sao_Paulo:20260930T160000
DTSTAMP:20260419T124645
CREATED:20260413T205143Z
LAST-MODIFIED:20260413T205143Z
UID:10003792-1790782200-1790784000@lecanton.com.br
SUMMARY:Dardo
DESCRIPTION:Uma atividade clássica e descontraída que combina precisão e diversão. O jogo de dardo é perfeito para momentos de lazer entre amigos\, estimulando concentração e uma competição leve em um ambiente agradável. Exclusivo para adultos maiores de 18 anos.O evento pode sofrer alterações de data\, local ou cancelamento sem aviso prévio.
URL:https://lecanton.com.br/evento/dardo/2026-09-30/
LOCATION:Gramado Village
CATEGORIES:Adultos acima de 18 anos
ATTACH;FMTTYPE=image/jpeg:https://lecanton.com.br/wp-content/uploads/2026/04/dardo.jpg
END:VEVENT
BEGIN:VEVENT
DTSTART;TZID=America/Sao_Paulo:20261003T170000
DTEND;TZID=America/Sao_Paulo:20261003T173000
DTSTAMP:20260419T124645
CREATED:20260413T201947Z
LAST-MODIFIED:20260413T201947Z
UID:10001441-1791046800-1791048600@lecanton.com.br
SUMMARY:Aula de Yoga
DESCRIPTION:Um momento de conexão entre corpo e mente em meio a um ambiente tranquilo e acolhedor. A prática de yoga promove relaxamento\, equilíbrio e bem-estar\, sendo ideal para renovar as energias ao longo do dia. Exclusivo para adultos maiores de 18 anos.O evento pode sofrer alterações de data\, local ou cancelamento sem aviso prévio.
URL:https://lecanton.com.br/evento/aula-de-yoga/2026-10-03/
LOCATION:Gramado Village
ATTACH;FMTTYPE=image/jpeg:https://lecanton.com.br/wp-content/uploads/2026/04/yoga-1.jpg
END:VEVENT
BEGIN:VEVENT
DTSTART;TZID=America/Sao_Paulo:20261005T163000
DTEND;TZID=America/Sao_Paulo:20261005T170000
DTSTAMP:20260419T124645
CREATED:20260413T190247Z
LAST-MODIFIED:20260413T190247Z
UID:10000920-1791217800-1791219600@lecanton.com.br
SUMMARY:Alongamento
DESCRIPTION:Um momento dedicado ao bem-estar e à leveza do corpo! A atividade de alongamento promove relaxamento\, melhora da mobilidade e equilíbrio\, sendo ideal para começar ou encerrar o dia com mais disposição. Exclusivo para adultos acima de 18 anos.O evento pode sofrer alterações de data\, local ou cancelamento sem aviso prévio.
URL:https://lecanton.com.br/evento/alongamento/2026-10-05/
LOCATION:Gramado Village
CATEGORIES:Adultos acima de 18 anos
ATTACH;FMTTYPE=image/jpeg:https://lecanton.com.br/wp-content/uploads/2026/04/alongamento.jpg
END:VEVENT
BEGIN:VEVENT
DTSTART;TZID=America/Sao_Paulo:20261007T153000
DTEND;TZID=America/Sao_Paulo:20261007T160000
DTSTAMP:20260419T124645
CREATED:20260413T205143Z
LAST-MODIFIED:20260413T205143Z
UID:10003793-1791387000-1791388800@lecanton.com.br
SUMMARY:Dardo
DESCRIPTION:Uma atividade clássica e descontraída que combina precisão e diversão. O jogo de dardo é perfeito para momentos de lazer entre amigos\, estimulando concentração e uma competição leve em um ambiente agradável. Exclusivo para adultos maiores de 18 anos.O evento pode sofrer alterações de data\, local ou cancelamento sem aviso prévio.
URL:https://lecanton.com.br/evento/dardo/2026-10-07/
LOCATION:Gramado Village
CATEGORIES:Adultos acima de 18 anos
ATTACH;FMTTYPE=image/jpeg:https://lecanton.com.br/wp-content/uploads/2026/04/dardo.jpg
END:VEVENT
BEGIN:VEVENT
DTSTART;TZID=America/Sao_Paulo:20261010T170000
DTEND;TZID=America/Sao_Paulo:20261010T173000
DTSTAMP:20260419T124645
CREATED:20260413T201947Z
LAST-MODIFIED:20260413T201947Z
UID:10001442-1791651600-1791653400@lecanton.com.br
SUMMARY:Aula de Yoga
DESCRIPTION:Um momento de conexão entre corpo e mente em meio a um ambiente tranquilo e acolhedor. A prática de yoga promove relaxamento\, equilíbrio e bem-estar\, sendo ideal para renovar as energias ao longo do dia. Exclusivo para adultos maiores de 18 anos.O evento pode sofrer alterações de data\, local ou cancelamento sem aviso prévio.
URL:https://lecanton.com.br/evento/aula-de-yoga/2026-10-10/
LOCATION:Gramado Village
ATTACH;FMTTYPE=image/jpeg:https://lecanton.com.br/wp-content/uploads/2026/04/yoga-1.jpg
END:VEVENT
BEGIN:VEVENT
DTSTART;TZID=America/Sao_Paulo:20261012T163000
DTEND;TZID=America/Sao_Paulo:20261012T170000
DTSTAMP:20260419T124645
CREATED:20260413T190247Z
LAST-MODIFIED:20260413T190247Z
UID:10000921-1791822600-1791824400@lecanton.com.br
SUMMARY:Alongamento
DESCRIPTION:Um momento dedicado ao bem-estar e à leveza do corpo! A atividade de alongamento promove relaxamento\, melhora da mobilidade e equilíbrio\, sendo ideal para começar ou encerrar o dia com mais disposição. Exclusivo para adultos acima de 18 anos.O evento pode sofrer alterações de data\, local ou cancelamento sem aviso prévio.
URL:https://lecanton.com.br/evento/alongamento/2026-10-12/
LOCATION:Gramado Village
CATEGORIES:Adultos acima de 18 anos
ATTACH;FMTTYPE=image/jpeg:https://lecanton.com.br/wp-content/uploads/2026/04/alongamento.jpg
END:VEVENT
BEGIN:VEVENT
DTSTART;TZID=America/Sao_Paulo:20261014T153000
DTEND;TZID=America/Sao_Paulo:20261014T160000
DTSTAMP:20260419T124645
CREATED:20260413T205143Z
LAST-MODIFIED:20260413T205143Z
UID:10003794-1791991800-1791993600@lecanton.com.br
SUMMARY:Dardo
DESCRIPTION:Uma atividade clássica e descontraída que combina precisão e diversão. O jogo de dardo é perfeito para momentos de lazer entre amigos\, estimulando concentração e uma competição leve em um ambiente agradável. Exclusivo para adultos maiores de 18 anos.O evento pode sofrer alterações de data\, local ou cancelamento sem aviso prévio.
URL:https://lecanton.com.br/evento/dardo/2026-10-14/
LOCATION:Gramado Village
CATEGORIES:Adultos acima de 18 anos
ATTACH;FMTTYPE=image/jpeg:https://lecanton.com.br/wp-content/uploads/2026/04/dardo.jpg
END:VEVENT
BEGIN:VEVENT
DTSTART;TZID=America/Sao_Paulo:20261017T170000
DTEND;TZID=America/Sao_Paulo:20261017T173000
DTSTAMP:20260419T124645
CREATED:20260413T201947Z
LAST-MODIFIED:20260413T201947Z
UID:10001443-1792256400-1792258200@lecanton.com.br
SUMMARY:Aula de Yoga
DESCRIPTION:Um momento de conexão entre corpo e mente em meio a um ambiente tranquilo e acolhedor. A prática de yoga promove relaxamento\, equilíbrio e bem-estar\, sendo ideal para renovar as energias ao longo do dia. Exclusivo para adultos maiores de 18 anos.O evento pode sofrer alterações de data\, local ou cancelamento sem aviso prévio.
URL:https://lecanton.com.br/evento/aula-de-yoga/2026-10-17/
LOCATION:Gramado Village
ATTACH;FMTTYPE=image/jpeg:https://lecanton.com.br/wp-content/uploads/2026/04/yoga-1.jpg
END:VEVENT
BEGIN:VEVENT
DTSTART;TZID=America/Sao_Paulo:20261019T163000
DTEND;TZID=America/Sao_Paulo:20261019T170000
DTSTAMP:20260419T124645
CREATED:20260413T190247Z
LAST-MODIFIED:20260413T190247Z
UID:10000922-1792427400-1792429200@lecanton.com.br
SUMMARY:Alongamento
DESCRIPTION:Um momento dedicado ao bem-estar e à leveza do corpo! A atividade de alongamento promove relaxamento\, melhora da mobilidade e equilíbrio\, sendo ideal para começar ou encerrar o dia com mais disposição. Exclusivo para adultos acima de 18 anos.O evento pode sofrer alterações de data\, local ou cancelamento sem aviso prévio.
URL:https://lecanton.com.br/evento/alongamento/2026-10-19/
LOCATION:Gramado Village
CATEGORIES:Adultos acima de 18 anos
ATTACH;FMTTYPE=image/jpeg:https://lecanton.com.br/wp-content/uploads/2026/04/alongamento.jpg
END:VEVENT
BEGIN:VEVENT
DTSTART;TZID=America/Sao_Paulo:20261021T153000
DTEND;TZID=America/Sao_Paulo:20261021T160000
DTSTAMP:20260419T124645
CREATED:20260413T205143Z
LAST-MODIFIED:20260413T205143Z
UID:10003795-1792596600-1792598400@lecanton.com.br
SUMMARY:Dardo
DESCRIPTION:Uma atividade clássica e descontraída que combina precisão e diversão. O jogo de dardo é perfeito para momentos de lazer entre amigos\, estimulando concentração e uma competição leve em um ambiente agradável. Exclusivo para adultos maiores de 18 anos.O evento pode sofrer alterações de data\, local ou cancelamento sem aviso prévio.
URL:https://lecanton.com.br/evento/dardo/2026-10-21/
LOCATION:Gramado Village
CATEGORIES:Adultos acima de 18 anos
ATTACH;FMTTYPE=image/jpeg:https://lecanton.com.br/wp-content/uploads/2026/04/dardo.jpg
END:VEVENT
BEGIN:VEVENT
DTSTART;TZID=America/Sao_Paulo:20261024T170000
DTEND;TZID=America/Sao_Paulo:20261024T173000
DTSTAMP:20260419T124645
CREATED:20260413T201947Z
LAST-MODIFIED:20260413T201947Z
UID:10001444-1792861200-1792863000@lecanton.com.br
SUMMARY:Aula de Yoga
DESCRIPTION:Um momento de conexão entre corpo e mente em meio a um ambiente tranquilo e acolhedor. A prática de yoga promove relaxamento\, equilíbrio e bem-estar\, sendo ideal para renovar as energias ao longo do dia. Exclusivo para adultos maiores de 18 anos.O evento pode sofrer alterações de data\, local ou cancelamento sem aviso prévio.
URL:https://lecanton.com.br/evento/aula-de-yoga/2026-10-24/
LOCATION:Gramado Village
ATTACH;FMTTYPE=image/jpeg:https://lecanton.com.br/wp-content/uploads/2026/04/yoga-1.jpg
END:VEVENT
BEGIN:VEVENT
DTSTART;TZID=America/Sao_Paulo:20261026T163000
DTEND;TZID=America/Sao_Paulo:20261026T170000
DTSTAMP:20260419T124645
CREATED:20260413T190247Z
LAST-MODIFIED:20260413T190247Z
UID:10000923-1793032200-1793034000@lecanton.com.br
SUMMARY:Alongamento
DESCRIPTION:Um momento dedicado ao bem-estar e à leveza do corpo! A atividade de alongamento promove relaxamento\, melhora da mobilidade e equilíbrio\, sendo ideal para começar ou encerrar o dia com mais disposição. Exclusivo para adultos acima de 18 anos.O evento pode sofrer alterações de data\, local ou cancelamento sem aviso prévio.
URL:https://lecanton.com.br/evento/alongamento/2026-10-26/
LOCATION:Gramado Village
CATEGORIES:Adultos acima de 18 anos
ATTACH;FMTTYPE=image/jpeg:https://lecanton.com.br/wp-content/uploads/2026/04/alongamento.jpg
END:VEVENT
BEGIN:VEVENT
DTSTART;TZID=America/Sao_Paulo:20261028T153000
DTEND;TZID=America/Sao_Paulo:20261028T160000
DTSTAMP:20260419T124645
CREATED:20260413T205143Z
LAST-MODIFIED:20260413T205143Z
UID:10003796-1793201400-1793203200@lecanton.com.br
SUMMARY:Dardo
DESCRIPTION:Uma atividade clássica e descontraída que combina precisão e diversão. O jogo de dardo é perfeito para momentos de lazer entre amigos\, estimulando concentração e uma competição leve em um ambiente agradável. Exclusivo para adultos maiores de 18 anos.O evento pode sofrer alterações de data\, local ou cancelamento sem aviso prévio.
URL:https://lecanton.com.br/evento/dardo/2026-10-28/
LOCATION:Gramado Village
CATEGORIES:Adultos acima de 18 anos
ATTACH;FMTTYPE=image/jpeg:https://lecanton.com.br/wp-content/uploads/2026/04/dardo.jpg
END:VEVENT
BEGIN:VEVENT
DTSTART;TZID=America/Sao_Paulo:20261031T170000
DTEND;TZID=America/Sao_Paulo:20261031T173000
DTSTAMP:20260419T124645
CREATED:20260413T201947Z
LAST-MODIFIED:20260413T201947Z
UID:10001445-1793466000-1793467800@lecanton.com.br
SUMMARY:Aula de Yoga
DESCRIPTION:Um momento de conexão entre corpo e mente em meio a um ambiente tranquilo e acolhedor. A prática de yoga promove relaxamento\, equilíbrio e bem-estar\, sendo ideal para renovar as energias ao longo do dia. Exclusivo para adultos maiores de 18 anos.O evento pode sofrer alterações de data\, local ou cancelamento sem aviso prévio.
URL:https://lecanton.com.br/evento/aula-de-yoga/2026-10-31/
LOCATION:Gramado Village
ATTACH;FMTTYPE=image/jpeg:https://lecanton.com.br/wp-content/uploads/2026/04/yoga-1.jpg
END:VEVENT
BEGIN:VEVENT
DTSTART;TZID=America/Sao_Paulo:20261102T163000
DTEND;TZID=America/Sao_Paulo:20261102T170000
DTSTAMP:20260419T124645
CREATED:20260413T190247Z
LAST-MODIFIED:20260413T190247Z
UID:10000924-1793637000-1793638800@lecanton.com.br
SUMMARY:Alongamento
DESCRIPTION:Um momento dedicado ao bem-estar e à leveza do corpo! A atividade de alongamento promove relaxamento\, melhora da mobilidade e equilíbrio\, sendo ideal para começar ou encerrar o dia com mais disposição. Exclusivo para adultos acima de 18 anos.O evento pode sofrer alterações de data\, local ou cancelamento sem aviso prévio.
URL:https://lecanton.com.br/evento/alongamento/2026-11-02/
LOCATION:Gramado Village
CATEGORIES:Adultos acima de 18 anos
ATTACH;FMTTYPE=image/jpeg:https://lecanton.com.br/wp-content/uploads/2026/04/alongamento.jpg
END:VEVENT
BEGIN:VEVENT
DTSTART;TZID=America/Sao_Paulo:20261104T153000
DTEND;TZID=America/Sao_Paulo:20261104T160000
DTSTAMP:20260419T124645
CREATED:20260413T205143Z
LAST-MODIFIED:20260413T205143Z
UID:10003797-1793806200-1793808000@lecanton.com.br
SUMMARY:Dardo
DESCRIPTION:Uma atividade clássica e descontraída que combina precisão e diversão. O jogo de dardo é perfeito para momentos de lazer entre amigos\, estimulando concentração e uma competição leve em um ambiente agradável. Exclusivo para adultos maiores de 18 anos.O evento pode sofrer alterações de data\, local ou cancelamento sem aviso prévio.
URL:https://lecanton.com.br/evento/dardo/2026-11-04/
LOCATION:Gramado Village
CATEGORIES:Adultos acima de 18 anos
ATTACH;FMTTYPE=image/jpeg:https://lecanton.com.br/wp-content/uploads/2026/04/dardo.jpg
END:VEVENT
BEGIN:VEVENT
DTSTART;TZID=America/Sao_Paulo:20261107T170000
DTEND;TZID=America/Sao_Paulo:20261107T173000
DTSTAMP:20260419T124645
CREATED:20260413T201947Z
LAST-MODIFIED:20260413T201947Z
UID:10001446-1794070800-1794072600@lecanton.com.br
SUMMARY:Aula de Yoga
DESCRIPTION:Um momento de conexão entre corpo e mente em meio a um ambiente tranquilo e acolhedor. A prática de yoga promove relaxamento\, equilíbrio e bem-estar\, sendo ideal para renovar as energias ao longo do dia. Exclusivo para adultos maiores de 18 anos.O evento pode sofrer alterações de data\, local ou cancelamento sem aviso prévio.
URL:https://lecanton.com.br/evento/aula-de-yoga/2026-11-07/
LOCATION:Gramado Village
ATTACH;FMTTYPE=image/jpeg:https://lecanton.com.br/wp-content/uploads/2026/04/yoga-1.jpg
END:VEVENT
END:VCALENDAR