BEGIN:VCALENDAR
VERSION:2.0
PRODID:-//Le Canton | O melhor Resort da Serra - ECPv6.15.17.1//NONSGML v1.0//EN
CALSCALE:GREGORIAN
METHOD:PUBLISH
X-WR-CALNAME:Le Canton | O melhor Resort da Serra
X-ORIGINAL-URL:https://lecanton.com.br
X-WR-CALDESC:Eventos para Le Canton | O melhor Resort da Serra
REFRESH-INTERVAL;VALUE=DURATION:PT1H
X-Robots-Tag:noindex
X-PUBLISHED-TTL:PT1H
BEGIN:VTIMEZONE
TZID:America/Sao_Paulo
BEGIN:STANDARD
TZOFFSETFROM:-0300
TZOFFSETTO:-0300
TZNAME:-03
DTSTART:20260101T000000
END:STANDARD
END:VTIMEZONE
BEGIN:VEVENT
DTSTART;TZID=America/Sao_Paulo:20270719T163000
DTEND;TZID=America/Sao_Paulo:20270719T170000
DTSTAMP:20260423T013547
CREATED:20260413T190247Z
LAST-MODIFIED:20260413T190247Z
UID:10000961-1816014600-1816016400@lecanton.com.br
SUMMARY:Alongamento
DESCRIPTION:Um momento dedicado ao bem-estar e à leveza do corpo! A atividade de alongamento promove relaxamento\, melhora da mobilidade e equilíbrio\, sendo ideal para começar ou encerrar o dia com mais disposição. Exclusivo para adultos acima de 18 anos.O evento pode sofrer alterações de data\, local ou cancelamento sem aviso prévio.
URL:https://lecanton.com.br/evento/alongamento/2027-07-19/
LOCATION:Gramado Village
CATEGORIES:Adultos acima de 18 anos
ATTACH;FMTTYPE=image/jpeg:https://lecanton.com.br/wp-content/uploads/2026/04/alongamento.jpg
END:VEVENT
BEGIN:VEVENT
DTSTART;TZID=America/Sao_Paulo:20270721T153000
DTEND;TZID=America/Sao_Paulo:20270721T160000
DTSTAMP:20260423T013547
CREATED:20260413T205143Z
LAST-MODIFIED:20260413T205143Z
UID:10003834-1816183800-1816185600@lecanton.com.br
SUMMARY:Dardo
DESCRIPTION:Uma atividade clássica e descontraída que combina precisão e diversão. O jogo de dardo é perfeito para momentos de lazer entre amigos\, estimulando concentração e uma competição leve em um ambiente agradável. Exclusivo para adultos maiores de 18 anos.O evento pode sofrer alterações de data\, local ou cancelamento sem aviso prévio.
URL:https://lecanton.com.br/evento/dardo/2027-07-21/
LOCATION:Gramado Village
CATEGORIES:Adultos acima de 18 anos
ATTACH;FMTTYPE=image/jpeg:https://lecanton.com.br/wp-content/uploads/2026/04/dardo.jpg
END:VEVENT
BEGIN:VEVENT
DTSTART;TZID=America/Sao_Paulo:20270724T170000
DTEND;TZID=America/Sao_Paulo:20270724T173000
DTSTAMP:20260423T013547
CREATED:20260413T201947Z
LAST-MODIFIED:20260413T201947Z
UID:10001483-1816448400-1816450200@lecanton.com.br
SUMMARY:Aula de Yoga
DESCRIPTION:Um momento de conexão entre corpo e mente em meio a um ambiente tranquilo e acolhedor. A prática de yoga promove relaxamento\, equilíbrio e bem-estar\, sendo ideal para renovar as energias ao longo do dia. Exclusivo para adultos maiores de 18 anos.O evento pode sofrer alterações de data\, local ou cancelamento sem aviso prévio.
URL:https://lecanton.com.br/evento/aula-de-yoga/2027-07-24/
LOCATION:Gramado Village
ATTACH;FMTTYPE=image/jpeg:https://lecanton.com.br/wp-content/uploads/2026/04/yoga-1.jpg
END:VEVENT
BEGIN:VEVENT
DTSTART;TZID=America/Sao_Paulo:20270726T163000
DTEND;TZID=America/Sao_Paulo:20270726T170000
DTSTAMP:20260423T013547
CREATED:20260413T190247Z
LAST-MODIFIED:20260413T190247Z
UID:10000962-1816619400-1816621200@lecanton.com.br
SUMMARY:Alongamento
DESCRIPTION:Um momento dedicado ao bem-estar e à leveza do corpo! A atividade de alongamento promove relaxamento\, melhora da mobilidade e equilíbrio\, sendo ideal para começar ou encerrar o dia com mais disposição. Exclusivo para adultos acima de 18 anos.O evento pode sofrer alterações de data\, local ou cancelamento sem aviso prévio.
URL:https://lecanton.com.br/evento/alongamento/2027-07-26/
LOCATION:Gramado Village
CATEGORIES:Adultos acima de 18 anos
ATTACH;FMTTYPE=image/jpeg:https://lecanton.com.br/wp-content/uploads/2026/04/alongamento.jpg
END:VEVENT
BEGIN:VEVENT
DTSTART;TZID=America/Sao_Paulo:20270728T153000
DTEND;TZID=America/Sao_Paulo:20270728T160000
DTSTAMP:20260423T013547
CREATED:20260413T205143Z
LAST-MODIFIED:20260413T205143Z
UID:10003835-1816788600-1816790400@lecanton.com.br
SUMMARY:Dardo
DESCRIPTION:Uma atividade clássica e descontraída que combina precisão e diversão. O jogo de dardo é perfeito para momentos de lazer entre amigos\, estimulando concentração e uma competição leve em um ambiente agradável. Exclusivo para adultos maiores de 18 anos.O evento pode sofrer alterações de data\, local ou cancelamento sem aviso prévio.
URL:https://lecanton.com.br/evento/dardo/2027-07-28/
LOCATION:Gramado Village
CATEGORIES:Adultos acima de 18 anos
ATTACH;FMTTYPE=image/jpeg:https://lecanton.com.br/wp-content/uploads/2026/04/dardo.jpg
END:VEVENT
BEGIN:VEVENT
DTSTART;TZID=America/Sao_Paulo:20270731T170000
DTEND;TZID=America/Sao_Paulo:20270731T173000
DTSTAMP:20260423T013547
CREATED:20260413T201947Z
LAST-MODIFIED:20260413T201947Z
UID:10001484-1817053200-1817055000@lecanton.com.br
SUMMARY:Aula de Yoga
DESCRIPTION:Um momento de conexão entre corpo e mente em meio a um ambiente tranquilo e acolhedor. A prática de yoga promove relaxamento\, equilíbrio e bem-estar\, sendo ideal para renovar as energias ao longo do dia. Exclusivo para adultos maiores de 18 anos.O evento pode sofrer alterações de data\, local ou cancelamento sem aviso prévio.
URL:https://lecanton.com.br/evento/aula-de-yoga/2027-07-31/
LOCATION:Gramado Village
ATTACH;FMTTYPE=image/jpeg:https://lecanton.com.br/wp-content/uploads/2026/04/yoga-1.jpg
END:VEVENT
BEGIN:VEVENT
DTSTART;TZID=America/Sao_Paulo:20270802T163000
DTEND;TZID=America/Sao_Paulo:20270802T170000
DTSTAMP:20260423T013547
CREATED:20260413T190247Z
LAST-MODIFIED:20260413T190247Z
UID:10000963-1817224200-1817226000@lecanton.com.br
SUMMARY:Alongamento
DESCRIPTION:Um momento dedicado ao bem-estar e à leveza do corpo! A atividade de alongamento promove relaxamento\, melhora da mobilidade e equilíbrio\, sendo ideal para começar ou encerrar o dia com mais disposição. Exclusivo para adultos acima de 18 anos.O evento pode sofrer alterações de data\, local ou cancelamento sem aviso prévio.
URL:https://lecanton.com.br/evento/alongamento/2027-08-02/
LOCATION:Gramado Village
CATEGORIES:Adultos acima de 18 anos
ATTACH;FMTTYPE=image/jpeg:https://lecanton.com.br/wp-content/uploads/2026/04/alongamento.jpg
END:VEVENT
BEGIN:VEVENT
DTSTART;TZID=America/Sao_Paulo:20270804T153000
DTEND;TZID=America/Sao_Paulo:20270804T160000
DTSTAMP:20260423T013547
CREATED:20260413T205143Z
LAST-MODIFIED:20260413T205143Z
UID:10003836-1817393400-1817395200@lecanton.com.br
SUMMARY:Dardo
DESCRIPTION:Uma atividade clássica e descontraída que combina precisão e diversão. O jogo de dardo é perfeito para momentos de lazer entre amigos\, estimulando concentração e uma competição leve em um ambiente agradável. Exclusivo para adultos maiores de 18 anos.O evento pode sofrer alterações de data\, local ou cancelamento sem aviso prévio.
URL:https://lecanton.com.br/evento/dardo/2027-08-04/
LOCATION:Gramado Village
CATEGORIES:Adultos acima de 18 anos
ATTACH;FMTTYPE=image/jpeg:https://lecanton.com.br/wp-content/uploads/2026/04/dardo.jpg
END:VEVENT
BEGIN:VEVENT
DTSTART;TZID=America/Sao_Paulo:20270807T170000
DTEND;TZID=America/Sao_Paulo:20270807T173000
DTSTAMP:20260423T013547
CREATED:20260413T201947Z
LAST-MODIFIED:20260413T201947Z
UID:10001485-1817658000-1817659800@lecanton.com.br
SUMMARY:Aula de Yoga
DESCRIPTION:Um momento de conexão entre corpo e mente em meio a um ambiente tranquilo e acolhedor. A prática de yoga promove relaxamento\, equilíbrio e bem-estar\, sendo ideal para renovar as energias ao longo do dia. Exclusivo para adultos maiores de 18 anos.O evento pode sofrer alterações de data\, local ou cancelamento sem aviso prévio.
URL:https://lecanton.com.br/evento/aula-de-yoga/2027-08-07/
LOCATION:Gramado Village
ATTACH;FMTTYPE=image/jpeg:https://lecanton.com.br/wp-content/uploads/2026/04/yoga-1.jpg
END:VEVENT
BEGIN:VEVENT
DTSTART;TZID=America/Sao_Paulo:20270809T163000
DTEND;TZID=America/Sao_Paulo:20270809T170000
DTSTAMP:20260423T013547
CREATED:20260413T190247Z
LAST-MODIFIED:20260413T190247Z
UID:10000964-1817829000-1817830800@lecanton.com.br
SUMMARY:Alongamento
DESCRIPTION:Um momento dedicado ao bem-estar e à leveza do corpo! A atividade de alongamento promove relaxamento\, melhora da mobilidade e equilíbrio\, sendo ideal para começar ou encerrar o dia com mais disposição. Exclusivo para adultos acima de 18 anos.O evento pode sofrer alterações de data\, local ou cancelamento sem aviso prévio.
URL:https://lecanton.com.br/evento/alongamento/2027-08-09/
LOCATION:Gramado Village
CATEGORIES:Adultos acima de 18 anos
ATTACH;FMTTYPE=image/jpeg:https://lecanton.com.br/wp-content/uploads/2026/04/alongamento.jpg
END:VEVENT
BEGIN:VEVENT
DTSTART;TZID=America/Sao_Paulo:20270811T153000
DTEND;TZID=America/Sao_Paulo:20270811T160000
DTSTAMP:20260423T013547
CREATED:20260413T205143Z
LAST-MODIFIED:20260413T205143Z
UID:10003837-1817998200-1818000000@lecanton.com.br
SUMMARY:Dardo
DESCRIPTION:Uma atividade clássica e descontraída que combina precisão e diversão. O jogo de dardo é perfeito para momentos de lazer entre amigos\, estimulando concentração e uma competição leve em um ambiente agradável. Exclusivo para adultos maiores de 18 anos.O evento pode sofrer alterações de data\, local ou cancelamento sem aviso prévio.
URL:https://lecanton.com.br/evento/dardo/2027-08-11/
LOCATION:Gramado Village
CATEGORIES:Adultos acima de 18 anos
ATTACH;FMTTYPE=image/jpeg:https://lecanton.com.br/wp-content/uploads/2026/04/dardo.jpg
END:VEVENT
BEGIN:VEVENT
DTSTART;TZID=America/Sao_Paulo:20270814T170000
DTEND;TZID=America/Sao_Paulo:20270814T173000
DTSTAMP:20260423T013547
CREATED:20260413T201947Z
LAST-MODIFIED:20260413T201947Z
UID:10001486-1818262800-1818264600@lecanton.com.br
SUMMARY:Aula de Yoga
DESCRIPTION:Um momento de conexão entre corpo e mente em meio a um ambiente tranquilo e acolhedor. A prática de yoga promove relaxamento\, equilíbrio e bem-estar\, sendo ideal para renovar as energias ao longo do dia. Exclusivo para adultos maiores de 18 anos.O evento pode sofrer alterações de data\, local ou cancelamento sem aviso prévio.
URL:https://lecanton.com.br/evento/aula-de-yoga/2027-08-14/
LOCATION:Gramado Village
ATTACH;FMTTYPE=image/jpeg:https://lecanton.com.br/wp-content/uploads/2026/04/yoga-1.jpg
END:VEVENT
BEGIN:VEVENT
DTSTART;TZID=America/Sao_Paulo:20270816T163000
DTEND;TZID=America/Sao_Paulo:20270816T170000
DTSTAMP:20260423T013547
CREATED:20260413T190247Z
LAST-MODIFIED:20260413T190247Z
UID:10000965-1818433800-1818435600@lecanton.com.br
SUMMARY:Alongamento
DESCRIPTION:Um momento dedicado ao bem-estar e à leveza do corpo! A atividade de alongamento promove relaxamento\, melhora da mobilidade e equilíbrio\, sendo ideal para começar ou encerrar o dia com mais disposição. Exclusivo para adultos acima de 18 anos.O evento pode sofrer alterações de data\, local ou cancelamento sem aviso prévio.
URL:https://lecanton.com.br/evento/alongamento/2027-08-16/
LOCATION:Gramado Village
CATEGORIES:Adultos acima de 18 anos
ATTACH;FMTTYPE=image/jpeg:https://lecanton.com.br/wp-content/uploads/2026/04/alongamento.jpg
END:VEVENT
BEGIN:VEVENT
DTSTART;TZID=America/Sao_Paulo:20270818T153000
DTEND;TZID=America/Sao_Paulo:20270818T160000
DTSTAMP:20260423T013547
CREATED:20260413T205143Z
LAST-MODIFIED:20260413T205143Z
UID:10003838-1818603000-1818604800@lecanton.com.br
SUMMARY:Dardo
DESCRIPTION:Uma atividade clássica e descontraída que combina precisão e diversão. O jogo de dardo é perfeito para momentos de lazer entre amigos\, estimulando concentração e uma competição leve em um ambiente agradável. Exclusivo para adultos maiores de 18 anos.O evento pode sofrer alterações de data\, local ou cancelamento sem aviso prévio.
URL:https://lecanton.com.br/evento/dardo/2027-08-18/
LOCATION:Gramado Village
CATEGORIES:Adultos acima de 18 anos
ATTACH;FMTTYPE=image/jpeg:https://lecanton.com.br/wp-content/uploads/2026/04/dardo.jpg
END:VEVENT
BEGIN:VEVENT
DTSTART;TZID=America/Sao_Paulo:20270821T170000
DTEND;TZID=America/Sao_Paulo:20270821T173000
DTSTAMP:20260423T013547
CREATED:20260413T201947Z
LAST-MODIFIED:20260413T201947Z
UID:10001487-1818867600-1818869400@lecanton.com.br
SUMMARY:Aula de Yoga
DESCRIPTION:Um momento de conexão entre corpo e mente em meio a um ambiente tranquilo e acolhedor. A prática de yoga promove relaxamento\, equilíbrio e bem-estar\, sendo ideal para renovar as energias ao longo do dia. Exclusivo para adultos maiores de 18 anos.O evento pode sofrer alterações de data\, local ou cancelamento sem aviso prévio.
URL:https://lecanton.com.br/evento/aula-de-yoga/2027-08-21/
LOCATION:Gramado Village
ATTACH;FMTTYPE=image/jpeg:https://lecanton.com.br/wp-content/uploads/2026/04/yoga-1.jpg
END:VEVENT
BEGIN:VEVENT
DTSTART;TZID=America/Sao_Paulo:20270823T163000
DTEND;TZID=America/Sao_Paulo:20270823T170000
DTSTAMP:20260423T013547
CREATED:20260413T190247Z
LAST-MODIFIED:20260413T190247Z
UID:10000966-1819038600-1819040400@lecanton.com.br
SUMMARY:Alongamento
DESCRIPTION:Um momento dedicado ao bem-estar e à leveza do corpo! A atividade de alongamento promove relaxamento\, melhora da mobilidade e equilíbrio\, sendo ideal para começar ou encerrar o dia com mais disposição. Exclusivo para adultos acima de 18 anos.O evento pode sofrer alterações de data\, local ou cancelamento sem aviso prévio.
URL:https://lecanton.com.br/evento/alongamento/2027-08-23/
LOCATION:Gramado Village
CATEGORIES:Adultos acima de 18 anos
ATTACH;FMTTYPE=image/jpeg:https://lecanton.com.br/wp-content/uploads/2026/04/alongamento.jpg
END:VEVENT
BEGIN:VEVENT
DTSTART;TZID=America/Sao_Paulo:20270825T153000
DTEND;TZID=America/Sao_Paulo:20270825T160000
DTSTAMP:20260423T013547
CREATED:20260413T205143Z
LAST-MODIFIED:20260413T205143Z
UID:10003839-1819207800-1819209600@lecanton.com.br
SUMMARY:Dardo
DESCRIPTION:Uma atividade clássica e descontraída que combina precisão e diversão. O jogo de dardo é perfeito para momentos de lazer entre amigos\, estimulando concentração e uma competição leve em um ambiente agradável. Exclusivo para adultos maiores de 18 anos.O evento pode sofrer alterações de data\, local ou cancelamento sem aviso prévio.
URL:https://lecanton.com.br/evento/dardo/2027-08-25/
LOCATION:Gramado Village
CATEGORIES:Adultos acima de 18 anos
ATTACH;FMTTYPE=image/jpeg:https://lecanton.com.br/wp-content/uploads/2026/04/dardo.jpg
END:VEVENT
BEGIN:VEVENT
DTSTART;TZID=America/Sao_Paulo:20270828T170000
DTEND;TZID=America/Sao_Paulo:20270828T173000
DTSTAMP:20260423T013547
CREATED:20260413T201947Z
LAST-MODIFIED:20260413T201947Z
UID:10001488-1819472400-1819474200@lecanton.com.br
SUMMARY:Aula de Yoga
DESCRIPTION:Um momento de conexão entre corpo e mente em meio a um ambiente tranquilo e acolhedor. A prática de yoga promove relaxamento\, equilíbrio e bem-estar\, sendo ideal para renovar as energias ao longo do dia. Exclusivo para adultos maiores de 18 anos.O evento pode sofrer alterações de data\, local ou cancelamento sem aviso prévio.
URL:https://lecanton.com.br/evento/aula-de-yoga/2027-08-28/
LOCATION:Gramado Village
ATTACH;FMTTYPE=image/jpeg:https://lecanton.com.br/wp-content/uploads/2026/04/yoga-1.jpg
END:VEVENT
BEGIN:VEVENT
DTSTART;TZID=America/Sao_Paulo:20270830T163000
DTEND;TZID=America/Sao_Paulo:20270830T170000
DTSTAMP:20260423T013547
CREATED:20260413T190247Z
LAST-MODIFIED:20260413T190247Z
UID:10000967-1819643400-1819645200@lecanton.com.br
SUMMARY:Alongamento
DESCRIPTION:Um momento dedicado ao bem-estar e à leveza do corpo! A atividade de alongamento promove relaxamento\, melhora da mobilidade e equilíbrio\, sendo ideal para começar ou encerrar o dia com mais disposição. Exclusivo para adultos acima de 18 anos.O evento pode sofrer alterações de data\, local ou cancelamento sem aviso prévio.
URL:https://lecanton.com.br/evento/alongamento/2027-08-30/
LOCATION:Gramado Village
CATEGORIES:Adultos acima de 18 anos
ATTACH;FMTTYPE=image/jpeg:https://lecanton.com.br/wp-content/uploads/2026/04/alongamento.jpg
END:VEVENT
BEGIN:VEVENT
DTSTART;TZID=America/Sao_Paulo:20270901T153000
DTEND;TZID=America/Sao_Paulo:20270901T160000
DTSTAMP:20260423T013547
CREATED:20260413T205143Z
LAST-MODIFIED:20260413T205143Z
UID:10003840-1819812600-1819814400@lecanton.com.br
SUMMARY:Dardo
DESCRIPTION:Uma atividade clássica e descontraída que combina precisão e diversão. O jogo de dardo é perfeito para momentos de lazer entre amigos\, estimulando concentração e uma competição leve em um ambiente agradável. Exclusivo para adultos maiores de 18 anos.O evento pode sofrer alterações de data\, local ou cancelamento sem aviso prévio.
URL:https://lecanton.com.br/evento/dardo/2027-09-01/
LOCATION:Gramado Village
CATEGORIES:Adultos acima de 18 anos
ATTACH;FMTTYPE=image/jpeg:https://lecanton.com.br/wp-content/uploads/2026/04/dardo.jpg
END:VEVENT
BEGIN:VEVENT
DTSTART;TZID=America/Sao_Paulo:20270904T170000
DTEND;TZID=America/Sao_Paulo:20270904T173000
DTSTAMP:20260423T013547
CREATED:20260413T201947Z
LAST-MODIFIED:20260413T201947Z
UID:10001489-1820077200-1820079000@lecanton.com.br
SUMMARY:Aula de Yoga
DESCRIPTION:Um momento de conexão entre corpo e mente em meio a um ambiente tranquilo e acolhedor. A prática de yoga promove relaxamento\, equilíbrio e bem-estar\, sendo ideal para renovar as energias ao longo do dia. Exclusivo para adultos maiores de 18 anos.O evento pode sofrer alterações de data\, local ou cancelamento sem aviso prévio.
URL:https://lecanton.com.br/evento/aula-de-yoga/2027-09-04/
LOCATION:Gramado Village
ATTACH;FMTTYPE=image/jpeg:https://lecanton.com.br/wp-content/uploads/2026/04/yoga-1.jpg
END:VEVENT
BEGIN:VEVENT
DTSTART;TZID=America/Sao_Paulo:20270906T163000
DTEND;TZID=America/Sao_Paulo:20270906T170000
DTSTAMP:20260423T013547
CREATED:20260413T190247Z
LAST-MODIFIED:20260413T190247Z
UID:10000968-1820248200-1820250000@lecanton.com.br
SUMMARY:Alongamento
DESCRIPTION:Um momento dedicado ao bem-estar e à leveza do corpo! A atividade de alongamento promove relaxamento\, melhora da mobilidade e equilíbrio\, sendo ideal para começar ou encerrar o dia com mais disposição. Exclusivo para adultos acima de 18 anos.O evento pode sofrer alterações de data\, local ou cancelamento sem aviso prévio.
URL:https://lecanton.com.br/evento/alongamento/2027-09-06/
LOCATION:Gramado Village
CATEGORIES:Adultos acima de 18 anos
ATTACH;FMTTYPE=image/jpeg:https://lecanton.com.br/wp-content/uploads/2026/04/alongamento.jpg
END:VEVENT
BEGIN:VEVENT
DTSTART;TZID=America/Sao_Paulo:20270908T153000
DTEND;TZID=America/Sao_Paulo:20270908T160000
DTSTAMP:20260423T013547
CREATED:20260413T205143Z
LAST-MODIFIED:20260413T205143Z
UID:10003841-1820417400-1820419200@lecanton.com.br
SUMMARY:Dardo
DESCRIPTION:Uma atividade clássica e descontraída que combina precisão e diversão. O jogo de dardo é perfeito para momentos de lazer entre amigos\, estimulando concentração e uma competição leve em um ambiente agradável. Exclusivo para adultos maiores de 18 anos.O evento pode sofrer alterações de data\, local ou cancelamento sem aviso prévio.
URL:https://lecanton.com.br/evento/dardo/2027-09-08/
LOCATION:Gramado Village
CATEGORIES:Adultos acima de 18 anos
ATTACH;FMTTYPE=image/jpeg:https://lecanton.com.br/wp-content/uploads/2026/04/dardo.jpg
END:VEVENT
BEGIN:VEVENT
DTSTART;TZID=America/Sao_Paulo:20270911T170000
DTEND;TZID=America/Sao_Paulo:20270911T173000
DTSTAMP:20260423T013547
CREATED:20260413T201947Z
LAST-MODIFIED:20260413T201947Z
UID:10001490-1820682000-1820683800@lecanton.com.br
SUMMARY:Aula de Yoga
DESCRIPTION:Um momento de conexão entre corpo e mente em meio a um ambiente tranquilo e acolhedor. A prática de yoga promove relaxamento\, equilíbrio e bem-estar\, sendo ideal para renovar as energias ao longo do dia. Exclusivo para adultos maiores de 18 anos.O evento pode sofrer alterações de data\, local ou cancelamento sem aviso prévio.
URL:https://lecanton.com.br/evento/aula-de-yoga/2027-09-11/
LOCATION:Gramado Village
ATTACH;FMTTYPE=image/jpeg:https://lecanton.com.br/wp-content/uploads/2026/04/yoga-1.jpg
END:VEVENT
BEGIN:VEVENT
DTSTART;TZID=America/Sao_Paulo:20270913T163000
DTEND;TZID=America/Sao_Paulo:20270913T170000
DTSTAMP:20260423T013547
CREATED:20260413T190247Z
LAST-MODIFIED:20260413T190247Z
UID:10000969-1820853000-1820854800@lecanton.com.br
SUMMARY:Alongamento
DESCRIPTION:Um momento dedicado ao bem-estar e à leveza do corpo! A atividade de alongamento promove relaxamento\, melhora da mobilidade e equilíbrio\, sendo ideal para começar ou encerrar o dia com mais disposição. Exclusivo para adultos acima de 18 anos.O evento pode sofrer alterações de data\, local ou cancelamento sem aviso prévio.
URL:https://lecanton.com.br/evento/alongamento/2027-09-13/
LOCATION:Gramado Village
CATEGORIES:Adultos acima de 18 anos
ATTACH;FMTTYPE=image/jpeg:https://lecanton.com.br/wp-content/uploads/2026/04/alongamento.jpg
END:VEVENT
BEGIN:VEVENT
DTSTART;TZID=America/Sao_Paulo:20270915T153000
DTEND;TZID=America/Sao_Paulo:20270915T160000
DTSTAMP:20260423T013547
CREATED:20260413T205143Z
LAST-MODIFIED:20260413T205143Z
UID:10003842-1821022200-1821024000@lecanton.com.br
SUMMARY:Dardo
DESCRIPTION:Uma atividade clássica e descontraída que combina precisão e diversão. O jogo de dardo é perfeito para momentos de lazer entre amigos\, estimulando concentração e uma competição leve em um ambiente agradável. Exclusivo para adultos maiores de 18 anos.O evento pode sofrer alterações de data\, local ou cancelamento sem aviso prévio.
URL:https://lecanton.com.br/evento/dardo/2027-09-15/
LOCATION:Gramado Village
CATEGORIES:Adultos acima de 18 anos
ATTACH;FMTTYPE=image/jpeg:https://lecanton.com.br/wp-content/uploads/2026/04/dardo.jpg
END:VEVENT
BEGIN:VEVENT
DTSTART;TZID=America/Sao_Paulo:20270918T170000
DTEND;TZID=America/Sao_Paulo:20270918T173000
DTSTAMP:20260423T013547
CREATED:20260413T201947Z
LAST-MODIFIED:20260413T201947Z
UID:10001491-1821286800-1821288600@lecanton.com.br
SUMMARY:Aula de Yoga
DESCRIPTION:Um momento de conexão entre corpo e mente em meio a um ambiente tranquilo e acolhedor. A prática de yoga promove relaxamento\, equilíbrio e bem-estar\, sendo ideal para renovar as energias ao longo do dia. Exclusivo para adultos maiores de 18 anos.O evento pode sofrer alterações de data\, local ou cancelamento sem aviso prévio.
URL:https://lecanton.com.br/evento/aula-de-yoga/2027-09-18/
LOCATION:Gramado Village
ATTACH;FMTTYPE=image/jpeg:https://lecanton.com.br/wp-content/uploads/2026/04/yoga-1.jpg
END:VEVENT
BEGIN:VEVENT
DTSTART;TZID=America/Sao_Paulo:20270920T163000
DTEND;TZID=America/Sao_Paulo:20270920T170000
DTSTAMP:20260423T013547
CREATED:20260413T190247Z
LAST-MODIFIED:20260413T190247Z
UID:10000970-1821457800-1821459600@lecanton.com.br
SUMMARY:Alongamento
DESCRIPTION:Um momento dedicado ao bem-estar e à leveza do corpo! A atividade de alongamento promove relaxamento\, melhora da mobilidade e equilíbrio\, sendo ideal para começar ou encerrar o dia com mais disposição. Exclusivo para adultos acima de 18 anos.O evento pode sofrer alterações de data\, local ou cancelamento sem aviso prévio.
URL:https://lecanton.com.br/evento/alongamento/2027-09-20/
LOCATION:Gramado Village
CATEGORIES:Adultos acima de 18 anos
ATTACH;FMTTYPE=image/jpeg:https://lecanton.com.br/wp-content/uploads/2026/04/alongamento.jpg
END:VEVENT
BEGIN:VEVENT
DTSTART;TZID=America/Sao_Paulo:20270922T153000
DTEND;TZID=America/Sao_Paulo:20270922T160000
DTSTAMP:20260423T013547
CREATED:20260413T205143Z
LAST-MODIFIED:20260413T205143Z
UID:10003843-1821627000-1821628800@lecanton.com.br
SUMMARY:Dardo
DESCRIPTION:Uma atividade clássica e descontraída que combina precisão e diversão. O jogo de dardo é perfeito para momentos de lazer entre amigos\, estimulando concentração e uma competição leve em um ambiente agradável. Exclusivo para adultos maiores de 18 anos.O evento pode sofrer alterações de data\, local ou cancelamento sem aviso prévio.
URL:https://lecanton.com.br/evento/dardo/2027-09-22/
LOCATION:Gramado Village
CATEGORIES:Adultos acima de 18 anos
ATTACH;FMTTYPE=image/jpeg:https://lecanton.com.br/wp-content/uploads/2026/04/dardo.jpg
END:VEVENT
BEGIN:VEVENT
DTSTART;TZID=America/Sao_Paulo:20270925T170000
DTEND;TZID=America/Sao_Paulo:20270925T173000
DTSTAMP:20260423T013547
CREATED:20260413T201947Z
LAST-MODIFIED:20260413T201947Z
UID:10001492-1821891600-1821893400@lecanton.com.br
SUMMARY:Aula de Yoga
DESCRIPTION:Um momento de conexão entre corpo e mente em meio a um ambiente tranquilo e acolhedor. A prática de yoga promove relaxamento\, equilíbrio e bem-estar\, sendo ideal para renovar as energias ao longo do dia. Exclusivo para adultos maiores de 18 anos.O evento pode sofrer alterações de data\, local ou cancelamento sem aviso prévio.
URL:https://lecanton.com.br/evento/aula-de-yoga/2027-09-25/
LOCATION:Gramado Village
ATTACH;FMTTYPE=image/jpeg:https://lecanton.com.br/wp-content/uploads/2026/04/yoga-1.jpg
END:VEVENT
END:VCALENDAR