BEGIN:VCALENDAR
VERSION:2.0
PRODID:-//Le Canton | O melhor Resort da Serra - ECPv6.15.17.1//NONSGML v1.0//EN
CALSCALE:GREGORIAN
METHOD:PUBLISH
X-ORIGINAL-URL:https://lecanton.com.br
X-WR-CALDESC:Eventos para Le Canton | O melhor Resort da Serra
REFRESH-INTERVAL;VALUE=DURATION:PT1H
X-Robots-Tag:noindex
X-PUBLISHED-TTL:PT1H
BEGIN:VTIMEZONE
TZID:America/Sao_Paulo
BEGIN:STANDARD
TZOFFSETFROM:-0300
TZOFFSETTO:-0300
TZNAME:-03
DTSTART:20260101T000000
END:STANDARD
END:VTIMEZONE
BEGIN:VEVENT
DTSTART;TZID=America/Sao_Paulo:20270127T153000
DTEND;TZID=America/Sao_Paulo:20270127T160000
DTSTAMP:20260422T110635
CREATED:20260413T205143Z
LAST-MODIFIED:20260413T205143Z
UID:10003809-1801063800-1801065600@lecanton.com.br
SUMMARY:Dardo
DESCRIPTION:Uma atividade clássica e descontraída que combina precisão e diversão. O jogo de dardo é perfeito para momentos de lazer entre amigos\, estimulando concentração e uma competição leve em um ambiente agradável. Exclusivo para adultos maiores de 18 anos.O evento pode sofrer alterações de data\, local ou cancelamento sem aviso prévio.
URL:https://lecanton.com.br/evento/dardo/2027-01-27/
LOCATION:Gramado Village
CATEGORIES:Adultos acima de 18 anos
ATTACH;FMTTYPE=image/jpeg:https://lecanton.com.br/wp-content/uploads/2026/04/dardo.jpg
END:VEVENT
BEGIN:VEVENT
DTSTART;TZID=America/Sao_Paulo:20270130T170000
DTEND;TZID=America/Sao_Paulo:20270130T173000
DTSTAMP:20260422T110635
CREATED:20260413T201947Z
LAST-MODIFIED:20260413T201947Z
UID:10001458-1801328400-1801330200@lecanton.com.br
SUMMARY:Aula de Yoga
DESCRIPTION:Um momento de conexão entre corpo e mente em meio a um ambiente tranquilo e acolhedor. A prática de yoga promove relaxamento\, equilíbrio e bem-estar\, sendo ideal para renovar as energias ao longo do dia. Exclusivo para adultos maiores de 18 anos.O evento pode sofrer alterações de data\, local ou cancelamento sem aviso prévio.
URL:https://lecanton.com.br/evento/aula-de-yoga/2027-01-30/
LOCATION:Gramado Village
ATTACH;FMTTYPE=image/jpeg:https://lecanton.com.br/wp-content/uploads/2026/04/yoga-1.jpg
END:VEVENT
BEGIN:VEVENT
DTSTART;TZID=America/Sao_Paulo:20270201T163000
DTEND;TZID=America/Sao_Paulo:20270201T170000
DTSTAMP:20260422T110635
CREATED:20260413T190247Z
LAST-MODIFIED:20260413T190247Z
UID:10000937-1801499400-1801501200@lecanton.com.br
SUMMARY:Alongamento
DESCRIPTION:Um momento dedicado ao bem-estar e à leveza do corpo! A atividade de alongamento promove relaxamento\, melhora da mobilidade e equilíbrio\, sendo ideal para começar ou encerrar o dia com mais disposição. Exclusivo para adultos acima de 18 anos.O evento pode sofrer alterações de data\, local ou cancelamento sem aviso prévio.
URL:https://lecanton.com.br/evento/alongamento/2027-02-01/
LOCATION:Gramado Village
CATEGORIES:Adultos acima de 18 anos
ATTACH;FMTTYPE=image/jpeg:https://lecanton.com.br/wp-content/uploads/2026/04/alongamento.jpg
END:VEVENT
BEGIN:VEVENT
DTSTART;TZID=America/Sao_Paulo:20270203T153000
DTEND;TZID=America/Sao_Paulo:20270203T160000
DTSTAMP:20260422T110635
CREATED:20260413T205143Z
LAST-MODIFIED:20260413T205143Z
UID:10003810-1801668600-1801670400@lecanton.com.br
SUMMARY:Dardo
DESCRIPTION:Uma atividade clássica e descontraída que combina precisão e diversão. O jogo de dardo é perfeito para momentos de lazer entre amigos\, estimulando concentração e uma competição leve em um ambiente agradável. Exclusivo para adultos maiores de 18 anos.O evento pode sofrer alterações de data\, local ou cancelamento sem aviso prévio.
URL:https://lecanton.com.br/evento/dardo/2027-02-03/
LOCATION:Gramado Village
CATEGORIES:Adultos acima de 18 anos
ATTACH;FMTTYPE=image/jpeg:https://lecanton.com.br/wp-content/uploads/2026/04/dardo.jpg
END:VEVENT
BEGIN:VEVENT
DTSTART;TZID=America/Sao_Paulo:20270206T170000
DTEND;TZID=America/Sao_Paulo:20270206T173000
DTSTAMP:20260422T110635
CREATED:20260413T201947Z
LAST-MODIFIED:20260413T201947Z
UID:10001459-1801933200-1801935000@lecanton.com.br
SUMMARY:Aula de Yoga
DESCRIPTION:Um momento de conexão entre corpo e mente em meio a um ambiente tranquilo e acolhedor. A prática de yoga promove relaxamento\, equilíbrio e bem-estar\, sendo ideal para renovar as energias ao longo do dia. Exclusivo para adultos maiores de 18 anos.O evento pode sofrer alterações de data\, local ou cancelamento sem aviso prévio.
URL:https://lecanton.com.br/evento/aula-de-yoga/2027-02-06/
LOCATION:Gramado Village
ATTACH;FMTTYPE=image/jpeg:https://lecanton.com.br/wp-content/uploads/2026/04/yoga-1.jpg
END:VEVENT
BEGIN:VEVENT
DTSTART;TZID=America/Sao_Paulo:20270208T163000
DTEND;TZID=America/Sao_Paulo:20270208T170000
DTSTAMP:20260422T110635
CREATED:20260413T190247Z
LAST-MODIFIED:20260413T190247Z
UID:10000938-1802104200-1802106000@lecanton.com.br
SUMMARY:Alongamento
DESCRIPTION:Um momento dedicado ao bem-estar e à leveza do corpo! A atividade de alongamento promove relaxamento\, melhora da mobilidade e equilíbrio\, sendo ideal para começar ou encerrar o dia com mais disposição. Exclusivo para adultos acima de 18 anos.O evento pode sofrer alterações de data\, local ou cancelamento sem aviso prévio.
URL:https://lecanton.com.br/evento/alongamento/2027-02-08/
LOCATION:Gramado Village
CATEGORIES:Adultos acima de 18 anos
ATTACH;FMTTYPE=image/jpeg:https://lecanton.com.br/wp-content/uploads/2026/04/alongamento.jpg
END:VEVENT
BEGIN:VEVENT
DTSTART;TZID=America/Sao_Paulo:20270210T153000
DTEND;TZID=America/Sao_Paulo:20270210T160000
DTSTAMP:20260422T110635
CREATED:20260413T205143Z
LAST-MODIFIED:20260413T205143Z
UID:10003811-1802273400-1802275200@lecanton.com.br
SUMMARY:Dardo
DESCRIPTION:Uma atividade clássica e descontraída que combina precisão e diversão. O jogo de dardo é perfeito para momentos de lazer entre amigos\, estimulando concentração e uma competição leve em um ambiente agradável. Exclusivo para adultos maiores de 18 anos.O evento pode sofrer alterações de data\, local ou cancelamento sem aviso prévio.
URL:https://lecanton.com.br/evento/dardo/2027-02-10/
LOCATION:Gramado Village
CATEGORIES:Adultos acima de 18 anos
ATTACH;FMTTYPE=image/jpeg:https://lecanton.com.br/wp-content/uploads/2026/04/dardo.jpg
END:VEVENT
BEGIN:VEVENT
DTSTART;TZID=America/Sao_Paulo:20270213T170000
DTEND;TZID=America/Sao_Paulo:20270213T173000
DTSTAMP:20260422T110635
CREATED:20260413T201947Z
LAST-MODIFIED:20260413T201947Z
UID:10001460-1802538000-1802539800@lecanton.com.br
SUMMARY:Aula de Yoga
DESCRIPTION:Um momento de conexão entre corpo e mente em meio a um ambiente tranquilo e acolhedor. A prática de yoga promove relaxamento\, equilíbrio e bem-estar\, sendo ideal para renovar as energias ao longo do dia. Exclusivo para adultos maiores de 18 anos.O evento pode sofrer alterações de data\, local ou cancelamento sem aviso prévio.
URL:https://lecanton.com.br/evento/aula-de-yoga/2027-02-13/
LOCATION:Gramado Village
ATTACH;FMTTYPE=image/jpeg:https://lecanton.com.br/wp-content/uploads/2026/04/yoga-1.jpg
END:VEVENT
BEGIN:VEVENT
DTSTART;TZID=America/Sao_Paulo:20270215T163000
DTEND;TZID=America/Sao_Paulo:20270215T170000
DTSTAMP:20260422T110635
CREATED:20260413T190247Z
LAST-MODIFIED:20260413T190247Z
UID:10000939-1802709000-1802710800@lecanton.com.br
SUMMARY:Alongamento
DESCRIPTION:Um momento dedicado ao bem-estar e à leveza do corpo! A atividade de alongamento promove relaxamento\, melhora da mobilidade e equilíbrio\, sendo ideal para começar ou encerrar o dia com mais disposição. Exclusivo para adultos acima de 18 anos.O evento pode sofrer alterações de data\, local ou cancelamento sem aviso prévio.
URL:https://lecanton.com.br/evento/alongamento/2027-02-15/
LOCATION:Gramado Village
CATEGORIES:Adultos acima de 18 anos
ATTACH;FMTTYPE=image/jpeg:https://lecanton.com.br/wp-content/uploads/2026/04/alongamento.jpg
END:VEVENT
BEGIN:VEVENT
DTSTART;TZID=America/Sao_Paulo:20270217T153000
DTEND;TZID=America/Sao_Paulo:20270217T160000
DTSTAMP:20260422T110635
CREATED:20260413T205143Z
LAST-MODIFIED:20260413T205143Z
UID:10003812-1802878200-1802880000@lecanton.com.br
SUMMARY:Dardo
DESCRIPTION:Uma atividade clássica e descontraída que combina precisão e diversão. O jogo de dardo é perfeito para momentos de lazer entre amigos\, estimulando concentração e uma competição leve em um ambiente agradável. Exclusivo para adultos maiores de 18 anos.O evento pode sofrer alterações de data\, local ou cancelamento sem aviso prévio.
URL:https://lecanton.com.br/evento/dardo/2027-02-17/
LOCATION:Gramado Village
CATEGORIES:Adultos acima de 18 anos
ATTACH;FMTTYPE=image/jpeg:https://lecanton.com.br/wp-content/uploads/2026/04/dardo.jpg
END:VEVENT
BEGIN:VEVENT
DTSTART;TZID=America/Sao_Paulo:20270220T170000
DTEND;TZID=America/Sao_Paulo:20270220T173000
DTSTAMP:20260422T110635
CREATED:20260413T201947Z
LAST-MODIFIED:20260413T201947Z
UID:10001461-1803142800-1803144600@lecanton.com.br
SUMMARY:Aula de Yoga
DESCRIPTION:Um momento de conexão entre corpo e mente em meio a um ambiente tranquilo e acolhedor. A prática de yoga promove relaxamento\, equilíbrio e bem-estar\, sendo ideal para renovar as energias ao longo do dia. Exclusivo para adultos maiores de 18 anos.O evento pode sofrer alterações de data\, local ou cancelamento sem aviso prévio.
URL:https://lecanton.com.br/evento/aula-de-yoga/2027-02-20/
LOCATION:Gramado Village
ATTACH;FMTTYPE=image/jpeg:https://lecanton.com.br/wp-content/uploads/2026/04/yoga-1.jpg
END:VEVENT
BEGIN:VEVENT
DTSTART;TZID=America/Sao_Paulo:20270222T163000
DTEND;TZID=America/Sao_Paulo:20270222T170000
DTSTAMP:20260422T110635
CREATED:20260413T190247Z
LAST-MODIFIED:20260413T190247Z
UID:10000940-1803313800-1803315600@lecanton.com.br
SUMMARY:Alongamento
DESCRIPTION:Um momento dedicado ao bem-estar e à leveza do corpo! A atividade de alongamento promove relaxamento\, melhora da mobilidade e equilíbrio\, sendo ideal para começar ou encerrar o dia com mais disposição. Exclusivo para adultos acima de 18 anos.O evento pode sofrer alterações de data\, local ou cancelamento sem aviso prévio.
URL:https://lecanton.com.br/evento/alongamento/2027-02-22/
LOCATION:Gramado Village
CATEGORIES:Adultos acima de 18 anos
ATTACH;FMTTYPE=image/jpeg:https://lecanton.com.br/wp-content/uploads/2026/04/alongamento.jpg
END:VEVENT
BEGIN:VEVENT
DTSTART;TZID=America/Sao_Paulo:20270224T153000
DTEND;TZID=America/Sao_Paulo:20270224T160000
DTSTAMP:20260422T110635
CREATED:20260413T205143Z
LAST-MODIFIED:20260413T205143Z
UID:10003813-1803483000-1803484800@lecanton.com.br
SUMMARY:Dardo
DESCRIPTION:Uma atividade clássica e descontraída que combina precisão e diversão. O jogo de dardo é perfeito para momentos de lazer entre amigos\, estimulando concentração e uma competição leve em um ambiente agradável. Exclusivo para adultos maiores de 18 anos.O evento pode sofrer alterações de data\, local ou cancelamento sem aviso prévio.
URL:https://lecanton.com.br/evento/dardo/2027-02-24/
LOCATION:Gramado Village
CATEGORIES:Adultos acima de 18 anos
ATTACH;FMTTYPE=image/jpeg:https://lecanton.com.br/wp-content/uploads/2026/04/dardo.jpg
END:VEVENT
BEGIN:VEVENT
DTSTART;TZID=America/Sao_Paulo:20270227T170000
DTEND;TZID=America/Sao_Paulo:20270227T173000
DTSTAMP:20260422T110635
CREATED:20260413T201947Z
LAST-MODIFIED:20260413T201947Z
UID:10001462-1803747600-1803749400@lecanton.com.br
SUMMARY:Aula de Yoga
DESCRIPTION:Um momento de conexão entre corpo e mente em meio a um ambiente tranquilo e acolhedor. A prática de yoga promove relaxamento\, equilíbrio e bem-estar\, sendo ideal para renovar as energias ao longo do dia. Exclusivo para adultos maiores de 18 anos.O evento pode sofrer alterações de data\, local ou cancelamento sem aviso prévio.
URL:https://lecanton.com.br/evento/aula-de-yoga/2027-02-27/
LOCATION:Gramado Village
ATTACH;FMTTYPE=image/jpeg:https://lecanton.com.br/wp-content/uploads/2026/04/yoga-1.jpg
END:VEVENT
BEGIN:VEVENT
DTSTART;TZID=America/Sao_Paulo:20270301T163000
DTEND;TZID=America/Sao_Paulo:20270301T170000
DTSTAMP:20260422T110635
CREATED:20260413T190247Z
LAST-MODIFIED:20260413T190247Z
UID:10000941-1803918600-1803920400@lecanton.com.br
SUMMARY:Alongamento
DESCRIPTION:Um momento dedicado ao bem-estar e à leveza do corpo! A atividade de alongamento promove relaxamento\, melhora da mobilidade e equilíbrio\, sendo ideal para começar ou encerrar o dia com mais disposição. Exclusivo para adultos acima de 18 anos.O evento pode sofrer alterações de data\, local ou cancelamento sem aviso prévio.
URL:https://lecanton.com.br/evento/alongamento/2027-03-01/
LOCATION:Gramado Village
CATEGORIES:Adultos acima de 18 anos
ATTACH;FMTTYPE=image/jpeg:https://lecanton.com.br/wp-content/uploads/2026/04/alongamento.jpg
END:VEVENT
BEGIN:VEVENT
DTSTART;TZID=America/Sao_Paulo:20270303T153000
DTEND;TZID=America/Sao_Paulo:20270303T160000
DTSTAMP:20260422T110635
CREATED:20260413T205143Z
LAST-MODIFIED:20260413T205143Z
UID:10003814-1804087800-1804089600@lecanton.com.br
SUMMARY:Dardo
DESCRIPTION:Uma atividade clássica e descontraída que combina precisão e diversão. O jogo de dardo é perfeito para momentos de lazer entre amigos\, estimulando concentração e uma competição leve em um ambiente agradável. Exclusivo para adultos maiores de 18 anos.O evento pode sofrer alterações de data\, local ou cancelamento sem aviso prévio.
URL:https://lecanton.com.br/evento/dardo/2027-03-03/
LOCATION:Gramado Village
CATEGORIES:Adultos acima de 18 anos
ATTACH;FMTTYPE=image/jpeg:https://lecanton.com.br/wp-content/uploads/2026/04/dardo.jpg
END:VEVENT
BEGIN:VEVENT
DTSTART;TZID=America/Sao_Paulo:20270306T170000
DTEND;TZID=America/Sao_Paulo:20270306T173000
DTSTAMP:20260422T110635
CREATED:20260413T201947Z
LAST-MODIFIED:20260413T201947Z
UID:10001463-1804352400-1804354200@lecanton.com.br
SUMMARY:Aula de Yoga
DESCRIPTION:Um momento de conexão entre corpo e mente em meio a um ambiente tranquilo e acolhedor. A prática de yoga promove relaxamento\, equilíbrio e bem-estar\, sendo ideal para renovar as energias ao longo do dia. Exclusivo para adultos maiores de 18 anos.O evento pode sofrer alterações de data\, local ou cancelamento sem aviso prévio.
URL:https://lecanton.com.br/evento/aula-de-yoga/2027-03-06/
LOCATION:Gramado Village
ATTACH;FMTTYPE=image/jpeg:https://lecanton.com.br/wp-content/uploads/2026/04/yoga-1.jpg
END:VEVENT
BEGIN:VEVENT
DTSTART;TZID=America/Sao_Paulo:20270308T163000
DTEND;TZID=America/Sao_Paulo:20270308T170000
DTSTAMP:20260422T110635
CREATED:20260413T190247Z
LAST-MODIFIED:20260413T190247Z
UID:10000942-1804523400-1804525200@lecanton.com.br
SUMMARY:Alongamento
DESCRIPTION:Um momento dedicado ao bem-estar e à leveza do corpo! A atividade de alongamento promove relaxamento\, melhora da mobilidade e equilíbrio\, sendo ideal para começar ou encerrar o dia com mais disposição. Exclusivo para adultos acima de 18 anos.O evento pode sofrer alterações de data\, local ou cancelamento sem aviso prévio.
URL:https://lecanton.com.br/evento/alongamento/2027-03-08/
LOCATION:Gramado Village
CATEGORIES:Adultos acima de 18 anos
ATTACH;FMTTYPE=image/jpeg:https://lecanton.com.br/wp-content/uploads/2026/04/alongamento.jpg
END:VEVENT
BEGIN:VEVENT
DTSTART;TZID=America/Sao_Paulo:20270310T153000
DTEND;TZID=America/Sao_Paulo:20270310T160000
DTSTAMP:20260422T110635
CREATED:20260413T205143Z
LAST-MODIFIED:20260413T205143Z
UID:10003815-1804692600-1804694400@lecanton.com.br
SUMMARY:Dardo
DESCRIPTION:Uma atividade clássica e descontraída que combina precisão e diversão. O jogo de dardo é perfeito para momentos de lazer entre amigos\, estimulando concentração e uma competição leve em um ambiente agradável. Exclusivo para adultos maiores de 18 anos.O evento pode sofrer alterações de data\, local ou cancelamento sem aviso prévio.
URL:https://lecanton.com.br/evento/dardo/2027-03-10/
LOCATION:Gramado Village
CATEGORIES:Adultos acima de 18 anos
ATTACH;FMTTYPE=image/jpeg:https://lecanton.com.br/wp-content/uploads/2026/04/dardo.jpg
END:VEVENT
BEGIN:VEVENT
DTSTART;TZID=America/Sao_Paulo:20270313T170000
DTEND;TZID=America/Sao_Paulo:20270313T173000
DTSTAMP:20260422T110635
CREATED:20260413T201947Z
LAST-MODIFIED:20260413T201947Z
UID:10001464-1804957200-1804959000@lecanton.com.br
SUMMARY:Aula de Yoga
DESCRIPTION:Um momento de conexão entre corpo e mente em meio a um ambiente tranquilo e acolhedor. A prática de yoga promove relaxamento\, equilíbrio e bem-estar\, sendo ideal para renovar as energias ao longo do dia. Exclusivo para adultos maiores de 18 anos.O evento pode sofrer alterações de data\, local ou cancelamento sem aviso prévio.
URL:https://lecanton.com.br/evento/aula-de-yoga/2027-03-13/
LOCATION:Gramado Village
ATTACH;FMTTYPE=image/jpeg:https://lecanton.com.br/wp-content/uploads/2026/04/yoga-1.jpg
END:VEVENT
BEGIN:VEVENT
DTSTART;TZID=America/Sao_Paulo:20270315T163000
DTEND;TZID=America/Sao_Paulo:20270315T170000
DTSTAMP:20260422T110635
CREATED:20260413T190247Z
LAST-MODIFIED:20260413T190247Z
UID:10000943-1805128200-1805130000@lecanton.com.br
SUMMARY:Alongamento
DESCRIPTION:Um momento dedicado ao bem-estar e à leveza do corpo! A atividade de alongamento promove relaxamento\, melhora da mobilidade e equilíbrio\, sendo ideal para começar ou encerrar o dia com mais disposição. Exclusivo para adultos acima de 18 anos.O evento pode sofrer alterações de data\, local ou cancelamento sem aviso prévio.
URL:https://lecanton.com.br/evento/alongamento/2027-03-15/
LOCATION:Gramado Village
CATEGORIES:Adultos acima de 18 anos
ATTACH;FMTTYPE=image/jpeg:https://lecanton.com.br/wp-content/uploads/2026/04/alongamento.jpg
END:VEVENT
BEGIN:VEVENT
DTSTART;TZID=America/Sao_Paulo:20270317T153000
DTEND;TZID=America/Sao_Paulo:20270317T160000
DTSTAMP:20260422T110635
CREATED:20260413T205143Z
LAST-MODIFIED:20260413T205143Z
UID:10003816-1805297400-1805299200@lecanton.com.br
SUMMARY:Dardo
DESCRIPTION:Uma atividade clássica e descontraída que combina precisão e diversão. O jogo de dardo é perfeito para momentos de lazer entre amigos\, estimulando concentração e uma competição leve em um ambiente agradável. Exclusivo para adultos maiores de 18 anos.O evento pode sofrer alterações de data\, local ou cancelamento sem aviso prévio.
URL:https://lecanton.com.br/evento/dardo/2027-03-17/
LOCATION:Gramado Village
CATEGORIES:Adultos acima de 18 anos
ATTACH;FMTTYPE=image/jpeg:https://lecanton.com.br/wp-content/uploads/2026/04/dardo.jpg
END:VEVENT
BEGIN:VEVENT
DTSTART;TZID=America/Sao_Paulo:20270320T170000
DTEND;TZID=America/Sao_Paulo:20270320T173000
DTSTAMP:20260422T110635
CREATED:20260413T201947Z
LAST-MODIFIED:20260413T201947Z
UID:10001465-1805562000-1805563800@lecanton.com.br
SUMMARY:Aula de Yoga
DESCRIPTION:Um momento de conexão entre corpo e mente em meio a um ambiente tranquilo e acolhedor. A prática de yoga promove relaxamento\, equilíbrio e bem-estar\, sendo ideal para renovar as energias ao longo do dia. Exclusivo para adultos maiores de 18 anos.O evento pode sofrer alterações de data\, local ou cancelamento sem aviso prévio.
URL:https://lecanton.com.br/evento/aula-de-yoga/2027-03-20/
LOCATION:Gramado Village
ATTACH;FMTTYPE=image/jpeg:https://lecanton.com.br/wp-content/uploads/2026/04/yoga-1.jpg
END:VEVENT
BEGIN:VEVENT
DTSTART;TZID=America/Sao_Paulo:20270322T163000
DTEND;TZID=America/Sao_Paulo:20270322T170000
DTSTAMP:20260422T110635
CREATED:20260413T190247Z
LAST-MODIFIED:20260413T190247Z
UID:10000944-1805733000-1805734800@lecanton.com.br
SUMMARY:Alongamento
DESCRIPTION:Um momento dedicado ao bem-estar e à leveza do corpo! A atividade de alongamento promove relaxamento\, melhora da mobilidade e equilíbrio\, sendo ideal para começar ou encerrar o dia com mais disposição. Exclusivo para adultos acima de 18 anos.O evento pode sofrer alterações de data\, local ou cancelamento sem aviso prévio.
URL:https://lecanton.com.br/evento/alongamento/2027-03-22/
LOCATION:Gramado Village
CATEGORIES:Adultos acima de 18 anos
ATTACH;FMTTYPE=image/jpeg:https://lecanton.com.br/wp-content/uploads/2026/04/alongamento.jpg
END:VEVENT
BEGIN:VEVENT
DTSTART;TZID=America/Sao_Paulo:20270324T153000
DTEND;TZID=America/Sao_Paulo:20270324T160000
DTSTAMP:20260422T110635
CREATED:20260413T205143Z
LAST-MODIFIED:20260413T205143Z
UID:10003817-1805902200-1805904000@lecanton.com.br
SUMMARY:Dardo
DESCRIPTION:Uma atividade clássica e descontraída que combina precisão e diversão. O jogo de dardo é perfeito para momentos de lazer entre amigos\, estimulando concentração e uma competição leve em um ambiente agradável. Exclusivo para adultos maiores de 18 anos.O evento pode sofrer alterações de data\, local ou cancelamento sem aviso prévio.
URL:https://lecanton.com.br/evento/dardo/2027-03-24/
LOCATION:Gramado Village
CATEGORIES:Adultos acima de 18 anos
ATTACH;FMTTYPE=image/jpeg:https://lecanton.com.br/wp-content/uploads/2026/04/dardo.jpg
END:VEVENT
BEGIN:VEVENT
DTSTART;TZID=America/Sao_Paulo:20270327T170000
DTEND;TZID=America/Sao_Paulo:20270327T173000
DTSTAMP:20260422T110635
CREATED:20260413T201947Z
LAST-MODIFIED:20260413T201947Z
UID:10001466-1806166800-1806168600@lecanton.com.br
SUMMARY:Aula de Yoga
DESCRIPTION:Um momento de conexão entre corpo e mente em meio a um ambiente tranquilo e acolhedor. A prática de yoga promove relaxamento\, equilíbrio e bem-estar\, sendo ideal para renovar as energias ao longo do dia. Exclusivo para adultos maiores de 18 anos.O evento pode sofrer alterações de data\, local ou cancelamento sem aviso prévio.
URL:https://lecanton.com.br/evento/aula-de-yoga/2027-03-27/
LOCATION:Gramado Village
ATTACH;FMTTYPE=image/jpeg:https://lecanton.com.br/wp-content/uploads/2026/04/yoga-1.jpg
END:VEVENT
BEGIN:VEVENT
DTSTART;TZID=America/Sao_Paulo:20270329T163000
DTEND;TZID=America/Sao_Paulo:20270329T170000
DTSTAMP:20260422T110635
CREATED:20260413T190247Z
LAST-MODIFIED:20260413T190247Z
UID:10000945-1806337800-1806339600@lecanton.com.br
SUMMARY:Alongamento
DESCRIPTION:Um momento dedicado ao bem-estar e à leveza do corpo! A atividade de alongamento promove relaxamento\, melhora da mobilidade e equilíbrio\, sendo ideal para começar ou encerrar o dia com mais disposição. Exclusivo para adultos acima de 18 anos.O evento pode sofrer alterações de data\, local ou cancelamento sem aviso prévio.
URL:https://lecanton.com.br/evento/alongamento/2027-03-29/
LOCATION:Gramado Village
CATEGORIES:Adultos acima de 18 anos
ATTACH;FMTTYPE=image/jpeg:https://lecanton.com.br/wp-content/uploads/2026/04/alongamento.jpg
END:VEVENT
BEGIN:VEVENT
DTSTART;TZID=America/Sao_Paulo:20270331T153000
DTEND;TZID=America/Sao_Paulo:20270331T160000
DTSTAMP:20260422T110635
CREATED:20260413T205143Z
LAST-MODIFIED:20260413T205143Z
UID:10003818-1806507000-1806508800@lecanton.com.br
SUMMARY:Dardo
DESCRIPTION:Uma atividade clássica e descontraída que combina precisão e diversão. O jogo de dardo é perfeito para momentos de lazer entre amigos\, estimulando concentração e uma competição leve em um ambiente agradável. Exclusivo para adultos maiores de 18 anos.O evento pode sofrer alterações de data\, local ou cancelamento sem aviso prévio.
URL:https://lecanton.com.br/evento/dardo/2027-03-31/
LOCATION:Gramado Village
CATEGORIES:Adultos acima de 18 anos
ATTACH;FMTTYPE=image/jpeg:https://lecanton.com.br/wp-content/uploads/2026/04/dardo.jpg
END:VEVENT
BEGIN:VEVENT
DTSTART;TZID=America/Sao_Paulo:20270403T170000
DTEND;TZID=America/Sao_Paulo:20270403T173000
DTSTAMP:20260422T110636
CREATED:20260413T201947Z
LAST-MODIFIED:20260413T201947Z
UID:10001467-1806771600-1806773400@lecanton.com.br
SUMMARY:Aula de Yoga
DESCRIPTION:Um momento de conexão entre corpo e mente em meio a um ambiente tranquilo e acolhedor. A prática de yoga promove relaxamento\, equilíbrio e bem-estar\, sendo ideal para renovar as energias ao longo do dia. Exclusivo para adultos maiores de 18 anos.O evento pode sofrer alterações de data\, local ou cancelamento sem aviso prévio.
URL:https://lecanton.com.br/evento/aula-de-yoga/2027-04-03/
LOCATION:Gramado Village
ATTACH;FMTTYPE=image/jpeg:https://lecanton.com.br/wp-content/uploads/2026/04/yoga-1.jpg
END:VEVENT
BEGIN:VEVENT
DTSTART;TZID=America/Sao_Paulo:20270405T163000
DTEND;TZID=America/Sao_Paulo:20270405T170000
DTSTAMP:20260422T110636
CREATED:20260413T190247Z
LAST-MODIFIED:20260413T190247Z
UID:10000946-1806942600-1806944400@lecanton.com.br
SUMMARY:Alongamento
DESCRIPTION:Um momento dedicado ao bem-estar e à leveza do corpo! A atividade de alongamento promove relaxamento\, melhora da mobilidade e equilíbrio\, sendo ideal para começar ou encerrar o dia com mais disposição. Exclusivo para adultos acima de 18 anos.O evento pode sofrer alterações de data\, local ou cancelamento sem aviso prévio.
URL:https://lecanton.com.br/evento/alongamento/2027-04-05/
LOCATION:Gramado Village
CATEGORIES:Adultos acima de 18 anos
ATTACH;FMTTYPE=image/jpeg:https://lecanton.com.br/wp-content/uploads/2026/04/alongamento.jpg
END:VEVENT
END:VCALENDAR