BEGIN:VCALENDAR
VERSION:2.0
PRODID:-//Le Canton | O melhor Resort da Serra - ECPv6.15.17.1//NONSGML v1.0//EN
CALSCALE:GREGORIAN
METHOD:PUBLISH
X-WR-CALNAME:Le Canton | O melhor Resort da Serra
X-ORIGINAL-URL:https://lecanton.com.br
X-WR-CALDESC:Eventos para Le Canton | O melhor Resort da Serra
REFRESH-INTERVAL;VALUE=DURATION:PT1H
X-Robots-Tag:noindex
X-PUBLISHED-TTL:PT1H
BEGIN:VTIMEZONE
TZID:America/Sao_Paulo
BEGIN:STANDARD
TZOFFSETFROM:-0300
TZOFFSETTO:-0300
TZNAME:-03
DTSTART:20250101T000000
END:STANDARD
END:VTIMEZONE
BEGIN:VEVENT
DTSTART;TZID=America/Sao_Paulo:20261123T163000
DTEND;TZID=America/Sao_Paulo:20261123T170000
DTSTAMP:20260420T043344
CREATED:20260413T190247Z
LAST-MODIFIED:20260413T190247Z
UID:10000927-1795451400-1795453200@lecanton.com.br
SUMMARY:Alongamento
DESCRIPTION:Um momento dedicado ao bem-estar e à leveza do corpo! A atividade de alongamento promove relaxamento\, melhora da mobilidade e equilíbrio\, sendo ideal para começar ou encerrar o dia com mais disposição. Exclusivo para adultos acima de 18 anos.O evento pode sofrer alterações de data\, local ou cancelamento sem aviso prévio.
URL:https://lecanton.com.br/evento/alongamento/2026-11-23/
LOCATION:Gramado Village
CATEGORIES:Adultos acima de 18 anos
ATTACH;FMTTYPE=image/jpeg:https://lecanton.com.br/wp-content/uploads/2026/04/alongamento.jpg
END:VEVENT
BEGIN:VEVENT
DTSTART;TZID=America/Sao_Paulo:20261125T153000
DTEND;TZID=America/Sao_Paulo:20261125T160000
DTSTAMP:20260420T043344
CREATED:20260413T205143Z
LAST-MODIFIED:20260413T205143Z
UID:10003800-1795620600-1795622400@lecanton.com.br
SUMMARY:Dardo
DESCRIPTION:Uma atividade clássica e descontraída que combina precisão e diversão. O jogo de dardo é perfeito para momentos de lazer entre amigos\, estimulando concentração e uma competição leve em um ambiente agradável. Exclusivo para adultos maiores de 18 anos.O evento pode sofrer alterações de data\, local ou cancelamento sem aviso prévio.
URL:https://lecanton.com.br/evento/dardo/2026-11-25/
LOCATION:Gramado Village
CATEGORIES:Adultos acima de 18 anos
ATTACH;FMTTYPE=image/jpeg:https://lecanton.com.br/wp-content/uploads/2026/04/dardo.jpg
END:VEVENT
BEGIN:VEVENT
DTSTART;TZID=America/Sao_Paulo:20261128T170000
DTEND;TZID=America/Sao_Paulo:20261128T173000
DTSTAMP:20260420T043344
CREATED:20260413T201947Z
LAST-MODIFIED:20260413T201947Z
UID:10001449-1795885200-1795887000@lecanton.com.br
SUMMARY:Aula de Yoga
DESCRIPTION:Um momento de conexão entre corpo e mente em meio a um ambiente tranquilo e acolhedor. A prática de yoga promove relaxamento\, equilíbrio e bem-estar\, sendo ideal para renovar as energias ao longo do dia. Exclusivo para adultos maiores de 18 anos.O evento pode sofrer alterações de data\, local ou cancelamento sem aviso prévio.
URL:https://lecanton.com.br/evento/aula-de-yoga/2026-11-28/
LOCATION:Gramado Village
ATTACH;FMTTYPE=image/jpeg:https://lecanton.com.br/wp-content/uploads/2026/04/yoga-1.jpg
END:VEVENT
BEGIN:VEVENT
DTSTART;TZID=America/Sao_Paulo:20261130T163000
DTEND;TZID=America/Sao_Paulo:20261130T170000
DTSTAMP:20260420T043344
CREATED:20260413T190247Z
LAST-MODIFIED:20260413T190247Z
UID:10000928-1796056200-1796058000@lecanton.com.br
SUMMARY:Alongamento
DESCRIPTION:Um momento dedicado ao bem-estar e à leveza do corpo! A atividade de alongamento promove relaxamento\, melhora da mobilidade e equilíbrio\, sendo ideal para começar ou encerrar o dia com mais disposição. Exclusivo para adultos acima de 18 anos.O evento pode sofrer alterações de data\, local ou cancelamento sem aviso prévio.
URL:https://lecanton.com.br/evento/alongamento/2026-11-30/
LOCATION:Gramado Village
CATEGORIES:Adultos acima de 18 anos
ATTACH;FMTTYPE=image/jpeg:https://lecanton.com.br/wp-content/uploads/2026/04/alongamento.jpg
END:VEVENT
BEGIN:VEVENT
DTSTART;TZID=America/Sao_Paulo:20261202T153000
DTEND;TZID=America/Sao_Paulo:20261202T160000
DTSTAMP:20260420T043344
CREATED:20260413T205143Z
LAST-MODIFIED:20260413T205143Z
UID:10003801-1796225400-1796227200@lecanton.com.br
SUMMARY:Dardo
DESCRIPTION:Uma atividade clássica e descontraída que combina precisão e diversão. O jogo de dardo é perfeito para momentos de lazer entre amigos\, estimulando concentração e uma competição leve em um ambiente agradável. Exclusivo para adultos maiores de 18 anos.O evento pode sofrer alterações de data\, local ou cancelamento sem aviso prévio.
URL:https://lecanton.com.br/evento/dardo/2026-12-02/
LOCATION:Gramado Village
CATEGORIES:Adultos acima de 18 anos
ATTACH;FMTTYPE=image/jpeg:https://lecanton.com.br/wp-content/uploads/2026/04/dardo.jpg
END:VEVENT
BEGIN:VEVENT
DTSTART;TZID=America/Sao_Paulo:20261205T170000
DTEND;TZID=America/Sao_Paulo:20261205T173000
DTSTAMP:20260420T043344
CREATED:20260413T201947Z
LAST-MODIFIED:20260413T201947Z
UID:10001450-1796490000-1796491800@lecanton.com.br
SUMMARY:Aula de Yoga
DESCRIPTION:Um momento de conexão entre corpo e mente em meio a um ambiente tranquilo e acolhedor. A prática de yoga promove relaxamento\, equilíbrio e bem-estar\, sendo ideal para renovar as energias ao longo do dia. Exclusivo para adultos maiores de 18 anos.O evento pode sofrer alterações de data\, local ou cancelamento sem aviso prévio.
URL:https://lecanton.com.br/evento/aula-de-yoga/2026-12-05/
LOCATION:Gramado Village
ATTACH;FMTTYPE=image/jpeg:https://lecanton.com.br/wp-content/uploads/2026/04/yoga-1.jpg
END:VEVENT
BEGIN:VEVENT
DTSTART;TZID=America/Sao_Paulo:20261207T163000
DTEND;TZID=America/Sao_Paulo:20261207T170000
DTSTAMP:20260420T043344
CREATED:20260413T190247Z
LAST-MODIFIED:20260413T190247Z
UID:10000929-1796661000-1796662800@lecanton.com.br
SUMMARY:Alongamento
DESCRIPTION:Um momento dedicado ao bem-estar e à leveza do corpo! A atividade de alongamento promove relaxamento\, melhora da mobilidade e equilíbrio\, sendo ideal para começar ou encerrar o dia com mais disposição. Exclusivo para adultos acima de 18 anos.O evento pode sofrer alterações de data\, local ou cancelamento sem aviso prévio.
URL:https://lecanton.com.br/evento/alongamento/2026-12-07/
LOCATION:Gramado Village
CATEGORIES:Adultos acima de 18 anos
ATTACH;FMTTYPE=image/jpeg:https://lecanton.com.br/wp-content/uploads/2026/04/alongamento.jpg
END:VEVENT
BEGIN:VEVENT
DTSTART;TZID=America/Sao_Paulo:20261209T153000
DTEND;TZID=America/Sao_Paulo:20261209T160000
DTSTAMP:20260420T043344
CREATED:20260413T205143Z
LAST-MODIFIED:20260413T205143Z
UID:10003802-1796830200-1796832000@lecanton.com.br
SUMMARY:Dardo
DESCRIPTION:Uma atividade clássica e descontraída que combina precisão e diversão. O jogo de dardo é perfeito para momentos de lazer entre amigos\, estimulando concentração e uma competição leve em um ambiente agradável. Exclusivo para adultos maiores de 18 anos.O evento pode sofrer alterações de data\, local ou cancelamento sem aviso prévio.
URL:https://lecanton.com.br/evento/dardo/2026-12-09/
LOCATION:Gramado Village
CATEGORIES:Adultos acima de 18 anos
ATTACH;FMTTYPE=image/jpeg:https://lecanton.com.br/wp-content/uploads/2026/04/dardo.jpg
END:VEVENT
BEGIN:VEVENT
DTSTART;TZID=America/Sao_Paulo:20261212T170000
DTEND;TZID=America/Sao_Paulo:20261212T173000
DTSTAMP:20260420T043344
CREATED:20260413T201947Z
LAST-MODIFIED:20260413T201947Z
UID:10001451-1797094800-1797096600@lecanton.com.br
SUMMARY:Aula de Yoga
DESCRIPTION:Um momento de conexão entre corpo e mente em meio a um ambiente tranquilo e acolhedor. A prática de yoga promove relaxamento\, equilíbrio e bem-estar\, sendo ideal para renovar as energias ao longo do dia. Exclusivo para adultos maiores de 18 anos.O evento pode sofrer alterações de data\, local ou cancelamento sem aviso prévio.
URL:https://lecanton.com.br/evento/aula-de-yoga/2026-12-12/
LOCATION:Gramado Village
ATTACH;FMTTYPE=image/jpeg:https://lecanton.com.br/wp-content/uploads/2026/04/yoga-1.jpg
END:VEVENT
BEGIN:VEVENT
DTSTART;TZID=America/Sao_Paulo:20261214T163000
DTEND;TZID=America/Sao_Paulo:20261214T170000
DTSTAMP:20260420T043344
CREATED:20260413T190247Z
LAST-MODIFIED:20260413T190247Z
UID:10000930-1797265800-1797267600@lecanton.com.br
SUMMARY:Alongamento
DESCRIPTION:Um momento dedicado ao bem-estar e à leveza do corpo! A atividade de alongamento promove relaxamento\, melhora da mobilidade e equilíbrio\, sendo ideal para começar ou encerrar o dia com mais disposição. Exclusivo para adultos acima de 18 anos.O evento pode sofrer alterações de data\, local ou cancelamento sem aviso prévio.
URL:https://lecanton.com.br/evento/alongamento/2026-12-14/
LOCATION:Gramado Village
CATEGORIES:Adultos acima de 18 anos
ATTACH;FMTTYPE=image/jpeg:https://lecanton.com.br/wp-content/uploads/2026/04/alongamento.jpg
END:VEVENT
BEGIN:VEVENT
DTSTART;TZID=America/Sao_Paulo:20261216T153000
DTEND;TZID=America/Sao_Paulo:20261216T160000
DTSTAMP:20260420T043344
CREATED:20260413T205143Z
LAST-MODIFIED:20260413T205143Z
UID:10003803-1797435000-1797436800@lecanton.com.br
SUMMARY:Dardo
DESCRIPTION:Uma atividade clássica e descontraída que combina precisão e diversão. O jogo de dardo é perfeito para momentos de lazer entre amigos\, estimulando concentração e uma competição leve em um ambiente agradável. Exclusivo para adultos maiores de 18 anos.O evento pode sofrer alterações de data\, local ou cancelamento sem aviso prévio.
URL:https://lecanton.com.br/evento/dardo/2026-12-16/
LOCATION:Gramado Village
CATEGORIES:Adultos acima de 18 anos
ATTACH;FMTTYPE=image/jpeg:https://lecanton.com.br/wp-content/uploads/2026/04/dardo.jpg
END:VEVENT
BEGIN:VEVENT
DTSTART;TZID=America/Sao_Paulo:20261219T170000
DTEND;TZID=America/Sao_Paulo:20261219T173000
DTSTAMP:20260420T043344
CREATED:20260413T201947Z
LAST-MODIFIED:20260413T201947Z
UID:10001452-1797699600-1797701400@lecanton.com.br
SUMMARY:Aula de Yoga
DESCRIPTION:Um momento de conexão entre corpo e mente em meio a um ambiente tranquilo e acolhedor. A prática de yoga promove relaxamento\, equilíbrio e bem-estar\, sendo ideal para renovar as energias ao longo do dia. Exclusivo para adultos maiores de 18 anos.O evento pode sofrer alterações de data\, local ou cancelamento sem aviso prévio.
URL:https://lecanton.com.br/evento/aula-de-yoga/2026-12-19/
LOCATION:Gramado Village
ATTACH;FMTTYPE=image/jpeg:https://lecanton.com.br/wp-content/uploads/2026/04/yoga-1.jpg
END:VEVENT
BEGIN:VEVENT
DTSTART;TZID=America/Sao_Paulo:20261221T163000
DTEND;TZID=America/Sao_Paulo:20261221T170000
DTSTAMP:20260420T043344
CREATED:20260413T190247Z
LAST-MODIFIED:20260413T190247Z
UID:10000931-1797870600-1797872400@lecanton.com.br
SUMMARY:Alongamento
DESCRIPTION:Um momento dedicado ao bem-estar e à leveza do corpo! A atividade de alongamento promove relaxamento\, melhora da mobilidade e equilíbrio\, sendo ideal para começar ou encerrar o dia com mais disposição. Exclusivo para adultos acima de 18 anos.O evento pode sofrer alterações de data\, local ou cancelamento sem aviso prévio.
URL:https://lecanton.com.br/evento/alongamento/2026-12-21/
LOCATION:Gramado Village
CATEGORIES:Adultos acima de 18 anos
ATTACH;FMTTYPE=image/jpeg:https://lecanton.com.br/wp-content/uploads/2026/04/alongamento.jpg
END:VEVENT
BEGIN:VEVENT
DTSTART;TZID=America/Sao_Paulo:20261223T153000
DTEND;TZID=America/Sao_Paulo:20261223T160000
DTSTAMP:20260420T043344
CREATED:20260413T205143Z
LAST-MODIFIED:20260413T205143Z
UID:10003804-1798039800-1798041600@lecanton.com.br
SUMMARY:Dardo
DESCRIPTION:Uma atividade clássica e descontraída que combina precisão e diversão. O jogo de dardo é perfeito para momentos de lazer entre amigos\, estimulando concentração e uma competição leve em um ambiente agradável. Exclusivo para adultos maiores de 18 anos.O evento pode sofrer alterações de data\, local ou cancelamento sem aviso prévio.
URL:https://lecanton.com.br/evento/dardo/2026-12-23/
LOCATION:Gramado Village
CATEGORIES:Adultos acima de 18 anos
ATTACH;FMTTYPE=image/jpeg:https://lecanton.com.br/wp-content/uploads/2026/04/dardo.jpg
END:VEVENT
BEGIN:VEVENT
DTSTART;TZID=America/Sao_Paulo:20261226T170000
DTEND;TZID=America/Sao_Paulo:20261226T173000
DTSTAMP:20260420T043344
CREATED:20260413T201947Z
LAST-MODIFIED:20260413T201947Z
UID:10001453-1798304400-1798306200@lecanton.com.br
SUMMARY:Aula de Yoga
DESCRIPTION:Um momento de conexão entre corpo e mente em meio a um ambiente tranquilo e acolhedor. A prática de yoga promove relaxamento\, equilíbrio e bem-estar\, sendo ideal para renovar as energias ao longo do dia. Exclusivo para adultos maiores de 18 anos.O evento pode sofrer alterações de data\, local ou cancelamento sem aviso prévio.
URL:https://lecanton.com.br/evento/aula-de-yoga/2026-12-26/
LOCATION:Gramado Village
ATTACH;FMTTYPE=image/jpeg:https://lecanton.com.br/wp-content/uploads/2026/04/yoga-1.jpg
END:VEVENT
BEGIN:VEVENT
DTSTART;TZID=America/Sao_Paulo:20261228T163000
DTEND;TZID=America/Sao_Paulo:20261228T170000
DTSTAMP:20260420T043344
CREATED:20260413T190247Z
LAST-MODIFIED:20260413T190247Z
UID:10000932-1798475400-1798477200@lecanton.com.br
SUMMARY:Alongamento
DESCRIPTION:Um momento dedicado ao bem-estar e à leveza do corpo! A atividade de alongamento promove relaxamento\, melhora da mobilidade e equilíbrio\, sendo ideal para começar ou encerrar o dia com mais disposição. Exclusivo para adultos acima de 18 anos.O evento pode sofrer alterações de data\, local ou cancelamento sem aviso prévio.
URL:https://lecanton.com.br/evento/alongamento/2026-12-28/
LOCATION:Gramado Village
CATEGORIES:Adultos acima de 18 anos
ATTACH;FMTTYPE=image/jpeg:https://lecanton.com.br/wp-content/uploads/2026/04/alongamento.jpg
END:VEVENT
BEGIN:VEVENT
DTSTART;TZID=America/Sao_Paulo:20261230T153000
DTEND;TZID=America/Sao_Paulo:20261230T160000
DTSTAMP:20260420T043344
CREATED:20260413T205143Z
LAST-MODIFIED:20260413T205143Z
UID:10003805-1798644600-1798646400@lecanton.com.br
SUMMARY:Dardo
DESCRIPTION:Uma atividade clássica e descontraída que combina precisão e diversão. O jogo de dardo é perfeito para momentos de lazer entre amigos\, estimulando concentração e uma competição leve em um ambiente agradável. Exclusivo para adultos maiores de 18 anos.O evento pode sofrer alterações de data\, local ou cancelamento sem aviso prévio.
URL:https://lecanton.com.br/evento/dardo/2026-12-30/
LOCATION:Gramado Village
CATEGORIES:Adultos acima de 18 anos
ATTACH;FMTTYPE=image/jpeg:https://lecanton.com.br/wp-content/uploads/2026/04/dardo.jpg
END:VEVENT
BEGIN:VEVENT
DTSTART;TZID=America/Sao_Paulo:20270102T170000
DTEND;TZID=America/Sao_Paulo:20270102T173000
DTSTAMP:20260420T043344
CREATED:20260413T201947Z
LAST-MODIFIED:20260413T201947Z
UID:10001454-1798909200-1798911000@lecanton.com.br
SUMMARY:Aula de Yoga
DESCRIPTION:Um momento de conexão entre corpo e mente em meio a um ambiente tranquilo e acolhedor. A prática de yoga promove relaxamento\, equilíbrio e bem-estar\, sendo ideal para renovar as energias ao longo do dia. Exclusivo para adultos maiores de 18 anos.O evento pode sofrer alterações de data\, local ou cancelamento sem aviso prévio.
URL:https://lecanton.com.br/evento/aula-de-yoga/2027-01-02/
LOCATION:Gramado Village
ATTACH;FMTTYPE=image/jpeg:https://lecanton.com.br/wp-content/uploads/2026/04/yoga-1.jpg
END:VEVENT
BEGIN:VEVENT
DTSTART;TZID=America/Sao_Paulo:20270104T163000
DTEND;TZID=America/Sao_Paulo:20270104T170000
DTSTAMP:20260420T043344
CREATED:20260413T190247Z
LAST-MODIFIED:20260413T190247Z
UID:10000933-1799080200-1799082000@lecanton.com.br
SUMMARY:Alongamento
DESCRIPTION:Um momento dedicado ao bem-estar e à leveza do corpo! A atividade de alongamento promove relaxamento\, melhora da mobilidade e equilíbrio\, sendo ideal para começar ou encerrar o dia com mais disposição. Exclusivo para adultos acima de 18 anos.O evento pode sofrer alterações de data\, local ou cancelamento sem aviso prévio.
URL:https://lecanton.com.br/evento/alongamento/2027-01-04/
LOCATION:Gramado Village
CATEGORIES:Adultos acima de 18 anos
ATTACH;FMTTYPE=image/jpeg:https://lecanton.com.br/wp-content/uploads/2026/04/alongamento.jpg
END:VEVENT
BEGIN:VEVENT
DTSTART;TZID=America/Sao_Paulo:20270106T153000
DTEND;TZID=America/Sao_Paulo:20270106T160000
DTSTAMP:20260420T043344
CREATED:20260413T205143Z
LAST-MODIFIED:20260413T205143Z
UID:10003806-1799249400-1799251200@lecanton.com.br
SUMMARY:Dardo
DESCRIPTION:Uma atividade clássica e descontraída que combina precisão e diversão. O jogo de dardo é perfeito para momentos de lazer entre amigos\, estimulando concentração e uma competição leve em um ambiente agradável. Exclusivo para adultos maiores de 18 anos.O evento pode sofrer alterações de data\, local ou cancelamento sem aviso prévio.
URL:https://lecanton.com.br/evento/dardo/2027-01-06/
LOCATION:Gramado Village
CATEGORIES:Adultos acima de 18 anos
ATTACH;FMTTYPE=image/jpeg:https://lecanton.com.br/wp-content/uploads/2026/04/dardo.jpg
END:VEVENT
BEGIN:VEVENT
DTSTART;TZID=America/Sao_Paulo:20270109T170000
DTEND;TZID=America/Sao_Paulo:20270109T173000
DTSTAMP:20260420T043344
CREATED:20260413T201947Z
LAST-MODIFIED:20260413T201947Z
UID:10001455-1799514000-1799515800@lecanton.com.br
SUMMARY:Aula de Yoga
DESCRIPTION:Um momento de conexão entre corpo e mente em meio a um ambiente tranquilo e acolhedor. A prática de yoga promove relaxamento\, equilíbrio e bem-estar\, sendo ideal para renovar as energias ao longo do dia. Exclusivo para adultos maiores de 18 anos.O evento pode sofrer alterações de data\, local ou cancelamento sem aviso prévio.
URL:https://lecanton.com.br/evento/aula-de-yoga/2027-01-09/
LOCATION:Gramado Village
ATTACH;FMTTYPE=image/jpeg:https://lecanton.com.br/wp-content/uploads/2026/04/yoga-1.jpg
END:VEVENT
BEGIN:VEVENT
DTSTART;TZID=America/Sao_Paulo:20270111T163000
DTEND;TZID=America/Sao_Paulo:20270111T170000
DTSTAMP:20260420T043344
CREATED:20260413T190247Z
LAST-MODIFIED:20260413T190247Z
UID:10000934-1799685000-1799686800@lecanton.com.br
SUMMARY:Alongamento
DESCRIPTION:Um momento dedicado ao bem-estar e à leveza do corpo! A atividade de alongamento promove relaxamento\, melhora da mobilidade e equilíbrio\, sendo ideal para começar ou encerrar o dia com mais disposição. Exclusivo para adultos acima de 18 anos.O evento pode sofrer alterações de data\, local ou cancelamento sem aviso prévio.
URL:https://lecanton.com.br/evento/alongamento/2027-01-11/
LOCATION:Gramado Village
CATEGORIES:Adultos acima de 18 anos
ATTACH;FMTTYPE=image/jpeg:https://lecanton.com.br/wp-content/uploads/2026/04/alongamento.jpg
END:VEVENT
BEGIN:VEVENT
DTSTART;TZID=America/Sao_Paulo:20270113T153000
DTEND;TZID=America/Sao_Paulo:20270113T160000
DTSTAMP:20260420T043344
CREATED:20260413T205143Z
LAST-MODIFIED:20260413T205143Z
UID:10003807-1799854200-1799856000@lecanton.com.br
SUMMARY:Dardo
DESCRIPTION:Uma atividade clássica e descontraída que combina precisão e diversão. O jogo de dardo é perfeito para momentos de lazer entre amigos\, estimulando concentração e uma competição leve em um ambiente agradável. Exclusivo para adultos maiores de 18 anos.O evento pode sofrer alterações de data\, local ou cancelamento sem aviso prévio.
URL:https://lecanton.com.br/evento/dardo/2027-01-13/
LOCATION:Gramado Village
CATEGORIES:Adultos acima de 18 anos
ATTACH;FMTTYPE=image/jpeg:https://lecanton.com.br/wp-content/uploads/2026/04/dardo.jpg
END:VEVENT
BEGIN:VEVENT
DTSTART;TZID=America/Sao_Paulo:20270116T170000
DTEND;TZID=America/Sao_Paulo:20270116T173000
DTSTAMP:20260420T043344
CREATED:20260413T201947Z
LAST-MODIFIED:20260413T201947Z
UID:10001456-1800118800-1800120600@lecanton.com.br
SUMMARY:Aula de Yoga
DESCRIPTION:Um momento de conexão entre corpo e mente em meio a um ambiente tranquilo e acolhedor. A prática de yoga promove relaxamento\, equilíbrio e bem-estar\, sendo ideal para renovar as energias ao longo do dia. Exclusivo para adultos maiores de 18 anos.O evento pode sofrer alterações de data\, local ou cancelamento sem aviso prévio.
URL:https://lecanton.com.br/evento/aula-de-yoga/2027-01-16/
LOCATION:Gramado Village
ATTACH;FMTTYPE=image/jpeg:https://lecanton.com.br/wp-content/uploads/2026/04/yoga-1.jpg
END:VEVENT
BEGIN:VEVENT
DTSTART;TZID=America/Sao_Paulo:20270118T163000
DTEND;TZID=America/Sao_Paulo:20270118T170000
DTSTAMP:20260420T043344
CREATED:20260413T190247Z
LAST-MODIFIED:20260413T190247Z
UID:10000935-1800289800-1800291600@lecanton.com.br
SUMMARY:Alongamento
DESCRIPTION:Um momento dedicado ao bem-estar e à leveza do corpo! A atividade de alongamento promove relaxamento\, melhora da mobilidade e equilíbrio\, sendo ideal para começar ou encerrar o dia com mais disposição. Exclusivo para adultos acima de 18 anos.O evento pode sofrer alterações de data\, local ou cancelamento sem aviso prévio.
URL:https://lecanton.com.br/evento/alongamento/2027-01-18/
LOCATION:Gramado Village
CATEGORIES:Adultos acima de 18 anos
ATTACH;FMTTYPE=image/jpeg:https://lecanton.com.br/wp-content/uploads/2026/04/alongamento.jpg
END:VEVENT
BEGIN:VEVENT
DTSTART;TZID=America/Sao_Paulo:20270120T153000
DTEND;TZID=America/Sao_Paulo:20270120T160000
DTSTAMP:20260420T043344
CREATED:20260413T205143Z
LAST-MODIFIED:20260413T205143Z
UID:10003808-1800459000-1800460800@lecanton.com.br
SUMMARY:Dardo
DESCRIPTION:Uma atividade clássica e descontraída que combina precisão e diversão. O jogo de dardo é perfeito para momentos de lazer entre amigos\, estimulando concentração e uma competição leve em um ambiente agradável. Exclusivo para adultos maiores de 18 anos.O evento pode sofrer alterações de data\, local ou cancelamento sem aviso prévio.
URL:https://lecanton.com.br/evento/dardo/2027-01-20/
LOCATION:Gramado Village
CATEGORIES:Adultos acima de 18 anos
ATTACH;FMTTYPE=image/jpeg:https://lecanton.com.br/wp-content/uploads/2026/04/dardo.jpg
END:VEVENT
BEGIN:VEVENT
DTSTART;TZID=America/Sao_Paulo:20270123T170000
DTEND;TZID=America/Sao_Paulo:20270123T173000
DTSTAMP:20260420T043344
CREATED:20260413T201947Z
LAST-MODIFIED:20260413T201947Z
UID:10001457-1800723600-1800725400@lecanton.com.br
SUMMARY:Aula de Yoga
DESCRIPTION:Um momento de conexão entre corpo e mente em meio a um ambiente tranquilo e acolhedor. A prática de yoga promove relaxamento\, equilíbrio e bem-estar\, sendo ideal para renovar as energias ao longo do dia. Exclusivo para adultos maiores de 18 anos.O evento pode sofrer alterações de data\, local ou cancelamento sem aviso prévio.
URL:https://lecanton.com.br/evento/aula-de-yoga/2027-01-23/
LOCATION:Gramado Village
ATTACH;FMTTYPE=image/jpeg:https://lecanton.com.br/wp-content/uploads/2026/04/yoga-1.jpg
END:VEVENT
BEGIN:VEVENT
DTSTART;TZID=America/Sao_Paulo:20270125T163000
DTEND;TZID=America/Sao_Paulo:20270125T170000
DTSTAMP:20260420T043344
CREATED:20260413T190247Z
LAST-MODIFIED:20260413T190247Z
UID:10000936-1800894600-1800896400@lecanton.com.br
SUMMARY:Alongamento
DESCRIPTION:Um momento dedicado ao bem-estar e à leveza do corpo! A atividade de alongamento promove relaxamento\, melhora da mobilidade e equilíbrio\, sendo ideal para começar ou encerrar o dia com mais disposição. Exclusivo para adultos acima de 18 anos.O evento pode sofrer alterações de data\, local ou cancelamento sem aviso prévio.
URL:https://lecanton.com.br/evento/alongamento/2027-01-25/
LOCATION:Gramado Village
CATEGORIES:Adultos acima de 18 anos
ATTACH;FMTTYPE=image/jpeg:https://lecanton.com.br/wp-content/uploads/2026/04/alongamento.jpg
END:VEVENT
BEGIN:VEVENT
DTSTART;TZID=America/Sao_Paulo:20270127T153000
DTEND;TZID=America/Sao_Paulo:20270127T160000
DTSTAMP:20260420T043344
CREATED:20260413T205143Z
LAST-MODIFIED:20260413T205143Z
UID:10003809-1801063800-1801065600@lecanton.com.br
SUMMARY:Dardo
DESCRIPTION:Uma atividade clássica e descontraída que combina precisão e diversão. O jogo de dardo é perfeito para momentos de lazer entre amigos\, estimulando concentração e uma competição leve em um ambiente agradável. Exclusivo para adultos maiores de 18 anos.O evento pode sofrer alterações de data\, local ou cancelamento sem aviso prévio.
URL:https://lecanton.com.br/evento/dardo/2027-01-27/
LOCATION:Gramado Village
CATEGORIES:Adultos acima de 18 anos
ATTACH;FMTTYPE=image/jpeg:https://lecanton.com.br/wp-content/uploads/2026/04/dardo.jpg
END:VEVENT
BEGIN:VEVENT
DTSTART;TZID=America/Sao_Paulo:20270130T170000
DTEND;TZID=America/Sao_Paulo:20270130T173000
DTSTAMP:20260420T043344
CREATED:20260413T201947Z
LAST-MODIFIED:20260413T201947Z
UID:10001458-1801328400-1801330200@lecanton.com.br
SUMMARY:Aula de Yoga
DESCRIPTION:Um momento de conexão entre corpo e mente em meio a um ambiente tranquilo e acolhedor. A prática de yoga promove relaxamento\, equilíbrio e bem-estar\, sendo ideal para renovar as energias ao longo do dia. Exclusivo para adultos maiores de 18 anos.O evento pode sofrer alterações de data\, local ou cancelamento sem aviso prévio.
URL:https://lecanton.com.br/evento/aula-de-yoga/2027-01-30/
LOCATION:Gramado Village
ATTACH;FMTTYPE=image/jpeg:https://lecanton.com.br/wp-content/uploads/2026/04/yoga-1.jpg
END:VEVENT
END:VCALENDAR