BEGIN:VCALENDAR
VERSION:2.0
PRODID:-//Le Canton | O melhor Resort da Serra - ECPv6.15.17.1//NONSGML v1.0//EN
CALSCALE:GREGORIAN
METHOD:PUBLISH
X-WR-CALNAME:Le Canton | O melhor Resort da Serra
X-ORIGINAL-URL:https://lecanton.com.br
X-WR-CALDESC:Eventos para Le Canton | O melhor Resort da Serra
REFRESH-INTERVAL;VALUE=DURATION:PT1H
X-Robots-Tag:noindex
X-PUBLISHED-TTL:PT1H
BEGIN:VTIMEZONE
TZID:America/Sao_Paulo
BEGIN:STANDARD
TZOFFSETFROM:-0300
TZOFFSETTO:-0300
TZNAME:-03
DTSTART:20250101T000000
END:STANDARD
END:VTIMEZONE
BEGIN:VEVENT
DTSTART;TZID=America/Sao_Paulo:20260718T143000
DTEND;TZID=America/Sao_Paulo:20260718T153000
DTSTAMP:20260425T124351
CREATED:20260424T201938Z
LAST-MODIFIED:20260424T201938Z
UID:10032804-1784385000-1784388600@lecanton.com.br
SUMMARY:Desafio
DESCRIPTION:Uma atividade dinâmica e cheia de interação para quem gosta de competir de forma leve e divertida! O Desafio reúne provas e dinâmicas variadas que estimulam raciocínio\, agilidade e trabalho em equipe em um ambiente descontraído. Exclusivo para adultos maiores de 18 anos.O evento pode sofrer alterações de data\, local ou cancelamento sem aviso prévio.
URL:https://lecanton.com.br/evento/desafio/2026-07-18/
LOCATION:Corredor Village
CATEGORIES:Adultos acima de 18 anos
ATTACH;FMTTYPE=image/jpeg:https://lecanton.com.br/wp-content/uploads/2026/04/Ding-Dong.jpg
END:VEVENT
BEGIN:VEVENT
DTSTART;TZID=America/Sao_Paulo:20260719T143000
DTEND;TZID=America/Sao_Paulo:20260719T153000
DTSTAMP:20260425T124351
CREATED:20260424T201938Z
LAST-MODIFIED:20260424T201938Z
UID:10032805-1784471400-1784475000@lecanton.com.br
SUMMARY:Desafio
DESCRIPTION:Uma atividade dinâmica e cheia de interação para quem gosta de competir de forma leve e divertida! O Desafio reúne provas e dinâmicas variadas que estimulam raciocínio\, agilidade e trabalho em equipe em um ambiente descontraído. Exclusivo para adultos maiores de 18 anos.O evento pode sofrer alterações de data\, local ou cancelamento sem aviso prévio.
URL:https://lecanton.com.br/evento/desafio/2026-07-19/
LOCATION:Corredor Village
CATEGORIES:Adultos acima de 18 anos
ATTACH;FMTTYPE=image/jpeg:https://lecanton.com.br/wp-content/uploads/2026/04/Ding-Dong.jpg
END:VEVENT
BEGIN:VEVENT
DTSTART;TZID=America/Sao_Paulo:20260721T143000
DTEND;TZID=America/Sao_Paulo:20260721T153000
DTSTAMP:20260425T124351
CREATED:20260424T201938Z
LAST-MODIFIED:20260424T201938Z
UID:10032806-1784644200-1784647800@lecanton.com.br
SUMMARY:Desafio
DESCRIPTION:Uma atividade dinâmica e cheia de interação para quem gosta de competir de forma leve e divertida! O Desafio reúne provas e dinâmicas variadas que estimulam raciocínio\, agilidade e trabalho em equipe em um ambiente descontraído. Exclusivo para adultos maiores de 18 anos.O evento pode sofrer alterações de data\, local ou cancelamento sem aviso prévio.
URL:https://lecanton.com.br/evento/desafio/2026-07-21/
LOCATION:Corredor Village
CATEGORIES:Adultos acima de 18 anos
ATTACH;FMTTYPE=image/jpeg:https://lecanton.com.br/wp-content/uploads/2026/04/Ding-Dong.jpg
END:VEVENT
BEGIN:VEVENT
DTSTART;TZID=America/Sao_Paulo:20260722T143000
DTEND;TZID=America/Sao_Paulo:20260722T153000
DTSTAMP:20260425T124351
CREATED:20260424T201938Z
LAST-MODIFIED:20260424T201938Z
UID:10032807-1784730600-1784734200@lecanton.com.br
SUMMARY:Desafio
DESCRIPTION:Uma atividade dinâmica e cheia de interação para quem gosta de competir de forma leve e divertida! O Desafio reúne provas e dinâmicas variadas que estimulam raciocínio\, agilidade e trabalho em equipe em um ambiente descontraído. Exclusivo para adultos maiores de 18 anos.O evento pode sofrer alterações de data\, local ou cancelamento sem aviso prévio.
URL:https://lecanton.com.br/evento/desafio/2026-07-22/
LOCATION:Corredor Village
CATEGORIES:Adultos acima de 18 anos
ATTACH;FMTTYPE=image/jpeg:https://lecanton.com.br/wp-content/uploads/2026/04/Ding-Dong.jpg
END:VEVENT
BEGIN:VEVENT
DTSTART;TZID=America/Sao_Paulo:20260723T143000
DTEND;TZID=America/Sao_Paulo:20260723T153000
DTSTAMP:20260425T124351
CREATED:20260424T201938Z
LAST-MODIFIED:20260424T201938Z
UID:10032808-1784817000-1784820600@lecanton.com.br
SUMMARY:Desafio
DESCRIPTION:Uma atividade dinâmica e cheia de interação para quem gosta de competir de forma leve e divertida! O Desafio reúne provas e dinâmicas variadas que estimulam raciocínio\, agilidade e trabalho em equipe em um ambiente descontraído. Exclusivo para adultos maiores de 18 anos.O evento pode sofrer alterações de data\, local ou cancelamento sem aviso prévio.
URL:https://lecanton.com.br/evento/desafio/2026-07-23/
LOCATION:Corredor Village
CATEGORIES:Adultos acima de 18 anos
ATTACH;FMTTYPE=image/jpeg:https://lecanton.com.br/wp-content/uploads/2026/04/Ding-Dong.jpg
END:VEVENT
BEGIN:VEVENT
DTSTART;TZID=America/Sao_Paulo:20260724T143000
DTEND;TZID=America/Sao_Paulo:20260724T153000
DTSTAMP:20260425T124351
CREATED:20260424T201938Z
LAST-MODIFIED:20260424T201938Z
UID:10032809-1784903400-1784907000@lecanton.com.br
SUMMARY:Desafio
DESCRIPTION:Uma atividade dinâmica e cheia de interação para quem gosta de competir de forma leve e divertida! O Desafio reúne provas e dinâmicas variadas que estimulam raciocínio\, agilidade e trabalho em equipe em um ambiente descontraído. Exclusivo para adultos maiores de 18 anos.O evento pode sofrer alterações de data\, local ou cancelamento sem aviso prévio.
URL:https://lecanton.com.br/evento/desafio/2026-07-24/
LOCATION:Corredor Village
CATEGORIES:Adultos acima de 18 anos
ATTACH;FMTTYPE=image/jpeg:https://lecanton.com.br/wp-content/uploads/2026/04/Ding-Dong.jpg
END:VEVENT
BEGIN:VEVENT
DTSTART;TZID=America/Sao_Paulo:20260725T143000
DTEND;TZID=America/Sao_Paulo:20260725T153000
DTSTAMP:20260425T124351
CREATED:20260424T201938Z
LAST-MODIFIED:20260424T201938Z
UID:10032810-1784989800-1784993400@lecanton.com.br
SUMMARY:Desafio
DESCRIPTION:Uma atividade dinâmica e cheia de interação para quem gosta de competir de forma leve e divertida! O Desafio reúne provas e dinâmicas variadas que estimulam raciocínio\, agilidade e trabalho em equipe em um ambiente descontraído. Exclusivo para adultos maiores de 18 anos.O evento pode sofrer alterações de data\, local ou cancelamento sem aviso prévio.
URL:https://lecanton.com.br/evento/desafio/2026-07-25/
LOCATION:Corredor Village
CATEGORIES:Adultos acima de 18 anos
ATTACH;FMTTYPE=image/jpeg:https://lecanton.com.br/wp-content/uploads/2026/04/Ding-Dong.jpg
END:VEVENT
BEGIN:VEVENT
DTSTART;TZID=America/Sao_Paulo:20260726T143000
DTEND;TZID=America/Sao_Paulo:20260726T153000
DTSTAMP:20260425T124351
CREATED:20260424T201938Z
LAST-MODIFIED:20260424T201938Z
UID:10032811-1785076200-1785079800@lecanton.com.br
SUMMARY:Desafio
DESCRIPTION:Uma atividade dinâmica e cheia de interação para quem gosta de competir de forma leve e divertida! O Desafio reúne provas e dinâmicas variadas que estimulam raciocínio\, agilidade e trabalho em equipe em um ambiente descontraído. Exclusivo para adultos maiores de 18 anos.O evento pode sofrer alterações de data\, local ou cancelamento sem aviso prévio.
URL:https://lecanton.com.br/evento/desafio/2026-07-26/
LOCATION:Corredor Village
CATEGORIES:Adultos acima de 18 anos
ATTACH;FMTTYPE=image/jpeg:https://lecanton.com.br/wp-content/uploads/2026/04/Ding-Dong.jpg
END:VEVENT
BEGIN:VEVENT
DTSTART;TZID=America/Sao_Paulo:20260728T143000
DTEND;TZID=America/Sao_Paulo:20260728T153000
DTSTAMP:20260425T124351
CREATED:20260424T201938Z
LAST-MODIFIED:20260424T201938Z
UID:10032812-1785249000-1785252600@lecanton.com.br
SUMMARY:Desafio
DESCRIPTION:Uma atividade dinâmica e cheia de interação para quem gosta de competir de forma leve e divertida! O Desafio reúne provas e dinâmicas variadas que estimulam raciocínio\, agilidade e trabalho em equipe em um ambiente descontraído. Exclusivo para adultos maiores de 18 anos.O evento pode sofrer alterações de data\, local ou cancelamento sem aviso prévio.
URL:https://lecanton.com.br/evento/desafio/2026-07-28/
LOCATION:Corredor Village
CATEGORIES:Adultos acima de 18 anos
ATTACH;FMTTYPE=image/jpeg:https://lecanton.com.br/wp-content/uploads/2026/04/Ding-Dong.jpg
END:VEVENT
BEGIN:VEVENT
DTSTART;TZID=America/Sao_Paulo:20260729T143000
DTEND;TZID=America/Sao_Paulo:20260729T153000
DTSTAMP:20260425T124351
CREATED:20260424T201938Z
LAST-MODIFIED:20260424T201938Z
UID:10032813-1785335400-1785339000@lecanton.com.br
SUMMARY:Desafio
DESCRIPTION:Uma atividade dinâmica e cheia de interação para quem gosta de competir de forma leve e divertida! O Desafio reúne provas e dinâmicas variadas que estimulam raciocínio\, agilidade e trabalho em equipe em um ambiente descontraído. Exclusivo para adultos maiores de 18 anos.O evento pode sofrer alterações de data\, local ou cancelamento sem aviso prévio.
URL:https://lecanton.com.br/evento/desafio/2026-07-29/
LOCATION:Corredor Village
CATEGORIES:Adultos acima de 18 anos
ATTACH;FMTTYPE=image/jpeg:https://lecanton.com.br/wp-content/uploads/2026/04/Ding-Dong.jpg
END:VEVENT
BEGIN:VEVENT
DTSTART;TZID=America/Sao_Paulo:20260730T143000
DTEND;TZID=America/Sao_Paulo:20260730T153000
DTSTAMP:20260425T124351
CREATED:20260424T201938Z
LAST-MODIFIED:20260424T201938Z
UID:10032814-1785421800-1785425400@lecanton.com.br
SUMMARY:Desafio
DESCRIPTION:Uma atividade dinâmica e cheia de interação para quem gosta de competir de forma leve e divertida! O Desafio reúne provas e dinâmicas variadas que estimulam raciocínio\, agilidade e trabalho em equipe em um ambiente descontraído. Exclusivo para adultos maiores de 18 anos.O evento pode sofrer alterações de data\, local ou cancelamento sem aviso prévio.
URL:https://lecanton.com.br/evento/desafio/2026-07-30/
LOCATION:Corredor Village
CATEGORIES:Adultos acima de 18 anos
ATTACH;FMTTYPE=image/jpeg:https://lecanton.com.br/wp-content/uploads/2026/04/Ding-Dong.jpg
END:VEVENT
BEGIN:VEVENT
DTSTART;TZID=America/Sao_Paulo:20260731T143000
DTEND;TZID=America/Sao_Paulo:20260731T153000
DTSTAMP:20260425T124351
CREATED:20260424T201938Z
LAST-MODIFIED:20260424T201938Z
UID:10032815-1785508200-1785511800@lecanton.com.br
SUMMARY:Desafio
DESCRIPTION:Uma atividade dinâmica e cheia de interação para quem gosta de competir de forma leve e divertida! O Desafio reúne provas e dinâmicas variadas que estimulam raciocínio\, agilidade e trabalho em equipe em um ambiente descontraído. Exclusivo para adultos maiores de 18 anos.O evento pode sofrer alterações de data\, local ou cancelamento sem aviso prévio.
URL:https://lecanton.com.br/evento/desafio/2026-07-31/
LOCATION:Corredor Village
CATEGORIES:Adultos acima de 18 anos
ATTACH;FMTTYPE=image/jpeg:https://lecanton.com.br/wp-content/uploads/2026/04/Ding-Dong.jpg
END:VEVENT
BEGIN:VEVENT
DTSTART;TZID=America/Sao_Paulo:20260801T143000
DTEND;TZID=America/Sao_Paulo:20260801T153000
DTSTAMP:20260425T124351
CREATED:20260424T201938Z
LAST-MODIFIED:20260424T201938Z
UID:10032816-1785594600-1785598200@lecanton.com.br
SUMMARY:Desafio
DESCRIPTION:Uma atividade dinâmica e cheia de interação para quem gosta de competir de forma leve e divertida! O Desafio reúne provas e dinâmicas variadas que estimulam raciocínio\, agilidade e trabalho em equipe em um ambiente descontraído. Exclusivo para adultos maiores de 18 anos.O evento pode sofrer alterações de data\, local ou cancelamento sem aviso prévio.
URL:https://lecanton.com.br/evento/desafio/2026-08-01/
LOCATION:Corredor Village
CATEGORIES:Adultos acima de 18 anos
ATTACH;FMTTYPE=image/jpeg:https://lecanton.com.br/wp-content/uploads/2026/04/Ding-Dong.jpg
END:VEVENT
BEGIN:VEVENT
DTSTART;TZID=America/Sao_Paulo:20260802T143000
DTEND;TZID=America/Sao_Paulo:20260802T153000
DTSTAMP:20260425T124351
CREATED:20260424T201938Z
LAST-MODIFIED:20260424T201938Z
UID:10032817-1785681000-1785684600@lecanton.com.br
SUMMARY:Desafio
DESCRIPTION:Uma atividade dinâmica e cheia de interação para quem gosta de competir de forma leve e divertida! O Desafio reúne provas e dinâmicas variadas que estimulam raciocínio\, agilidade e trabalho em equipe em um ambiente descontraído. Exclusivo para adultos maiores de 18 anos.O evento pode sofrer alterações de data\, local ou cancelamento sem aviso prévio.
URL:https://lecanton.com.br/evento/desafio/2026-08-02/
LOCATION:Corredor Village
CATEGORIES:Adultos acima de 18 anos
ATTACH;FMTTYPE=image/jpeg:https://lecanton.com.br/wp-content/uploads/2026/04/Ding-Dong.jpg
END:VEVENT
BEGIN:VEVENT
DTSTART;TZID=America/Sao_Paulo:20260804T143000
DTEND;TZID=America/Sao_Paulo:20260804T153000
DTSTAMP:20260425T124351
CREATED:20260424T201938Z
LAST-MODIFIED:20260424T201938Z
UID:10032818-1785853800-1785857400@lecanton.com.br
SUMMARY:Desafio
DESCRIPTION:Uma atividade dinâmica e cheia de interação para quem gosta de competir de forma leve e divertida! O Desafio reúne provas e dinâmicas variadas que estimulam raciocínio\, agilidade e trabalho em equipe em um ambiente descontraído. Exclusivo para adultos maiores de 18 anos.O evento pode sofrer alterações de data\, local ou cancelamento sem aviso prévio.
URL:https://lecanton.com.br/evento/desafio/2026-08-04/
LOCATION:Corredor Village
CATEGORIES:Adultos acima de 18 anos
ATTACH;FMTTYPE=image/jpeg:https://lecanton.com.br/wp-content/uploads/2026/04/Ding-Dong.jpg
END:VEVENT
BEGIN:VEVENT
DTSTART;TZID=America/Sao_Paulo:20260805T143000
DTEND;TZID=America/Sao_Paulo:20260805T153000
DTSTAMP:20260425T124351
CREATED:20260424T201938Z
LAST-MODIFIED:20260424T201938Z
UID:10032819-1785940200-1785943800@lecanton.com.br
SUMMARY:Desafio
DESCRIPTION:Uma atividade dinâmica e cheia de interação para quem gosta de competir de forma leve e divertida! O Desafio reúne provas e dinâmicas variadas que estimulam raciocínio\, agilidade e trabalho em equipe em um ambiente descontraído. Exclusivo para adultos maiores de 18 anos.O evento pode sofrer alterações de data\, local ou cancelamento sem aviso prévio.
URL:https://lecanton.com.br/evento/desafio/2026-08-05/
LOCATION:Corredor Village
CATEGORIES:Adultos acima de 18 anos
ATTACH;FMTTYPE=image/jpeg:https://lecanton.com.br/wp-content/uploads/2026/04/Ding-Dong.jpg
END:VEVENT
BEGIN:VEVENT
DTSTART;TZID=America/Sao_Paulo:20260806T143000
DTEND;TZID=America/Sao_Paulo:20260806T153000
DTSTAMP:20260425T124351
CREATED:20260424T201938Z
LAST-MODIFIED:20260424T201938Z
UID:10032820-1786026600-1786030200@lecanton.com.br
SUMMARY:Desafio
DESCRIPTION:Uma atividade dinâmica e cheia de interação para quem gosta de competir de forma leve e divertida! O Desafio reúne provas e dinâmicas variadas que estimulam raciocínio\, agilidade e trabalho em equipe em um ambiente descontraído. Exclusivo para adultos maiores de 18 anos.O evento pode sofrer alterações de data\, local ou cancelamento sem aviso prévio.
URL:https://lecanton.com.br/evento/desafio/2026-08-06/
LOCATION:Corredor Village
CATEGORIES:Adultos acima de 18 anos
ATTACH;FMTTYPE=image/jpeg:https://lecanton.com.br/wp-content/uploads/2026/04/Ding-Dong.jpg
END:VEVENT
BEGIN:VEVENT
DTSTART;TZID=America/Sao_Paulo:20260807T143000
DTEND;TZID=America/Sao_Paulo:20260807T153000
DTSTAMP:20260425T124351
CREATED:20260424T201938Z
LAST-MODIFIED:20260424T201938Z
UID:10032821-1786113000-1786116600@lecanton.com.br
SUMMARY:Desafio
DESCRIPTION:Uma atividade dinâmica e cheia de interação para quem gosta de competir de forma leve e divertida! O Desafio reúne provas e dinâmicas variadas que estimulam raciocínio\, agilidade e trabalho em equipe em um ambiente descontraído. Exclusivo para adultos maiores de 18 anos.O evento pode sofrer alterações de data\, local ou cancelamento sem aviso prévio.
URL:https://lecanton.com.br/evento/desafio/2026-08-07/
LOCATION:Corredor Village
CATEGORIES:Adultos acima de 18 anos
ATTACH;FMTTYPE=image/jpeg:https://lecanton.com.br/wp-content/uploads/2026/04/Ding-Dong.jpg
END:VEVENT
BEGIN:VEVENT
DTSTART;TZID=America/Sao_Paulo:20260808T143000
DTEND;TZID=America/Sao_Paulo:20260808T153000
DTSTAMP:20260425T124351
CREATED:20260424T201938Z
LAST-MODIFIED:20260424T201938Z
UID:10032822-1786199400-1786203000@lecanton.com.br
SUMMARY:Desafio
DESCRIPTION:Uma atividade dinâmica e cheia de interação para quem gosta de competir de forma leve e divertida! O Desafio reúne provas e dinâmicas variadas que estimulam raciocínio\, agilidade e trabalho em equipe em um ambiente descontraído. Exclusivo para adultos maiores de 18 anos.O evento pode sofrer alterações de data\, local ou cancelamento sem aviso prévio.
URL:https://lecanton.com.br/evento/desafio/2026-08-08/
LOCATION:Corredor Village
CATEGORIES:Adultos acima de 18 anos
ATTACH;FMTTYPE=image/jpeg:https://lecanton.com.br/wp-content/uploads/2026/04/Ding-Dong.jpg
END:VEVENT
BEGIN:VEVENT
DTSTART;TZID=America/Sao_Paulo:20260809T143000
DTEND;TZID=America/Sao_Paulo:20260809T153000
DTSTAMP:20260425T124351
CREATED:20260424T201938Z
LAST-MODIFIED:20260424T201938Z
UID:10032823-1786285800-1786289400@lecanton.com.br
SUMMARY:Desafio
DESCRIPTION:Uma atividade dinâmica e cheia de interação para quem gosta de competir de forma leve e divertida! O Desafio reúne provas e dinâmicas variadas que estimulam raciocínio\, agilidade e trabalho em equipe em um ambiente descontraído. Exclusivo para adultos maiores de 18 anos.O evento pode sofrer alterações de data\, local ou cancelamento sem aviso prévio.
URL:https://lecanton.com.br/evento/desafio/2026-08-09/
LOCATION:Corredor Village
CATEGORIES:Adultos acima de 18 anos
ATTACH;FMTTYPE=image/jpeg:https://lecanton.com.br/wp-content/uploads/2026/04/Ding-Dong.jpg
END:VEVENT
BEGIN:VEVENT
DTSTART;TZID=America/Sao_Paulo:20260811T143000
DTEND;TZID=America/Sao_Paulo:20260811T153000
DTSTAMP:20260425T124351
CREATED:20260424T201938Z
LAST-MODIFIED:20260424T201938Z
UID:10032824-1786458600-1786462200@lecanton.com.br
SUMMARY:Desafio
DESCRIPTION:Uma atividade dinâmica e cheia de interação para quem gosta de competir de forma leve e divertida! O Desafio reúne provas e dinâmicas variadas que estimulam raciocínio\, agilidade e trabalho em equipe em um ambiente descontraído. Exclusivo para adultos maiores de 18 anos.O evento pode sofrer alterações de data\, local ou cancelamento sem aviso prévio.
URL:https://lecanton.com.br/evento/desafio/2026-08-11/
LOCATION:Corredor Village
CATEGORIES:Adultos acima de 18 anos
ATTACH;FMTTYPE=image/jpeg:https://lecanton.com.br/wp-content/uploads/2026/04/Ding-Dong.jpg
END:VEVENT
BEGIN:VEVENT
DTSTART;TZID=America/Sao_Paulo:20260812T143000
DTEND;TZID=America/Sao_Paulo:20260812T153000
DTSTAMP:20260425T124351
CREATED:20260424T201938Z
LAST-MODIFIED:20260424T201938Z
UID:10032825-1786545000-1786548600@lecanton.com.br
SUMMARY:Desafio
DESCRIPTION:Uma atividade dinâmica e cheia de interação para quem gosta de competir de forma leve e divertida! O Desafio reúne provas e dinâmicas variadas que estimulam raciocínio\, agilidade e trabalho em equipe em um ambiente descontraído. Exclusivo para adultos maiores de 18 anos.O evento pode sofrer alterações de data\, local ou cancelamento sem aviso prévio.
URL:https://lecanton.com.br/evento/desafio/2026-08-12/
LOCATION:Corredor Village
CATEGORIES:Adultos acima de 18 anos
ATTACH;FMTTYPE=image/jpeg:https://lecanton.com.br/wp-content/uploads/2026/04/Ding-Dong.jpg
END:VEVENT
BEGIN:VEVENT
DTSTART;TZID=America/Sao_Paulo:20260813T143000
DTEND;TZID=America/Sao_Paulo:20260813T153000
DTSTAMP:20260425T124351
CREATED:20260424T201938Z
LAST-MODIFIED:20260424T201938Z
UID:10032826-1786631400-1786635000@lecanton.com.br
SUMMARY:Desafio
DESCRIPTION:Uma atividade dinâmica e cheia de interação para quem gosta de competir de forma leve e divertida! O Desafio reúne provas e dinâmicas variadas que estimulam raciocínio\, agilidade e trabalho em equipe em um ambiente descontraído. Exclusivo para adultos maiores de 18 anos.O evento pode sofrer alterações de data\, local ou cancelamento sem aviso prévio.
URL:https://lecanton.com.br/evento/desafio/2026-08-13/
LOCATION:Corredor Village
CATEGORIES:Adultos acima de 18 anos
ATTACH;FMTTYPE=image/jpeg:https://lecanton.com.br/wp-content/uploads/2026/04/Ding-Dong.jpg
END:VEVENT
BEGIN:VEVENT
DTSTART;TZID=America/Sao_Paulo:20260814T143000
DTEND;TZID=America/Sao_Paulo:20260814T153000
DTSTAMP:20260425T124351
CREATED:20260424T201938Z
LAST-MODIFIED:20260424T201938Z
UID:10032827-1786717800-1786721400@lecanton.com.br
SUMMARY:Desafio
DESCRIPTION:Uma atividade dinâmica e cheia de interação para quem gosta de competir de forma leve e divertida! O Desafio reúne provas e dinâmicas variadas que estimulam raciocínio\, agilidade e trabalho em equipe em um ambiente descontraído. Exclusivo para adultos maiores de 18 anos.O evento pode sofrer alterações de data\, local ou cancelamento sem aviso prévio.
URL:https://lecanton.com.br/evento/desafio/2026-08-14/
LOCATION:Corredor Village
CATEGORIES:Adultos acima de 18 anos
ATTACH;FMTTYPE=image/jpeg:https://lecanton.com.br/wp-content/uploads/2026/04/Ding-Dong.jpg
END:VEVENT
BEGIN:VEVENT
DTSTART;TZID=America/Sao_Paulo:20260815T143000
DTEND;TZID=America/Sao_Paulo:20260815T153000
DTSTAMP:20260425T124351
CREATED:20260424T201938Z
LAST-MODIFIED:20260424T201938Z
UID:10032828-1786804200-1786807800@lecanton.com.br
SUMMARY:Desafio
DESCRIPTION:Uma atividade dinâmica e cheia de interação para quem gosta de competir de forma leve e divertida! O Desafio reúne provas e dinâmicas variadas que estimulam raciocínio\, agilidade e trabalho em equipe em um ambiente descontraído. Exclusivo para adultos maiores de 18 anos.O evento pode sofrer alterações de data\, local ou cancelamento sem aviso prévio.
URL:https://lecanton.com.br/evento/desafio/2026-08-15/
LOCATION:Corredor Village
CATEGORIES:Adultos acima de 18 anos
ATTACH;FMTTYPE=image/jpeg:https://lecanton.com.br/wp-content/uploads/2026/04/Ding-Dong.jpg
END:VEVENT
BEGIN:VEVENT
DTSTART;TZID=America/Sao_Paulo:20260816T143000
DTEND;TZID=America/Sao_Paulo:20260816T153000
DTSTAMP:20260425T124351
CREATED:20260424T201938Z
LAST-MODIFIED:20260424T201938Z
UID:10032829-1786890600-1786894200@lecanton.com.br
SUMMARY:Desafio
DESCRIPTION:Uma atividade dinâmica e cheia de interação para quem gosta de competir de forma leve e divertida! O Desafio reúne provas e dinâmicas variadas que estimulam raciocínio\, agilidade e trabalho em equipe em um ambiente descontraído. Exclusivo para adultos maiores de 18 anos.O evento pode sofrer alterações de data\, local ou cancelamento sem aviso prévio.
URL:https://lecanton.com.br/evento/desafio/2026-08-16/
LOCATION:Corredor Village
CATEGORIES:Adultos acima de 18 anos
ATTACH;FMTTYPE=image/jpeg:https://lecanton.com.br/wp-content/uploads/2026/04/Ding-Dong.jpg
END:VEVENT
BEGIN:VEVENT
DTSTART;TZID=America/Sao_Paulo:20260818T143000
DTEND;TZID=America/Sao_Paulo:20260818T153000
DTSTAMP:20260425T124351
CREATED:20260424T201938Z
LAST-MODIFIED:20260424T201938Z
UID:10032830-1787063400-1787067000@lecanton.com.br
SUMMARY:Desafio
DESCRIPTION:Uma atividade dinâmica e cheia de interação para quem gosta de competir de forma leve e divertida! O Desafio reúne provas e dinâmicas variadas que estimulam raciocínio\, agilidade e trabalho em equipe em um ambiente descontraído. Exclusivo para adultos maiores de 18 anos.O evento pode sofrer alterações de data\, local ou cancelamento sem aviso prévio.
URL:https://lecanton.com.br/evento/desafio/2026-08-18/
LOCATION:Corredor Village
CATEGORIES:Adultos acima de 18 anos
ATTACH;FMTTYPE=image/jpeg:https://lecanton.com.br/wp-content/uploads/2026/04/Ding-Dong.jpg
END:VEVENT
BEGIN:VEVENT
DTSTART;TZID=America/Sao_Paulo:20260819T143000
DTEND;TZID=America/Sao_Paulo:20260819T153000
DTSTAMP:20260425T124351
CREATED:20260424T201938Z
LAST-MODIFIED:20260424T201938Z
UID:10032831-1787149800-1787153400@lecanton.com.br
SUMMARY:Desafio
DESCRIPTION:Uma atividade dinâmica e cheia de interação para quem gosta de competir de forma leve e divertida! O Desafio reúne provas e dinâmicas variadas que estimulam raciocínio\, agilidade e trabalho em equipe em um ambiente descontraído. Exclusivo para adultos maiores de 18 anos.O evento pode sofrer alterações de data\, local ou cancelamento sem aviso prévio.
URL:https://lecanton.com.br/evento/desafio/2026-08-19/
LOCATION:Corredor Village
CATEGORIES:Adultos acima de 18 anos
ATTACH;FMTTYPE=image/jpeg:https://lecanton.com.br/wp-content/uploads/2026/04/Ding-Dong.jpg
END:VEVENT
BEGIN:VEVENT
DTSTART;TZID=America/Sao_Paulo:20260820T143000
DTEND;TZID=America/Sao_Paulo:20260820T153000
DTSTAMP:20260425T124351
CREATED:20260424T201938Z
LAST-MODIFIED:20260424T201938Z
UID:10032832-1787236200-1787239800@lecanton.com.br
SUMMARY:Desafio
DESCRIPTION:Uma atividade dinâmica e cheia de interação para quem gosta de competir de forma leve e divertida! O Desafio reúne provas e dinâmicas variadas que estimulam raciocínio\, agilidade e trabalho em equipe em um ambiente descontraído. Exclusivo para adultos maiores de 18 anos.O evento pode sofrer alterações de data\, local ou cancelamento sem aviso prévio.
URL:https://lecanton.com.br/evento/desafio/2026-08-20/
LOCATION:Corredor Village
CATEGORIES:Adultos acima de 18 anos
ATTACH;FMTTYPE=image/jpeg:https://lecanton.com.br/wp-content/uploads/2026/04/Ding-Dong.jpg
END:VEVENT
BEGIN:VEVENT
DTSTART;TZID=America/Sao_Paulo:20260821T143000
DTEND;TZID=America/Sao_Paulo:20260821T153000
DTSTAMP:20260425T124352
CREATED:20260424T201938Z
LAST-MODIFIED:20260424T201938Z
UID:10032833-1787322600-1787326200@lecanton.com.br
SUMMARY:Desafio
DESCRIPTION:Uma atividade dinâmica e cheia de interação para quem gosta de competir de forma leve e divertida! O Desafio reúne provas e dinâmicas variadas que estimulam raciocínio\, agilidade e trabalho em equipe em um ambiente descontraído. Exclusivo para adultos maiores de 18 anos.O evento pode sofrer alterações de data\, local ou cancelamento sem aviso prévio.
URL:https://lecanton.com.br/evento/desafio/2026-08-21/
LOCATION:Corredor Village
CATEGORIES:Adultos acima de 18 anos
ATTACH;FMTTYPE=image/jpeg:https://lecanton.com.br/wp-content/uploads/2026/04/Ding-Dong.jpg
END:VEVENT
END:VCALENDAR