BEGIN:VCALENDAR
VERSION:2.0
PRODID:-//Le Canton | O melhor Resort da Serra - ECPv6.15.17.1//NONSGML v1.0//EN
CALSCALE:GREGORIAN
METHOD:PUBLISH
X-ORIGINAL-URL:https://lecanton.com.br
X-WR-CALDESC:Eventos para Le Canton | O melhor Resort da Serra
REFRESH-INTERVAL;VALUE=DURATION:PT1H
X-Robots-Tag:noindex
X-PUBLISHED-TTL:PT1H
BEGIN:VTIMEZONE
TZID:America/Sao_Paulo
BEGIN:STANDARD
TZOFFSETFROM:-0300
TZOFFSETTO:-0300
TZNAME:-03
DTSTART:20250101T000000
END:STANDARD
END:VTIMEZONE
BEGIN:VEVENT
DTSTART;TZID=America/Sao_Paulo:20260620T143000
DTEND;TZID=America/Sao_Paulo:20260620T153000
DTSTAMP:20260425T092210
CREATED:20260424T201938Z
LAST-MODIFIED:20260424T201938Z
UID:10032780-1781965800-1781969400@lecanton.com.br
SUMMARY:Desafio
DESCRIPTION:Uma atividade dinâmica e cheia de interação para quem gosta de competir de forma leve e divertida! O Desafio reúne provas e dinâmicas variadas que estimulam raciocínio\, agilidade e trabalho em equipe em um ambiente descontraído. Exclusivo para adultos maiores de 18 anos.O evento pode sofrer alterações de data\, local ou cancelamento sem aviso prévio.
URL:https://lecanton.com.br/evento/desafio/2026-06-20/
LOCATION:Corredor Village
CATEGORIES:Adultos acima de 18 anos
ATTACH;FMTTYPE=image/jpeg:https://lecanton.com.br/wp-content/uploads/2026/04/Ding-Dong.jpg
END:VEVENT
BEGIN:VEVENT
DTSTART;TZID=America/Sao_Paulo:20260621T143000
DTEND;TZID=America/Sao_Paulo:20260621T153000
DTSTAMP:20260425T092210
CREATED:20260424T201938Z
LAST-MODIFIED:20260424T201938Z
UID:10032781-1782052200-1782055800@lecanton.com.br
SUMMARY:Desafio
DESCRIPTION:Uma atividade dinâmica e cheia de interação para quem gosta de competir de forma leve e divertida! O Desafio reúne provas e dinâmicas variadas que estimulam raciocínio\, agilidade e trabalho em equipe em um ambiente descontraído. Exclusivo para adultos maiores de 18 anos.O evento pode sofrer alterações de data\, local ou cancelamento sem aviso prévio.
URL:https://lecanton.com.br/evento/desafio/2026-06-21/
LOCATION:Corredor Village
CATEGORIES:Adultos acima de 18 anos
ATTACH;FMTTYPE=image/jpeg:https://lecanton.com.br/wp-content/uploads/2026/04/Ding-Dong.jpg
END:VEVENT
BEGIN:VEVENT
DTSTART;TZID=America/Sao_Paulo:20260623T143000
DTEND;TZID=America/Sao_Paulo:20260623T153000
DTSTAMP:20260425T092210
CREATED:20260424T201938Z
LAST-MODIFIED:20260424T201938Z
UID:10032782-1782225000-1782228600@lecanton.com.br
SUMMARY:Desafio
DESCRIPTION:Uma atividade dinâmica e cheia de interação para quem gosta de competir de forma leve e divertida! O Desafio reúne provas e dinâmicas variadas que estimulam raciocínio\, agilidade e trabalho em equipe em um ambiente descontraído. Exclusivo para adultos maiores de 18 anos.O evento pode sofrer alterações de data\, local ou cancelamento sem aviso prévio.
URL:https://lecanton.com.br/evento/desafio/2026-06-23/
LOCATION:Corredor Village
CATEGORIES:Adultos acima de 18 anos
ATTACH;FMTTYPE=image/jpeg:https://lecanton.com.br/wp-content/uploads/2026/04/Ding-Dong.jpg
END:VEVENT
BEGIN:VEVENT
DTSTART;TZID=America/Sao_Paulo:20260624T143000
DTEND;TZID=America/Sao_Paulo:20260624T153000
DTSTAMP:20260425T092210
CREATED:20260424T201938Z
LAST-MODIFIED:20260424T201938Z
UID:10032783-1782311400-1782315000@lecanton.com.br
SUMMARY:Desafio
DESCRIPTION:Uma atividade dinâmica e cheia de interação para quem gosta de competir de forma leve e divertida! O Desafio reúne provas e dinâmicas variadas que estimulam raciocínio\, agilidade e trabalho em equipe em um ambiente descontraído. Exclusivo para adultos maiores de 18 anos.O evento pode sofrer alterações de data\, local ou cancelamento sem aviso prévio.
URL:https://lecanton.com.br/evento/desafio/2026-06-24/
LOCATION:Corredor Village
CATEGORIES:Adultos acima de 18 anos
ATTACH;FMTTYPE=image/jpeg:https://lecanton.com.br/wp-content/uploads/2026/04/Ding-Dong.jpg
END:VEVENT
BEGIN:VEVENT
DTSTART;TZID=America/Sao_Paulo:20260625T143000
DTEND;TZID=America/Sao_Paulo:20260625T153000
DTSTAMP:20260425T092210
CREATED:20260424T201938Z
LAST-MODIFIED:20260424T201938Z
UID:10032784-1782397800-1782401400@lecanton.com.br
SUMMARY:Desafio
DESCRIPTION:Uma atividade dinâmica e cheia de interação para quem gosta de competir de forma leve e divertida! O Desafio reúne provas e dinâmicas variadas que estimulam raciocínio\, agilidade e trabalho em equipe em um ambiente descontraído. Exclusivo para adultos maiores de 18 anos.O evento pode sofrer alterações de data\, local ou cancelamento sem aviso prévio.
URL:https://lecanton.com.br/evento/desafio/2026-06-25/
LOCATION:Corredor Village
CATEGORIES:Adultos acima de 18 anos
ATTACH;FMTTYPE=image/jpeg:https://lecanton.com.br/wp-content/uploads/2026/04/Ding-Dong.jpg
END:VEVENT
BEGIN:VEVENT
DTSTART;TZID=America/Sao_Paulo:20260626T143000
DTEND;TZID=America/Sao_Paulo:20260626T153000
DTSTAMP:20260425T092210
CREATED:20260424T201938Z
LAST-MODIFIED:20260424T201938Z
UID:10032785-1782484200-1782487800@lecanton.com.br
SUMMARY:Desafio
DESCRIPTION:Uma atividade dinâmica e cheia de interação para quem gosta de competir de forma leve e divertida! O Desafio reúne provas e dinâmicas variadas que estimulam raciocínio\, agilidade e trabalho em equipe em um ambiente descontraído. Exclusivo para adultos maiores de 18 anos.O evento pode sofrer alterações de data\, local ou cancelamento sem aviso prévio.
URL:https://lecanton.com.br/evento/desafio/2026-06-26/
LOCATION:Corredor Village
CATEGORIES:Adultos acima de 18 anos
ATTACH;FMTTYPE=image/jpeg:https://lecanton.com.br/wp-content/uploads/2026/04/Ding-Dong.jpg
END:VEVENT
BEGIN:VEVENT
DTSTART;TZID=America/Sao_Paulo:20260627T143000
DTEND;TZID=America/Sao_Paulo:20260627T153000
DTSTAMP:20260425T092210
CREATED:20260424T201938Z
LAST-MODIFIED:20260424T201938Z
UID:10032786-1782570600-1782574200@lecanton.com.br
SUMMARY:Desafio
DESCRIPTION:Uma atividade dinâmica e cheia de interação para quem gosta de competir de forma leve e divertida! O Desafio reúne provas e dinâmicas variadas que estimulam raciocínio\, agilidade e trabalho em equipe em um ambiente descontraído. Exclusivo para adultos maiores de 18 anos.O evento pode sofrer alterações de data\, local ou cancelamento sem aviso prévio.
URL:https://lecanton.com.br/evento/desafio/2026-06-27/
LOCATION:Corredor Village
CATEGORIES:Adultos acima de 18 anos
ATTACH;FMTTYPE=image/jpeg:https://lecanton.com.br/wp-content/uploads/2026/04/Ding-Dong.jpg
END:VEVENT
BEGIN:VEVENT
DTSTART;TZID=America/Sao_Paulo:20260628T143000
DTEND;TZID=America/Sao_Paulo:20260628T153000
DTSTAMP:20260425T092210
CREATED:20260424T201938Z
LAST-MODIFIED:20260424T201938Z
UID:10032787-1782657000-1782660600@lecanton.com.br
SUMMARY:Desafio
DESCRIPTION:Uma atividade dinâmica e cheia de interação para quem gosta de competir de forma leve e divertida! O Desafio reúne provas e dinâmicas variadas que estimulam raciocínio\, agilidade e trabalho em equipe em um ambiente descontraído. Exclusivo para adultos maiores de 18 anos.O evento pode sofrer alterações de data\, local ou cancelamento sem aviso prévio.
URL:https://lecanton.com.br/evento/desafio/2026-06-28/
LOCATION:Corredor Village
CATEGORIES:Adultos acima de 18 anos
ATTACH;FMTTYPE=image/jpeg:https://lecanton.com.br/wp-content/uploads/2026/04/Ding-Dong.jpg
END:VEVENT
BEGIN:VEVENT
DTSTART;TZID=America/Sao_Paulo:20260630T143000
DTEND;TZID=America/Sao_Paulo:20260630T153000
DTSTAMP:20260425T092210
CREATED:20260424T201938Z
LAST-MODIFIED:20260424T201938Z
UID:10032788-1782829800-1782833400@lecanton.com.br
SUMMARY:Desafio
DESCRIPTION:Uma atividade dinâmica e cheia de interação para quem gosta de competir de forma leve e divertida! O Desafio reúne provas e dinâmicas variadas que estimulam raciocínio\, agilidade e trabalho em equipe em um ambiente descontraído. Exclusivo para adultos maiores de 18 anos.O evento pode sofrer alterações de data\, local ou cancelamento sem aviso prévio.
URL:https://lecanton.com.br/evento/desafio/2026-06-30/
LOCATION:Corredor Village
CATEGORIES:Adultos acima de 18 anos
ATTACH;FMTTYPE=image/jpeg:https://lecanton.com.br/wp-content/uploads/2026/04/Ding-Dong.jpg
END:VEVENT
BEGIN:VEVENT
DTSTART;TZID=America/Sao_Paulo:20260701T143000
DTEND;TZID=America/Sao_Paulo:20260701T153000
DTSTAMP:20260425T092210
CREATED:20260424T201938Z
LAST-MODIFIED:20260424T201938Z
UID:10032789-1782916200-1782919800@lecanton.com.br
SUMMARY:Desafio
DESCRIPTION:Uma atividade dinâmica e cheia de interação para quem gosta de competir de forma leve e divertida! O Desafio reúne provas e dinâmicas variadas que estimulam raciocínio\, agilidade e trabalho em equipe em um ambiente descontraído. Exclusivo para adultos maiores de 18 anos.O evento pode sofrer alterações de data\, local ou cancelamento sem aviso prévio.
URL:https://lecanton.com.br/evento/desafio/2026-07-01/
LOCATION:Corredor Village
CATEGORIES:Adultos acima de 18 anos
ATTACH;FMTTYPE=image/jpeg:https://lecanton.com.br/wp-content/uploads/2026/04/Ding-Dong.jpg
END:VEVENT
BEGIN:VEVENT
DTSTART;TZID=America/Sao_Paulo:20260702T143000
DTEND;TZID=America/Sao_Paulo:20260702T153000
DTSTAMP:20260425T092210
CREATED:20260424T201938Z
LAST-MODIFIED:20260424T201938Z
UID:10032790-1783002600-1783006200@lecanton.com.br
SUMMARY:Desafio
DESCRIPTION:Uma atividade dinâmica e cheia de interação para quem gosta de competir de forma leve e divertida! O Desafio reúne provas e dinâmicas variadas que estimulam raciocínio\, agilidade e trabalho em equipe em um ambiente descontraído. Exclusivo para adultos maiores de 18 anos.O evento pode sofrer alterações de data\, local ou cancelamento sem aviso prévio.
URL:https://lecanton.com.br/evento/desafio/2026-07-02/
LOCATION:Corredor Village
CATEGORIES:Adultos acima de 18 anos
ATTACH;FMTTYPE=image/jpeg:https://lecanton.com.br/wp-content/uploads/2026/04/Ding-Dong.jpg
END:VEVENT
BEGIN:VEVENT
DTSTART;TZID=America/Sao_Paulo:20260703T143000
DTEND;TZID=America/Sao_Paulo:20260703T153000
DTSTAMP:20260425T092211
CREATED:20260424T201938Z
LAST-MODIFIED:20260424T201938Z
UID:10032791-1783089000-1783092600@lecanton.com.br
SUMMARY:Desafio
DESCRIPTION:Uma atividade dinâmica e cheia de interação para quem gosta de competir de forma leve e divertida! O Desafio reúne provas e dinâmicas variadas que estimulam raciocínio\, agilidade e trabalho em equipe em um ambiente descontraído. Exclusivo para adultos maiores de 18 anos.O evento pode sofrer alterações de data\, local ou cancelamento sem aviso prévio.
URL:https://lecanton.com.br/evento/desafio/2026-07-03/
LOCATION:Corredor Village
CATEGORIES:Adultos acima de 18 anos
ATTACH;FMTTYPE=image/jpeg:https://lecanton.com.br/wp-content/uploads/2026/04/Ding-Dong.jpg
END:VEVENT
BEGIN:VEVENT
DTSTART;TZID=America/Sao_Paulo:20260704T143000
DTEND;TZID=America/Sao_Paulo:20260704T153000
DTSTAMP:20260425T092211
CREATED:20260424T201938Z
LAST-MODIFIED:20260424T201938Z
UID:10032792-1783175400-1783179000@lecanton.com.br
SUMMARY:Desafio
DESCRIPTION:Uma atividade dinâmica e cheia de interação para quem gosta de competir de forma leve e divertida! O Desafio reúne provas e dinâmicas variadas que estimulam raciocínio\, agilidade e trabalho em equipe em um ambiente descontraído. Exclusivo para adultos maiores de 18 anos.O evento pode sofrer alterações de data\, local ou cancelamento sem aviso prévio.
URL:https://lecanton.com.br/evento/desafio/2026-07-04/
LOCATION:Corredor Village
CATEGORIES:Adultos acima de 18 anos
ATTACH;FMTTYPE=image/jpeg:https://lecanton.com.br/wp-content/uploads/2026/04/Ding-Dong.jpg
END:VEVENT
BEGIN:VEVENT
DTSTART;TZID=America/Sao_Paulo:20260705T143000
DTEND;TZID=America/Sao_Paulo:20260705T153000
DTSTAMP:20260425T092211
CREATED:20260424T201938Z
LAST-MODIFIED:20260424T201938Z
UID:10032793-1783261800-1783265400@lecanton.com.br
SUMMARY:Desafio
DESCRIPTION:Uma atividade dinâmica e cheia de interação para quem gosta de competir de forma leve e divertida! O Desafio reúne provas e dinâmicas variadas que estimulam raciocínio\, agilidade e trabalho em equipe em um ambiente descontraído. Exclusivo para adultos maiores de 18 anos.O evento pode sofrer alterações de data\, local ou cancelamento sem aviso prévio.
URL:https://lecanton.com.br/evento/desafio/2026-07-05/
LOCATION:Corredor Village
CATEGORIES:Adultos acima de 18 anos
ATTACH;FMTTYPE=image/jpeg:https://lecanton.com.br/wp-content/uploads/2026/04/Ding-Dong.jpg
END:VEVENT
BEGIN:VEVENT
DTSTART;TZID=America/Sao_Paulo:20260707T143000
DTEND;TZID=America/Sao_Paulo:20260707T153000
DTSTAMP:20260425T092211
CREATED:20260424T201938Z
LAST-MODIFIED:20260424T201938Z
UID:10032794-1783434600-1783438200@lecanton.com.br
SUMMARY:Desafio
DESCRIPTION:Uma atividade dinâmica e cheia de interação para quem gosta de competir de forma leve e divertida! O Desafio reúne provas e dinâmicas variadas que estimulam raciocínio\, agilidade e trabalho em equipe em um ambiente descontraído. Exclusivo para adultos maiores de 18 anos.O evento pode sofrer alterações de data\, local ou cancelamento sem aviso prévio.
URL:https://lecanton.com.br/evento/desafio/2026-07-07/
LOCATION:Corredor Village
CATEGORIES:Adultos acima de 18 anos
ATTACH;FMTTYPE=image/jpeg:https://lecanton.com.br/wp-content/uploads/2026/04/Ding-Dong.jpg
END:VEVENT
BEGIN:VEVENT
DTSTART;TZID=America/Sao_Paulo:20260708T143000
DTEND;TZID=America/Sao_Paulo:20260708T153000
DTSTAMP:20260425T092211
CREATED:20260424T201938Z
LAST-MODIFIED:20260424T201938Z
UID:10032795-1783521000-1783524600@lecanton.com.br
SUMMARY:Desafio
DESCRIPTION:Uma atividade dinâmica e cheia de interação para quem gosta de competir de forma leve e divertida! O Desafio reúne provas e dinâmicas variadas que estimulam raciocínio\, agilidade e trabalho em equipe em um ambiente descontraído. Exclusivo para adultos maiores de 18 anos.O evento pode sofrer alterações de data\, local ou cancelamento sem aviso prévio.
URL:https://lecanton.com.br/evento/desafio/2026-07-08/
LOCATION:Corredor Village
CATEGORIES:Adultos acima de 18 anos
ATTACH;FMTTYPE=image/jpeg:https://lecanton.com.br/wp-content/uploads/2026/04/Ding-Dong.jpg
END:VEVENT
BEGIN:VEVENT
DTSTART;TZID=America/Sao_Paulo:20260709T143000
DTEND;TZID=America/Sao_Paulo:20260709T153000
DTSTAMP:20260425T092211
CREATED:20260424T201938Z
LAST-MODIFIED:20260424T201938Z
UID:10032796-1783607400-1783611000@lecanton.com.br
SUMMARY:Desafio
DESCRIPTION:Uma atividade dinâmica e cheia de interação para quem gosta de competir de forma leve e divertida! O Desafio reúne provas e dinâmicas variadas que estimulam raciocínio\, agilidade e trabalho em equipe em um ambiente descontraído. Exclusivo para adultos maiores de 18 anos.O evento pode sofrer alterações de data\, local ou cancelamento sem aviso prévio.
URL:https://lecanton.com.br/evento/desafio/2026-07-09/
LOCATION:Corredor Village
CATEGORIES:Adultos acima de 18 anos
ATTACH;FMTTYPE=image/jpeg:https://lecanton.com.br/wp-content/uploads/2026/04/Ding-Dong.jpg
END:VEVENT
BEGIN:VEVENT
DTSTART;TZID=America/Sao_Paulo:20260710T143000
DTEND;TZID=America/Sao_Paulo:20260710T153000
DTSTAMP:20260425T092211
CREATED:20260424T201938Z
LAST-MODIFIED:20260424T201938Z
UID:10032797-1783693800-1783697400@lecanton.com.br
SUMMARY:Desafio
DESCRIPTION:Uma atividade dinâmica e cheia de interação para quem gosta de competir de forma leve e divertida! O Desafio reúne provas e dinâmicas variadas que estimulam raciocínio\, agilidade e trabalho em equipe em um ambiente descontraído. Exclusivo para adultos maiores de 18 anos.O evento pode sofrer alterações de data\, local ou cancelamento sem aviso prévio.
URL:https://lecanton.com.br/evento/desafio/2026-07-10/
LOCATION:Corredor Village
CATEGORIES:Adultos acima de 18 anos
ATTACH;FMTTYPE=image/jpeg:https://lecanton.com.br/wp-content/uploads/2026/04/Ding-Dong.jpg
END:VEVENT
BEGIN:VEVENT
DTSTART;TZID=America/Sao_Paulo:20260711T143000
DTEND;TZID=America/Sao_Paulo:20260711T153000
DTSTAMP:20260425T092211
CREATED:20260424T201938Z
LAST-MODIFIED:20260424T201938Z
UID:10032798-1783780200-1783783800@lecanton.com.br
SUMMARY:Desafio
DESCRIPTION:Uma atividade dinâmica e cheia de interação para quem gosta de competir de forma leve e divertida! O Desafio reúne provas e dinâmicas variadas que estimulam raciocínio\, agilidade e trabalho em equipe em um ambiente descontraído. Exclusivo para adultos maiores de 18 anos.O evento pode sofrer alterações de data\, local ou cancelamento sem aviso prévio.
URL:https://lecanton.com.br/evento/desafio/2026-07-11/
LOCATION:Corredor Village
CATEGORIES:Adultos acima de 18 anos
ATTACH;FMTTYPE=image/jpeg:https://lecanton.com.br/wp-content/uploads/2026/04/Ding-Dong.jpg
END:VEVENT
BEGIN:VEVENT
DTSTART;TZID=America/Sao_Paulo:20260712T143000
DTEND;TZID=America/Sao_Paulo:20260712T153000
DTSTAMP:20260425T092211
CREATED:20260424T201938Z
LAST-MODIFIED:20260424T201938Z
UID:10032799-1783866600-1783870200@lecanton.com.br
SUMMARY:Desafio
DESCRIPTION:Uma atividade dinâmica e cheia de interação para quem gosta de competir de forma leve e divertida! O Desafio reúne provas e dinâmicas variadas que estimulam raciocínio\, agilidade e trabalho em equipe em um ambiente descontraído. Exclusivo para adultos maiores de 18 anos.O evento pode sofrer alterações de data\, local ou cancelamento sem aviso prévio.
URL:https://lecanton.com.br/evento/desafio/2026-07-12/
LOCATION:Corredor Village
CATEGORIES:Adultos acima de 18 anos
ATTACH;FMTTYPE=image/jpeg:https://lecanton.com.br/wp-content/uploads/2026/04/Ding-Dong.jpg
END:VEVENT
BEGIN:VEVENT
DTSTART;TZID=America/Sao_Paulo:20260714T143000
DTEND;TZID=America/Sao_Paulo:20260714T153000
DTSTAMP:20260425T092211
CREATED:20260424T201938Z
LAST-MODIFIED:20260424T201938Z
UID:10032800-1784039400-1784043000@lecanton.com.br
SUMMARY:Desafio
DESCRIPTION:Uma atividade dinâmica e cheia de interação para quem gosta de competir de forma leve e divertida! O Desafio reúne provas e dinâmicas variadas que estimulam raciocínio\, agilidade e trabalho em equipe em um ambiente descontraído. Exclusivo para adultos maiores de 18 anos.O evento pode sofrer alterações de data\, local ou cancelamento sem aviso prévio.
URL:https://lecanton.com.br/evento/desafio/2026-07-14/
LOCATION:Corredor Village
CATEGORIES:Adultos acima de 18 anos
ATTACH;FMTTYPE=image/jpeg:https://lecanton.com.br/wp-content/uploads/2026/04/Ding-Dong.jpg
END:VEVENT
BEGIN:VEVENT
DTSTART;TZID=America/Sao_Paulo:20260715T143000
DTEND;TZID=America/Sao_Paulo:20260715T153000
DTSTAMP:20260425T092211
CREATED:20260424T201938Z
LAST-MODIFIED:20260424T201938Z
UID:10032801-1784125800-1784129400@lecanton.com.br
SUMMARY:Desafio
DESCRIPTION:Uma atividade dinâmica e cheia de interação para quem gosta de competir de forma leve e divertida! O Desafio reúne provas e dinâmicas variadas que estimulam raciocínio\, agilidade e trabalho em equipe em um ambiente descontraído. Exclusivo para adultos maiores de 18 anos.O evento pode sofrer alterações de data\, local ou cancelamento sem aviso prévio.
URL:https://lecanton.com.br/evento/desafio/2026-07-15/
LOCATION:Corredor Village
CATEGORIES:Adultos acima de 18 anos
ATTACH;FMTTYPE=image/jpeg:https://lecanton.com.br/wp-content/uploads/2026/04/Ding-Dong.jpg
END:VEVENT
BEGIN:VEVENT
DTSTART;TZID=America/Sao_Paulo:20260716T143000
DTEND;TZID=America/Sao_Paulo:20260716T153000
DTSTAMP:20260425T092211
CREATED:20260424T201938Z
LAST-MODIFIED:20260424T201938Z
UID:10032802-1784212200-1784215800@lecanton.com.br
SUMMARY:Desafio
DESCRIPTION:Uma atividade dinâmica e cheia de interação para quem gosta de competir de forma leve e divertida! O Desafio reúne provas e dinâmicas variadas que estimulam raciocínio\, agilidade e trabalho em equipe em um ambiente descontraído. Exclusivo para adultos maiores de 18 anos.O evento pode sofrer alterações de data\, local ou cancelamento sem aviso prévio.
URL:https://lecanton.com.br/evento/desafio/2026-07-16/
LOCATION:Corredor Village
CATEGORIES:Adultos acima de 18 anos
ATTACH;FMTTYPE=image/jpeg:https://lecanton.com.br/wp-content/uploads/2026/04/Ding-Dong.jpg
END:VEVENT
BEGIN:VEVENT
DTSTART;TZID=America/Sao_Paulo:20260717T143000
DTEND;TZID=America/Sao_Paulo:20260717T153000
DTSTAMP:20260425T092211
CREATED:20260424T201938Z
LAST-MODIFIED:20260424T201938Z
UID:10032803-1784298600-1784302200@lecanton.com.br
SUMMARY:Desafio
DESCRIPTION:Uma atividade dinâmica e cheia de interação para quem gosta de competir de forma leve e divertida! O Desafio reúne provas e dinâmicas variadas que estimulam raciocínio\, agilidade e trabalho em equipe em um ambiente descontraído. Exclusivo para adultos maiores de 18 anos.O evento pode sofrer alterações de data\, local ou cancelamento sem aviso prévio.
URL:https://lecanton.com.br/evento/desafio/2026-07-17/
LOCATION:Corredor Village
CATEGORIES:Adultos acima de 18 anos
ATTACH;FMTTYPE=image/jpeg:https://lecanton.com.br/wp-content/uploads/2026/04/Ding-Dong.jpg
END:VEVENT
BEGIN:VEVENT
DTSTART;TZID=America/Sao_Paulo:20260718T143000
DTEND;TZID=America/Sao_Paulo:20260718T153000
DTSTAMP:20260425T092211
CREATED:20260424T201938Z
LAST-MODIFIED:20260424T201938Z
UID:10032804-1784385000-1784388600@lecanton.com.br
SUMMARY:Desafio
DESCRIPTION:Uma atividade dinâmica e cheia de interação para quem gosta de competir de forma leve e divertida! O Desafio reúne provas e dinâmicas variadas que estimulam raciocínio\, agilidade e trabalho em equipe em um ambiente descontraído. Exclusivo para adultos maiores de 18 anos.O evento pode sofrer alterações de data\, local ou cancelamento sem aviso prévio.
URL:https://lecanton.com.br/evento/desafio/2026-07-18/
LOCATION:Corredor Village
CATEGORIES:Adultos acima de 18 anos
ATTACH;FMTTYPE=image/jpeg:https://lecanton.com.br/wp-content/uploads/2026/04/Ding-Dong.jpg
END:VEVENT
BEGIN:VEVENT
DTSTART;TZID=America/Sao_Paulo:20260719T143000
DTEND;TZID=America/Sao_Paulo:20260719T153000
DTSTAMP:20260425T092211
CREATED:20260424T201938Z
LAST-MODIFIED:20260424T201938Z
UID:10032805-1784471400-1784475000@lecanton.com.br
SUMMARY:Desafio
DESCRIPTION:Uma atividade dinâmica e cheia de interação para quem gosta de competir de forma leve e divertida! O Desafio reúne provas e dinâmicas variadas que estimulam raciocínio\, agilidade e trabalho em equipe em um ambiente descontraído. Exclusivo para adultos maiores de 18 anos.O evento pode sofrer alterações de data\, local ou cancelamento sem aviso prévio.
URL:https://lecanton.com.br/evento/desafio/2026-07-19/
LOCATION:Corredor Village
CATEGORIES:Adultos acima de 18 anos
ATTACH;FMTTYPE=image/jpeg:https://lecanton.com.br/wp-content/uploads/2026/04/Ding-Dong.jpg
END:VEVENT
BEGIN:VEVENT
DTSTART;TZID=America/Sao_Paulo:20260721T143000
DTEND;TZID=America/Sao_Paulo:20260721T153000
DTSTAMP:20260425T092211
CREATED:20260424T201938Z
LAST-MODIFIED:20260424T201938Z
UID:10032806-1784644200-1784647800@lecanton.com.br
SUMMARY:Desafio
DESCRIPTION:Uma atividade dinâmica e cheia de interação para quem gosta de competir de forma leve e divertida! O Desafio reúne provas e dinâmicas variadas que estimulam raciocínio\, agilidade e trabalho em equipe em um ambiente descontraído. Exclusivo para adultos maiores de 18 anos.O evento pode sofrer alterações de data\, local ou cancelamento sem aviso prévio.
URL:https://lecanton.com.br/evento/desafio/2026-07-21/
LOCATION:Corredor Village
CATEGORIES:Adultos acima de 18 anos
ATTACH;FMTTYPE=image/jpeg:https://lecanton.com.br/wp-content/uploads/2026/04/Ding-Dong.jpg
END:VEVENT
BEGIN:VEVENT
DTSTART;TZID=America/Sao_Paulo:20260722T143000
DTEND;TZID=America/Sao_Paulo:20260722T153000
DTSTAMP:20260425T092211
CREATED:20260424T201938Z
LAST-MODIFIED:20260424T201938Z
UID:10032807-1784730600-1784734200@lecanton.com.br
SUMMARY:Desafio
DESCRIPTION:Uma atividade dinâmica e cheia de interação para quem gosta de competir de forma leve e divertida! O Desafio reúne provas e dinâmicas variadas que estimulam raciocínio\, agilidade e trabalho em equipe em um ambiente descontraído. Exclusivo para adultos maiores de 18 anos.O evento pode sofrer alterações de data\, local ou cancelamento sem aviso prévio.
URL:https://lecanton.com.br/evento/desafio/2026-07-22/
LOCATION:Corredor Village
CATEGORIES:Adultos acima de 18 anos
ATTACH;FMTTYPE=image/jpeg:https://lecanton.com.br/wp-content/uploads/2026/04/Ding-Dong.jpg
END:VEVENT
BEGIN:VEVENT
DTSTART;TZID=America/Sao_Paulo:20260723T143000
DTEND;TZID=America/Sao_Paulo:20260723T153000
DTSTAMP:20260425T092211
CREATED:20260424T201938Z
LAST-MODIFIED:20260424T201938Z
UID:10032808-1784817000-1784820600@lecanton.com.br
SUMMARY:Desafio
DESCRIPTION:Uma atividade dinâmica e cheia de interação para quem gosta de competir de forma leve e divertida! O Desafio reúne provas e dinâmicas variadas que estimulam raciocínio\, agilidade e trabalho em equipe em um ambiente descontraído. Exclusivo para adultos maiores de 18 anos.O evento pode sofrer alterações de data\, local ou cancelamento sem aviso prévio.
URL:https://lecanton.com.br/evento/desafio/2026-07-23/
LOCATION:Corredor Village
CATEGORIES:Adultos acima de 18 anos
ATTACH;FMTTYPE=image/jpeg:https://lecanton.com.br/wp-content/uploads/2026/04/Ding-Dong.jpg
END:VEVENT
BEGIN:VEVENT
DTSTART;TZID=America/Sao_Paulo:20260724T143000
DTEND;TZID=America/Sao_Paulo:20260724T153000
DTSTAMP:20260425T092211
CREATED:20260424T201938Z
LAST-MODIFIED:20260424T201938Z
UID:10032809-1784903400-1784907000@lecanton.com.br
SUMMARY:Desafio
DESCRIPTION:Uma atividade dinâmica e cheia de interação para quem gosta de competir de forma leve e divertida! O Desafio reúne provas e dinâmicas variadas que estimulam raciocínio\, agilidade e trabalho em equipe em um ambiente descontraído. Exclusivo para adultos maiores de 18 anos.O evento pode sofrer alterações de data\, local ou cancelamento sem aviso prévio.
URL:https://lecanton.com.br/evento/desafio/2026-07-24/
LOCATION:Corredor Village
CATEGORIES:Adultos acima de 18 anos
ATTACH;FMTTYPE=image/jpeg:https://lecanton.com.br/wp-content/uploads/2026/04/Ding-Dong.jpg
END:VEVENT
END:VCALENDAR