BEGIN:VCALENDAR
VERSION:2.0
PRODID:-//Le Canton | O melhor Resort da Serra - ECPv6.15.17.1//NONSGML v1.0//EN
CALSCALE:GREGORIAN
METHOD:PUBLISH
X-ORIGINAL-URL:https://lecanton.com.br
X-WR-CALDESC:Eventos para Le Canton | O melhor Resort da Serra
REFRESH-INTERVAL;VALUE=DURATION:PT1H
X-Robots-Tag:noindex
X-PUBLISHED-TTL:PT1H
BEGIN:VTIMEZONE
TZID:America/Sao_Paulo
BEGIN:STANDARD
TZOFFSETFROM:-0300
TZOFFSETTO:-0300
TZNAME:-03
DTSTART:20250101T000000
END:STANDARD
END:VTIMEZONE
BEGIN:VEVENT
DTSTART;TZID=America/Sao_Paulo:20260509T143000
DTEND;TZID=America/Sao_Paulo:20260509T153000
DTSTAMP:20260424T233259
CREATED:20260424T201938Z
LAST-MODIFIED:20260424T201938Z
UID:10032744-1778337000-1778340600@lecanton.com.br
SUMMARY:Desafio
DESCRIPTION:Uma atividade dinâmica e cheia de interação para quem gosta de competir de forma leve e divertida! O Desafio reúne provas e dinâmicas variadas que estimulam raciocínio\, agilidade e trabalho em equipe em um ambiente descontraído. Exclusivo para adultos maiores de 18 anos.O evento pode sofrer alterações de data\, local ou cancelamento sem aviso prévio.
URL:https://lecanton.com.br/evento/desafio/2026-05-09/
LOCATION:Corredor Village
CATEGORIES:Adultos acima de 18 anos
ATTACH;FMTTYPE=image/jpeg:https://lecanton.com.br/wp-content/uploads/2026/04/Ding-Dong.jpg
END:VEVENT
BEGIN:VEVENT
DTSTART;TZID=America/Sao_Paulo:20260510T143000
DTEND;TZID=America/Sao_Paulo:20260510T153000
DTSTAMP:20260424T233259
CREATED:20260424T201938Z
LAST-MODIFIED:20260424T201938Z
UID:10032745-1778423400-1778427000@lecanton.com.br
SUMMARY:Desafio
DESCRIPTION:Uma atividade dinâmica e cheia de interação para quem gosta de competir de forma leve e divertida! O Desafio reúne provas e dinâmicas variadas que estimulam raciocínio\, agilidade e trabalho em equipe em um ambiente descontraído. Exclusivo para adultos maiores de 18 anos.O evento pode sofrer alterações de data\, local ou cancelamento sem aviso prévio.
URL:https://lecanton.com.br/evento/desafio/2026-05-10/
LOCATION:Corredor Village
CATEGORIES:Adultos acima de 18 anos
ATTACH;FMTTYPE=image/jpeg:https://lecanton.com.br/wp-content/uploads/2026/04/Ding-Dong.jpg
END:VEVENT
BEGIN:VEVENT
DTSTART;TZID=America/Sao_Paulo:20260512T143000
DTEND;TZID=America/Sao_Paulo:20260512T153000
DTSTAMP:20260424T233259
CREATED:20260424T201938Z
LAST-MODIFIED:20260424T201938Z
UID:10032746-1778596200-1778599800@lecanton.com.br
SUMMARY:Desafio
DESCRIPTION:Uma atividade dinâmica e cheia de interação para quem gosta de competir de forma leve e divertida! O Desafio reúne provas e dinâmicas variadas que estimulam raciocínio\, agilidade e trabalho em equipe em um ambiente descontraído. Exclusivo para adultos maiores de 18 anos.O evento pode sofrer alterações de data\, local ou cancelamento sem aviso prévio.
URL:https://lecanton.com.br/evento/desafio/2026-05-12/
LOCATION:Corredor Village
CATEGORIES:Adultos acima de 18 anos
ATTACH;FMTTYPE=image/jpeg:https://lecanton.com.br/wp-content/uploads/2026/04/Ding-Dong.jpg
END:VEVENT
BEGIN:VEVENT
DTSTART;TZID=America/Sao_Paulo:20260513T143000
DTEND;TZID=America/Sao_Paulo:20260513T153000
DTSTAMP:20260424T233259
CREATED:20260424T201938Z
LAST-MODIFIED:20260424T201938Z
UID:10032747-1778682600-1778686200@lecanton.com.br
SUMMARY:Desafio
DESCRIPTION:Uma atividade dinâmica e cheia de interação para quem gosta de competir de forma leve e divertida! O Desafio reúne provas e dinâmicas variadas que estimulam raciocínio\, agilidade e trabalho em equipe em um ambiente descontraído. Exclusivo para adultos maiores de 18 anos.O evento pode sofrer alterações de data\, local ou cancelamento sem aviso prévio.
URL:https://lecanton.com.br/evento/desafio/2026-05-13/
LOCATION:Corredor Village
CATEGORIES:Adultos acima de 18 anos
ATTACH;FMTTYPE=image/jpeg:https://lecanton.com.br/wp-content/uploads/2026/04/Ding-Dong.jpg
END:VEVENT
BEGIN:VEVENT
DTSTART;TZID=America/Sao_Paulo:20260514T143000
DTEND;TZID=America/Sao_Paulo:20260514T153000
DTSTAMP:20260424T233259
CREATED:20260424T201938Z
LAST-MODIFIED:20260424T201938Z
UID:10032748-1778769000-1778772600@lecanton.com.br
SUMMARY:Desafio
DESCRIPTION:Uma atividade dinâmica e cheia de interação para quem gosta de competir de forma leve e divertida! O Desafio reúne provas e dinâmicas variadas que estimulam raciocínio\, agilidade e trabalho em equipe em um ambiente descontraído. Exclusivo para adultos maiores de 18 anos.O evento pode sofrer alterações de data\, local ou cancelamento sem aviso prévio.
URL:https://lecanton.com.br/evento/desafio/2026-05-14/
LOCATION:Corredor Village
CATEGORIES:Adultos acima de 18 anos
ATTACH;FMTTYPE=image/jpeg:https://lecanton.com.br/wp-content/uploads/2026/04/Ding-Dong.jpg
END:VEVENT
BEGIN:VEVENT
DTSTART;TZID=America/Sao_Paulo:20260515T143000
DTEND;TZID=America/Sao_Paulo:20260515T153000
DTSTAMP:20260424T233259
CREATED:20260424T201938Z
LAST-MODIFIED:20260424T201938Z
UID:10032749-1778855400-1778859000@lecanton.com.br
SUMMARY:Desafio
DESCRIPTION:Uma atividade dinâmica e cheia de interação para quem gosta de competir de forma leve e divertida! O Desafio reúne provas e dinâmicas variadas que estimulam raciocínio\, agilidade e trabalho em equipe em um ambiente descontraído. Exclusivo para adultos maiores de 18 anos.O evento pode sofrer alterações de data\, local ou cancelamento sem aviso prévio.
URL:https://lecanton.com.br/evento/desafio/2026-05-15/
LOCATION:Corredor Village
CATEGORIES:Adultos acima de 18 anos
ATTACH;FMTTYPE=image/jpeg:https://lecanton.com.br/wp-content/uploads/2026/04/Ding-Dong.jpg
END:VEVENT
BEGIN:VEVENT
DTSTART;TZID=America/Sao_Paulo:20260516T143000
DTEND;TZID=America/Sao_Paulo:20260516T153000
DTSTAMP:20260424T233259
CREATED:20260424T201938Z
LAST-MODIFIED:20260424T201938Z
UID:10032750-1778941800-1778945400@lecanton.com.br
SUMMARY:Desafio
DESCRIPTION:Uma atividade dinâmica e cheia de interação para quem gosta de competir de forma leve e divertida! O Desafio reúne provas e dinâmicas variadas que estimulam raciocínio\, agilidade e trabalho em equipe em um ambiente descontraído. Exclusivo para adultos maiores de 18 anos.O evento pode sofrer alterações de data\, local ou cancelamento sem aviso prévio.
URL:https://lecanton.com.br/evento/desafio/2026-05-16/
LOCATION:Corredor Village
CATEGORIES:Adultos acima de 18 anos
ATTACH;FMTTYPE=image/jpeg:https://lecanton.com.br/wp-content/uploads/2026/04/Ding-Dong.jpg
END:VEVENT
BEGIN:VEVENT
DTSTART;TZID=America/Sao_Paulo:20260517T143000
DTEND;TZID=America/Sao_Paulo:20260517T153000
DTSTAMP:20260424T233259
CREATED:20260424T201938Z
LAST-MODIFIED:20260424T201938Z
UID:10032751-1779028200-1779031800@lecanton.com.br
SUMMARY:Desafio
DESCRIPTION:Uma atividade dinâmica e cheia de interação para quem gosta de competir de forma leve e divertida! O Desafio reúne provas e dinâmicas variadas que estimulam raciocínio\, agilidade e trabalho em equipe em um ambiente descontraído. Exclusivo para adultos maiores de 18 anos.O evento pode sofrer alterações de data\, local ou cancelamento sem aviso prévio.
URL:https://lecanton.com.br/evento/desafio/2026-05-17/
LOCATION:Corredor Village
CATEGORIES:Adultos acima de 18 anos
ATTACH;FMTTYPE=image/jpeg:https://lecanton.com.br/wp-content/uploads/2026/04/Ding-Dong.jpg
END:VEVENT
BEGIN:VEVENT
DTSTART;TZID=America/Sao_Paulo:20260519T143000
DTEND;TZID=America/Sao_Paulo:20260519T153000
DTSTAMP:20260424T233259
CREATED:20260424T201938Z
LAST-MODIFIED:20260424T201938Z
UID:10032752-1779201000-1779204600@lecanton.com.br
SUMMARY:Desafio
DESCRIPTION:Uma atividade dinâmica e cheia de interação para quem gosta de competir de forma leve e divertida! O Desafio reúne provas e dinâmicas variadas que estimulam raciocínio\, agilidade e trabalho em equipe em um ambiente descontraído. Exclusivo para adultos maiores de 18 anos.O evento pode sofrer alterações de data\, local ou cancelamento sem aviso prévio.
URL:https://lecanton.com.br/evento/desafio/2026-05-19/
LOCATION:Corredor Village
CATEGORIES:Adultos acima de 18 anos
ATTACH;FMTTYPE=image/jpeg:https://lecanton.com.br/wp-content/uploads/2026/04/Ding-Dong.jpg
END:VEVENT
BEGIN:VEVENT
DTSTART;TZID=America/Sao_Paulo:20260520T143000
DTEND;TZID=America/Sao_Paulo:20260520T153000
DTSTAMP:20260424T233259
CREATED:20260424T201938Z
LAST-MODIFIED:20260424T201938Z
UID:10032753-1779287400-1779291000@lecanton.com.br
SUMMARY:Desafio
DESCRIPTION:Uma atividade dinâmica e cheia de interação para quem gosta de competir de forma leve e divertida! O Desafio reúne provas e dinâmicas variadas que estimulam raciocínio\, agilidade e trabalho em equipe em um ambiente descontraído. Exclusivo para adultos maiores de 18 anos.O evento pode sofrer alterações de data\, local ou cancelamento sem aviso prévio.
URL:https://lecanton.com.br/evento/desafio/2026-05-20/
LOCATION:Corredor Village
CATEGORIES:Adultos acima de 18 anos
ATTACH;FMTTYPE=image/jpeg:https://lecanton.com.br/wp-content/uploads/2026/04/Ding-Dong.jpg
END:VEVENT
BEGIN:VEVENT
DTSTART;TZID=America/Sao_Paulo:20260521T143000
DTEND;TZID=America/Sao_Paulo:20260521T153000
DTSTAMP:20260424T233259
CREATED:20260424T201938Z
LAST-MODIFIED:20260424T201938Z
UID:10032754-1779373800-1779377400@lecanton.com.br
SUMMARY:Desafio
DESCRIPTION:Uma atividade dinâmica e cheia de interação para quem gosta de competir de forma leve e divertida! O Desafio reúne provas e dinâmicas variadas que estimulam raciocínio\, agilidade e trabalho em equipe em um ambiente descontraído. Exclusivo para adultos maiores de 18 anos.O evento pode sofrer alterações de data\, local ou cancelamento sem aviso prévio.
URL:https://lecanton.com.br/evento/desafio/2026-05-21/
LOCATION:Corredor Village
CATEGORIES:Adultos acima de 18 anos
ATTACH;FMTTYPE=image/jpeg:https://lecanton.com.br/wp-content/uploads/2026/04/Ding-Dong.jpg
END:VEVENT
BEGIN:VEVENT
DTSTART;TZID=America/Sao_Paulo:20260522T143000
DTEND;TZID=America/Sao_Paulo:20260522T153000
DTSTAMP:20260424T233259
CREATED:20260424T201938Z
LAST-MODIFIED:20260424T201938Z
UID:10032755-1779460200-1779463800@lecanton.com.br
SUMMARY:Desafio
DESCRIPTION:Uma atividade dinâmica e cheia de interação para quem gosta de competir de forma leve e divertida! O Desafio reúne provas e dinâmicas variadas que estimulam raciocínio\, agilidade e trabalho em equipe em um ambiente descontraído. Exclusivo para adultos maiores de 18 anos.O evento pode sofrer alterações de data\, local ou cancelamento sem aviso prévio.
URL:https://lecanton.com.br/evento/desafio/2026-05-22/
LOCATION:Corredor Village
CATEGORIES:Adultos acima de 18 anos
ATTACH;FMTTYPE=image/jpeg:https://lecanton.com.br/wp-content/uploads/2026/04/Ding-Dong.jpg
END:VEVENT
BEGIN:VEVENT
DTSTART;TZID=America/Sao_Paulo:20260523T143000
DTEND;TZID=America/Sao_Paulo:20260523T153000
DTSTAMP:20260424T233259
CREATED:20260424T201938Z
LAST-MODIFIED:20260424T201938Z
UID:10032756-1779546600-1779550200@lecanton.com.br
SUMMARY:Desafio
DESCRIPTION:Uma atividade dinâmica e cheia de interação para quem gosta de competir de forma leve e divertida! O Desafio reúne provas e dinâmicas variadas que estimulam raciocínio\, agilidade e trabalho em equipe em um ambiente descontraído. Exclusivo para adultos maiores de 18 anos.O evento pode sofrer alterações de data\, local ou cancelamento sem aviso prévio.
URL:https://lecanton.com.br/evento/desafio/2026-05-23/
LOCATION:Corredor Village
CATEGORIES:Adultos acima de 18 anos
ATTACH;FMTTYPE=image/jpeg:https://lecanton.com.br/wp-content/uploads/2026/04/Ding-Dong.jpg
END:VEVENT
BEGIN:VEVENT
DTSTART;TZID=America/Sao_Paulo:20260524T143000
DTEND;TZID=America/Sao_Paulo:20260524T153000
DTSTAMP:20260424T233259
CREATED:20260424T201938Z
LAST-MODIFIED:20260424T201938Z
UID:10032757-1779633000-1779636600@lecanton.com.br
SUMMARY:Desafio
DESCRIPTION:Uma atividade dinâmica e cheia de interação para quem gosta de competir de forma leve e divertida! O Desafio reúne provas e dinâmicas variadas que estimulam raciocínio\, agilidade e trabalho em equipe em um ambiente descontraído. Exclusivo para adultos maiores de 18 anos.O evento pode sofrer alterações de data\, local ou cancelamento sem aviso prévio.
URL:https://lecanton.com.br/evento/desafio/2026-05-24/
LOCATION:Corredor Village
CATEGORIES:Adultos acima de 18 anos
ATTACH;FMTTYPE=image/jpeg:https://lecanton.com.br/wp-content/uploads/2026/04/Ding-Dong.jpg
END:VEVENT
BEGIN:VEVENT
DTSTART;TZID=America/Sao_Paulo:20260526T143000
DTEND;TZID=America/Sao_Paulo:20260526T153000
DTSTAMP:20260424T233259
CREATED:20260424T201938Z
LAST-MODIFIED:20260424T201938Z
UID:10032758-1779805800-1779809400@lecanton.com.br
SUMMARY:Desafio
DESCRIPTION:Uma atividade dinâmica e cheia de interação para quem gosta de competir de forma leve e divertida! O Desafio reúne provas e dinâmicas variadas que estimulam raciocínio\, agilidade e trabalho em equipe em um ambiente descontraído. Exclusivo para adultos maiores de 18 anos.O evento pode sofrer alterações de data\, local ou cancelamento sem aviso prévio.
URL:https://lecanton.com.br/evento/desafio/2026-05-26/
LOCATION:Corredor Village
CATEGORIES:Adultos acima de 18 anos
ATTACH;FMTTYPE=image/jpeg:https://lecanton.com.br/wp-content/uploads/2026/04/Ding-Dong.jpg
END:VEVENT
BEGIN:VEVENT
DTSTART;TZID=America/Sao_Paulo:20260527T143000
DTEND;TZID=America/Sao_Paulo:20260527T153000
DTSTAMP:20260424T233259
CREATED:20260424T201938Z
LAST-MODIFIED:20260424T201938Z
UID:10032759-1779892200-1779895800@lecanton.com.br
SUMMARY:Desafio
DESCRIPTION:Uma atividade dinâmica e cheia de interação para quem gosta de competir de forma leve e divertida! O Desafio reúne provas e dinâmicas variadas que estimulam raciocínio\, agilidade e trabalho em equipe em um ambiente descontraído. Exclusivo para adultos maiores de 18 anos.O evento pode sofrer alterações de data\, local ou cancelamento sem aviso prévio.
URL:https://lecanton.com.br/evento/desafio/2026-05-27/
LOCATION:Corredor Village
CATEGORIES:Adultos acima de 18 anos
ATTACH;FMTTYPE=image/jpeg:https://lecanton.com.br/wp-content/uploads/2026/04/Ding-Dong.jpg
END:VEVENT
BEGIN:VEVENT
DTSTART;TZID=America/Sao_Paulo:20260528T143000
DTEND;TZID=America/Sao_Paulo:20260528T153000
DTSTAMP:20260424T233259
CREATED:20260424T201938Z
LAST-MODIFIED:20260424T201938Z
UID:10032760-1779978600-1779982200@lecanton.com.br
SUMMARY:Desafio
DESCRIPTION:Uma atividade dinâmica e cheia de interação para quem gosta de competir de forma leve e divertida! O Desafio reúne provas e dinâmicas variadas que estimulam raciocínio\, agilidade e trabalho em equipe em um ambiente descontraído. Exclusivo para adultos maiores de 18 anos.O evento pode sofrer alterações de data\, local ou cancelamento sem aviso prévio.
URL:https://lecanton.com.br/evento/desafio/2026-05-28/
LOCATION:Corredor Village
CATEGORIES:Adultos acima de 18 anos
ATTACH;FMTTYPE=image/jpeg:https://lecanton.com.br/wp-content/uploads/2026/04/Ding-Dong.jpg
END:VEVENT
BEGIN:VEVENT
DTSTART;TZID=America/Sao_Paulo:20260529T143000
DTEND;TZID=America/Sao_Paulo:20260529T153000
DTSTAMP:20260424T233259
CREATED:20260424T201938Z
LAST-MODIFIED:20260424T201938Z
UID:10032761-1780065000-1780068600@lecanton.com.br
SUMMARY:Desafio
DESCRIPTION:Uma atividade dinâmica e cheia de interação para quem gosta de competir de forma leve e divertida! O Desafio reúne provas e dinâmicas variadas que estimulam raciocínio\, agilidade e trabalho em equipe em um ambiente descontraído. Exclusivo para adultos maiores de 18 anos.O evento pode sofrer alterações de data\, local ou cancelamento sem aviso prévio.
URL:https://lecanton.com.br/evento/desafio/2026-05-29/
LOCATION:Corredor Village
CATEGORIES:Adultos acima de 18 anos
ATTACH;FMTTYPE=image/jpeg:https://lecanton.com.br/wp-content/uploads/2026/04/Ding-Dong.jpg
END:VEVENT
BEGIN:VEVENT
DTSTART;TZID=America/Sao_Paulo:20260530T143000
DTEND;TZID=America/Sao_Paulo:20260530T153000
DTSTAMP:20260424T233259
CREATED:20260424T201938Z
LAST-MODIFIED:20260424T201938Z
UID:10032762-1780151400-1780155000@lecanton.com.br
SUMMARY:Desafio
DESCRIPTION:Uma atividade dinâmica e cheia de interação para quem gosta de competir de forma leve e divertida! O Desafio reúne provas e dinâmicas variadas que estimulam raciocínio\, agilidade e trabalho em equipe em um ambiente descontraído. Exclusivo para adultos maiores de 18 anos.O evento pode sofrer alterações de data\, local ou cancelamento sem aviso prévio.
URL:https://lecanton.com.br/evento/desafio/2026-05-30/
LOCATION:Corredor Village
CATEGORIES:Adultos acima de 18 anos
ATTACH;FMTTYPE=image/jpeg:https://lecanton.com.br/wp-content/uploads/2026/04/Ding-Dong.jpg
END:VEVENT
BEGIN:VEVENT
DTSTART;TZID=America/Sao_Paulo:20260531T143000
DTEND;TZID=America/Sao_Paulo:20260531T153000
DTSTAMP:20260424T233259
CREATED:20260424T201938Z
LAST-MODIFIED:20260424T201938Z
UID:10032763-1780237800-1780241400@lecanton.com.br
SUMMARY:Desafio
DESCRIPTION:Uma atividade dinâmica e cheia de interação para quem gosta de competir de forma leve e divertida! O Desafio reúne provas e dinâmicas variadas que estimulam raciocínio\, agilidade e trabalho em equipe em um ambiente descontraído. Exclusivo para adultos maiores de 18 anos.O evento pode sofrer alterações de data\, local ou cancelamento sem aviso prévio.
URL:https://lecanton.com.br/evento/desafio/2026-05-31/
LOCATION:Corredor Village
CATEGORIES:Adultos acima de 18 anos
ATTACH;FMTTYPE=image/jpeg:https://lecanton.com.br/wp-content/uploads/2026/04/Ding-Dong.jpg
END:VEVENT
BEGIN:VEVENT
DTSTART;TZID=America/Sao_Paulo:20260602T143000
DTEND;TZID=America/Sao_Paulo:20260602T153000
DTSTAMP:20260424T233259
CREATED:20260424T201938Z
LAST-MODIFIED:20260424T201938Z
UID:10032764-1780410600-1780414200@lecanton.com.br
SUMMARY:Desafio
DESCRIPTION:Uma atividade dinâmica e cheia de interação para quem gosta de competir de forma leve e divertida! O Desafio reúne provas e dinâmicas variadas que estimulam raciocínio\, agilidade e trabalho em equipe em um ambiente descontraído. Exclusivo para adultos maiores de 18 anos.O evento pode sofrer alterações de data\, local ou cancelamento sem aviso prévio.
URL:https://lecanton.com.br/evento/desafio/2026-06-02/
LOCATION:Corredor Village
CATEGORIES:Adultos acima de 18 anos
ATTACH;FMTTYPE=image/jpeg:https://lecanton.com.br/wp-content/uploads/2026/04/Ding-Dong.jpg
END:VEVENT
BEGIN:VEVENT
DTSTART;TZID=America/Sao_Paulo:20260603T143000
DTEND;TZID=America/Sao_Paulo:20260603T153000
DTSTAMP:20260424T233300
CREATED:20260424T201938Z
LAST-MODIFIED:20260424T201938Z
UID:10032765-1780497000-1780500600@lecanton.com.br
SUMMARY:Desafio
DESCRIPTION:Uma atividade dinâmica e cheia de interação para quem gosta de competir de forma leve e divertida! O Desafio reúne provas e dinâmicas variadas que estimulam raciocínio\, agilidade e trabalho em equipe em um ambiente descontraído. Exclusivo para adultos maiores de 18 anos.O evento pode sofrer alterações de data\, local ou cancelamento sem aviso prévio.
URL:https://lecanton.com.br/evento/desafio/2026-06-03/
LOCATION:Corredor Village
CATEGORIES:Adultos acima de 18 anos
ATTACH;FMTTYPE=image/jpeg:https://lecanton.com.br/wp-content/uploads/2026/04/Ding-Dong.jpg
END:VEVENT
BEGIN:VEVENT
DTSTART;TZID=America/Sao_Paulo:20260604T143000
DTEND;TZID=America/Sao_Paulo:20260604T153000
DTSTAMP:20260424T233300
CREATED:20260424T201938Z
LAST-MODIFIED:20260424T201938Z
UID:10032766-1780583400-1780587000@lecanton.com.br
SUMMARY:Desafio
DESCRIPTION:Uma atividade dinâmica e cheia de interação para quem gosta de competir de forma leve e divertida! O Desafio reúne provas e dinâmicas variadas que estimulam raciocínio\, agilidade e trabalho em equipe em um ambiente descontraído. Exclusivo para adultos maiores de 18 anos.O evento pode sofrer alterações de data\, local ou cancelamento sem aviso prévio.
URL:https://lecanton.com.br/evento/desafio/2026-06-04/
LOCATION:Corredor Village
CATEGORIES:Adultos acima de 18 anos
ATTACH;FMTTYPE=image/jpeg:https://lecanton.com.br/wp-content/uploads/2026/04/Ding-Dong.jpg
END:VEVENT
BEGIN:VEVENT
DTSTART;TZID=America/Sao_Paulo:20260605T143000
DTEND;TZID=America/Sao_Paulo:20260605T153000
DTSTAMP:20260424T233300
CREATED:20260424T201938Z
LAST-MODIFIED:20260424T201938Z
UID:10032767-1780669800-1780673400@lecanton.com.br
SUMMARY:Desafio
DESCRIPTION:Uma atividade dinâmica e cheia de interação para quem gosta de competir de forma leve e divertida! O Desafio reúne provas e dinâmicas variadas que estimulam raciocínio\, agilidade e trabalho em equipe em um ambiente descontraído. Exclusivo para adultos maiores de 18 anos.O evento pode sofrer alterações de data\, local ou cancelamento sem aviso prévio.
URL:https://lecanton.com.br/evento/desafio/2026-06-05/
LOCATION:Corredor Village
CATEGORIES:Adultos acima de 18 anos
ATTACH;FMTTYPE=image/jpeg:https://lecanton.com.br/wp-content/uploads/2026/04/Ding-Dong.jpg
END:VEVENT
BEGIN:VEVENT
DTSTART;TZID=America/Sao_Paulo:20260606T143000
DTEND;TZID=America/Sao_Paulo:20260606T153000
DTSTAMP:20260424T233300
CREATED:20260424T201938Z
LAST-MODIFIED:20260424T201938Z
UID:10032768-1780756200-1780759800@lecanton.com.br
SUMMARY:Desafio
DESCRIPTION:Uma atividade dinâmica e cheia de interação para quem gosta de competir de forma leve e divertida! O Desafio reúne provas e dinâmicas variadas que estimulam raciocínio\, agilidade e trabalho em equipe em um ambiente descontraído. Exclusivo para adultos maiores de 18 anos.O evento pode sofrer alterações de data\, local ou cancelamento sem aviso prévio.
URL:https://lecanton.com.br/evento/desafio/2026-06-06/
LOCATION:Corredor Village
CATEGORIES:Adultos acima de 18 anos
ATTACH;FMTTYPE=image/jpeg:https://lecanton.com.br/wp-content/uploads/2026/04/Ding-Dong.jpg
END:VEVENT
BEGIN:VEVENT
DTSTART;TZID=America/Sao_Paulo:20260607T143000
DTEND;TZID=America/Sao_Paulo:20260607T153000
DTSTAMP:20260424T233300
CREATED:20260424T201938Z
LAST-MODIFIED:20260424T201938Z
UID:10032769-1780842600-1780846200@lecanton.com.br
SUMMARY:Desafio
DESCRIPTION:Uma atividade dinâmica e cheia de interação para quem gosta de competir de forma leve e divertida! O Desafio reúne provas e dinâmicas variadas que estimulam raciocínio\, agilidade e trabalho em equipe em um ambiente descontraído. Exclusivo para adultos maiores de 18 anos.O evento pode sofrer alterações de data\, local ou cancelamento sem aviso prévio.
URL:https://lecanton.com.br/evento/desafio/2026-06-07/
LOCATION:Corredor Village
CATEGORIES:Adultos acima de 18 anos
ATTACH;FMTTYPE=image/jpeg:https://lecanton.com.br/wp-content/uploads/2026/04/Ding-Dong.jpg
END:VEVENT
BEGIN:VEVENT
DTSTART;TZID=America/Sao_Paulo:20260609T143000
DTEND;TZID=America/Sao_Paulo:20260609T153000
DTSTAMP:20260424T233300
CREATED:20260424T201938Z
LAST-MODIFIED:20260424T201938Z
UID:10032770-1781015400-1781019000@lecanton.com.br
SUMMARY:Desafio
DESCRIPTION:Uma atividade dinâmica e cheia de interação para quem gosta de competir de forma leve e divertida! O Desafio reúne provas e dinâmicas variadas que estimulam raciocínio\, agilidade e trabalho em equipe em um ambiente descontraído. Exclusivo para adultos maiores de 18 anos.O evento pode sofrer alterações de data\, local ou cancelamento sem aviso prévio.
URL:https://lecanton.com.br/evento/desafio/2026-06-09/
LOCATION:Corredor Village
CATEGORIES:Adultos acima de 18 anos
ATTACH;FMTTYPE=image/jpeg:https://lecanton.com.br/wp-content/uploads/2026/04/Ding-Dong.jpg
END:VEVENT
BEGIN:VEVENT
DTSTART;TZID=America/Sao_Paulo:20260610T143000
DTEND;TZID=America/Sao_Paulo:20260610T153000
DTSTAMP:20260424T233300
CREATED:20260424T201938Z
LAST-MODIFIED:20260424T201938Z
UID:10032771-1781101800-1781105400@lecanton.com.br
SUMMARY:Desafio
DESCRIPTION:Uma atividade dinâmica e cheia de interação para quem gosta de competir de forma leve e divertida! O Desafio reúne provas e dinâmicas variadas que estimulam raciocínio\, agilidade e trabalho em equipe em um ambiente descontraído. Exclusivo para adultos maiores de 18 anos.O evento pode sofrer alterações de data\, local ou cancelamento sem aviso prévio.
URL:https://lecanton.com.br/evento/desafio/2026-06-10/
LOCATION:Corredor Village
CATEGORIES:Adultos acima de 18 anos
ATTACH;FMTTYPE=image/jpeg:https://lecanton.com.br/wp-content/uploads/2026/04/Ding-Dong.jpg
END:VEVENT
BEGIN:VEVENT
DTSTART;TZID=America/Sao_Paulo:20260611T143000
DTEND;TZID=America/Sao_Paulo:20260611T153000
DTSTAMP:20260424T233300
CREATED:20260424T201938Z
LAST-MODIFIED:20260424T201938Z
UID:10032772-1781188200-1781191800@lecanton.com.br
SUMMARY:Desafio
DESCRIPTION:Uma atividade dinâmica e cheia de interação para quem gosta de competir de forma leve e divertida! O Desafio reúne provas e dinâmicas variadas que estimulam raciocínio\, agilidade e trabalho em equipe em um ambiente descontraído. Exclusivo para adultos maiores de 18 anos.O evento pode sofrer alterações de data\, local ou cancelamento sem aviso prévio.
URL:https://lecanton.com.br/evento/desafio/2026-06-11/
LOCATION:Corredor Village
CATEGORIES:Adultos acima de 18 anos
ATTACH;FMTTYPE=image/jpeg:https://lecanton.com.br/wp-content/uploads/2026/04/Ding-Dong.jpg
END:VEVENT
BEGIN:VEVENT
DTSTART;TZID=America/Sao_Paulo:20260612T143000
DTEND;TZID=America/Sao_Paulo:20260612T153000
DTSTAMP:20260424T233300
CREATED:20260424T201938Z
LAST-MODIFIED:20260424T201938Z
UID:10032773-1781274600-1781278200@lecanton.com.br
SUMMARY:Desafio
DESCRIPTION:Uma atividade dinâmica e cheia de interação para quem gosta de competir de forma leve e divertida! O Desafio reúne provas e dinâmicas variadas que estimulam raciocínio\, agilidade e trabalho em equipe em um ambiente descontraído. Exclusivo para adultos maiores de 18 anos.O evento pode sofrer alterações de data\, local ou cancelamento sem aviso prévio.
URL:https://lecanton.com.br/evento/desafio/2026-06-12/
LOCATION:Corredor Village
CATEGORIES:Adultos acima de 18 anos
ATTACH;FMTTYPE=image/jpeg:https://lecanton.com.br/wp-content/uploads/2026/04/Ding-Dong.jpg
END:VEVENT
END:VCALENDAR