BEGIN:VCALENDAR
VERSION:2.0
PRODID:-//Le Canton | O melhor Resort da Serra - ECPv6.15.17.1//NONSGML v1.0//EN
CALSCALE:GREGORIAN
METHOD:PUBLISH
X-WR-CALNAME:Le Canton | O melhor Resort da Serra
X-ORIGINAL-URL:https://lecanton.com.br
X-WR-CALDESC:Eventos para Le Canton | O melhor Resort da Serra
REFRESH-INTERVAL;VALUE=DURATION:PT1H
X-Robots-Tag:noindex
X-PUBLISHED-TTL:PT1H
BEGIN:VTIMEZONE
TZID:America/Sao_Paulo
BEGIN:STANDARD
TZOFFSETFROM:-0300
TZOFFSETTO:-0300
TZNAME:-03
DTSTART:20250101T000000
END:STANDARD
END:VTIMEZONE
BEGIN:VEVENT
DTSTART;TZID=America/Sao_Paulo:20260830T143000
DTEND;TZID=America/Sao_Paulo:20260830T153000
DTSTAMP:20260425T192418
CREATED:20260424T201938Z
LAST-MODIFIED:20260424T201938Z
UID:10032841-1788100200-1788103800@lecanton.com.br
SUMMARY:Desafio
DESCRIPTION:Uma atividade dinâmica e cheia de interação para quem gosta de competir de forma leve e divertida! O Desafio reúne provas e dinâmicas variadas que estimulam raciocínio\, agilidade e trabalho em equipe em um ambiente descontraído. Exclusivo para adultos maiores de 18 anos.O evento pode sofrer alterações de data\, local ou cancelamento sem aviso prévio.
URL:https://lecanton.com.br/evento/desafio/2026-08-30/
LOCATION:Corredor Village
CATEGORIES:Adultos acima de 18 anos
ATTACH;FMTTYPE=image/jpeg:https://lecanton.com.br/wp-content/uploads/2026/04/Ding-Dong.jpg
END:VEVENT
BEGIN:VEVENT
DTSTART;TZID=America/Sao_Paulo:20260901T143000
DTEND;TZID=America/Sao_Paulo:20260901T153000
DTSTAMP:20260425T192418
CREATED:20260424T201938Z
LAST-MODIFIED:20260424T201938Z
UID:10032842-1788273000-1788276600@lecanton.com.br
SUMMARY:Desafio
DESCRIPTION:Uma atividade dinâmica e cheia de interação para quem gosta de competir de forma leve e divertida! O Desafio reúne provas e dinâmicas variadas que estimulam raciocínio\, agilidade e trabalho em equipe em um ambiente descontraído. Exclusivo para adultos maiores de 18 anos.O evento pode sofrer alterações de data\, local ou cancelamento sem aviso prévio.
URL:https://lecanton.com.br/evento/desafio/2026-09-01/
LOCATION:Corredor Village
CATEGORIES:Adultos acima de 18 anos
ATTACH;FMTTYPE=image/jpeg:https://lecanton.com.br/wp-content/uploads/2026/04/Ding-Dong.jpg
END:VEVENT
BEGIN:VEVENT
DTSTART;TZID=America/Sao_Paulo:20260902T143000
DTEND;TZID=America/Sao_Paulo:20260902T153000
DTSTAMP:20260425T192418
CREATED:20260424T201938Z
LAST-MODIFIED:20260424T201938Z
UID:10032843-1788359400-1788363000@lecanton.com.br
SUMMARY:Desafio
DESCRIPTION:Uma atividade dinâmica e cheia de interação para quem gosta de competir de forma leve e divertida! O Desafio reúne provas e dinâmicas variadas que estimulam raciocínio\, agilidade e trabalho em equipe em um ambiente descontraído. Exclusivo para adultos maiores de 18 anos.O evento pode sofrer alterações de data\, local ou cancelamento sem aviso prévio.
URL:https://lecanton.com.br/evento/desafio/2026-09-02/
LOCATION:Corredor Village
CATEGORIES:Adultos acima de 18 anos
ATTACH;FMTTYPE=image/jpeg:https://lecanton.com.br/wp-content/uploads/2026/04/Ding-Dong.jpg
END:VEVENT
BEGIN:VEVENT
DTSTART;TZID=America/Sao_Paulo:20260903T143000
DTEND;TZID=America/Sao_Paulo:20260903T153000
DTSTAMP:20260425T192418
CREATED:20260424T201938Z
LAST-MODIFIED:20260424T201938Z
UID:10032844-1788445800-1788449400@lecanton.com.br
SUMMARY:Desafio
DESCRIPTION:Uma atividade dinâmica e cheia de interação para quem gosta de competir de forma leve e divertida! O Desafio reúne provas e dinâmicas variadas que estimulam raciocínio\, agilidade e trabalho em equipe em um ambiente descontraído. Exclusivo para adultos maiores de 18 anos.O evento pode sofrer alterações de data\, local ou cancelamento sem aviso prévio.
URL:https://lecanton.com.br/evento/desafio/2026-09-03/
LOCATION:Corredor Village
CATEGORIES:Adultos acima de 18 anos
ATTACH;FMTTYPE=image/jpeg:https://lecanton.com.br/wp-content/uploads/2026/04/Ding-Dong.jpg
END:VEVENT
BEGIN:VEVENT
DTSTART;TZID=America/Sao_Paulo:20260904T143000
DTEND;TZID=America/Sao_Paulo:20260904T153000
DTSTAMP:20260425T192418
CREATED:20260424T201938Z
LAST-MODIFIED:20260424T201938Z
UID:10032845-1788532200-1788535800@lecanton.com.br
SUMMARY:Desafio
DESCRIPTION:Uma atividade dinâmica e cheia de interação para quem gosta de competir de forma leve e divertida! O Desafio reúne provas e dinâmicas variadas que estimulam raciocínio\, agilidade e trabalho em equipe em um ambiente descontraído. Exclusivo para adultos maiores de 18 anos.O evento pode sofrer alterações de data\, local ou cancelamento sem aviso prévio.
URL:https://lecanton.com.br/evento/desafio/2026-09-04/
LOCATION:Corredor Village
CATEGORIES:Adultos acima de 18 anos
ATTACH;FMTTYPE=image/jpeg:https://lecanton.com.br/wp-content/uploads/2026/04/Ding-Dong.jpg
END:VEVENT
BEGIN:VEVENT
DTSTART;TZID=America/Sao_Paulo:20260905T143000
DTEND;TZID=America/Sao_Paulo:20260905T153000
DTSTAMP:20260425T192418
CREATED:20260424T201938Z
LAST-MODIFIED:20260424T201938Z
UID:10032846-1788618600-1788622200@lecanton.com.br
SUMMARY:Desafio
DESCRIPTION:Uma atividade dinâmica e cheia de interação para quem gosta de competir de forma leve e divertida! O Desafio reúne provas e dinâmicas variadas que estimulam raciocínio\, agilidade e trabalho em equipe em um ambiente descontraído. Exclusivo para adultos maiores de 18 anos.O evento pode sofrer alterações de data\, local ou cancelamento sem aviso prévio.
URL:https://lecanton.com.br/evento/desafio/2026-09-05/
LOCATION:Corredor Village
CATEGORIES:Adultos acima de 18 anos
ATTACH;FMTTYPE=image/jpeg:https://lecanton.com.br/wp-content/uploads/2026/04/Ding-Dong.jpg
END:VEVENT
BEGIN:VEVENT
DTSTART;TZID=America/Sao_Paulo:20260906T143000
DTEND;TZID=America/Sao_Paulo:20260906T153000
DTSTAMP:20260425T192418
CREATED:20260424T201938Z
LAST-MODIFIED:20260424T201938Z
UID:10032847-1788705000-1788708600@lecanton.com.br
SUMMARY:Desafio
DESCRIPTION:Uma atividade dinâmica e cheia de interação para quem gosta de competir de forma leve e divertida! O Desafio reúne provas e dinâmicas variadas que estimulam raciocínio\, agilidade e trabalho em equipe em um ambiente descontraído. Exclusivo para adultos maiores de 18 anos.O evento pode sofrer alterações de data\, local ou cancelamento sem aviso prévio.
URL:https://lecanton.com.br/evento/desafio/2026-09-06/
LOCATION:Corredor Village
CATEGORIES:Adultos acima de 18 anos
ATTACH;FMTTYPE=image/jpeg:https://lecanton.com.br/wp-content/uploads/2026/04/Ding-Dong.jpg
END:VEVENT
BEGIN:VEVENT
DTSTART;TZID=America/Sao_Paulo:20260908T143000
DTEND;TZID=America/Sao_Paulo:20260908T153000
DTSTAMP:20260425T192418
CREATED:20260424T201938Z
LAST-MODIFIED:20260424T201938Z
UID:10032848-1788877800-1788881400@lecanton.com.br
SUMMARY:Desafio
DESCRIPTION:Uma atividade dinâmica e cheia de interação para quem gosta de competir de forma leve e divertida! O Desafio reúne provas e dinâmicas variadas que estimulam raciocínio\, agilidade e trabalho em equipe em um ambiente descontraído. Exclusivo para adultos maiores de 18 anos.O evento pode sofrer alterações de data\, local ou cancelamento sem aviso prévio.
URL:https://lecanton.com.br/evento/desafio/2026-09-08/
LOCATION:Corredor Village
CATEGORIES:Adultos acima de 18 anos
ATTACH;FMTTYPE=image/jpeg:https://lecanton.com.br/wp-content/uploads/2026/04/Ding-Dong.jpg
END:VEVENT
BEGIN:VEVENT
DTSTART;TZID=America/Sao_Paulo:20260909T143000
DTEND;TZID=America/Sao_Paulo:20260909T153000
DTSTAMP:20260425T192418
CREATED:20260424T201938Z
LAST-MODIFIED:20260424T201938Z
UID:10032849-1788964200-1788967800@lecanton.com.br
SUMMARY:Desafio
DESCRIPTION:Uma atividade dinâmica e cheia de interação para quem gosta de competir de forma leve e divertida! O Desafio reúne provas e dinâmicas variadas que estimulam raciocínio\, agilidade e trabalho em equipe em um ambiente descontraído. Exclusivo para adultos maiores de 18 anos.O evento pode sofrer alterações de data\, local ou cancelamento sem aviso prévio.
URL:https://lecanton.com.br/evento/desafio/2026-09-09/
LOCATION:Corredor Village
CATEGORIES:Adultos acima de 18 anos
ATTACH;FMTTYPE=image/jpeg:https://lecanton.com.br/wp-content/uploads/2026/04/Ding-Dong.jpg
END:VEVENT
BEGIN:VEVENT
DTSTART;TZID=America/Sao_Paulo:20260910T143000
DTEND;TZID=America/Sao_Paulo:20260910T153000
DTSTAMP:20260425T192418
CREATED:20260424T201938Z
LAST-MODIFIED:20260424T201938Z
UID:10032850-1789050600-1789054200@lecanton.com.br
SUMMARY:Desafio
DESCRIPTION:Uma atividade dinâmica e cheia de interação para quem gosta de competir de forma leve e divertida! O Desafio reúne provas e dinâmicas variadas que estimulam raciocínio\, agilidade e trabalho em equipe em um ambiente descontraído. Exclusivo para adultos maiores de 18 anos.O evento pode sofrer alterações de data\, local ou cancelamento sem aviso prévio.
URL:https://lecanton.com.br/evento/desafio/2026-09-10/
LOCATION:Corredor Village
CATEGORIES:Adultos acima de 18 anos
ATTACH;FMTTYPE=image/jpeg:https://lecanton.com.br/wp-content/uploads/2026/04/Ding-Dong.jpg
END:VEVENT
BEGIN:VEVENT
DTSTART;TZID=America/Sao_Paulo:20260911T143000
DTEND;TZID=America/Sao_Paulo:20260911T153000
DTSTAMP:20260425T192418
CREATED:20260424T201938Z
LAST-MODIFIED:20260424T201938Z
UID:10032851-1789137000-1789140600@lecanton.com.br
SUMMARY:Desafio
DESCRIPTION:Uma atividade dinâmica e cheia de interação para quem gosta de competir de forma leve e divertida! O Desafio reúne provas e dinâmicas variadas que estimulam raciocínio\, agilidade e trabalho em equipe em um ambiente descontraído. Exclusivo para adultos maiores de 18 anos.O evento pode sofrer alterações de data\, local ou cancelamento sem aviso prévio.
URL:https://lecanton.com.br/evento/desafio/2026-09-11/
LOCATION:Corredor Village
CATEGORIES:Adultos acima de 18 anos
ATTACH;FMTTYPE=image/jpeg:https://lecanton.com.br/wp-content/uploads/2026/04/Ding-Dong.jpg
END:VEVENT
BEGIN:VEVENT
DTSTART;TZID=America/Sao_Paulo:20260912T143000
DTEND;TZID=America/Sao_Paulo:20260912T153000
DTSTAMP:20260425T192418
CREATED:20260424T201938Z
LAST-MODIFIED:20260424T201938Z
UID:10032852-1789223400-1789227000@lecanton.com.br
SUMMARY:Desafio
DESCRIPTION:Uma atividade dinâmica e cheia de interação para quem gosta de competir de forma leve e divertida! O Desafio reúne provas e dinâmicas variadas que estimulam raciocínio\, agilidade e trabalho em equipe em um ambiente descontraído. Exclusivo para adultos maiores de 18 anos.O evento pode sofrer alterações de data\, local ou cancelamento sem aviso prévio.
URL:https://lecanton.com.br/evento/desafio/2026-09-12/
LOCATION:Corredor Village
CATEGORIES:Adultos acima de 18 anos
ATTACH;FMTTYPE=image/jpeg:https://lecanton.com.br/wp-content/uploads/2026/04/Ding-Dong.jpg
END:VEVENT
BEGIN:VEVENT
DTSTART;TZID=America/Sao_Paulo:20260913T143000
DTEND;TZID=America/Sao_Paulo:20260913T153000
DTSTAMP:20260425T192418
CREATED:20260424T201938Z
LAST-MODIFIED:20260424T201938Z
UID:10032853-1789309800-1789313400@lecanton.com.br
SUMMARY:Desafio
DESCRIPTION:Uma atividade dinâmica e cheia de interação para quem gosta de competir de forma leve e divertida! O Desafio reúne provas e dinâmicas variadas que estimulam raciocínio\, agilidade e trabalho em equipe em um ambiente descontraído. Exclusivo para adultos maiores de 18 anos.O evento pode sofrer alterações de data\, local ou cancelamento sem aviso prévio.
URL:https://lecanton.com.br/evento/desafio/2026-09-13/
LOCATION:Corredor Village
CATEGORIES:Adultos acima de 18 anos
ATTACH;FMTTYPE=image/jpeg:https://lecanton.com.br/wp-content/uploads/2026/04/Ding-Dong.jpg
END:VEVENT
BEGIN:VEVENT
DTSTART;TZID=America/Sao_Paulo:20260915T143000
DTEND;TZID=America/Sao_Paulo:20260915T153000
DTSTAMP:20260425T192418
CREATED:20260424T201938Z
LAST-MODIFIED:20260424T201938Z
UID:10032854-1789482600-1789486200@lecanton.com.br
SUMMARY:Desafio
DESCRIPTION:Uma atividade dinâmica e cheia de interação para quem gosta de competir de forma leve e divertida! O Desafio reúne provas e dinâmicas variadas que estimulam raciocínio\, agilidade e trabalho em equipe em um ambiente descontraído. Exclusivo para adultos maiores de 18 anos.O evento pode sofrer alterações de data\, local ou cancelamento sem aviso prévio.
URL:https://lecanton.com.br/evento/desafio/2026-09-15/
LOCATION:Corredor Village
CATEGORIES:Adultos acima de 18 anos
ATTACH;FMTTYPE=image/jpeg:https://lecanton.com.br/wp-content/uploads/2026/04/Ding-Dong.jpg
END:VEVENT
BEGIN:VEVENT
DTSTART;TZID=America/Sao_Paulo:20260916T143000
DTEND;TZID=America/Sao_Paulo:20260916T153000
DTSTAMP:20260425T192418
CREATED:20260424T201938Z
LAST-MODIFIED:20260424T201938Z
UID:10032855-1789569000-1789572600@lecanton.com.br
SUMMARY:Desafio
DESCRIPTION:Uma atividade dinâmica e cheia de interação para quem gosta de competir de forma leve e divertida! O Desafio reúne provas e dinâmicas variadas que estimulam raciocínio\, agilidade e trabalho em equipe em um ambiente descontraído. Exclusivo para adultos maiores de 18 anos.O evento pode sofrer alterações de data\, local ou cancelamento sem aviso prévio.
URL:https://lecanton.com.br/evento/desafio/2026-09-16/
LOCATION:Corredor Village
CATEGORIES:Adultos acima de 18 anos
ATTACH;FMTTYPE=image/jpeg:https://lecanton.com.br/wp-content/uploads/2026/04/Ding-Dong.jpg
END:VEVENT
BEGIN:VEVENT
DTSTART;TZID=America/Sao_Paulo:20260917T143000
DTEND;TZID=America/Sao_Paulo:20260917T153000
DTSTAMP:20260425T192418
CREATED:20260424T201938Z
LAST-MODIFIED:20260424T201938Z
UID:10032856-1789655400-1789659000@lecanton.com.br
SUMMARY:Desafio
DESCRIPTION:Uma atividade dinâmica e cheia de interação para quem gosta de competir de forma leve e divertida! O Desafio reúne provas e dinâmicas variadas que estimulam raciocínio\, agilidade e trabalho em equipe em um ambiente descontraído. Exclusivo para adultos maiores de 18 anos.O evento pode sofrer alterações de data\, local ou cancelamento sem aviso prévio.
URL:https://lecanton.com.br/evento/desafio/2026-09-17/
LOCATION:Corredor Village
CATEGORIES:Adultos acima de 18 anos
ATTACH;FMTTYPE=image/jpeg:https://lecanton.com.br/wp-content/uploads/2026/04/Ding-Dong.jpg
END:VEVENT
BEGIN:VEVENT
DTSTART;TZID=America/Sao_Paulo:20260918T143000
DTEND;TZID=America/Sao_Paulo:20260918T153000
DTSTAMP:20260425T192418
CREATED:20260424T201938Z
LAST-MODIFIED:20260424T201938Z
UID:10032857-1789741800-1789745400@lecanton.com.br
SUMMARY:Desafio
DESCRIPTION:Uma atividade dinâmica e cheia de interação para quem gosta de competir de forma leve e divertida! O Desafio reúne provas e dinâmicas variadas que estimulam raciocínio\, agilidade e trabalho em equipe em um ambiente descontraído. Exclusivo para adultos maiores de 18 anos.O evento pode sofrer alterações de data\, local ou cancelamento sem aviso prévio.
URL:https://lecanton.com.br/evento/desafio/2026-09-18/
LOCATION:Corredor Village
CATEGORIES:Adultos acima de 18 anos
ATTACH;FMTTYPE=image/jpeg:https://lecanton.com.br/wp-content/uploads/2026/04/Ding-Dong.jpg
END:VEVENT
BEGIN:VEVENT
DTSTART;TZID=America/Sao_Paulo:20260919T143000
DTEND;TZID=America/Sao_Paulo:20260919T153000
DTSTAMP:20260425T192418
CREATED:20260424T201938Z
LAST-MODIFIED:20260424T201938Z
UID:10032858-1789828200-1789831800@lecanton.com.br
SUMMARY:Desafio
DESCRIPTION:Uma atividade dinâmica e cheia de interação para quem gosta de competir de forma leve e divertida! O Desafio reúne provas e dinâmicas variadas que estimulam raciocínio\, agilidade e trabalho em equipe em um ambiente descontraído. Exclusivo para adultos maiores de 18 anos.O evento pode sofrer alterações de data\, local ou cancelamento sem aviso prévio.
URL:https://lecanton.com.br/evento/desafio/2026-09-19/
LOCATION:Corredor Village
CATEGORIES:Adultos acima de 18 anos
ATTACH;FMTTYPE=image/jpeg:https://lecanton.com.br/wp-content/uploads/2026/04/Ding-Dong.jpg
END:VEVENT
BEGIN:VEVENT
DTSTART;TZID=America/Sao_Paulo:20260920T143000
DTEND;TZID=America/Sao_Paulo:20260920T153000
DTSTAMP:20260425T192418
CREATED:20260424T201938Z
LAST-MODIFIED:20260424T201938Z
UID:10032859-1789914600-1789918200@lecanton.com.br
SUMMARY:Desafio
DESCRIPTION:Uma atividade dinâmica e cheia de interação para quem gosta de competir de forma leve e divertida! O Desafio reúne provas e dinâmicas variadas que estimulam raciocínio\, agilidade e trabalho em equipe em um ambiente descontraído. Exclusivo para adultos maiores de 18 anos.O evento pode sofrer alterações de data\, local ou cancelamento sem aviso prévio.
URL:https://lecanton.com.br/evento/desafio/2026-09-20/
LOCATION:Corredor Village
CATEGORIES:Adultos acima de 18 anos
ATTACH;FMTTYPE=image/jpeg:https://lecanton.com.br/wp-content/uploads/2026/04/Ding-Dong.jpg
END:VEVENT
BEGIN:VEVENT
DTSTART;TZID=America/Sao_Paulo:20260922T143000
DTEND;TZID=America/Sao_Paulo:20260922T153000
DTSTAMP:20260425T192418
CREATED:20260424T201938Z
LAST-MODIFIED:20260424T201938Z
UID:10032860-1790087400-1790091000@lecanton.com.br
SUMMARY:Desafio
DESCRIPTION:Uma atividade dinâmica e cheia de interação para quem gosta de competir de forma leve e divertida! O Desafio reúne provas e dinâmicas variadas que estimulam raciocínio\, agilidade e trabalho em equipe em um ambiente descontraído. Exclusivo para adultos maiores de 18 anos.O evento pode sofrer alterações de data\, local ou cancelamento sem aviso prévio.
URL:https://lecanton.com.br/evento/desafio/2026-09-22/
LOCATION:Corredor Village
CATEGORIES:Adultos acima de 18 anos
ATTACH;FMTTYPE=image/jpeg:https://lecanton.com.br/wp-content/uploads/2026/04/Ding-Dong.jpg
END:VEVENT
BEGIN:VEVENT
DTSTART;TZID=America/Sao_Paulo:20260923T143000
DTEND;TZID=America/Sao_Paulo:20260923T153000
DTSTAMP:20260425T192418
CREATED:20260424T201938Z
LAST-MODIFIED:20260424T201938Z
UID:10032861-1790173800-1790177400@lecanton.com.br
SUMMARY:Desafio
DESCRIPTION:Uma atividade dinâmica e cheia de interação para quem gosta de competir de forma leve e divertida! O Desafio reúne provas e dinâmicas variadas que estimulam raciocínio\, agilidade e trabalho em equipe em um ambiente descontraído. Exclusivo para adultos maiores de 18 anos.O evento pode sofrer alterações de data\, local ou cancelamento sem aviso prévio.
URL:https://lecanton.com.br/evento/desafio/2026-09-23/
LOCATION:Corredor Village
CATEGORIES:Adultos acima de 18 anos
ATTACH;FMTTYPE=image/jpeg:https://lecanton.com.br/wp-content/uploads/2026/04/Ding-Dong.jpg
END:VEVENT
BEGIN:VEVENT
DTSTART;TZID=America/Sao_Paulo:20260924T143000
DTEND;TZID=America/Sao_Paulo:20260924T153000
DTSTAMP:20260425T192418
CREATED:20260424T201938Z
LAST-MODIFIED:20260424T201938Z
UID:10032862-1790260200-1790263800@lecanton.com.br
SUMMARY:Desafio
DESCRIPTION:Uma atividade dinâmica e cheia de interação para quem gosta de competir de forma leve e divertida! O Desafio reúne provas e dinâmicas variadas que estimulam raciocínio\, agilidade e trabalho em equipe em um ambiente descontraído. Exclusivo para adultos maiores de 18 anos.O evento pode sofrer alterações de data\, local ou cancelamento sem aviso prévio.
URL:https://lecanton.com.br/evento/desafio/2026-09-24/
LOCATION:Corredor Village
CATEGORIES:Adultos acima de 18 anos
ATTACH;FMTTYPE=image/jpeg:https://lecanton.com.br/wp-content/uploads/2026/04/Ding-Dong.jpg
END:VEVENT
BEGIN:VEVENT
DTSTART;TZID=America/Sao_Paulo:20260925T143000
DTEND;TZID=America/Sao_Paulo:20260925T153000
DTSTAMP:20260425T192418
CREATED:20260424T201938Z
LAST-MODIFIED:20260424T201938Z
UID:10032863-1790346600-1790350200@lecanton.com.br
SUMMARY:Desafio
DESCRIPTION:Uma atividade dinâmica e cheia de interação para quem gosta de competir de forma leve e divertida! O Desafio reúne provas e dinâmicas variadas que estimulam raciocínio\, agilidade e trabalho em equipe em um ambiente descontraído. Exclusivo para adultos maiores de 18 anos.O evento pode sofrer alterações de data\, local ou cancelamento sem aviso prévio.
URL:https://lecanton.com.br/evento/desafio/2026-09-25/
LOCATION:Corredor Village
CATEGORIES:Adultos acima de 18 anos
ATTACH;FMTTYPE=image/jpeg:https://lecanton.com.br/wp-content/uploads/2026/04/Ding-Dong.jpg
END:VEVENT
BEGIN:VEVENT
DTSTART;TZID=America/Sao_Paulo:20260926T143000
DTEND;TZID=America/Sao_Paulo:20260926T153000
DTSTAMP:20260425T192418
CREATED:20260424T201938Z
LAST-MODIFIED:20260424T201938Z
UID:10032864-1790433000-1790436600@lecanton.com.br
SUMMARY:Desafio
DESCRIPTION:Uma atividade dinâmica e cheia de interação para quem gosta de competir de forma leve e divertida! O Desafio reúne provas e dinâmicas variadas que estimulam raciocínio\, agilidade e trabalho em equipe em um ambiente descontraído. Exclusivo para adultos maiores de 18 anos.O evento pode sofrer alterações de data\, local ou cancelamento sem aviso prévio.
URL:https://lecanton.com.br/evento/desafio/2026-09-26/
LOCATION:Corredor Village
CATEGORIES:Adultos acima de 18 anos
ATTACH;FMTTYPE=image/jpeg:https://lecanton.com.br/wp-content/uploads/2026/04/Ding-Dong.jpg
END:VEVENT
BEGIN:VEVENT
DTSTART;TZID=America/Sao_Paulo:20260927T143000
DTEND;TZID=America/Sao_Paulo:20260927T153000
DTSTAMP:20260425T192418
CREATED:20260424T201938Z
LAST-MODIFIED:20260424T201938Z
UID:10032865-1790519400-1790523000@lecanton.com.br
SUMMARY:Desafio
DESCRIPTION:Uma atividade dinâmica e cheia de interação para quem gosta de competir de forma leve e divertida! O Desafio reúne provas e dinâmicas variadas que estimulam raciocínio\, agilidade e trabalho em equipe em um ambiente descontraído. Exclusivo para adultos maiores de 18 anos.O evento pode sofrer alterações de data\, local ou cancelamento sem aviso prévio.
URL:https://lecanton.com.br/evento/desafio/2026-09-27/
LOCATION:Corredor Village
CATEGORIES:Adultos acima de 18 anos
ATTACH;FMTTYPE=image/jpeg:https://lecanton.com.br/wp-content/uploads/2026/04/Ding-Dong.jpg
END:VEVENT
BEGIN:VEVENT
DTSTART;TZID=America/Sao_Paulo:20260929T143000
DTEND;TZID=America/Sao_Paulo:20260929T153000
DTSTAMP:20260425T192418
CREATED:20260424T201938Z
LAST-MODIFIED:20260424T201938Z
UID:10032866-1790692200-1790695800@lecanton.com.br
SUMMARY:Desafio
DESCRIPTION:Uma atividade dinâmica e cheia de interação para quem gosta de competir de forma leve e divertida! O Desafio reúne provas e dinâmicas variadas que estimulam raciocínio\, agilidade e trabalho em equipe em um ambiente descontraído. Exclusivo para adultos maiores de 18 anos.O evento pode sofrer alterações de data\, local ou cancelamento sem aviso prévio.
URL:https://lecanton.com.br/evento/desafio/2026-09-29/
LOCATION:Corredor Village
CATEGORIES:Adultos acima de 18 anos
ATTACH;FMTTYPE=image/jpeg:https://lecanton.com.br/wp-content/uploads/2026/04/Ding-Dong.jpg
END:VEVENT
BEGIN:VEVENT
DTSTART;TZID=America/Sao_Paulo:20260930T143000
DTEND;TZID=America/Sao_Paulo:20260930T153000
DTSTAMP:20260425T192418
CREATED:20260424T201938Z
LAST-MODIFIED:20260424T201938Z
UID:10032867-1790778600-1790782200@lecanton.com.br
SUMMARY:Desafio
DESCRIPTION:Uma atividade dinâmica e cheia de interação para quem gosta de competir de forma leve e divertida! O Desafio reúne provas e dinâmicas variadas que estimulam raciocínio\, agilidade e trabalho em equipe em um ambiente descontraído. Exclusivo para adultos maiores de 18 anos.O evento pode sofrer alterações de data\, local ou cancelamento sem aviso prévio.
URL:https://lecanton.com.br/evento/desafio/2026-09-30/
LOCATION:Corredor Village
CATEGORIES:Adultos acima de 18 anos
ATTACH;FMTTYPE=image/jpeg:https://lecanton.com.br/wp-content/uploads/2026/04/Ding-Dong.jpg
END:VEVENT
BEGIN:VEVENT
DTSTART;TZID=America/Sao_Paulo:20261001T143000
DTEND;TZID=America/Sao_Paulo:20261001T153000
DTSTAMP:20260425T192418
CREATED:20260424T201938Z
LAST-MODIFIED:20260424T201938Z
UID:10032868-1790865000-1790868600@lecanton.com.br
SUMMARY:Desafio
DESCRIPTION:Uma atividade dinâmica e cheia de interação para quem gosta de competir de forma leve e divertida! O Desafio reúne provas e dinâmicas variadas que estimulam raciocínio\, agilidade e trabalho em equipe em um ambiente descontraído. Exclusivo para adultos maiores de 18 anos.O evento pode sofrer alterações de data\, local ou cancelamento sem aviso prévio.
URL:https://lecanton.com.br/evento/desafio/2026-10-01/
LOCATION:Corredor Village
CATEGORIES:Adultos acima de 18 anos
ATTACH;FMTTYPE=image/jpeg:https://lecanton.com.br/wp-content/uploads/2026/04/Ding-Dong.jpg
END:VEVENT
BEGIN:VEVENT
DTSTART;TZID=America/Sao_Paulo:20261002T143000
DTEND;TZID=America/Sao_Paulo:20261002T153000
DTSTAMP:20260425T192418
CREATED:20260424T201938Z
LAST-MODIFIED:20260424T201938Z
UID:10032869-1790951400-1790955000@lecanton.com.br
SUMMARY:Desafio
DESCRIPTION:Uma atividade dinâmica e cheia de interação para quem gosta de competir de forma leve e divertida! O Desafio reúne provas e dinâmicas variadas que estimulam raciocínio\, agilidade e trabalho em equipe em um ambiente descontraído. Exclusivo para adultos maiores de 18 anos.O evento pode sofrer alterações de data\, local ou cancelamento sem aviso prévio.
URL:https://lecanton.com.br/evento/desafio/2026-10-02/
LOCATION:Corredor Village
CATEGORIES:Adultos acima de 18 anos
ATTACH;FMTTYPE=image/jpeg:https://lecanton.com.br/wp-content/uploads/2026/04/Ding-Dong.jpg
END:VEVENT
BEGIN:VEVENT
DTSTART;TZID=America/Sao_Paulo:20261003T143000
DTEND;TZID=America/Sao_Paulo:20261003T153000
DTSTAMP:20260425T192418
CREATED:20260424T201938Z
LAST-MODIFIED:20260424T201938Z
UID:10032870-1791037800-1791041400@lecanton.com.br
SUMMARY:Desafio
DESCRIPTION:Uma atividade dinâmica e cheia de interação para quem gosta de competir de forma leve e divertida! O Desafio reúne provas e dinâmicas variadas que estimulam raciocínio\, agilidade e trabalho em equipe em um ambiente descontraído. Exclusivo para adultos maiores de 18 anos.O evento pode sofrer alterações de data\, local ou cancelamento sem aviso prévio.
URL:https://lecanton.com.br/evento/desafio/2026-10-03/
LOCATION:Corredor Village
CATEGORIES:Adultos acima de 18 anos
ATTACH;FMTTYPE=image/jpeg:https://lecanton.com.br/wp-content/uploads/2026/04/Ding-Dong.jpg
END:VEVENT
END:VCALENDAR