BEGIN:VCALENDAR
VERSION:2.0
PRODID:-//Le Canton | O melhor Resort da Serra - ECPv6.15.17.1//NONSGML v1.0//EN
CALSCALE:GREGORIAN
METHOD:PUBLISH
X-ORIGINAL-URL:https://lecanton.com.br
X-WR-CALDESC:Eventos para Le Canton | O melhor Resort da Serra
REFRESH-INTERVAL;VALUE=DURATION:PT1H
X-Robots-Tag:noindex
X-PUBLISHED-TTL:PT1H
BEGIN:VTIMEZONE
TZID:America/Sao_Paulo
BEGIN:STANDARD
TZOFFSETFROM:-0300
TZOFFSETTO:-0300
TZNAME:-03
DTSTART:20250101T000000
END:STANDARD
END:VTIMEZONE
BEGIN:VEVENT
DTSTART;TZID=America/Sao_Paulo:20260424T143000
DTEND;TZID=America/Sao_Paulo:20260424T153000
DTSTAMP:20260424T233308
CREATED:20260424T201938Z
LAST-MODIFIED:20260424T201938Z
UID:10032731-1777041000-1777044600@lecanton.com.br
SUMMARY:Desafio
DESCRIPTION:Uma atividade dinâmica e cheia de interação para quem gosta de competir de forma leve e divertida! O Desafio reúne provas e dinâmicas variadas que estimulam raciocínio\, agilidade e trabalho em equipe em um ambiente descontraído. Exclusivo para adultos maiores de 18 anos.O evento pode sofrer alterações de data\, local ou cancelamento sem aviso prévio.
URL:https://lecanton.com.br/evento/desafio/2026-04-24/
LOCATION:Corredor Village
CATEGORIES:Adultos acima de 18 anos
ATTACH;FMTTYPE=image/jpeg:https://lecanton.com.br/wp-content/uploads/2026/04/Ding-Dong.jpg
END:VEVENT
BEGIN:VEVENT
DTSTART;TZID=America/Sao_Paulo:20260423T143000
DTEND;TZID=America/Sao_Paulo:20260423T153000
DTSTAMP:20260424T233308
CREATED:20260424T201938Z
LAST-MODIFIED:20260424T201938Z
UID:10032730-1776954600-1776958200@lecanton.com.br
SUMMARY:Desafio
DESCRIPTION:Uma atividade dinâmica e cheia de interação para quem gosta de competir de forma leve e divertida! O Desafio reúne provas e dinâmicas variadas que estimulam raciocínio\, agilidade e trabalho em equipe em um ambiente descontraído. Exclusivo para adultos maiores de 18 anos.O evento pode sofrer alterações de data\, local ou cancelamento sem aviso prévio.
URL:https://lecanton.com.br/evento/desafio/2026-04-23/
LOCATION:Corredor Village
CATEGORIES:Adultos acima de 18 anos
ATTACH;FMTTYPE=image/jpeg:https://lecanton.com.br/wp-content/uploads/2026/04/Ding-Dong.jpg
END:VEVENT
BEGIN:VEVENT
DTSTART;TZID=America/Sao_Paulo:20260422T143000
DTEND;TZID=America/Sao_Paulo:20260422T153000
DTSTAMP:20260424T233308
CREATED:20260424T201938Z
LAST-MODIFIED:20260424T201938Z
UID:10032729-1776868200-1776871800@lecanton.com.br
SUMMARY:Desafio
DESCRIPTION:Uma atividade dinâmica e cheia de interação para quem gosta de competir de forma leve e divertida! O Desafio reúne provas e dinâmicas variadas que estimulam raciocínio\, agilidade e trabalho em equipe em um ambiente descontraído. Exclusivo para adultos maiores de 18 anos.O evento pode sofrer alterações de data\, local ou cancelamento sem aviso prévio.
URL:https://lecanton.com.br/evento/desafio/2026-04-22/
LOCATION:Corredor Village
CATEGORIES:Adultos acima de 18 anos
ATTACH;FMTTYPE=image/jpeg:https://lecanton.com.br/wp-content/uploads/2026/04/Ding-Dong.jpg
END:VEVENT
BEGIN:VEVENT
DTSTART;TZID=America/Sao_Paulo:20260421T143000
DTEND;TZID=America/Sao_Paulo:20260421T153000
DTSTAMP:20260424T233308
CREATED:20260424T201938Z
LAST-MODIFIED:20260424T201938Z
UID:10032728-1776781800-1776785400@lecanton.com.br
SUMMARY:Desafio
DESCRIPTION:Uma atividade dinâmica e cheia de interação para quem gosta de competir de forma leve e divertida! O Desafio reúne provas e dinâmicas variadas que estimulam raciocínio\, agilidade e trabalho em equipe em um ambiente descontraído. Exclusivo para adultos maiores de 18 anos.O evento pode sofrer alterações de data\, local ou cancelamento sem aviso prévio.
URL:https://lecanton.com.br/evento/desafio/2026-04-21/
LOCATION:Corredor Village
CATEGORIES:Adultos acima de 18 anos
ATTACH;FMTTYPE=image/jpeg:https://lecanton.com.br/wp-content/uploads/2026/04/Ding-Dong.jpg
END:VEVENT
END:VCALENDAR