BEGIN:VCALENDAR
VERSION:2.0
PRODID:-//Le Canton | O melhor Resort da Serra - ECPv6.15.17.1//NONSGML v1.0//EN
CALSCALE:GREGORIAN
METHOD:PUBLISH
X-WR-CALNAME:Le Canton | O melhor Resort da Serra
X-ORIGINAL-URL:https://lecanton.com.br
X-WR-CALDESC:Eventos para Le Canton | O melhor Resort da Serra
REFRESH-INTERVAL;VALUE=DURATION:PT1H
X-Robots-Tag:noindex
X-PUBLISHED-TTL:PT1H
BEGIN:VTIMEZONE
TZID:America/Sao_Paulo
BEGIN:STANDARD
TZOFFSETFROM:-0300
TZOFFSETTO:-0300
TZNAME:-03
DTSTART:20290101T000000
END:STANDARD
END:VTIMEZONE
BEGIN:VEVENT
DTSTART;TZID=America/Sao_Paulo:20300202T170000
DTEND;TZID=America/Sao_Paulo:20300202T180000
DTSTAMP:20260425T074929
CREATED:20260414T191414Z
LAST-MODIFIED:20260414T191414Z
UID:10004948-1896282000-1896285600@lecanton.com.br
SUMMARY:Futebol
DESCRIPTION:Uma atividade clássica e cheia de energia para quem gosta de esporte e competição saudável! O futebol é ideal para reunir participantes em partidas dinâmicas\, promovendo integração\, movimento e momentos de diversão em grupo. Exclusivo para adultos maiores de 18 anos.O evento pode sofrer alterações de data\, local ou cancelamento sem aviso prévio.
URL:https://lecanton.com.br/evento/futebol/2030-02-02/
LOCATION:Campo/Society
CATEGORIES:Adultos acima de 18 anos
ATTACH;FMTTYPE=image/jpeg:https://lecanton.com.br/wp-content/uploads/2026/04/futebol.jpg
END:VEVENT
BEGIN:VEVENT
DTSTART;TZID=America/Sao_Paulo:20300207T170000
DTEND;TZID=America/Sao_Paulo:20300207T180000
DTSTAMP:20260425T074929
CREATED:20260414T191414Z
LAST-MODIFIED:20260414T191414Z
UID:10004949-1896714000-1896717600@lecanton.com.br
SUMMARY:Futebol
DESCRIPTION:Uma atividade clássica e cheia de energia para quem gosta de esporte e competição saudável! O futebol é ideal para reunir participantes em partidas dinâmicas\, promovendo integração\, movimento e momentos de diversão em grupo. Exclusivo para adultos maiores de 18 anos.O evento pode sofrer alterações de data\, local ou cancelamento sem aviso prévio.
URL:https://lecanton.com.br/evento/futebol/2030-02-07/
LOCATION:Campo/Society
CATEGORIES:Adultos acima de 18 anos
ATTACH;FMTTYPE=image/jpeg:https://lecanton.com.br/wp-content/uploads/2026/04/futebol.jpg
END:VEVENT
BEGIN:VEVENT
DTSTART;TZID=America/Sao_Paulo:20300209T170000
DTEND;TZID=America/Sao_Paulo:20300209T180000
DTSTAMP:20260425T074929
CREATED:20260414T191414Z
LAST-MODIFIED:20260414T191414Z
UID:10004950-1896886800-1896890400@lecanton.com.br
SUMMARY:Futebol
DESCRIPTION:Uma atividade clássica e cheia de energia para quem gosta de esporte e competição saudável! O futebol é ideal para reunir participantes em partidas dinâmicas\, promovendo integração\, movimento e momentos de diversão em grupo. Exclusivo para adultos maiores de 18 anos.O evento pode sofrer alterações de data\, local ou cancelamento sem aviso prévio.
URL:https://lecanton.com.br/evento/futebol/2030-02-09/
LOCATION:Campo/Society
CATEGORIES:Adultos acima de 18 anos
ATTACH;FMTTYPE=image/jpeg:https://lecanton.com.br/wp-content/uploads/2026/04/futebol.jpg
END:VEVENT
BEGIN:VEVENT
DTSTART;TZID=America/Sao_Paulo:20300214T170000
DTEND;TZID=America/Sao_Paulo:20300214T180000
DTSTAMP:20260425T074929
CREATED:20260414T191414Z
LAST-MODIFIED:20260414T191414Z
UID:10004951-1897318800-1897322400@lecanton.com.br
SUMMARY:Futebol
DESCRIPTION:Uma atividade clássica e cheia de energia para quem gosta de esporte e competição saudável! O futebol é ideal para reunir participantes em partidas dinâmicas\, promovendo integração\, movimento e momentos de diversão em grupo. Exclusivo para adultos maiores de 18 anos.O evento pode sofrer alterações de data\, local ou cancelamento sem aviso prévio.
URL:https://lecanton.com.br/evento/futebol/2030-02-14/
LOCATION:Campo/Society
CATEGORIES:Adultos acima de 18 anos
ATTACH;FMTTYPE=image/jpeg:https://lecanton.com.br/wp-content/uploads/2026/04/futebol.jpg
END:VEVENT
BEGIN:VEVENT
DTSTART;TZID=America/Sao_Paulo:20300216T170000
DTEND;TZID=America/Sao_Paulo:20300216T180000
DTSTAMP:20260425T074929
CREATED:20260414T191414Z
LAST-MODIFIED:20260414T191414Z
UID:10004952-1897491600-1897495200@lecanton.com.br
SUMMARY:Futebol
DESCRIPTION:Uma atividade clássica e cheia de energia para quem gosta de esporte e competição saudável! O futebol é ideal para reunir participantes em partidas dinâmicas\, promovendo integração\, movimento e momentos de diversão em grupo. Exclusivo para adultos maiores de 18 anos.O evento pode sofrer alterações de data\, local ou cancelamento sem aviso prévio.
URL:https://lecanton.com.br/evento/futebol/2030-02-16/
LOCATION:Campo/Society
CATEGORIES:Adultos acima de 18 anos
ATTACH;FMTTYPE=image/jpeg:https://lecanton.com.br/wp-content/uploads/2026/04/futebol.jpg
END:VEVENT
BEGIN:VEVENT
DTSTART;TZID=America/Sao_Paulo:20300221T170000
DTEND;TZID=America/Sao_Paulo:20300221T180000
DTSTAMP:20260425T074929
CREATED:20260414T191414Z
LAST-MODIFIED:20260414T191414Z
UID:10004953-1897923600-1897927200@lecanton.com.br
SUMMARY:Futebol
DESCRIPTION:Uma atividade clássica e cheia de energia para quem gosta de esporte e competição saudável! O futebol é ideal para reunir participantes em partidas dinâmicas\, promovendo integração\, movimento e momentos de diversão em grupo. Exclusivo para adultos maiores de 18 anos.O evento pode sofrer alterações de data\, local ou cancelamento sem aviso prévio.
URL:https://lecanton.com.br/evento/futebol/2030-02-21/
LOCATION:Campo/Society
CATEGORIES:Adultos acima de 18 anos
ATTACH;FMTTYPE=image/jpeg:https://lecanton.com.br/wp-content/uploads/2026/04/futebol.jpg
END:VEVENT
BEGIN:VEVENT
DTSTART;TZID=America/Sao_Paulo:20300223T170000
DTEND;TZID=America/Sao_Paulo:20300223T180000
DTSTAMP:20260425T074929
CREATED:20260414T191414Z
LAST-MODIFIED:20260414T191414Z
UID:10004954-1898096400-1898100000@lecanton.com.br
SUMMARY:Futebol
DESCRIPTION:Uma atividade clássica e cheia de energia para quem gosta de esporte e competição saudável! O futebol é ideal para reunir participantes em partidas dinâmicas\, promovendo integração\, movimento e momentos de diversão em grupo. Exclusivo para adultos maiores de 18 anos.O evento pode sofrer alterações de data\, local ou cancelamento sem aviso prévio.
URL:https://lecanton.com.br/evento/futebol/2030-02-23/
LOCATION:Campo/Society
CATEGORIES:Adultos acima de 18 anos
ATTACH;FMTTYPE=image/jpeg:https://lecanton.com.br/wp-content/uploads/2026/04/futebol.jpg
END:VEVENT
BEGIN:VEVENT
DTSTART;TZID=America/Sao_Paulo:20300228T170000
DTEND;TZID=America/Sao_Paulo:20300228T180000
DTSTAMP:20260425T074929
CREATED:20260414T191414Z
LAST-MODIFIED:20260414T191414Z
UID:10004955-1898528400-1898532000@lecanton.com.br
SUMMARY:Futebol
DESCRIPTION:Uma atividade clássica e cheia de energia para quem gosta de esporte e competição saudável! O futebol é ideal para reunir participantes em partidas dinâmicas\, promovendo integração\, movimento e momentos de diversão em grupo. Exclusivo para adultos maiores de 18 anos.O evento pode sofrer alterações de data\, local ou cancelamento sem aviso prévio.
URL:https://lecanton.com.br/evento/futebol/2030-02-28/
LOCATION:Campo/Society
CATEGORIES:Adultos acima de 18 anos
ATTACH;FMTTYPE=image/jpeg:https://lecanton.com.br/wp-content/uploads/2026/04/futebol.jpg
END:VEVENT
BEGIN:VEVENT
DTSTART;TZID=America/Sao_Paulo:20300302T170000
DTEND;TZID=America/Sao_Paulo:20300302T180000
DTSTAMP:20260425T074929
CREATED:20260414T191414Z
LAST-MODIFIED:20260414T191414Z
UID:10004956-1898701200-1898704800@lecanton.com.br
SUMMARY:Futebol
DESCRIPTION:Uma atividade clássica e cheia de energia para quem gosta de esporte e competição saudável! O futebol é ideal para reunir participantes em partidas dinâmicas\, promovendo integração\, movimento e momentos de diversão em grupo. Exclusivo para adultos maiores de 18 anos.O evento pode sofrer alterações de data\, local ou cancelamento sem aviso prévio.
URL:https://lecanton.com.br/evento/futebol/2030-03-02/
LOCATION:Campo/Society
CATEGORIES:Adultos acima de 18 anos
ATTACH;FMTTYPE=image/jpeg:https://lecanton.com.br/wp-content/uploads/2026/04/futebol.jpg
END:VEVENT
BEGIN:VEVENT
DTSTART;TZID=America/Sao_Paulo:20300307T170000
DTEND;TZID=America/Sao_Paulo:20300307T180000
DTSTAMP:20260425T074929
CREATED:20260414T191414Z
LAST-MODIFIED:20260414T191414Z
UID:10004957-1899133200-1899136800@lecanton.com.br
SUMMARY:Futebol
DESCRIPTION:Uma atividade clássica e cheia de energia para quem gosta de esporte e competição saudável! O futebol é ideal para reunir participantes em partidas dinâmicas\, promovendo integração\, movimento e momentos de diversão em grupo. Exclusivo para adultos maiores de 18 anos.O evento pode sofrer alterações de data\, local ou cancelamento sem aviso prévio.
URL:https://lecanton.com.br/evento/futebol/2030-03-07/
LOCATION:Campo/Society
CATEGORIES:Adultos acima de 18 anos
ATTACH;FMTTYPE=image/jpeg:https://lecanton.com.br/wp-content/uploads/2026/04/futebol.jpg
END:VEVENT
BEGIN:VEVENT
DTSTART;TZID=America/Sao_Paulo:20300309T170000
DTEND;TZID=America/Sao_Paulo:20300309T180000
DTSTAMP:20260425T074929
CREATED:20260414T191414Z
LAST-MODIFIED:20260414T191414Z
UID:10004958-1899306000-1899309600@lecanton.com.br
SUMMARY:Futebol
DESCRIPTION:Uma atividade clássica e cheia de energia para quem gosta de esporte e competição saudável! O futebol é ideal para reunir participantes em partidas dinâmicas\, promovendo integração\, movimento e momentos de diversão em grupo. Exclusivo para adultos maiores de 18 anos.O evento pode sofrer alterações de data\, local ou cancelamento sem aviso prévio.
URL:https://lecanton.com.br/evento/futebol/2030-03-09/
LOCATION:Campo/Society
CATEGORIES:Adultos acima de 18 anos
ATTACH;FMTTYPE=image/jpeg:https://lecanton.com.br/wp-content/uploads/2026/04/futebol.jpg
END:VEVENT
BEGIN:VEVENT
DTSTART;TZID=America/Sao_Paulo:20300314T170000
DTEND;TZID=America/Sao_Paulo:20300314T180000
DTSTAMP:20260425T074929
CREATED:20260414T191414Z
LAST-MODIFIED:20260414T191414Z
UID:10004959-1899738000-1899741600@lecanton.com.br
SUMMARY:Futebol
DESCRIPTION:Uma atividade clássica e cheia de energia para quem gosta de esporte e competição saudável! O futebol é ideal para reunir participantes em partidas dinâmicas\, promovendo integração\, movimento e momentos de diversão em grupo. Exclusivo para adultos maiores de 18 anos.O evento pode sofrer alterações de data\, local ou cancelamento sem aviso prévio.
URL:https://lecanton.com.br/evento/futebol/2030-03-14/
LOCATION:Campo/Society
CATEGORIES:Adultos acima de 18 anos
ATTACH;FMTTYPE=image/jpeg:https://lecanton.com.br/wp-content/uploads/2026/04/futebol.jpg
END:VEVENT
BEGIN:VEVENT
DTSTART;TZID=America/Sao_Paulo:20300316T170000
DTEND;TZID=America/Sao_Paulo:20300316T180000
DTSTAMP:20260425T074929
CREATED:20260414T191414Z
LAST-MODIFIED:20260414T191414Z
UID:10004960-1899910800-1899914400@lecanton.com.br
SUMMARY:Futebol
DESCRIPTION:Uma atividade clássica e cheia de energia para quem gosta de esporte e competição saudável! O futebol é ideal para reunir participantes em partidas dinâmicas\, promovendo integração\, movimento e momentos de diversão em grupo. Exclusivo para adultos maiores de 18 anos.O evento pode sofrer alterações de data\, local ou cancelamento sem aviso prévio.
URL:https://lecanton.com.br/evento/futebol/2030-03-16/
LOCATION:Campo/Society
CATEGORIES:Adultos acima de 18 anos
ATTACH;FMTTYPE=image/jpeg:https://lecanton.com.br/wp-content/uploads/2026/04/futebol.jpg
END:VEVENT
BEGIN:VEVENT
DTSTART;TZID=America/Sao_Paulo:20300321T170000
DTEND;TZID=America/Sao_Paulo:20300321T180000
DTSTAMP:20260425T074929
CREATED:20260414T191414Z
LAST-MODIFIED:20260414T191414Z
UID:10004961-1900342800-1900346400@lecanton.com.br
SUMMARY:Futebol
DESCRIPTION:Uma atividade clássica e cheia de energia para quem gosta de esporte e competição saudável! O futebol é ideal para reunir participantes em partidas dinâmicas\, promovendo integração\, movimento e momentos de diversão em grupo. Exclusivo para adultos maiores de 18 anos.O evento pode sofrer alterações de data\, local ou cancelamento sem aviso prévio.
URL:https://lecanton.com.br/evento/futebol/2030-03-21/
LOCATION:Campo/Society
CATEGORIES:Adultos acima de 18 anos
ATTACH;FMTTYPE=image/jpeg:https://lecanton.com.br/wp-content/uploads/2026/04/futebol.jpg
END:VEVENT
BEGIN:VEVENT
DTSTART;TZID=America/Sao_Paulo:20300323T170000
DTEND;TZID=America/Sao_Paulo:20300323T180000
DTSTAMP:20260425T074929
CREATED:20260414T191414Z
LAST-MODIFIED:20260414T191414Z
UID:10004962-1900515600-1900519200@lecanton.com.br
SUMMARY:Futebol
DESCRIPTION:Uma atividade clássica e cheia de energia para quem gosta de esporte e competição saudável! O futebol é ideal para reunir participantes em partidas dinâmicas\, promovendo integração\, movimento e momentos de diversão em grupo. Exclusivo para adultos maiores de 18 anos.O evento pode sofrer alterações de data\, local ou cancelamento sem aviso prévio.
URL:https://lecanton.com.br/evento/futebol/2030-03-23/
LOCATION:Campo/Society
CATEGORIES:Adultos acima de 18 anos
ATTACH;FMTTYPE=image/jpeg:https://lecanton.com.br/wp-content/uploads/2026/04/futebol.jpg
END:VEVENT
BEGIN:VEVENT
DTSTART;TZID=America/Sao_Paulo:20300328T170000
DTEND;TZID=America/Sao_Paulo:20300328T180000
DTSTAMP:20260425T074929
CREATED:20260414T191414Z
LAST-MODIFIED:20260414T191414Z
UID:10004963-1900947600-1900951200@lecanton.com.br
SUMMARY:Futebol
DESCRIPTION:Uma atividade clássica e cheia de energia para quem gosta de esporte e competição saudável! O futebol é ideal para reunir participantes em partidas dinâmicas\, promovendo integração\, movimento e momentos de diversão em grupo. Exclusivo para adultos maiores de 18 anos.O evento pode sofrer alterações de data\, local ou cancelamento sem aviso prévio.
URL:https://lecanton.com.br/evento/futebol/2030-03-28/
LOCATION:Campo/Society
CATEGORIES:Adultos acima de 18 anos
ATTACH;FMTTYPE=image/jpeg:https://lecanton.com.br/wp-content/uploads/2026/04/futebol.jpg
END:VEVENT
BEGIN:VEVENT
DTSTART;TZID=America/Sao_Paulo:20300330T170000
DTEND;TZID=America/Sao_Paulo:20300330T180000
DTSTAMP:20260425T074929
CREATED:20260414T191414Z
LAST-MODIFIED:20260414T191414Z
UID:10004964-1901120400-1901124000@lecanton.com.br
SUMMARY:Futebol
DESCRIPTION:Uma atividade clássica e cheia de energia para quem gosta de esporte e competição saudável! O futebol é ideal para reunir participantes em partidas dinâmicas\, promovendo integração\, movimento e momentos de diversão em grupo. Exclusivo para adultos maiores de 18 anos.O evento pode sofrer alterações de data\, local ou cancelamento sem aviso prévio.
URL:https://lecanton.com.br/evento/futebol/2030-03-30/
LOCATION:Campo/Society
CATEGORIES:Adultos acima de 18 anos
ATTACH;FMTTYPE=image/jpeg:https://lecanton.com.br/wp-content/uploads/2026/04/futebol.jpg
END:VEVENT
BEGIN:VEVENT
DTSTART;TZID=America/Sao_Paulo:20300404T170000
DTEND;TZID=America/Sao_Paulo:20300404T180000
DTSTAMP:20260425T074929
CREATED:20260414T191414Z
LAST-MODIFIED:20260414T191414Z
UID:10004965-1901552400-1901556000@lecanton.com.br
SUMMARY:Futebol
DESCRIPTION:Uma atividade clássica e cheia de energia para quem gosta de esporte e competição saudável! O futebol é ideal para reunir participantes em partidas dinâmicas\, promovendo integração\, movimento e momentos de diversão em grupo. Exclusivo para adultos maiores de 18 anos.O evento pode sofrer alterações de data\, local ou cancelamento sem aviso prévio.
URL:https://lecanton.com.br/evento/futebol/2030-04-04/
LOCATION:Campo/Society
CATEGORIES:Adultos acima de 18 anos
ATTACH;FMTTYPE=image/jpeg:https://lecanton.com.br/wp-content/uploads/2026/04/futebol.jpg
END:VEVENT
BEGIN:VEVENT
DTSTART;TZID=America/Sao_Paulo:20300406T170000
DTEND;TZID=America/Sao_Paulo:20300406T180000
DTSTAMP:20260425T074929
CREATED:20260414T191414Z
LAST-MODIFIED:20260414T191414Z
UID:10004966-1901725200-1901728800@lecanton.com.br
SUMMARY:Futebol
DESCRIPTION:Uma atividade clássica e cheia de energia para quem gosta de esporte e competição saudável! O futebol é ideal para reunir participantes em partidas dinâmicas\, promovendo integração\, movimento e momentos de diversão em grupo. Exclusivo para adultos maiores de 18 anos.O evento pode sofrer alterações de data\, local ou cancelamento sem aviso prévio.
URL:https://lecanton.com.br/evento/futebol/2030-04-06/
LOCATION:Campo/Society
CATEGORIES:Adultos acima de 18 anos
ATTACH;FMTTYPE=image/jpeg:https://lecanton.com.br/wp-content/uploads/2026/04/futebol.jpg
END:VEVENT
BEGIN:VEVENT
DTSTART;TZID=America/Sao_Paulo:20300411T170000
DTEND;TZID=America/Sao_Paulo:20300411T180000
DTSTAMP:20260425T074929
CREATED:20260414T191414Z
LAST-MODIFIED:20260414T191414Z
UID:10004967-1902157200-1902160800@lecanton.com.br
SUMMARY:Futebol
DESCRIPTION:Uma atividade clássica e cheia de energia para quem gosta de esporte e competição saudável! O futebol é ideal para reunir participantes em partidas dinâmicas\, promovendo integração\, movimento e momentos de diversão em grupo. Exclusivo para adultos maiores de 18 anos.O evento pode sofrer alterações de data\, local ou cancelamento sem aviso prévio.
URL:https://lecanton.com.br/evento/futebol/2030-04-11/
LOCATION:Campo/Society
CATEGORIES:Adultos acima de 18 anos
ATTACH;FMTTYPE=image/jpeg:https://lecanton.com.br/wp-content/uploads/2026/04/futebol.jpg
END:VEVENT
BEGIN:VEVENT
DTSTART;TZID=America/Sao_Paulo:20300413T170000
DTEND;TZID=America/Sao_Paulo:20300413T180000
DTSTAMP:20260425T074929
CREATED:20260414T191414Z
LAST-MODIFIED:20260414T191414Z
UID:10004968-1902330000-1902333600@lecanton.com.br
SUMMARY:Futebol
DESCRIPTION:Uma atividade clássica e cheia de energia para quem gosta de esporte e competição saudável! O futebol é ideal para reunir participantes em partidas dinâmicas\, promovendo integração\, movimento e momentos de diversão em grupo. Exclusivo para adultos maiores de 18 anos.O evento pode sofrer alterações de data\, local ou cancelamento sem aviso prévio.
URL:https://lecanton.com.br/evento/futebol/2030-04-13/
LOCATION:Campo/Society
CATEGORIES:Adultos acima de 18 anos
ATTACH;FMTTYPE=image/jpeg:https://lecanton.com.br/wp-content/uploads/2026/04/futebol.jpg
END:VEVENT
BEGIN:VEVENT
DTSTART;TZID=America/Sao_Paulo:20300418T170000
DTEND;TZID=America/Sao_Paulo:20300418T180000
DTSTAMP:20260425T074929
CREATED:20260414T191414Z
LAST-MODIFIED:20260414T191414Z
UID:10004969-1902762000-1902765600@lecanton.com.br
SUMMARY:Futebol
DESCRIPTION:Uma atividade clássica e cheia de energia para quem gosta de esporte e competição saudável! O futebol é ideal para reunir participantes em partidas dinâmicas\, promovendo integração\, movimento e momentos de diversão em grupo. Exclusivo para adultos maiores de 18 anos.O evento pode sofrer alterações de data\, local ou cancelamento sem aviso prévio.
URL:https://lecanton.com.br/evento/futebol/2030-04-18/
LOCATION:Campo/Society
CATEGORIES:Adultos acima de 18 anos
ATTACH;FMTTYPE=image/jpeg:https://lecanton.com.br/wp-content/uploads/2026/04/futebol.jpg
END:VEVENT
BEGIN:VEVENT
DTSTART;TZID=America/Sao_Paulo:20300420T170000
DTEND;TZID=America/Sao_Paulo:20300420T180000
DTSTAMP:20260425T074929
CREATED:20260414T191414Z
LAST-MODIFIED:20260414T191414Z
UID:10004970-1902934800-1902938400@lecanton.com.br
SUMMARY:Futebol
DESCRIPTION:Uma atividade clássica e cheia de energia para quem gosta de esporte e competição saudável! O futebol é ideal para reunir participantes em partidas dinâmicas\, promovendo integração\, movimento e momentos de diversão em grupo. Exclusivo para adultos maiores de 18 anos.O evento pode sofrer alterações de data\, local ou cancelamento sem aviso prévio.
URL:https://lecanton.com.br/evento/futebol/2030-04-20/
LOCATION:Campo/Society
CATEGORIES:Adultos acima de 18 anos
ATTACH;FMTTYPE=image/jpeg:https://lecanton.com.br/wp-content/uploads/2026/04/futebol.jpg
END:VEVENT
BEGIN:VEVENT
DTSTART;TZID=America/Sao_Paulo:20300425T170000
DTEND;TZID=America/Sao_Paulo:20300425T180000
DTSTAMP:20260425T074929
CREATED:20260414T191414Z
LAST-MODIFIED:20260414T191414Z
UID:10004971-1903366800-1903370400@lecanton.com.br
SUMMARY:Futebol
DESCRIPTION:Uma atividade clássica e cheia de energia para quem gosta de esporte e competição saudável! O futebol é ideal para reunir participantes em partidas dinâmicas\, promovendo integração\, movimento e momentos de diversão em grupo. Exclusivo para adultos maiores de 18 anos.O evento pode sofrer alterações de data\, local ou cancelamento sem aviso prévio.
URL:https://lecanton.com.br/evento/futebol/2030-04-25/
LOCATION:Campo/Society
CATEGORIES:Adultos acima de 18 anos
ATTACH;FMTTYPE=image/jpeg:https://lecanton.com.br/wp-content/uploads/2026/04/futebol.jpg
END:VEVENT
BEGIN:VEVENT
DTSTART;TZID=America/Sao_Paulo:20300427T170000
DTEND;TZID=America/Sao_Paulo:20300427T180000
DTSTAMP:20260425T074929
CREATED:20260414T191414Z
LAST-MODIFIED:20260414T191414Z
UID:10004972-1903539600-1903543200@lecanton.com.br
SUMMARY:Futebol
DESCRIPTION:Uma atividade clássica e cheia de energia para quem gosta de esporte e competição saudável! O futebol é ideal para reunir participantes em partidas dinâmicas\, promovendo integração\, movimento e momentos de diversão em grupo. Exclusivo para adultos maiores de 18 anos.O evento pode sofrer alterações de data\, local ou cancelamento sem aviso prévio.
URL:https://lecanton.com.br/evento/futebol/2030-04-27/
LOCATION:Campo/Society
CATEGORIES:Adultos acima de 18 anos
ATTACH;FMTTYPE=image/jpeg:https://lecanton.com.br/wp-content/uploads/2026/04/futebol.jpg
END:VEVENT
BEGIN:VEVENT
DTSTART;TZID=America/Sao_Paulo:20300502T170000
DTEND;TZID=America/Sao_Paulo:20300502T180000
DTSTAMP:20260425T074929
CREATED:20260414T191414Z
LAST-MODIFIED:20260414T191414Z
UID:10004973-1903971600-1903975200@lecanton.com.br
SUMMARY:Futebol
DESCRIPTION:Uma atividade clássica e cheia de energia para quem gosta de esporte e competição saudável! O futebol é ideal para reunir participantes em partidas dinâmicas\, promovendo integração\, movimento e momentos de diversão em grupo. Exclusivo para adultos maiores de 18 anos.O evento pode sofrer alterações de data\, local ou cancelamento sem aviso prévio.
URL:https://lecanton.com.br/evento/futebol/2030-05-02/
LOCATION:Campo/Society
CATEGORIES:Adultos acima de 18 anos
ATTACH;FMTTYPE=image/jpeg:https://lecanton.com.br/wp-content/uploads/2026/04/futebol.jpg
END:VEVENT
BEGIN:VEVENT
DTSTART;TZID=America/Sao_Paulo:20300504T170000
DTEND;TZID=America/Sao_Paulo:20300504T180000
DTSTAMP:20260425T074929
CREATED:20260414T191414Z
LAST-MODIFIED:20260414T191414Z
UID:10004974-1904144400-1904148000@lecanton.com.br
SUMMARY:Futebol
DESCRIPTION:Uma atividade clássica e cheia de energia para quem gosta de esporte e competição saudável! O futebol é ideal para reunir participantes em partidas dinâmicas\, promovendo integração\, movimento e momentos de diversão em grupo. Exclusivo para adultos maiores de 18 anos.O evento pode sofrer alterações de data\, local ou cancelamento sem aviso prévio.
URL:https://lecanton.com.br/evento/futebol/2030-05-04/
LOCATION:Campo/Society
CATEGORIES:Adultos acima de 18 anos
ATTACH;FMTTYPE=image/jpeg:https://lecanton.com.br/wp-content/uploads/2026/04/futebol.jpg
END:VEVENT
BEGIN:VEVENT
DTSTART;TZID=America/Sao_Paulo:20300509T170000
DTEND;TZID=America/Sao_Paulo:20300509T180000
DTSTAMP:20260425T074929
CREATED:20260414T191414Z
LAST-MODIFIED:20260414T191414Z
UID:10004975-1904576400-1904580000@lecanton.com.br
SUMMARY:Futebol
DESCRIPTION:Uma atividade clássica e cheia de energia para quem gosta de esporte e competição saudável! O futebol é ideal para reunir participantes em partidas dinâmicas\, promovendo integração\, movimento e momentos de diversão em grupo. Exclusivo para adultos maiores de 18 anos.O evento pode sofrer alterações de data\, local ou cancelamento sem aviso prévio.
URL:https://lecanton.com.br/evento/futebol/2030-05-09/
LOCATION:Campo/Society
CATEGORIES:Adultos acima de 18 anos
ATTACH;FMTTYPE=image/jpeg:https://lecanton.com.br/wp-content/uploads/2026/04/futebol.jpg
END:VEVENT
BEGIN:VEVENT
DTSTART;TZID=America/Sao_Paulo:20300511T170000
DTEND;TZID=America/Sao_Paulo:20300511T180000
DTSTAMP:20260425T074929
CREATED:20260414T191414Z
LAST-MODIFIED:20260414T191414Z
UID:10004976-1904749200-1904752800@lecanton.com.br
SUMMARY:Futebol
DESCRIPTION:Uma atividade clássica e cheia de energia para quem gosta de esporte e competição saudável! O futebol é ideal para reunir participantes em partidas dinâmicas\, promovendo integração\, movimento e momentos de diversão em grupo. Exclusivo para adultos maiores de 18 anos.O evento pode sofrer alterações de data\, local ou cancelamento sem aviso prévio.
URL:https://lecanton.com.br/evento/futebol/2030-05-11/
LOCATION:Campo/Society
CATEGORIES:Adultos acima de 18 anos
ATTACH;FMTTYPE=image/jpeg:https://lecanton.com.br/wp-content/uploads/2026/04/futebol.jpg
END:VEVENT
BEGIN:VEVENT
DTSTART;TZID=America/Sao_Paulo:20300516T170000
DTEND;TZID=America/Sao_Paulo:20300516T180000
DTSTAMP:20260425T074929
CREATED:20260414T191414Z
LAST-MODIFIED:20260414T191414Z
UID:10004977-1905181200-1905184800@lecanton.com.br
SUMMARY:Futebol
DESCRIPTION:Uma atividade clássica e cheia de energia para quem gosta de esporte e competição saudável! O futebol é ideal para reunir participantes em partidas dinâmicas\, promovendo integração\, movimento e momentos de diversão em grupo. Exclusivo para adultos maiores de 18 anos.O evento pode sofrer alterações de data\, local ou cancelamento sem aviso prévio.
URL:https://lecanton.com.br/evento/futebol/2030-05-16/
LOCATION:Campo/Society
CATEGORIES:Adultos acima de 18 anos
ATTACH;FMTTYPE=image/jpeg:https://lecanton.com.br/wp-content/uploads/2026/04/futebol.jpg
END:VEVENT
END:VCALENDAR