BEGIN:VCALENDAR
VERSION:2.0
PRODID:-//Le Canton | O melhor Resort da Serra - ECPv6.15.17.1//NONSGML v1.0//EN
CALSCALE:GREGORIAN
METHOD:PUBLISH
X-ORIGINAL-URL:https://lecanton.com.br
X-WR-CALDESC:Eventos para Le Canton | O melhor Resort da Serra
REFRESH-INTERVAL;VALUE=DURATION:PT1H
X-Robots-Tag:noindex
X-PUBLISHED-TTL:PT1H
BEGIN:VTIMEZONE
TZID:America/Sao_Paulo
BEGIN:STANDARD
TZOFFSETFROM:-0300
TZOFFSETTO:-0300
TZNAME:-03
DTSTART:20280101T000000
END:STANDARD
END:VTIMEZONE
BEGIN:VEVENT
DTSTART;TZID=America/Sao_Paulo:20290707T170000
DTEND;TZID=America/Sao_Paulo:20290707T180000
DTSTAMP:20260424T191045
CREATED:20260414T191414Z
LAST-MODIFIED:20260414T191414Z
UID:10004888-1878138000-1878141600@lecanton.com.br
SUMMARY:Futebol
DESCRIPTION:Uma atividade clássica e cheia de energia para quem gosta de esporte e competição saudável! O futebol é ideal para reunir participantes em partidas dinâmicas\, promovendo integração\, movimento e momentos de diversão em grupo. Exclusivo para adultos maiores de 18 anos.O evento pode sofrer alterações de data\, local ou cancelamento sem aviso prévio.
URL:https://lecanton.com.br/evento/futebol/2029-07-07/
LOCATION:Campo/Society
CATEGORIES:Adultos acima de 18 anos
ATTACH;FMTTYPE=image/jpeg:https://lecanton.com.br/wp-content/uploads/2026/04/futebol.jpg
END:VEVENT
BEGIN:VEVENT
DTSTART;TZID=America/Sao_Paulo:20290712T170000
DTEND;TZID=America/Sao_Paulo:20290712T180000
DTSTAMP:20260424T191045
CREATED:20260414T191414Z
LAST-MODIFIED:20260414T191414Z
UID:10004889-1878570000-1878573600@lecanton.com.br
SUMMARY:Futebol
DESCRIPTION:Uma atividade clássica e cheia de energia para quem gosta de esporte e competição saudável! O futebol é ideal para reunir participantes em partidas dinâmicas\, promovendo integração\, movimento e momentos de diversão em grupo. Exclusivo para adultos maiores de 18 anos.O evento pode sofrer alterações de data\, local ou cancelamento sem aviso prévio.
URL:https://lecanton.com.br/evento/futebol/2029-07-12/
LOCATION:Campo/Society
CATEGORIES:Adultos acima de 18 anos
ATTACH;FMTTYPE=image/jpeg:https://lecanton.com.br/wp-content/uploads/2026/04/futebol.jpg
END:VEVENT
BEGIN:VEVENT
DTSTART;TZID=America/Sao_Paulo:20290714T170000
DTEND;TZID=America/Sao_Paulo:20290714T180000
DTSTAMP:20260424T191045
CREATED:20260414T191414Z
LAST-MODIFIED:20260414T191414Z
UID:10004890-1878742800-1878746400@lecanton.com.br
SUMMARY:Futebol
DESCRIPTION:Uma atividade clássica e cheia de energia para quem gosta de esporte e competição saudável! O futebol é ideal para reunir participantes em partidas dinâmicas\, promovendo integração\, movimento e momentos de diversão em grupo. Exclusivo para adultos maiores de 18 anos.O evento pode sofrer alterações de data\, local ou cancelamento sem aviso prévio.
URL:https://lecanton.com.br/evento/futebol/2029-07-14/
LOCATION:Campo/Society
CATEGORIES:Adultos acima de 18 anos
ATTACH;FMTTYPE=image/jpeg:https://lecanton.com.br/wp-content/uploads/2026/04/futebol.jpg
END:VEVENT
BEGIN:VEVENT
DTSTART;TZID=America/Sao_Paulo:20290719T170000
DTEND;TZID=America/Sao_Paulo:20290719T180000
DTSTAMP:20260424T191045
CREATED:20260414T191414Z
LAST-MODIFIED:20260414T191414Z
UID:10004891-1879174800-1879178400@lecanton.com.br
SUMMARY:Futebol
DESCRIPTION:Uma atividade clássica e cheia de energia para quem gosta de esporte e competição saudável! O futebol é ideal para reunir participantes em partidas dinâmicas\, promovendo integração\, movimento e momentos de diversão em grupo. Exclusivo para adultos maiores de 18 anos.O evento pode sofrer alterações de data\, local ou cancelamento sem aviso prévio.
URL:https://lecanton.com.br/evento/futebol/2029-07-19/
LOCATION:Campo/Society
CATEGORIES:Adultos acima de 18 anos
ATTACH;FMTTYPE=image/jpeg:https://lecanton.com.br/wp-content/uploads/2026/04/futebol.jpg
END:VEVENT
BEGIN:VEVENT
DTSTART;TZID=America/Sao_Paulo:20290721T170000
DTEND;TZID=America/Sao_Paulo:20290721T180000
DTSTAMP:20260424T191045
CREATED:20260414T191414Z
LAST-MODIFIED:20260414T191414Z
UID:10004892-1879347600-1879351200@lecanton.com.br
SUMMARY:Futebol
DESCRIPTION:Uma atividade clássica e cheia de energia para quem gosta de esporte e competição saudável! O futebol é ideal para reunir participantes em partidas dinâmicas\, promovendo integração\, movimento e momentos de diversão em grupo. Exclusivo para adultos maiores de 18 anos.O evento pode sofrer alterações de data\, local ou cancelamento sem aviso prévio.
URL:https://lecanton.com.br/evento/futebol/2029-07-21/
LOCATION:Campo/Society
CATEGORIES:Adultos acima de 18 anos
ATTACH;FMTTYPE=image/jpeg:https://lecanton.com.br/wp-content/uploads/2026/04/futebol.jpg
END:VEVENT
BEGIN:VEVENT
DTSTART;TZID=America/Sao_Paulo:20290726T170000
DTEND;TZID=America/Sao_Paulo:20290726T180000
DTSTAMP:20260424T191045
CREATED:20260414T191414Z
LAST-MODIFIED:20260414T191414Z
UID:10004893-1879779600-1879783200@lecanton.com.br
SUMMARY:Futebol
DESCRIPTION:Uma atividade clássica e cheia de energia para quem gosta de esporte e competição saudável! O futebol é ideal para reunir participantes em partidas dinâmicas\, promovendo integração\, movimento e momentos de diversão em grupo. Exclusivo para adultos maiores de 18 anos.O evento pode sofrer alterações de data\, local ou cancelamento sem aviso prévio.
URL:https://lecanton.com.br/evento/futebol/2029-07-26/
LOCATION:Campo/Society
CATEGORIES:Adultos acima de 18 anos
ATTACH;FMTTYPE=image/jpeg:https://lecanton.com.br/wp-content/uploads/2026/04/futebol.jpg
END:VEVENT
BEGIN:VEVENT
DTSTART;TZID=America/Sao_Paulo:20290728T170000
DTEND;TZID=America/Sao_Paulo:20290728T180000
DTSTAMP:20260424T191045
CREATED:20260414T191414Z
LAST-MODIFIED:20260414T191414Z
UID:10004894-1879952400-1879956000@lecanton.com.br
SUMMARY:Futebol
DESCRIPTION:Uma atividade clássica e cheia de energia para quem gosta de esporte e competição saudável! O futebol é ideal para reunir participantes em partidas dinâmicas\, promovendo integração\, movimento e momentos de diversão em grupo. Exclusivo para adultos maiores de 18 anos.O evento pode sofrer alterações de data\, local ou cancelamento sem aviso prévio.
URL:https://lecanton.com.br/evento/futebol/2029-07-28/
LOCATION:Campo/Society
CATEGORIES:Adultos acima de 18 anos
ATTACH;FMTTYPE=image/jpeg:https://lecanton.com.br/wp-content/uploads/2026/04/futebol.jpg
END:VEVENT
BEGIN:VEVENT
DTSTART;TZID=America/Sao_Paulo:20290802T170000
DTEND;TZID=America/Sao_Paulo:20290802T180000
DTSTAMP:20260424T191045
CREATED:20260414T191414Z
LAST-MODIFIED:20260414T191414Z
UID:10004895-1880384400-1880388000@lecanton.com.br
SUMMARY:Futebol
DESCRIPTION:Uma atividade clássica e cheia de energia para quem gosta de esporte e competição saudável! O futebol é ideal para reunir participantes em partidas dinâmicas\, promovendo integração\, movimento e momentos de diversão em grupo. Exclusivo para adultos maiores de 18 anos.O evento pode sofrer alterações de data\, local ou cancelamento sem aviso prévio.
URL:https://lecanton.com.br/evento/futebol/2029-08-02/
LOCATION:Campo/Society
CATEGORIES:Adultos acima de 18 anos
ATTACH;FMTTYPE=image/jpeg:https://lecanton.com.br/wp-content/uploads/2026/04/futebol.jpg
END:VEVENT
BEGIN:VEVENT
DTSTART;TZID=America/Sao_Paulo:20290804T170000
DTEND;TZID=America/Sao_Paulo:20290804T180000
DTSTAMP:20260424T191045
CREATED:20260414T191414Z
LAST-MODIFIED:20260414T191414Z
UID:10004896-1880557200-1880560800@lecanton.com.br
SUMMARY:Futebol
DESCRIPTION:Uma atividade clássica e cheia de energia para quem gosta de esporte e competição saudável! O futebol é ideal para reunir participantes em partidas dinâmicas\, promovendo integração\, movimento e momentos de diversão em grupo. Exclusivo para adultos maiores de 18 anos.O evento pode sofrer alterações de data\, local ou cancelamento sem aviso prévio.
URL:https://lecanton.com.br/evento/futebol/2029-08-04/
LOCATION:Campo/Society
CATEGORIES:Adultos acima de 18 anos
ATTACH;FMTTYPE=image/jpeg:https://lecanton.com.br/wp-content/uploads/2026/04/futebol.jpg
END:VEVENT
BEGIN:VEVENT
DTSTART;TZID=America/Sao_Paulo:20290809T170000
DTEND;TZID=America/Sao_Paulo:20290809T180000
DTSTAMP:20260424T191045
CREATED:20260414T191414Z
LAST-MODIFIED:20260414T191414Z
UID:10004897-1880989200-1880992800@lecanton.com.br
SUMMARY:Futebol
DESCRIPTION:Uma atividade clássica e cheia de energia para quem gosta de esporte e competição saudável! O futebol é ideal para reunir participantes em partidas dinâmicas\, promovendo integração\, movimento e momentos de diversão em grupo. Exclusivo para adultos maiores de 18 anos.O evento pode sofrer alterações de data\, local ou cancelamento sem aviso prévio.
URL:https://lecanton.com.br/evento/futebol/2029-08-09/
LOCATION:Campo/Society
CATEGORIES:Adultos acima de 18 anos
ATTACH;FMTTYPE=image/jpeg:https://lecanton.com.br/wp-content/uploads/2026/04/futebol.jpg
END:VEVENT
BEGIN:VEVENT
DTSTART;TZID=America/Sao_Paulo:20290811T170000
DTEND;TZID=America/Sao_Paulo:20290811T180000
DTSTAMP:20260424T191045
CREATED:20260414T191414Z
LAST-MODIFIED:20260414T191414Z
UID:10004898-1881162000-1881165600@lecanton.com.br
SUMMARY:Futebol
DESCRIPTION:Uma atividade clássica e cheia de energia para quem gosta de esporte e competição saudável! O futebol é ideal para reunir participantes em partidas dinâmicas\, promovendo integração\, movimento e momentos de diversão em grupo. Exclusivo para adultos maiores de 18 anos.O evento pode sofrer alterações de data\, local ou cancelamento sem aviso prévio.
URL:https://lecanton.com.br/evento/futebol/2029-08-11/
LOCATION:Campo/Society
CATEGORIES:Adultos acima de 18 anos
ATTACH;FMTTYPE=image/jpeg:https://lecanton.com.br/wp-content/uploads/2026/04/futebol.jpg
END:VEVENT
BEGIN:VEVENT
DTSTART;TZID=America/Sao_Paulo:20290816T170000
DTEND;TZID=America/Sao_Paulo:20290816T180000
DTSTAMP:20260424T191045
CREATED:20260414T191414Z
LAST-MODIFIED:20260414T191414Z
UID:10004899-1881594000-1881597600@lecanton.com.br
SUMMARY:Futebol
DESCRIPTION:Uma atividade clássica e cheia de energia para quem gosta de esporte e competição saudável! O futebol é ideal para reunir participantes em partidas dinâmicas\, promovendo integração\, movimento e momentos de diversão em grupo. Exclusivo para adultos maiores de 18 anos.O evento pode sofrer alterações de data\, local ou cancelamento sem aviso prévio.
URL:https://lecanton.com.br/evento/futebol/2029-08-16/
LOCATION:Campo/Society
CATEGORIES:Adultos acima de 18 anos
ATTACH;FMTTYPE=image/jpeg:https://lecanton.com.br/wp-content/uploads/2026/04/futebol.jpg
END:VEVENT
BEGIN:VEVENT
DTSTART;TZID=America/Sao_Paulo:20290818T170000
DTEND;TZID=America/Sao_Paulo:20290818T180000
DTSTAMP:20260424T191045
CREATED:20260414T191414Z
LAST-MODIFIED:20260414T191414Z
UID:10004900-1881766800-1881770400@lecanton.com.br
SUMMARY:Futebol
DESCRIPTION:Uma atividade clássica e cheia de energia para quem gosta de esporte e competição saudável! O futebol é ideal para reunir participantes em partidas dinâmicas\, promovendo integração\, movimento e momentos de diversão em grupo. Exclusivo para adultos maiores de 18 anos.O evento pode sofrer alterações de data\, local ou cancelamento sem aviso prévio.
URL:https://lecanton.com.br/evento/futebol/2029-08-18/
LOCATION:Campo/Society
CATEGORIES:Adultos acima de 18 anos
ATTACH;FMTTYPE=image/jpeg:https://lecanton.com.br/wp-content/uploads/2026/04/futebol.jpg
END:VEVENT
BEGIN:VEVENT
DTSTART;TZID=America/Sao_Paulo:20290823T170000
DTEND;TZID=America/Sao_Paulo:20290823T180000
DTSTAMP:20260424T191045
CREATED:20260414T191414Z
LAST-MODIFIED:20260414T191414Z
UID:10004901-1882198800-1882202400@lecanton.com.br
SUMMARY:Futebol
DESCRIPTION:Uma atividade clássica e cheia de energia para quem gosta de esporte e competição saudável! O futebol é ideal para reunir participantes em partidas dinâmicas\, promovendo integração\, movimento e momentos de diversão em grupo. Exclusivo para adultos maiores de 18 anos.O evento pode sofrer alterações de data\, local ou cancelamento sem aviso prévio.
URL:https://lecanton.com.br/evento/futebol/2029-08-23/
LOCATION:Campo/Society
CATEGORIES:Adultos acima de 18 anos
ATTACH;FMTTYPE=image/jpeg:https://lecanton.com.br/wp-content/uploads/2026/04/futebol.jpg
END:VEVENT
BEGIN:VEVENT
DTSTART;TZID=America/Sao_Paulo:20290825T170000
DTEND;TZID=America/Sao_Paulo:20290825T180000
DTSTAMP:20260424T191045
CREATED:20260414T191414Z
LAST-MODIFIED:20260414T191414Z
UID:10004902-1882371600-1882375200@lecanton.com.br
SUMMARY:Futebol
DESCRIPTION:Uma atividade clássica e cheia de energia para quem gosta de esporte e competição saudável! O futebol é ideal para reunir participantes em partidas dinâmicas\, promovendo integração\, movimento e momentos de diversão em grupo. Exclusivo para adultos maiores de 18 anos.O evento pode sofrer alterações de data\, local ou cancelamento sem aviso prévio.
URL:https://lecanton.com.br/evento/futebol/2029-08-25/
LOCATION:Campo/Society
CATEGORIES:Adultos acima de 18 anos
ATTACH;FMTTYPE=image/jpeg:https://lecanton.com.br/wp-content/uploads/2026/04/futebol.jpg
END:VEVENT
BEGIN:VEVENT
DTSTART;TZID=America/Sao_Paulo:20290830T170000
DTEND;TZID=America/Sao_Paulo:20290830T180000
DTSTAMP:20260424T191045
CREATED:20260414T191414Z
LAST-MODIFIED:20260414T191414Z
UID:10004903-1882803600-1882807200@lecanton.com.br
SUMMARY:Futebol
DESCRIPTION:Uma atividade clássica e cheia de energia para quem gosta de esporte e competição saudável! O futebol é ideal para reunir participantes em partidas dinâmicas\, promovendo integração\, movimento e momentos de diversão em grupo. Exclusivo para adultos maiores de 18 anos.O evento pode sofrer alterações de data\, local ou cancelamento sem aviso prévio.
URL:https://lecanton.com.br/evento/futebol/2029-08-30/
LOCATION:Campo/Society
CATEGORIES:Adultos acima de 18 anos
ATTACH;FMTTYPE=image/jpeg:https://lecanton.com.br/wp-content/uploads/2026/04/futebol.jpg
END:VEVENT
BEGIN:VEVENT
DTSTART;TZID=America/Sao_Paulo:20290901T170000
DTEND;TZID=America/Sao_Paulo:20290901T180000
DTSTAMP:20260424T191045
CREATED:20260414T191414Z
LAST-MODIFIED:20260414T191414Z
UID:10004904-1882976400-1882980000@lecanton.com.br
SUMMARY:Futebol
DESCRIPTION:Uma atividade clássica e cheia de energia para quem gosta de esporte e competição saudável! O futebol é ideal para reunir participantes em partidas dinâmicas\, promovendo integração\, movimento e momentos de diversão em grupo. Exclusivo para adultos maiores de 18 anos.O evento pode sofrer alterações de data\, local ou cancelamento sem aviso prévio.
URL:https://lecanton.com.br/evento/futebol/2029-09-01/
LOCATION:Campo/Society
CATEGORIES:Adultos acima de 18 anos
ATTACH;FMTTYPE=image/jpeg:https://lecanton.com.br/wp-content/uploads/2026/04/futebol.jpg
END:VEVENT
BEGIN:VEVENT
DTSTART;TZID=America/Sao_Paulo:20290906T170000
DTEND;TZID=America/Sao_Paulo:20290906T180000
DTSTAMP:20260424T191045
CREATED:20260414T191414Z
LAST-MODIFIED:20260414T191414Z
UID:10004905-1883408400-1883412000@lecanton.com.br
SUMMARY:Futebol
DESCRIPTION:Uma atividade clássica e cheia de energia para quem gosta de esporte e competição saudável! O futebol é ideal para reunir participantes em partidas dinâmicas\, promovendo integração\, movimento e momentos de diversão em grupo. Exclusivo para adultos maiores de 18 anos.O evento pode sofrer alterações de data\, local ou cancelamento sem aviso prévio.
URL:https://lecanton.com.br/evento/futebol/2029-09-06/
LOCATION:Campo/Society
CATEGORIES:Adultos acima de 18 anos
ATTACH;FMTTYPE=image/jpeg:https://lecanton.com.br/wp-content/uploads/2026/04/futebol.jpg
END:VEVENT
BEGIN:VEVENT
DTSTART;TZID=America/Sao_Paulo:20290908T170000
DTEND;TZID=America/Sao_Paulo:20290908T180000
DTSTAMP:20260424T191045
CREATED:20260414T191414Z
LAST-MODIFIED:20260414T191414Z
UID:10004906-1883581200-1883584800@lecanton.com.br
SUMMARY:Futebol
DESCRIPTION:Uma atividade clássica e cheia de energia para quem gosta de esporte e competição saudável! O futebol é ideal para reunir participantes em partidas dinâmicas\, promovendo integração\, movimento e momentos de diversão em grupo. Exclusivo para adultos maiores de 18 anos.O evento pode sofrer alterações de data\, local ou cancelamento sem aviso prévio.
URL:https://lecanton.com.br/evento/futebol/2029-09-08/
LOCATION:Campo/Society
CATEGORIES:Adultos acima de 18 anos
ATTACH;FMTTYPE=image/jpeg:https://lecanton.com.br/wp-content/uploads/2026/04/futebol.jpg
END:VEVENT
BEGIN:VEVENT
DTSTART;TZID=America/Sao_Paulo:20290913T170000
DTEND;TZID=America/Sao_Paulo:20290913T180000
DTSTAMP:20260424T191045
CREATED:20260414T191414Z
LAST-MODIFIED:20260414T191414Z
UID:10004907-1884013200-1884016800@lecanton.com.br
SUMMARY:Futebol
DESCRIPTION:Uma atividade clássica e cheia de energia para quem gosta de esporte e competição saudável! O futebol é ideal para reunir participantes em partidas dinâmicas\, promovendo integração\, movimento e momentos de diversão em grupo. Exclusivo para adultos maiores de 18 anos.O evento pode sofrer alterações de data\, local ou cancelamento sem aviso prévio.
URL:https://lecanton.com.br/evento/futebol/2029-09-13/
LOCATION:Campo/Society
CATEGORIES:Adultos acima de 18 anos
ATTACH;FMTTYPE=image/jpeg:https://lecanton.com.br/wp-content/uploads/2026/04/futebol.jpg
END:VEVENT
BEGIN:VEVENT
DTSTART;TZID=America/Sao_Paulo:20290915T170000
DTEND;TZID=America/Sao_Paulo:20290915T180000
DTSTAMP:20260424T191045
CREATED:20260414T191414Z
LAST-MODIFIED:20260414T191414Z
UID:10004908-1884186000-1884189600@lecanton.com.br
SUMMARY:Futebol
DESCRIPTION:Uma atividade clássica e cheia de energia para quem gosta de esporte e competição saudável! O futebol é ideal para reunir participantes em partidas dinâmicas\, promovendo integração\, movimento e momentos de diversão em grupo. Exclusivo para adultos maiores de 18 anos.O evento pode sofrer alterações de data\, local ou cancelamento sem aviso prévio.
URL:https://lecanton.com.br/evento/futebol/2029-09-15/
LOCATION:Campo/Society
CATEGORIES:Adultos acima de 18 anos
ATTACH;FMTTYPE=image/jpeg:https://lecanton.com.br/wp-content/uploads/2026/04/futebol.jpg
END:VEVENT
BEGIN:VEVENT
DTSTART;TZID=America/Sao_Paulo:20290920T170000
DTEND;TZID=America/Sao_Paulo:20290920T180000
DTSTAMP:20260424T191045
CREATED:20260414T191414Z
LAST-MODIFIED:20260414T191414Z
UID:10004909-1884618000-1884621600@lecanton.com.br
SUMMARY:Futebol
DESCRIPTION:Uma atividade clássica e cheia de energia para quem gosta de esporte e competição saudável! O futebol é ideal para reunir participantes em partidas dinâmicas\, promovendo integração\, movimento e momentos de diversão em grupo. Exclusivo para adultos maiores de 18 anos.O evento pode sofrer alterações de data\, local ou cancelamento sem aviso prévio.
URL:https://lecanton.com.br/evento/futebol/2029-09-20/
LOCATION:Campo/Society
CATEGORIES:Adultos acima de 18 anos
ATTACH;FMTTYPE=image/jpeg:https://lecanton.com.br/wp-content/uploads/2026/04/futebol.jpg
END:VEVENT
BEGIN:VEVENT
DTSTART;TZID=America/Sao_Paulo:20290922T170000
DTEND;TZID=America/Sao_Paulo:20290922T180000
DTSTAMP:20260424T191045
CREATED:20260414T191414Z
LAST-MODIFIED:20260414T191414Z
UID:10004910-1884790800-1884794400@lecanton.com.br
SUMMARY:Futebol
DESCRIPTION:Uma atividade clássica e cheia de energia para quem gosta de esporte e competição saudável! O futebol é ideal para reunir participantes em partidas dinâmicas\, promovendo integração\, movimento e momentos de diversão em grupo. Exclusivo para adultos maiores de 18 anos.O evento pode sofrer alterações de data\, local ou cancelamento sem aviso prévio.
URL:https://lecanton.com.br/evento/futebol/2029-09-22/
LOCATION:Campo/Society
CATEGORIES:Adultos acima de 18 anos
ATTACH;FMTTYPE=image/jpeg:https://lecanton.com.br/wp-content/uploads/2026/04/futebol.jpg
END:VEVENT
BEGIN:VEVENT
DTSTART;TZID=America/Sao_Paulo:20290927T170000
DTEND;TZID=America/Sao_Paulo:20290927T180000
DTSTAMP:20260424T191045
CREATED:20260414T191414Z
LAST-MODIFIED:20260414T191414Z
UID:10004911-1885222800-1885226400@lecanton.com.br
SUMMARY:Futebol
DESCRIPTION:Uma atividade clássica e cheia de energia para quem gosta de esporte e competição saudável! O futebol é ideal para reunir participantes em partidas dinâmicas\, promovendo integração\, movimento e momentos de diversão em grupo. Exclusivo para adultos maiores de 18 anos.O evento pode sofrer alterações de data\, local ou cancelamento sem aviso prévio.
URL:https://lecanton.com.br/evento/futebol/2029-09-27/
LOCATION:Campo/Society
CATEGORIES:Adultos acima de 18 anos
ATTACH;FMTTYPE=image/jpeg:https://lecanton.com.br/wp-content/uploads/2026/04/futebol.jpg
END:VEVENT
BEGIN:VEVENT
DTSTART;TZID=America/Sao_Paulo:20290929T170000
DTEND;TZID=America/Sao_Paulo:20290929T180000
DTSTAMP:20260424T191045
CREATED:20260414T191414Z
LAST-MODIFIED:20260414T191414Z
UID:10004912-1885395600-1885399200@lecanton.com.br
SUMMARY:Futebol
DESCRIPTION:Uma atividade clássica e cheia de energia para quem gosta de esporte e competição saudável! O futebol é ideal para reunir participantes em partidas dinâmicas\, promovendo integração\, movimento e momentos de diversão em grupo. Exclusivo para adultos maiores de 18 anos.O evento pode sofrer alterações de data\, local ou cancelamento sem aviso prévio.
URL:https://lecanton.com.br/evento/futebol/2029-09-29/
LOCATION:Campo/Society
CATEGORIES:Adultos acima de 18 anos
ATTACH;FMTTYPE=image/jpeg:https://lecanton.com.br/wp-content/uploads/2026/04/futebol.jpg
END:VEVENT
BEGIN:VEVENT
DTSTART;TZID=America/Sao_Paulo:20291004T170000
DTEND;TZID=America/Sao_Paulo:20291004T180000
DTSTAMP:20260424T191045
CREATED:20260414T191414Z
LAST-MODIFIED:20260414T191414Z
UID:10004913-1885827600-1885831200@lecanton.com.br
SUMMARY:Futebol
DESCRIPTION:Uma atividade clássica e cheia de energia para quem gosta de esporte e competição saudável! O futebol é ideal para reunir participantes em partidas dinâmicas\, promovendo integração\, movimento e momentos de diversão em grupo. Exclusivo para adultos maiores de 18 anos.O evento pode sofrer alterações de data\, local ou cancelamento sem aviso prévio.
URL:https://lecanton.com.br/evento/futebol/2029-10-04/
LOCATION:Campo/Society
CATEGORIES:Adultos acima de 18 anos
ATTACH;FMTTYPE=image/jpeg:https://lecanton.com.br/wp-content/uploads/2026/04/futebol.jpg
END:VEVENT
BEGIN:VEVENT
DTSTART;TZID=America/Sao_Paulo:20291006T170000
DTEND;TZID=America/Sao_Paulo:20291006T180000
DTSTAMP:20260424T191045
CREATED:20260414T191414Z
LAST-MODIFIED:20260414T191414Z
UID:10004914-1886000400-1886004000@lecanton.com.br
SUMMARY:Futebol
DESCRIPTION:Uma atividade clássica e cheia de energia para quem gosta de esporte e competição saudável! O futebol é ideal para reunir participantes em partidas dinâmicas\, promovendo integração\, movimento e momentos de diversão em grupo. Exclusivo para adultos maiores de 18 anos.O evento pode sofrer alterações de data\, local ou cancelamento sem aviso prévio.
URL:https://lecanton.com.br/evento/futebol/2029-10-06/
LOCATION:Campo/Society
CATEGORIES:Adultos acima de 18 anos
ATTACH;FMTTYPE=image/jpeg:https://lecanton.com.br/wp-content/uploads/2026/04/futebol.jpg
END:VEVENT
BEGIN:VEVENT
DTSTART;TZID=America/Sao_Paulo:20291011T170000
DTEND;TZID=America/Sao_Paulo:20291011T180000
DTSTAMP:20260424T191045
CREATED:20260414T191414Z
LAST-MODIFIED:20260414T191414Z
UID:10004915-1886432400-1886436000@lecanton.com.br
SUMMARY:Futebol
DESCRIPTION:Uma atividade clássica e cheia de energia para quem gosta de esporte e competição saudável! O futebol é ideal para reunir participantes em partidas dinâmicas\, promovendo integração\, movimento e momentos de diversão em grupo. Exclusivo para adultos maiores de 18 anos.O evento pode sofrer alterações de data\, local ou cancelamento sem aviso prévio.
URL:https://lecanton.com.br/evento/futebol/2029-10-11/
LOCATION:Campo/Society
CATEGORIES:Adultos acima de 18 anos
ATTACH;FMTTYPE=image/jpeg:https://lecanton.com.br/wp-content/uploads/2026/04/futebol.jpg
END:VEVENT
BEGIN:VEVENT
DTSTART;TZID=America/Sao_Paulo:20291013T170000
DTEND;TZID=America/Sao_Paulo:20291013T180000
DTSTAMP:20260424T191045
CREATED:20260414T191414Z
LAST-MODIFIED:20260414T191414Z
UID:10004916-1886605200-1886608800@lecanton.com.br
SUMMARY:Futebol
DESCRIPTION:Uma atividade clássica e cheia de energia para quem gosta de esporte e competição saudável! O futebol é ideal para reunir participantes em partidas dinâmicas\, promovendo integração\, movimento e momentos de diversão em grupo. Exclusivo para adultos maiores de 18 anos.O evento pode sofrer alterações de data\, local ou cancelamento sem aviso prévio.
URL:https://lecanton.com.br/evento/futebol/2029-10-13/
LOCATION:Campo/Society
CATEGORIES:Adultos acima de 18 anos
ATTACH;FMTTYPE=image/jpeg:https://lecanton.com.br/wp-content/uploads/2026/04/futebol.jpg
END:VEVENT
BEGIN:VEVENT
DTSTART;TZID=America/Sao_Paulo:20291018T170000
DTEND;TZID=America/Sao_Paulo:20291018T180000
DTSTAMP:20260424T191045
CREATED:20260414T191414Z
LAST-MODIFIED:20260414T191414Z
UID:10004917-1887037200-1887040800@lecanton.com.br
SUMMARY:Futebol
DESCRIPTION:Uma atividade clássica e cheia de energia para quem gosta de esporte e competição saudável! O futebol é ideal para reunir participantes em partidas dinâmicas\, promovendo integração\, movimento e momentos de diversão em grupo. Exclusivo para adultos maiores de 18 anos.O evento pode sofrer alterações de data\, local ou cancelamento sem aviso prévio.
URL:https://lecanton.com.br/evento/futebol/2029-10-18/
LOCATION:Campo/Society
CATEGORIES:Adultos acima de 18 anos
ATTACH;FMTTYPE=image/jpeg:https://lecanton.com.br/wp-content/uploads/2026/04/futebol.jpg
END:VEVENT
END:VCALENDAR