BEGIN:VCALENDAR
VERSION:2.0
PRODID:-//Le Canton | O melhor Resort da Serra - ECPv6.15.17.1//NONSGML v1.0//EN
CALSCALE:GREGORIAN
METHOD:PUBLISH
X-WR-CALNAME:Le Canton | O melhor Resort da Serra
X-ORIGINAL-URL:https://lecanton.com.br
X-WR-CALDESC:Eventos para Le Canton | O melhor Resort da Serra
REFRESH-INTERVAL;VALUE=DURATION:PT1H
X-Robots-Tag:noindex
X-PUBLISHED-TTL:PT1H
BEGIN:VTIMEZONE
TZID:America/Sao_Paulo
BEGIN:STANDARD
TZOFFSETFROM:-0300
TZOFFSETTO:-0300
TZNAME:-03
DTSTART:20270101T000000
END:STANDARD
END:VTIMEZONE
BEGIN:VEVENT
DTSTART;TZID=America/Sao_Paulo:20281207T170000
DTEND;TZID=America/Sao_Paulo:20281207T180000
DTSTAMP:20260423T153203
CREATED:20260414T191414Z
LAST-MODIFIED:20260414T191414Z
UID:10004827-1859821200-1859824800@lecanton.com.br
SUMMARY:Futebol
DESCRIPTION:Uma atividade clássica e cheia de energia para quem gosta de esporte e competição saudável! O futebol é ideal para reunir participantes em partidas dinâmicas\, promovendo integração\, movimento e momentos de diversão em grupo. Exclusivo para adultos maiores de 18 anos.O evento pode sofrer alterações de data\, local ou cancelamento sem aviso prévio.
URL:https://lecanton.com.br/evento/futebol/2028-12-07/
LOCATION:Campo/Society
CATEGORIES:Adultos acima de 18 anos
ATTACH;FMTTYPE=image/jpeg:https://lecanton.com.br/wp-content/uploads/2026/04/futebol.jpg
END:VEVENT
BEGIN:VEVENT
DTSTART;TZID=America/Sao_Paulo:20281209T170000
DTEND;TZID=America/Sao_Paulo:20281209T180000
DTSTAMP:20260423T153203
CREATED:20260414T191414Z
LAST-MODIFIED:20260414T191414Z
UID:10004828-1859994000-1859997600@lecanton.com.br
SUMMARY:Futebol
DESCRIPTION:Uma atividade clássica e cheia de energia para quem gosta de esporte e competição saudável! O futebol é ideal para reunir participantes em partidas dinâmicas\, promovendo integração\, movimento e momentos de diversão em grupo. Exclusivo para adultos maiores de 18 anos.O evento pode sofrer alterações de data\, local ou cancelamento sem aviso prévio.
URL:https://lecanton.com.br/evento/futebol/2028-12-09/
LOCATION:Campo/Society
CATEGORIES:Adultos acima de 18 anos
ATTACH;FMTTYPE=image/jpeg:https://lecanton.com.br/wp-content/uploads/2026/04/futebol.jpg
END:VEVENT
BEGIN:VEVENT
DTSTART;TZID=America/Sao_Paulo:20281214T170000
DTEND;TZID=America/Sao_Paulo:20281214T180000
DTSTAMP:20260423T153203
CREATED:20260414T191414Z
LAST-MODIFIED:20260414T191414Z
UID:10004829-1860426000-1860429600@lecanton.com.br
SUMMARY:Futebol
DESCRIPTION:Uma atividade clássica e cheia de energia para quem gosta de esporte e competição saudável! O futebol é ideal para reunir participantes em partidas dinâmicas\, promovendo integração\, movimento e momentos de diversão em grupo. Exclusivo para adultos maiores de 18 anos.O evento pode sofrer alterações de data\, local ou cancelamento sem aviso prévio.
URL:https://lecanton.com.br/evento/futebol/2028-12-14/
LOCATION:Campo/Society
CATEGORIES:Adultos acima de 18 anos
ATTACH;FMTTYPE=image/jpeg:https://lecanton.com.br/wp-content/uploads/2026/04/futebol.jpg
END:VEVENT
BEGIN:VEVENT
DTSTART;TZID=America/Sao_Paulo:20281216T170000
DTEND;TZID=America/Sao_Paulo:20281216T180000
DTSTAMP:20260423T153203
CREATED:20260414T191414Z
LAST-MODIFIED:20260414T191414Z
UID:10004830-1860598800-1860602400@lecanton.com.br
SUMMARY:Futebol
DESCRIPTION:Uma atividade clássica e cheia de energia para quem gosta de esporte e competição saudável! O futebol é ideal para reunir participantes em partidas dinâmicas\, promovendo integração\, movimento e momentos de diversão em grupo. Exclusivo para adultos maiores de 18 anos.O evento pode sofrer alterações de data\, local ou cancelamento sem aviso prévio.
URL:https://lecanton.com.br/evento/futebol/2028-12-16/
LOCATION:Campo/Society
CATEGORIES:Adultos acima de 18 anos
ATTACH;FMTTYPE=image/jpeg:https://lecanton.com.br/wp-content/uploads/2026/04/futebol.jpg
END:VEVENT
BEGIN:VEVENT
DTSTART;TZID=America/Sao_Paulo:20281221T170000
DTEND;TZID=America/Sao_Paulo:20281221T180000
DTSTAMP:20260423T153203
CREATED:20260414T191414Z
LAST-MODIFIED:20260414T191414Z
UID:10004831-1861030800-1861034400@lecanton.com.br
SUMMARY:Futebol
DESCRIPTION:Uma atividade clássica e cheia de energia para quem gosta de esporte e competição saudável! O futebol é ideal para reunir participantes em partidas dinâmicas\, promovendo integração\, movimento e momentos de diversão em grupo. Exclusivo para adultos maiores de 18 anos.O evento pode sofrer alterações de data\, local ou cancelamento sem aviso prévio.
URL:https://lecanton.com.br/evento/futebol/2028-12-21/
LOCATION:Campo/Society
CATEGORIES:Adultos acima de 18 anos
ATTACH;FMTTYPE=image/jpeg:https://lecanton.com.br/wp-content/uploads/2026/04/futebol.jpg
END:VEVENT
BEGIN:VEVENT
DTSTART;TZID=America/Sao_Paulo:20281223T170000
DTEND;TZID=America/Sao_Paulo:20281223T180000
DTSTAMP:20260423T153203
CREATED:20260414T191414Z
LAST-MODIFIED:20260414T191414Z
UID:10004832-1861203600-1861207200@lecanton.com.br
SUMMARY:Futebol
DESCRIPTION:Uma atividade clássica e cheia de energia para quem gosta de esporte e competição saudável! O futebol é ideal para reunir participantes em partidas dinâmicas\, promovendo integração\, movimento e momentos de diversão em grupo. Exclusivo para adultos maiores de 18 anos.O evento pode sofrer alterações de data\, local ou cancelamento sem aviso prévio.
URL:https://lecanton.com.br/evento/futebol/2028-12-23/
LOCATION:Campo/Society
CATEGORIES:Adultos acima de 18 anos
ATTACH;FMTTYPE=image/jpeg:https://lecanton.com.br/wp-content/uploads/2026/04/futebol.jpg
END:VEVENT
BEGIN:VEVENT
DTSTART;TZID=America/Sao_Paulo:20281228T170000
DTEND;TZID=America/Sao_Paulo:20281228T180000
DTSTAMP:20260423T153203
CREATED:20260414T191414Z
LAST-MODIFIED:20260414T191414Z
UID:10004833-1861635600-1861639200@lecanton.com.br
SUMMARY:Futebol
DESCRIPTION:Uma atividade clássica e cheia de energia para quem gosta de esporte e competição saudável! O futebol é ideal para reunir participantes em partidas dinâmicas\, promovendo integração\, movimento e momentos de diversão em grupo. Exclusivo para adultos maiores de 18 anos.O evento pode sofrer alterações de data\, local ou cancelamento sem aviso prévio.
URL:https://lecanton.com.br/evento/futebol/2028-12-28/
LOCATION:Campo/Society
CATEGORIES:Adultos acima de 18 anos
ATTACH;FMTTYPE=image/jpeg:https://lecanton.com.br/wp-content/uploads/2026/04/futebol.jpg
END:VEVENT
BEGIN:VEVENT
DTSTART;TZID=America/Sao_Paulo:20281230T170000
DTEND;TZID=America/Sao_Paulo:20281230T180000
DTSTAMP:20260423T153204
CREATED:20260414T191414Z
LAST-MODIFIED:20260414T191414Z
UID:10004834-1861808400-1861812000@lecanton.com.br
SUMMARY:Futebol
DESCRIPTION:Uma atividade clássica e cheia de energia para quem gosta de esporte e competição saudável! O futebol é ideal para reunir participantes em partidas dinâmicas\, promovendo integração\, movimento e momentos de diversão em grupo. Exclusivo para adultos maiores de 18 anos.O evento pode sofrer alterações de data\, local ou cancelamento sem aviso prévio.
URL:https://lecanton.com.br/evento/futebol/2028-12-30/
LOCATION:Campo/Society
CATEGORIES:Adultos acima de 18 anos
ATTACH;FMTTYPE=image/jpeg:https://lecanton.com.br/wp-content/uploads/2026/04/futebol.jpg
END:VEVENT
BEGIN:VEVENT
DTSTART;TZID=America/Sao_Paulo:20290104T170000
DTEND;TZID=America/Sao_Paulo:20290104T180000
DTSTAMP:20260423T153204
CREATED:20260414T191414Z
LAST-MODIFIED:20260414T191414Z
UID:10004835-1862240400-1862244000@lecanton.com.br
SUMMARY:Futebol
DESCRIPTION:Uma atividade clássica e cheia de energia para quem gosta de esporte e competição saudável! O futebol é ideal para reunir participantes em partidas dinâmicas\, promovendo integração\, movimento e momentos de diversão em grupo. Exclusivo para adultos maiores de 18 anos.O evento pode sofrer alterações de data\, local ou cancelamento sem aviso prévio.
URL:https://lecanton.com.br/evento/futebol/2029-01-04/
LOCATION:Campo/Society
CATEGORIES:Adultos acima de 18 anos
ATTACH;FMTTYPE=image/jpeg:https://lecanton.com.br/wp-content/uploads/2026/04/futebol.jpg
END:VEVENT
BEGIN:VEVENT
DTSTART;TZID=America/Sao_Paulo:20290106T170000
DTEND;TZID=America/Sao_Paulo:20290106T180000
DTSTAMP:20260423T153204
CREATED:20260414T191414Z
LAST-MODIFIED:20260414T191414Z
UID:10004836-1862413200-1862416800@lecanton.com.br
SUMMARY:Futebol
DESCRIPTION:Uma atividade clássica e cheia de energia para quem gosta de esporte e competição saudável! O futebol é ideal para reunir participantes em partidas dinâmicas\, promovendo integração\, movimento e momentos de diversão em grupo. Exclusivo para adultos maiores de 18 anos.O evento pode sofrer alterações de data\, local ou cancelamento sem aviso prévio.
URL:https://lecanton.com.br/evento/futebol/2029-01-06/
LOCATION:Campo/Society
CATEGORIES:Adultos acima de 18 anos
ATTACH;FMTTYPE=image/jpeg:https://lecanton.com.br/wp-content/uploads/2026/04/futebol.jpg
END:VEVENT
BEGIN:VEVENT
DTSTART;TZID=America/Sao_Paulo:20290111T170000
DTEND;TZID=America/Sao_Paulo:20290111T180000
DTSTAMP:20260423T153204
CREATED:20260414T191414Z
LAST-MODIFIED:20260414T191414Z
UID:10004837-1862845200-1862848800@lecanton.com.br
SUMMARY:Futebol
DESCRIPTION:Uma atividade clássica e cheia de energia para quem gosta de esporte e competição saudável! O futebol é ideal para reunir participantes em partidas dinâmicas\, promovendo integração\, movimento e momentos de diversão em grupo. Exclusivo para adultos maiores de 18 anos.O evento pode sofrer alterações de data\, local ou cancelamento sem aviso prévio.
URL:https://lecanton.com.br/evento/futebol/2029-01-11/
LOCATION:Campo/Society
CATEGORIES:Adultos acima de 18 anos
ATTACH;FMTTYPE=image/jpeg:https://lecanton.com.br/wp-content/uploads/2026/04/futebol.jpg
END:VEVENT
BEGIN:VEVENT
DTSTART;TZID=America/Sao_Paulo:20290113T170000
DTEND;TZID=America/Sao_Paulo:20290113T180000
DTSTAMP:20260423T153204
CREATED:20260414T191414Z
LAST-MODIFIED:20260414T191414Z
UID:10004838-1863018000-1863021600@lecanton.com.br
SUMMARY:Futebol
DESCRIPTION:Uma atividade clássica e cheia de energia para quem gosta de esporte e competição saudável! O futebol é ideal para reunir participantes em partidas dinâmicas\, promovendo integração\, movimento e momentos de diversão em grupo. Exclusivo para adultos maiores de 18 anos.O evento pode sofrer alterações de data\, local ou cancelamento sem aviso prévio.
URL:https://lecanton.com.br/evento/futebol/2029-01-13/
LOCATION:Campo/Society
CATEGORIES:Adultos acima de 18 anos
ATTACH;FMTTYPE=image/jpeg:https://lecanton.com.br/wp-content/uploads/2026/04/futebol.jpg
END:VEVENT
BEGIN:VEVENT
DTSTART;TZID=America/Sao_Paulo:20290118T170000
DTEND;TZID=America/Sao_Paulo:20290118T180000
DTSTAMP:20260423T153204
CREATED:20260414T191414Z
LAST-MODIFIED:20260414T191414Z
UID:10004839-1863450000-1863453600@lecanton.com.br
SUMMARY:Futebol
DESCRIPTION:Uma atividade clássica e cheia de energia para quem gosta de esporte e competição saudável! O futebol é ideal para reunir participantes em partidas dinâmicas\, promovendo integração\, movimento e momentos de diversão em grupo. Exclusivo para adultos maiores de 18 anos.O evento pode sofrer alterações de data\, local ou cancelamento sem aviso prévio.
URL:https://lecanton.com.br/evento/futebol/2029-01-18/
LOCATION:Campo/Society
CATEGORIES:Adultos acima de 18 anos
ATTACH;FMTTYPE=image/jpeg:https://lecanton.com.br/wp-content/uploads/2026/04/futebol.jpg
END:VEVENT
BEGIN:VEVENT
DTSTART;TZID=America/Sao_Paulo:20290120T170000
DTEND;TZID=America/Sao_Paulo:20290120T180000
DTSTAMP:20260423T153204
CREATED:20260414T191414Z
LAST-MODIFIED:20260414T191414Z
UID:10004840-1863622800-1863626400@lecanton.com.br
SUMMARY:Futebol
DESCRIPTION:Uma atividade clássica e cheia de energia para quem gosta de esporte e competição saudável! O futebol é ideal para reunir participantes em partidas dinâmicas\, promovendo integração\, movimento e momentos de diversão em grupo. Exclusivo para adultos maiores de 18 anos.O evento pode sofrer alterações de data\, local ou cancelamento sem aviso prévio.
URL:https://lecanton.com.br/evento/futebol/2029-01-20/
LOCATION:Campo/Society
CATEGORIES:Adultos acima de 18 anos
ATTACH;FMTTYPE=image/jpeg:https://lecanton.com.br/wp-content/uploads/2026/04/futebol.jpg
END:VEVENT
BEGIN:VEVENT
DTSTART;TZID=America/Sao_Paulo:20290125T170000
DTEND;TZID=America/Sao_Paulo:20290125T180000
DTSTAMP:20260423T153204
CREATED:20260414T191414Z
LAST-MODIFIED:20260414T191414Z
UID:10004841-1864054800-1864058400@lecanton.com.br
SUMMARY:Futebol
DESCRIPTION:Uma atividade clássica e cheia de energia para quem gosta de esporte e competição saudável! O futebol é ideal para reunir participantes em partidas dinâmicas\, promovendo integração\, movimento e momentos de diversão em grupo. Exclusivo para adultos maiores de 18 anos.O evento pode sofrer alterações de data\, local ou cancelamento sem aviso prévio.
URL:https://lecanton.com.br/evento/futebol/2029-01-25/
LOCATION:Campo/Society
CATEGORIES:Adultos acima de 18 anos
ATTACH;FMTTYPE=image/jpeg:https://lecanton.com.br/wp-content/uploads/2026/04/futebol.jpg
END:VEVENT
BEGIN:VEVENT
DTSTART;TZID=America/Sao_Paulo:20290127T170000
DTEND;TZID=America/Sao_Paulo:20290127T180000
DTSTAMP:20260423T153204
CREATED:20260414T191414Z
LAST-MODIFIED:20260414T191414Z
UID:10004842-1864227600-1864231200@lecanton.com.br
SUMMARY:Futebol
DESCRIPTION:Uma atividade clássica e cheia de energia para quem gosta de esporte e competição saudável! O futebol é ideal para reunir participantes em partidas dinâmicas\, promovendo integração\, movimento e momentos de diversão em grupo. Exclusivo para adultos maiores de 18 anos.O evento pode sofrer alterações de data\, local ou cancelamento sem aviso prévio.
URL:https://lecanton.com.br/evento/futebol/2029-01-27/
LOCATION:Campo/Society
CATEGORIES:Adultos acima de 18 anos
ATTACH;FMTTYPE=image/jpeg:https://lecanton.com.br/wp-content/uploads/2026/04/futebol.jpg
END:VEVENT
BEGIN:VEVENT
DTSTART;TZID=America/Sao_Paulo:20290201T170000
DTEND;TZID=America/Sao_Paulo:20290201T180000
DTSTAMP:20260423T153204
CREATED:20260414T191414Z
LAST-MODIFIED:20260414T191414Z
UID:10004843-1864659600-1864663200@lecanton.com.br
SUMMARY:Futebol
DESCRIPTION:Uma atividade clássica e cheia de energia para quem gosta de esporte e competição saudável! O futebol é ideal para reunir participantes em partidas dinâmicas\, promovendo integração\, movimento e momentos de diversão em grupo. Exclusivo para adultos maiores de 18 anos.O evento pode sofrer alterações de data\, local ou cancelamento sem aviso prévio.
URL:https://lecanton.com.br/evento/futebol/2029-02-01/
LOCATION:Campo/Society
CATEGORIES:Adultos acima de 18 anos
ATTACH;FMTTYPE=image/jpeg:https://lecanton.com.br/wp-content/uploads/2026/04/futebol.jpg
END:VEVENT
BEGIN:VEVENT
DTSTART;TZID=America/Sao_Paulo:20290203T170000
DTEND;TZID=America/Sao_Paulo:20290203T180000
DTSTAMP:20260423T153204
CREATED:20260414T191414Z
LAST-MODIFIED:20260414T191414Z
UID:10004844-1864832400-1864836000@lecanton.com.br
SUMMARY:Futebol
DESCRIPTION:Uma atividade clássica e cheia de energia para quem gosta de esporte e competição saudável! O futebol é ideal para reunir participantes em partidas dinâmicas\, promovendo integração\, movimento e momentos de diversão em grupo. Exclusivo para adultos maiores de 18 anos.O evento pode sofrer alterações de data\, local ou cancelamento sem aviso prévio.
URL:https://lecanton.com.br/evento/futebol/2029-02-03/
LOCATION:Campo/Society
CATEGORIES:Adultos acima de 18 anos
ATTACH;FMTTYPE=image/jpeg:https://lecanton.com.br/wp-content/uploads/2026/04/futebol.jpg
END:VEVENT
BEGIN:VEVENT
DTSTART;TZID=America/Sao_Paulo:20290208T170000
DTEND;TZID=America/Sao_Paulo:20290208T180000
DTSTAMP:20260423T153204
CREATED:20260414T191414Z
LAST-MODIFIED:20260414T191414Z
UID:10004845-1865264400-1865268000@lecanton.com.br
SUMMARY:Futebol
DESCRIPTION:Uma atividade clássica e cheia de energia para quem gosta de esporte e competição saudável! O futebol é ideal para reunir participantes em partidas dinâmicas\, promovendo integração\, movimento e momentos de diversão em grupo. Exclusivo para adultos maiores de 18 anos.O evento pode sofrer alterações de data\, local ou cancelamento sem aviso prévio.
URL:https://lecanton.com.br/evento/futebol/2029-02-08/
LOCATION:Campo/Society
CATEGORIES:Adultos acima de 18 anos
ATTACH;FMTTYPE=image/jpeg:https://lecanton.com.br/wp-content/uploads/2026/04/futebol.jpg
END:VEVENT
BEGIN:VEVENT
DTSTART;TZID=America/Sao_Paulo:20290210T170000
DTEND;TZID=America/Sao_Paulo:20290210T180000
DTSTAMP:20260423T153204
CREATED:20260414T191414Z
LAST-MODIFIED:20260414T191414Z
UID:10004846-1865437200-1865440800@lecanton.com.br
SUMMARY:Futebol
DESCRIPTION:Uma atividade clássica e cheia de energia para quem gosta de esporte e competição saudável! O futebol é ideal para reunir participantes em partidas dinâmicas\, promovendo integração\, movimento e momentos de diversão em grupo. Exclusivo para adultos maiores de 18 anos.O evento pode sofrer alterações de data\, local ou cancelamento sem aviso prévio.
URL:https://lecanton.com.br/evento/futebol/2029-02-10/
LOCATION:Campo/Society
CATEGORIES:Adultos acima de 18 anos
ATTACH;FMTTYPE=image/jpeg:https://lecanton.com.br/wp-content/uploads/2026/04/futebol.jpg
END:VEVENT
BEGIN:VEVENT
DTSTART;TZID=America/Sao_Paulo:20290215T170000
DTEND;TZID=America/Sao_Paulo:20290215T180000
DTSTAMP:20260423T153204
CREATED:20260414T191414Z
LAST-MODIFIED:20260414T191414Z
UID:10004847-1865869200-1865872800@lecanton.com.br
SUMMARY:Futebol
DESCRIPTION:Uma atividade clássica e cheia de energia para quem gosta de esporte e competição saudável! O futebol é ideal para reunir participantes em partidas dinâmicas\, promovendo integração\, movimento e momentos de diversão em grupo. Exclusivo para adultos maiores de 18 anos.O evento pode sofrer alterações de data\, local ou cancelamento sem aviso prévio.
URL:https://lecanton.com.br/evento/futebol/2029-02-15/
LOCATION:Campo/Society
CATEGORIES:Adultos acima de 18 anos
ATTACH;FMTTYPE=image/jpeg:https://lecanton.com.br/wp-content/uploads/2026/04/futebol.jpg
END:VEVENT
BEGIN:VEVENT
DTSTART;TZID=America/Sao_Paulo:20290217T170000
DTEND;TZID=America/Sao_Paulo:20290217T180000
DTSTAMP:20260423T153204
CREATED:20260414T191414Z
LAST-MODIFIED:20260414T191414Z
UID:10004848-1866042000-1866045600@lecanton.com.br
SUMMARY:Futebol
DESCRIPTION:Uma atividade clássica e cheia de energia para quem gosta de esporte e competição saudável! O futebol é ideal para reunir participantes em partidas dinâmicas\, promovendo integração\, movimento e momentos de diversão em grupo. Exclusivo para adultos maiores de 18 anos.O evento pode sofrer alterações de data\, local ou cancelamento sem aviso prévio.
URL:https://lecanton.com.br/evento/futebol/2029-02-17/
LOCATION:Campo/Society
CATEGORIES:Adultos acima de 18 anos
ATTACH;FMTTYPE=image/jpeg:https://lecanton.com.br/wp-content/uploads/2026/04/futebol.jpg
END:VEVENT
BEGIN:VEVENT
DTSTART;TZID=America/Sao_Paulo:20290222T170000
DTEND;TZID=America/Sao_Paulo:20290222T180000
DTSTAMP:20260423T153204
CREATED:20260414T191414Z
LAST-MODIFIED:20260414T191414Z
UID:10004849-1866474000-1866477600@lecanton.com.br
SUMMARY:Futebol
DESCRIPTION:Uma atividade clássica e cheia de energia para quem gosta de esporte e competição saudável! O futebol é ideal para reunir participantes em partidas dinâmicas\, promovendo integração\, movimento e momentos de diversão em grupo. Exclusivo para adultos maiores de 18 anos.O evento pode sofrer alterações de data\, local ou cancelamento sem aviso prévio.
URL:https://lecanton.com.br/evento/futebol/2029-02-22/
LOCATION:Campo/Society
CATEGORIES:Adultos acima de 18 anos
ATTACH;FMTTYPE=image/jpeg:https://lecanton.com.br/wp-content/uploads/2026/04/futebol.jpg
END:VEVENT
BEGIN:VEVENT
DTSTART;TZID=America/Sao_Paulo:20290224T170000
DTEND;TZID=America/Sao_Paulo:20290224T180000
DTSTAMP:20260423T153204
CREATED:20260414T191414Z
LAST-MODIFIED:20260414T191414Z
UID:10004850-1866646800-1866650400@lecanton.com.br
SUMMARY:Futebol
DESCRIPTION:Uma atividade clássica e cheia de energia para quem gosta de esporte e competição saudável! O futebol é ideal para reunir participantes em partidas dinâmicas\, promovendo integração\, movimento e momentos de diversão em grupo. Exclusivo para adultos maiores de 18 anos.O evento pode sofrer alterações de data\, local ou cancelamento sem aviso prévio.
URL:https://lecanton.com.br/evento/futebol/2029-02-24/
LOCATION:Campo/Society
CATEGORIES:Adultos acima de 18 anos
ATTACH;FMTTYPE=image/jpeg:https://lecanton.com.br/wp-content/uploads/2026/04/futebol.jpg
END:VEVENT
BEGIN:VEVENT
DTSTART;TZID=America/Sao_Paulo:20290301T170000
DTEND;TZID=America/Sao_Paulo:20290301T180000
DTSTAMP:20260423T153204
CREATED:20260414T191414Z
LAST-MODIFIED:20260414T191414Z
UID:10004851-1867078800-1867082400@lecanton.com.br
SUMMARY:Futebol
DESCRIPTION:Uma atividade clássica e cheia de energia para quem gosta de esporte e competição saudável! O futebol é ideal para reunir participantes em partidas dinâmicas\, promovendo integração\, movimento e momentos de diversão em grupo. Exclusivo para adultos maiores de 18 anos.O evento pode sofrer alterações de data\, local ou cancelamento sem aviso prévio.
URL:https://lecanton.com.br/evento/futebol/2029-03-01/
LOCATION:Campo/Society
CATEGORIES:Adultos acima de 18 anos
ATTACH;FMTTYPE=image/jpeg:https://lecanton.com.br/wp-content/uploads/2026/04/futebol.jpg
END:VEVENT
BEGIN:VEVENT
DTSTART;TZID=America/Sao_Paulo:20290303T170000
DTEND;TZID=America/Sao_Paulo:20290303T180000
DTSTAMP:20260423T153204
CREATED:20260414T191414Z
LAST-MODIFIED:20260414T191414Z
UID:10004852-1867251600-1867255200@lecanton.com.br
SUMMARY:Futebol
DESCRIPTION:Uma atividade clássica e cheia de energia para quem gosta de esporte e competição saudável! O futebol é ideal para reunir participantes em partidas dinâmicas\, promovendo integração\, movimento e momentos de diversão em grupo. Exclusivo para adultos maiores de 18 anos.O evento pode sofrer alterações de data\, local ou cancelamento sem aviso prévio.
URL:https://lecanton.com.br/evento/futebol/2029-03-03/
LOCATION:Campo/Society
CATEGORIES:Adultos acima de 18 anos
ATTACH;FMTTYPE=image/jpeg:https://lecanton.com.br/wp-content/uploads/2026/04/futebol.jpg
END:VEVENT
BEGIN:VEVENT
DTSTART;TZID=America/Sao_Paulo:20290308T170000
DTEND;TZID=America/Sao_Paulo:20290308T180000
DTSTAMP:20260423T153204
CREATED:20260414T191414Z
LAST-MODIFIED:20260414T191414Z
UID:10004853-1867683600-1867687200@lecanton.com.br
SUMMARY:Futebol
DESCRIPTION:Uma atividade clássica e cheia de energia para quem gosta de esporte e competição saudável! O futebol é ideal para reunir participantes em partidas dinâmicas\, promovendo integração\, movimento e momentos de diversão em grupo. Exclusivo para adultos maiores de 18 anos.O evento pode sofrer alterações de data\, local ou cancelamento sem aviso prévio.
URL:https://lecanton.com.br/evento/futebol/2029-03-08/
LOCATION:Campo/Society
CATEGORIES:Adultos acima de 18 anos
ATTACH;FMTTYPE=image/jpeg:https://lecanton.com.br/wp-content/uploads/2026/04/futebol.jpg
END:VEVENT
BEGIN:VEVENT
DTSTART;TZID=America/Sao_Paulo:20290310T170000
DTEND;TZID=America/Sao_Paulo:20290310T180000
DTSTAMP:20260423T153204
CREATED:20260414T191414Z
LAST-MODIFIED:20260414T191414Z
UID:10004854-1867856400-1867860000@lecanton.com.br
SUMMARY:Futebol
DESCRIPTION:Uma atividade clássica e cheia de energia para quem gosta de esporte e competição saudável! O futebol é ideal para reunir participantes em partidas dinâmicas\, promovendo integração\, movimento e momentos de diversão em grupo. Exclusivo para adultos maiores de 18 anos.O evento pode sofrer alterações de data\, local ou cancelamento sem aviso prévio.
URL:https://lecanton.com.br/evento/futebol/2029-03-10/
LOCATION:Campo/Society
CATEGORIES:Adultos acima de 18 anos
ATTACH;FMTTYPE=image/jpeg:https://lecanton.com.br/wp-content/uploads/2026/04/futebol.jpg
END:VEVENT
BEGIN:VEVENT
DTSTART;TZID=America/Sao_Paulo:20290315T170000
DTEND;TZID=America/Sao_Paulo:20290315T180000
DTSTAMP:20260423T153204
CREATED:20260414T191414Z
LAST-MODIFIED:20260414T191414Z
UID:10004855-1868288400-1868292000@lecanton.com.br
SUMMARY:Futebol
DESCRIPTION:Uma atividade clássica e cheia de energia para quem gosta de esporte e competição saudável! O futebol é ideal para reunir participantes em partidas dinâmicas\, promovendo integração\, movimento e momentos de diversão em grupo. Exclusivo para adultos maiores de 18 anos.O evento pode sofrer alterações de data\, local ou cancelamento sem aviso prévio.
URL:https://lecanton.com.br/evento/futebol/2029-03-15/
LOCATION:Campo/Society
CATEGORIES:Adultos acima de 18 anos
ATTACH;FMTTYPE=image/jpeg:https://lecanton.com.br/wp-content/uploads/2026/04/futebol.jpg
END:VEVENT
BEGIN:VEVENT
DTSTART;TZID=America/Sao_Paulo:20290317T170000
DTEND;TZID=America/Sao_Paulo:20290317T180000
DTSTAMP:20260423T153204
CREATED:20260414T191414Z
LAST-MODIFIED:20260414T191414Z
UID:10004856-1868461200-1868464800@lecanton.com.br
SUMMARY:Futebol
DESCRIPTION:Uma atividade clássica e cheia de energia para quem gosta de esporte e competição saudável! O futebol é ideal para reunir participantes em partidas dinâmicas\, promovendo integração\, movimento e momentos de diversão em grupo. Exclusivo para adultos maiores de 18 anos.O evento pode sofrer alterações de data\, local ou cancelamento sem aviso prévio.
URL:https://lecanton.com.br/evento/futebol/2029-03-17/
LOCATION:Campo/Society
CATEGORIES:Adultos acima de 18 anos
ATTACH;FMTTYPE=image/jpeg:https://lecanton.com.br/wp-content/uploads/2026/04/futebol.jpg
END:VEVENT
END:VCALENDAR