BEGIN:VCALENDAR
VERSION:2.0
PRODID:-//Le Canton | O melhor Resort da Serra - ECPv6.15.17.1//NONSGML v1.0//EN
CALSCALE:GREGORIAN
METHOD:PUBLISH
X-WR-CALNAME:Le Canton | O melhor Resort da Serra
X-ORIGINAL-URL:https://lecanton.com.br
X-WR-CALDESC:Eventos para Le Canton | O melhor Resort da Serra
REFRESH-INTERVAL;VALUE=DURATION:PT1H
X-Robots-Tag:noindex
X-PUBLISHED-TTL:PT1H
BEGIN:VTIMEZONE
TZID:America/Sao_Paulo
BEGIN:STANDARD
TZOFFSETFROM:-0300
TZOFFSETTO:-0300
TZNAME:-03
DTSTART:20270101T000000
END:STANDARD
END:VTIMEZONE
BEGIN:VEVENT
DTSTART;TZID=America/Sao_Paulo:20280803T170000
DTEND;TZID=America/Sao_Paulo:20280803T180000
DTSTAMP:20260423T082222
CREATED:20260414T191414Z
LAST-MODIFIED:20260414T191414Z
UID:10004791-1848934800-1848938400@lecanton.com.br
SUMMARY:Futebol
DESCRIPTION:Uma atividade clássica e cheia de energia para quem gosta de esporte e competição saudável! O futebol é ideal para reunir participantes em partidas dinâmicas\, promovendo integração\, movimento e momentos de diversão em grupo. Exclusivo para adultos maiores de 18 anos.O evento pode sofrer alterações de data\, local ou cancelamento sem aviso prévio.
URL:https://lecanton.com.br/evento/futebol/2028-08-03/
LOCATION:Campo/Society
CATEGORIES:Adultos acima de 18 anos
ATTACH;FMTTYPE=image/jpeg:https://lecanton.com.br/wp-content/uploads/2026/04/futebol.jpg
END:VEVENT
BEGIN:VEVENT
DTSTART;TZID=America/Sao_Paulo:20280805T170000
DTEND;TZID=America/Sao_Paulo:20280805T180000
DTSTAMP:20260423T082222
CREATED:20260414T191414Z
LAST-MODIFIED:20260414T191414Z
UID:10004792-1849107600-1849111200@lecanton.com.br
SUMMARY:Futebol
DESCRIPTION:Uma atividade clássica e cheia de energia para quem gosta de esporte e competição saudável! O futebol é ideal para reunir participantes em partidas dinâmicas\, promovendo integração\, movimento e momentos de diversão em grupo. Exclusivo para adultos maiores de 18 anos.O evento pode sofrer alterações de data\, local ou cancelamento sem aviso prévio.
URL:https://lecanton.com.br/evento/futebol/2028-08-05/
LOCATION:Campo/Society
CATEGORIES:Adultos acima de 18 anos
ATTACH;FMTTYPE=image/jpeg:https://lecanton.com.br/wp-content/uploads/2026/04/futebol.jpg
END:VEVENT
BEGIN:VEVENT
DTSTART;TZID=America/Sao_Paulo:20280810T170000
DTEND;TZID=America/Sao_Paulo:20280810T180000
DTSTAMP:20260423T082222
CREATED:20260414T191414Z
LAST-MODIFIED:20260414T191414Z
UID:10004793-1849539600-1849543200@lecanton.com.br
SUMMARY:Futebol
DESCRIPTION:Uma atividade clássica e cheia de energia para quem gosta de esporte e competição saudável! O futebol é ideal para reunir participantes em partidas dinâmicas\, promovendo integração\, movimento e momentos de diversão em grupo. Exclusivo para adultos maiores de 18 anos.O evento pode sofrer alterações de data\, local ou cancelamento sem aviso prévio.
URL:https://lecanton.com.br/evento/futebol/2028-08-10/
LOCATION:Campo/Society
CATEGORIES:Adultos acima de 18 anos
ATTACH;FMTTYPE=image/jpeg:https://lecanton.com.br/wp-content/uploads/2026/04/futebol.jpg
END:VEVENT
BEGIN:VEVENT
DTSTART;TZID=America/Sao_Paulo:20280812T170000
DTEND;TZID=America/Sao_Paulo:20280812T180000
DTSTAMP:20260423T082222
CREATED:20260414T191414Z
LAST-MODIFIED:20260414T191414Z
UID:10004794-1849712400-1849716000@lecanton.com.br
SUMMARY:Futebol
DESCRIPTION:Uma atividade clássica e cheia de energia para quem gosta de esporte e competição saudável! O futebol é ideal para reunir participantes em partidas dinâmicas\, promovendo integração\, movimento e momentos de diversão em grupo. Exclusivo para adultos maiores de 18 anos.O evento pode sofrer alterações de data\, local ou cancelamento sem aviso prévio.
URL:https://lecanton.com.br/evento/futebol/2028-08-12/
LOCATION:Campo/Society
CATEGORIES:Adultos acima de 18 anos
ATTACH;FMTTYPE=image/jpeg:https://lecanton.com.br/wp-content/uploads/2026/04/futebol.jpg
END:VEVENT
BEGIN:VEVENT
DTSTART;TZID=America/Sao_Paulo:20280817T170000
DTEND;TZID=America/Sao_Paulo:20280817T180000
DTSTAMP:20260423T082222
CREATED:20260414T191414Z
LAST-MODIFIED:20260414T191414Z
UID:10004795-1850144400-1850148000@lecanton.com.br
SUMMARY:Futebol
DESCRIPTION:Uma atividade clássica e cheia de energia para quem gosta de esporte e competição saudável! O futebol é ideal para reunir participantes em partidas dinâmicas\, promovendo integração\, movimento e momentos de diversão em grupo. Exclusivo para adultos maiores de 18 anos.O evento pode sofrer alterações de data\, local ou cancelamento sem aviso prévio.
URL:https://lecanton.com.br/evento/futebol/2028-08-17/
LOCATION:Campo/Society
CATEGORIES:Adultos acima de 18 anos
ATTACH;FMTTYPE=image/jpeg:https://lecanton.com.br/wp-content/uploads/2026/04/futebol.jpg
END:VEVENT
BEGIN:VEVENT
DTSTART;TZID=America/Sao_Paulo:20280819T170000
DTEND;TZID=America/Sao_Paulo:20280819T180000
DTSTAMP:20260423T082222
CREATED:20260414T191414Z
LAST-MODIFIED:20260414T191414Z
UID:10004796-1850317200-1850320800@lecanton.com.br
SUMMARY:Futebol
DESCRIPTION:Uma atividade clássica e cheia de energia para quem gosta de esporte e competição saudável! O futebol é ideal para reunir participantes em partidas dinâmicas\, promovendo integração\, movimento e momentos de diversão em grupo. Exclusivo para adultos maiores de 18 anos.O evento pode sofrer alterações de data\, local ou cancelamento sem aviso prévio.
URL:https://lecanton.com.br/evento/futebol/2028-08-19/
LOCATION:Campo/Society
CATEGORIES:Adultos acima de 18 anos
ATTACH;FMTTYPE=image/jpeg:https://lecanton.com.br/wp-content/uploads/2026/04/futebol.jpg
END:VEVENT
BEGIN:VEVENT
DTSTART;TZID=America/Sao_Paulo:20280824T170000
DTEND;TZID=America/Sao_Paulo:20280824T180000
DTSTAMP:20260423T082222
CREATED:20260414T191414Z
LAST-MODIFIED:20260414T191414Z
UID:10004797-1850749200-1850752800@lecanton.com.br
SUMMARY:Futebol
DESCRIPTION:Uma atividade clássica e cheia de energia para quem gosta de esporte e competição saudável! O futebol é ideal para reunir participantes em partidas dinâmicas\, promovendo integração\, movimento e momentos de diversão em grupo. Exclusivo para adultos maiores de 18 anos.O evento pode sofrer alterações de data\, local ou cancelamento sem aviso prévio.
URL:https://lecanton.com.br/evento/futebol/2028-08-24/
LOCATION:Campo/Society
CATEGORIES:Adultos acima de 18 anos
ATTACH;FMTTYPE=image/jpeg:https://lecanton.com.br/wp-content/uploads/2026/04/futebol.jpg
END:VEVENT
BEGIN:VEVENT
DTSTART;TZID=America/Sao_Paulo:20280826T170000
DTEND;TZID=America/Sao_Paulo:20280826T180000
DTSTAMP:20260423T082222
CREATED:20260414T191414Z
LAST-MODIFIED:20260414T191414Z
UID:10004798-1850922000-1850925600@lecanton.com.br
SUMMARY:Futebol
DESCRIPTION:Uma atividade clássica e cheia de energia para quem gosta de esporte e competição saudável! O futebol é ideal para reunir participantes em partidas dinâmicas\, promovendo integração\, movimento e momentos de diversão em grupo. Exclusivo para adultos maiores de 18 anos.O evento pode sofrer alterações de data\, local ou cancelamento sem aviso prévio.
URL:https://lecanton.com.br/evento/futebol/2028-08-26/
LOCATION:Campo/Society
CATEGORIES:Adultos acima de 18 anos
ATTACH;FMTTYPE=image/jpeg:https://lecanton.com.br/wp-content/uploads/2026/04/futebol.jpg
END:VEVENT
BEGIN:VEVENT
DTSTART;TZID=America/Sao_Paulo:20280831T170000
DTEND;TZID=America/Sao_Paulo:20280831T180000
DTSTAMP:20260423T082222
CREATED:20260414T191414Z
LAST-MODIFIED:20260414T191414Z
UID:10004799-1851354000-1851357600@lecanton.com.br
SUMMARY:Futebol
DESCRIPTION:Uma atividade clássica e cheia de energia para quem gosta de esporte e competição saudável! O futebol é ideal para reunir participantes em partidas dinâmicas\, promovendo integração\, movimento e momentos de diversão em grupo. Exclusivo para adultos maiores de 18 anos.O evento pode sofrer alterações de data\, local ou cancelamento sem aviso prévio.
URL:https://lecanton.com.br/evento/futebol/2028-08-31/
LOCATION:Campo/Society
CATEGORIES:Adultos acima de 18 anos
ATTACH;FMTTYPE=image/jpeg:https://lecanton.com.br/wp-content/uploads/2026/04/futebol.jpg
END:VEVENT
BEGIN:VEVENT
DTSTART;TZID=America/Sao_Paulo:20280902T170000
DTEND;TZID=America/Sao_Paulo:20280902T180000
DTSTAMP:20260423T082222
CREATED:20260414T191414Z
LAST-MODIFIED:20260414T191414Z
UID:10004800-1851526800-1851530400@lecanton.com.br
SUMMARY:Futebol
DESCRIPTION:Uma atividade clássica e cheia de energia para quem gosta de esporte e competição saudável! O futebol é ideal para reunir participantes em partidas dinâmicas\, promovendo integração\, movimento e momentos de diversão em grupo. Exclusivo para adultos maiores de 18 anos.O evento pode sofrer alterações de data\, local ou cancelamento sem aviso prévio.
URL:https://lecanton.com.br/evento/futebol/2028-09-02/
LOCATION:Campo/Society
CATEGORIES:Adultos acima de 18 anos
ATTACH;FMTTYPE=image/jpeg:https://lecanton.com.br/wp-content/uploads/2026/04/futebol.jpg
END:VEVENT
BEGIN:VEVENT
DTSTART;TZID=America/Sao_Paulo:20280907T170000
DTEND;TZID=America/Sao_Paulo:20280907T180000
DTSTAMP:20260423T082222
CREATED:20260414T191414Z
LAST-MODIFIED:20260414T191414Z
UID:10004801-1851958800-1851962400@lecanton.com.br
SUMMARY:Futebol
DESCRIPTION:Uma atividade clássica e cheia de energia para quem gosta de esporte e competição saudável! O futebol é ideal para reunir participantes em partidas dinâmicas\, promovendo integração\, movimento e momentos de diversão em grupo. Exclusivo para adultos maiores de 18 anos.O evento pode sofrer alterações de data\, local ou cancelamento sem aviso prévio.
URL:https://lecanton.com.br/evento/futebol/2028-09-07/
LOCATION:Campo/Society
CATEGORIES:Adultos acima de 18 anos
ATTACH;FMTTYPE=image/jpeg:https://lecanton.com.br/wp-content/uploads/2026/04/futebol.jpg
END:VEVENT
BEGIN:VEVENT
DTSTART;TZID=America/Sao_Paulo:20280909T170000
DTEND;TZID=America/Sao_Paulo:20280909T180000
DTSTAMP:20260423T082222
CREATED:20260414T191414Z
LAST-MODIFIED:20260414T191414Z
UID:10004802-1852131600-1852135200@lecanton.com.br
SUMMARY:Futebol
DESCRIPTION:Uma atividade clássica e cheia de energia para quem gosta de esporte e competição saudável! O futebol é ideal para reunir participantes em partidas dinâmicas\, promovendo integração\, movimento e momentos de diversão em grupo. Exclusivo para adultos maiores de 18 anos.O evento pode sofrer alterações de data\, local ou cancelamento sem aviso prévio.
URL:https://lecanton.com.br/evento/futebol/2028-09-09/
LOCATION:Campo/Society
CATEGORIES:Adultos acima de 18 anos
ATTACH;FMTTYPE=image/jpeg:https://lecanton.com.br/wp-content/uploads/2026/04/futebol.jpg
END:VEVENT
BEGIN:VEVENT
DTSTART;TZID=America/Sao_Paulo:20280914T170000
DTEND;TZID=America/Sao_Paulo:20280914T180000
DTSTAMP:20260423T082222
CREATED:20260414T191414Z
LAST-MODIFIED:20260414T191414Z
UID:10004803-1852563600-1852567200@lecanton.com.br
SUMMARY:Futebol
DESCRIPTION:Uma atividade clássica e cheia de energia para quem gosta de esporte e competição saudável! O futebol é ideal para reunir participantes em partidas dinâmicas\, promovendo integração\, movimento e momentos de diversão em grupo. Exclusivo para adultos maiores de 18 anos.O evento pode sofrer alterações de data\, local ou cancelamento sem aviso prévio.
URL:https://lecanton.com.br/evento/futebol/2028-09-14/
LOCATION:Campo/Society
CATEGORIES:Adultos acima de 18 anos
ATTACH;FMTTYPE=image/jpeg:https://lecanton.com.br/wp-content/uploads/2026/04/futebol.jpg
END:VEVENT
BEGIN:VEVENT
DTSTART;TZID=America/Sao_Paulo:20280916T170000
DTEND;TZID=America/Sao_Paulo:20280916T180000
DTSTAMP:20260423T082223
CREATED:20260414T191414Z
LAST-MODIFIED:20260414T191414Z
UID:10004804-1852736400-1852740000@lecanton.com.br
SUMMARY:Futebol
DESCRIPTION:Uma atividade clássica e cheia de energia para quem gosta de esporte e competição saudável! O futebol é ideal para reunir participantes em partidas dinâmicas\, promovendo integração\, movimento e momentos de diversão em grupo. Exclusivo para adultos maiores de 18 anos.O evento pode sofrer alterações de data\, local ou cancelamento sem aviso prévio.
URL:https://lecanton.com.br/evento/futebol/2028-09-16/
LOCATION:Campo/Society
CATEGORIES:Adultos acima de 18 anos
ATTACH;FMTTYPE=image/jpeg:https://lecanton.com.br/wp-content/uploads/2026/04/futebol.jpg
END:VEVENT
BEGIN:VEVENT
DTSTART;TZID=America/Sao_Paulo:20280921T170000
DTEND;TZID=America/Sao_Paulo:20280921T180000
DTSTAMP:20260423T082223
CREATED:20260414T191414Z
LAST-MODIFIED:20260414T191414Z
UID:10004805-1853168400-1853172000@lecanton.com.br
SUMMARY:Futebol
DESCRIPTION:Uma atividade clássica e cheia de energia para quem gosta de esporte e competição saudável! O futebol é ideal para reunir participantes em partidas dinâmicas\, promovendo integração\, movimento e momentos de diversão em grupo. Exclusivo para adultos maiores de 18 anos.O evento pode sofrer alterações de data\, local ou cancelamento sem aviso prévio.
URL:https://lecanton.com.br/evento/futebol/2028-09-21/
LOCATION:Campo/Society
CATEGORIES:Adultos acima de 18 anos
ATTACH;FMTTYPE=image/jpeg:https://lecanton.com.br/wp-content/uploads/2026/04/futebol.jpg
END:VEVENT
BEGIN:VEVENT
DTSTART;TZID=America/Sao_Paulo:20280923T170000
DTEND;TZID=America/Sao_Paulo:20280923T180000
DTSTAMP:20260423T082223
CREATED:20260414T191414Z
LAST-MODIFIED:20260414T191414Z
UID:10004806-1853341200-1853344800@lecanton.com.br
SUMMARY:Futebol
DESCRIPTION:Uma atividade clássica e cheia de energia para quem gosta de esporte e competição saudável! O futebol é ideal para reunir participantes em partidas dinâmicas\, promovendo integração\, movimento e momentos de diversão em grupo. Exclusivo para adultos maiores de 18 anos.O evento pode sofrer alterações de data\, local ou cancelamento sem aviso prévio.
URL:https://lecanton.com.br/evento/futebol/2028-09-23/
LOCATION:Campo/Society
CATEGORIES:Adultos acima de 18 anos
ATTACH;FMTTYPE=image/jpeg:https://lecanton.com.br/wp-content/uploads/2026/04/futebol.jpg
END:VEVENT
BEGIN:VEVENT
DTSTART;TZID=America/Sao_Paulo:20280928T170000
DTEND;TZID=America/Sao_Paulo:20280928T180000
DTSTAMP:20260423T082223
CREATED:20260414T191414Z
LAST-MODIFIED:20260414T191414Z
UID:10004807-1853773200-1853776800@lecanton.com.br
SUMMARY:Futebol
DESCRIPTION:Uma atividade clássica e cheia de energia para quem gosta de esporte e competição saudável! O futebol é ideal para reunir participantes em partidas dinâmicas\, promovendo integração\, movimento e momentos de diversão em grupo. Exclusivo para adultos maiores de 18 anos.O evento pode sofrer alterações de data\, local ou cancelamento sem aviso prévio.
URL:https://lecanton.com.br/evento/futebol/2028-09-28/
LOCATION:Campo/Society
CATEGORIES:Adultos acima de 18 anos
ATTACH;FMTTYPE=image/jpeg:https://lecanton.com.br/wp-content/uploads/2026/04/futebol.jpg
END:VEVENT
BEGIN:VEVENT
DTSTART;TZID=America/Sao_Paulo:20280930T170000
DTEND;TZID=America/Sao_Paulo:20280930T180000
DTSTAMP:20260423T082223
CREATED:20260414T191414Z
LAST-MODIFIED:20260414T191414Z
UID:10004808-1853946000-1853949600@lecanton.com.br
SUMMARY:Futebol
DESCRIPTION:Uma atividade clássica e cheia de energia para quem gosta de esporte e competição saudável! O futebol é ideal para reunir participantes em partidas dinâmicas\, promovendo integração\, movimento e momentos de diversão em grupo. Exclusivo para adultos maiores de 18 anos.O evento pode sofrer alterações de data\, local ou cancelamento sem aviso prévio.
URL:https://lecanton.com.br/evento/futebol/2028-09-30/
LOCATION:Campo/Society
CATEGORIES:Adultos acima de 18 anos
ATTACH;FMTTYPE=image/jpeg:https://lecanton.com.br/wp-content/uploads/2026/04/futebol.jpg
END:VEVENT
BEGIN:VEVENT
DTSTART;TZID=America/Sao_Paulo:20281005T170000
DTEND;TZID=America/Sao_Paulo:20281005T180000
DTSTAMP:20260423T082223
CREATED:20260414T191414Z
LAST-MODIFIED:20260414T191414Z
UID:10004809-1854378000-1854381600@lecanton.com.br
SUMMARY:Futebol
DESCRIPTION:Uma atividade clássica e cheia de energia para quem gosta de esporte e competição saudável! O futebol é ideal para reunir participantes em partidas dinâmicas\, promovendo integração\, movimento e momentos de diversão em grupo. Exclusivo para adultos maiores de 18 anos.O evento pode sofrer alterações de data\, local ou cancelamento sem aviso prévio.
URL:https://lecanton.com.br/evento/futebol/2028-10-05/
LOCATION:Campo/Society
CATEGORIES:Adultos acima de 18 anos
ATTACH;FMTTYPE=image/jpeg:https://lecanton.com.br/wp-content/uploads/2026/04/futebol.jpg
END:VEVENT
BEGIN:VEVENT
DTSTART;TZID=America/Sao_Paulo:20281007T170000
DTEND;TZID=America/Sao_Paulo:20281007T180000
DTSTAMP:20260423T082223
CREATED:20260414T191414Z
LAST-MODIFIED:20260414T191414Z
UID:10004810-1854550800-1854554400@lecanton.com.br
SUMMARY:Futebol
DESCRIPTION:Uma atividade clássica e cheia de energia para quem gosta de esporte e competição saudável! O futebol é ideal para reunir participantes em partidas dinâmicas\, promovendo integração\, movimento e momentos de diversão em grupo. Exclusivo para adultos maiores de 18 anos.O evento pode sofrer alterações de data\, local ou cancelamento sem aviso prévio.
URL:https://lecanton.com.br/evento/futebol/2028-10-07/
LOCATION:Campo/Society
CATEGORIES:Adultos acima de 18 anos
ATTACH;FMTTYPE=image/jpeg:https://lecanton.com.br/wp-content/uploads/2026/04/futebol.jpg
END:VEVENT
BEGIN:VEVENT
DTSTART;TZID=America/Sao_Paulo:20281012T170000
DTEND;TZID=America/Sao_Paulo:20281012T180000
DTSTAMP:20260423T082223
CREATED:20260414T191414Z
LAST-MODIFIED:20260414T191414Z
UID:10004811-1854982800-1854986400@lecanton.com.br
SUMMARY:Futebol
DESCRIPTION:Uma atividade clássica e cheia de energia para quem gosta de esporte e competição saudável! O futebol é ideal para reunir participantes em partidas dinâmicas\, promovendo integração\, movimento e momentos de diversão em grupo. Exclusivo para adultos maiores de 18 anos.O evento pode sofrer alterações de data\, local ou cancelamento sem aviso prévio.
URL:https://lecanton.com.br/evento/futebol/2028-10-12/
LOCATION:Campo/Society
CATEGORIES:Adultos acima de 18 anos
ATTACH;FMTTYPE=image/jpeg:https://lecanton.com.br/wp-content/uploads/2026/04/futebol.jpg
END:VEVENT
BEGIN:VEVENT
DTSTART;TZID=America/Sao_Paulo:20281014T170000
DTEND;TZID=America/Sao_Paulo:20281014T180000
DTSTAMP:20260423T082223
CREATED:20260414T191414Z
LAST-MODIFIED:20260414T191414Z
UID:10004812-1855155600-1855159200@lecanton.com.br
SUMMARY:Futebol
DESCRIPTION:Uma atividade clássica e cheia de energia para quem gosta de esporte e competição saudável! O futebol é ideal para reunir participantes em partidas dinâmicas\, promovendo integração\, movimento e momentos de diversão em grupo. Exclusivo para adultos maiores de 18 anos.O evento pode sofrer alterações de data\, local ou cancelamento sem aviso prévio.
URL:https://lecanton.com.br/evento/futebol/2028-10-14/
LOCATION:Campo/Society
CATEGORIES:Adultos acima de 18 anos
ATTACH;FMTTYPE=image/jpeg:https://lecanton.com.br/wp-content/uploads/2026/04/futebol.jpg
END:VEVENT
BEGIN:VEVENT
DTSTART;TZID=America/Sao_Paulo:20281019T170000
DTEND;TZID=America/Sao_Paulo:20281019T180000
DTSTAMP:20260423T082223
CREATED:20260414T191414Z
LAST-MODIFIED:20260414T191414Z
UID:10004813-1855587600-1855591200@lecanton.com.br
SUMMARY:Futebol
DESCRIPTION:Uma atividade clássica e cheia de energia para quem gosta de esporte e competição saudável! O futebol é ideal para reunir participantes em partidas dinâmicas\, promovendo integração\, movimento e momentos de diversão em grupo. Exclusivo para adultos maiores de 18 anos.O evento pode sofrer alterações de data\, local ou cancelamento sem aviso prévio.
URL:https://lecanton.com.br/evento/futebol/2028-10-19/
LOCATION:Campo/Society
CATEGORIES:Adultos acima de 18 anos
ATTACH;FMTTYPE=image/jpeg:https://lecanton.com.br/wp-content/uploads/2026/04/futebol.jpg
END:VEVENT
BEGIN:VEVENT
DTSTART;TZID=America/Sao_Paulo:20281021T170000
DTEND;TZID=America/Sao_Paulo:20281021T180000
DTSTAMP:20260423T082223
CREATED:20260414T191414Z
LAST-MODIFIED:20260414T191414Z
UID:10004814-1855760400-1855764000@lecanton.com.br
SUMMARY:Futebol
DESCRIPTION:Uma atividade clássica e cheia de energia para quem gosta de esporte e competição saudável! O futebol é ideal para reunir participantes em partidas dinâmicas\, promovendo integração\, movimento e momentos de diversão em grupo. Exclusivo para adultos maiores de 18 anos.O evento pode sofrer alterações de data\, local ou cancelamento sem aviso prévio.
URL:https://lecanton.com.br/evento/futebol/2028-10-21/
LOCATION:Campo/Society
CATEGORIES:Adultos acima de 18 anos
ATTACH;FMTTYPE=image/jpeg:https://lecanton.com.br/wp-content/uploads/2026/04/futebol.jpg
END:VEVENT
BEGIN:VEVENT
DTSTART;TZID=America/Sao_Paulo:20281026T170000
DTEND;TZID=America/Sao_Paulo:20281026T180000
DTSTAMP:20260423T082223
CREATED:20260414T191414Z
LAST-MODIFIED:20260414T191414Z
UID:10004815-1856192400-1856196000@lecanton.com.br
SUMMARY:Futebol
DESCRIPTION:Uma atividade clássica e cheia de energia para quem gosta de esporte e competição saudável! O futebol é ideal para reunir participantes em partidas dinâmicas\, promovendo integração\, movimento e momentos de diversão em grupo. Exclusivo para adultos maiores de 18 anos.O evento pode sofrer alterações de data\, local ou cancelamento sem aviso prévio.
URL:https://lecanton.com.br/evento/futebol/2028-10-26/
LOCATION:Campo/Society
CATEGORIES:Adultos acima de 18 anos
ATTACH;FMTTYPE=image/jpeg:https://lecanton.com.br/wp-content/uploads/2026/04/futebol.jpg
END:VEVENT
BEGIN:VEVENT
DTSTART;TZID=America/Sao_Paulo:20281028T170000
DTEND;TZID=America/Sao_Paulo:20281028T180000
DTSTAMP:20260423T082223
CREATED:20260414T191414Z
LAST-MODIFIED:20260414T191414Z
UID:10004816-1856365200-1856368800@lecanton.com.br
SUMMARY:Futebol
DESCRIPTION:Uma atividade clássica e cheia de energia para quem gosta de esporte e competição saudável! O futebol é ideal para reunir participantes em partidas dinâmicas\, promovendo integração\, movimento e momentos de diversão em grupo. Exclusivo para adultos maiores de 18 anos.O evento pode sofrer alterações de data\, local ou cancelamento sem aviso prévio.
URL:https://lecanton.com.br/evento/futebol/2028-10-28/
LOCATION:Campo/Society
CATEGORIES:Adultos acima de 18 anos
ATTACH;FMTTYPE=image/jpeg:https://lecanton.com.br/wp-content/uploads/2026/04/futebol.jpg
END:VEVENT
BEGIN:VEVENT
DTSTART;TZID=America/Sao_Paulo:20281102T170000
DTEND;TZID=America/Sao_Paulo:20281102T180000
DTSTAMP:20260423T082223
CREATED:20260414T191414Z
LAST-MODIFIED:20260414T191414Z
UID:10004817-1856797200-1856800800@lecanton.com.br
SUMMARY:Futebol
DESCRIPTION:Uma atividade clássica e cheia de energia para quem gosta de esporte e competição saudável! O futebol é ideal para reunir participantes em partidas dinâmicas\, promovendo integração\, movimento e momentos de diversão em grupo. Exclusivo para adultos maiores de 18 anos.O evento pode sofrer alterações de data\, local ou cancelamento sem aviso prévio.
URL:https://lecanton.com.br/evento/futebol/2028-11-02/
LOCATION:Campo/Society
CATEGORIES:Adultos acima de 18 anos
ATTACH;FMTTYPE=image/jpeg:https://lecanton.com.br/wp-content/uploads/2026/04/futebol.jpg
END:VEVENT
BEGIN:VEVENT
DTSTART;TZID=America/Sao_Paulo:20281104T170000
DTEND;TZID=America/Sao_Paulo:20281104T180000
DTSTAMP:20260423T082223
CREATED:20260414T191414Z
LAST-MODIFIED:20260414T191414Z
UID:10004818-1856970000-1856973600@lecanton.com.br
SUMMARY:Futebol
DESCRIPTION:Uma atividade clássica e cheia de energia para quem gosta de esporte e competição saudável! O futebol é ideal para reunir participantes em partidas dinâmicas\, promovendo integração\, movimento e momentos de diversão em grupo. Exclusivo para adultos maiores de 18 anos.O evento pode sofrer alterações de data\, local ou cancelamento sem aviso prévio.
URL:https://lecanton.com.br/evento/futebol/2028-11-04/
LOCATION:Campo/Society
CATEGORIES:Adultos acima de 18 anos
ATTACH;FMTTYPE=image/jpeg:https://lecanton.com.br/wp-content/uploads/2026/04/futebol.jpg
END:VEVENT
BEGIN:VEVENT
DTSTART;TZID=America/Sao_Paulo:20281109T170000
DTEND;TZID=America/Sao_Paulo:20281109T180000
DTSTAMP:20260423T082223
CREATED:20260414T191414Z
LAST-MODIFIED:20260414T191414Z
UID:10004819-1857402000-1857405600@lecanton.com.br
SUMMARY:Futebol
DESCRIPTION:Uma atividade clássica e cheia de energia para quem gosta de esporte e competição saudável! O futebol é ideal para reunir participantes em partidas dinâmicas\, promovendo integração\, movimento e momentos de diversão em grupo. Exclusivo para adultos maiores de 18 anos.O evento pode sofrer alterações de data\, local ou cancelamento sem aviso prévio.
URL:https://lecanton.com.br/evento/futebol/2028-11-09/
LOCATION:Campo/Society
CATEGORIES:Adultos acima de 18 anos
ATTACH;FMTTYPE=image/jpeg:https://lecanton.com.br/wp-content/uploads/2026/04/futebol.jpg
END:VEVENT
BEGIN:VEVENT
DTSTART;TZID=America/Sao_Paulo:20281111T170000
DTEND;TZID=America/Sao_Paulo:20281111T180000
DTSTAMP:20260423T082223
CREATED:20260414T191414Z
LAST-MODIFIED:20260414T191414Z
UID:10004820-1857574800-1857578400@lecanton.com.br
SUMMARY:Futebol
DESCRIPTION:Uma atividade clássica e cheia de energia para quem gosta de esporte e competição saudável! O futebol é ideal para reunir participantes em partidas dinâmicas\, promovendo integração\, movimento e momentos de diversão em grupo. Exclusivo para adultos maiores de 18 anos.O evento pode sofrer alterações de data\, local ou cancelamento sem aviso prévio.
URL:https://lecanton.com.br/evento/futebol/2028-11-11/
LOCATION:Campo/Society
CATEGORIES:Adultos acima de 18 anos
ATTACH;FMTTYPE=image/jpeg:https://lecanton.com.br/wp-content/uploads/2026/04/futebol.jpg
END:VEVENT
END:VCALENDAR