BEGIN:VCALENDAR
VERSION:2.0
PRODID:-//Le Canton | O melhor Resort da Serra - ECPv6.15.17.1//NONSGML v1.0//EN
CALSCALE:GREGORIAN
METHOD:PUBLISH
X-WR-CALNAME:Le Canton | O melhor Resort da Serra
X-ORIGINAL-URL:https://lecanton.com.br
X-WR-CALDESC:Eventos para Le Canton | O melhor Resort da Serra
REFRESH-INTERVAL;VALUE=DURATION:PT1H
X-Robots-Tag:noindex
X-PUBLISHED-TTL:PT1H
BEGIN:VTIMEZONE
TZID:America/Sao_Paulo
BEGIN:STANDARD
TZOFFSETFROM:-0300
TZOFFSETTO:-0300
TZNAME:-03
DTSTART:20260101T000000
END:STANDARD
END:VTIMEZONE
BEGIN:VEVENT
DTSTART;TZID=America/Sao_Paulo:20271125T170000
DTEND;TZID=America/Sao_Paulo:20271125T180000
DTSTAMP:20260422T074934
CREATED:20260414T191414Z
LAST-MODIFIED:20260414T191414Z
UID:10004719-1827162000-1827165600@lecanton.com.br
SUMMARY:Futebol
DESCRIPTION:Uma atividade clássica e cheia de energia para quem gosta de esporte e competição saudável! O futebol é ideal para reunir participantes em partidas dinâmicas\, promovendo integração\, movimento e momentos de diversão em grupo. Exclusivo para adultos maiores de 18 anos.O evento pode sofrer alterações de data\, local ou cancelamento sem aviso prévio.
URL:https://lecanton.com.br/evento/futebol/2027-11-25/
LOCATION:Campo/Society
CATEGORIES:Adultos acima de 18 anos
ATTACH;FMTTYPE=image/jpeg:https://lecanton.com.br/wp-content/uploads/2026/04/futebol.jpg
END:VEVENT
BEGIN:VEVENT
DTSTART;TZID=America/Sao_Paulo:20271127T170000
DTEND;TZID=America/Sao_Paulo:20271127T180000
DTSTAMP:20260422T074934
CREATED:20260414T191414Z
LAST-MODIFIED:20260414T191414Z
UID:10004720-1827334800-1827338400@lecanton.com.br
SUMMARY:Futebol
DESCRIPTION:Uma atividade clássica e cheia de energia para quem gosta de esporte e competição saudável! O futebol é ideal para reunir participantes em partidas dinâmicas\, promovendo integração\, movimento e momentos de diversão em grupo. Exclusivo para adultos maiores de 18 anos.O evento pode sofrer alterações de data\, local ou cancelamento sem aviso prévio.
URL:https://lecanton.com.br/evento/futebol/2027-11-27/
LOCATION:Campo/Society
CATEGORIES:Adultos acima de 18 anos
ATTACH;FMTTYPE=image/jpeg:https://lecanton.com.br/wp-content/uploads/2026/04/futebol.jpg
END:VEVENT
BEGIN:VEVENT
DTSTART;TZID=America/Sao_Paulo:20271202T170000
DTEND;TZID=America/Sao_Paulo:20271202T180000
DTSTAMP:20260422T074934
CREATED:20260414T191414Z
LAST-MODIFIED:20260414T191414Z
UID:10004721-1827766800-1827770400@lecanton.com.br
SUMMARY:Futebol
DESCRIPTION:Uma atividade clássica e cheia de energia para quem gosta de esporte e competição saudável! O futebol é ideal para reunir participantes em partidas dinâmicas\, promovendo integração\, movimento e momentos de diversão em grupo. Exclusivo para adultos maiores de 18 anos.O evento pode sofrer alterações de data\, local ou cancelamento sem aviso prévio.
URL:https://lecanton.com.br/evento/futebol/2027-12-02/
LOCATION:Campo/Society
CATEGORIES:Adultos acima de 18 anos
ATTACH;FMTTYPE=image/jpeg:https://lecanton.com.br/wp-content/uploads/2026/04/futebol.jpg
END:VEVENT
BEGIN:VEVENT
DTSTART;TZID=America/Sao_Paulo:20271204T170000
DTEND;TZID=America/Sao_Paulo:20271204T180000
DTSTAMP:20260422T074934
CREATED:20260414T191414Z
LAST-MODIFIED:20260414T191414Z
UID:10004722-1827939600-1827943200@lecanton.com.br
SUMMARY:Futebol
DESCRIPTION:Uma atividade clássica e cheia de energia para quem gosta de esporte e competição saudável! O futebol é ideal para reunir participantes em partidas dinâmicas\, promovendo integração\, movimento e momentos de diversão em grupo. Exclusivo para adultos maiores de 18 anos.O evento pode sofrer alterações de data\, local ou cancelamento sem aviso prévio.
URL:https://lecanton.com.br/evento/futebol/2027-12-04/
LOCATION:Campo/Society
CATEGORIES:Adultos acima de 18 anos
ATTACH;FMTTYPE=image/jpeg:https://lecanton.com.br/wp-content/uploads/2026/04/futebol.jpg
END:VEVENT
BEGIN:VEVENT
DTSTART;TZID=America/Sao_Paulo:20271209T170000
DTEND;TZID=America/Sao_Paulo:20271209T180000
DTSTAMP:20260422T074934
CREATED:20260414T191414Z
LAST-MODIFIED:20260414T191414Z
UID:10004723-1828371600-1828375200@lecanton.com.br
SUMMARY:Futebol
DESCRIPTION:Uma atividade clássica e cheia de energia para quem gosta de esporte e competição saudável! O futebol é ideal para reunir participantes em partidas dinâmicas\, promovendo integração\, movimento e momentos de diversão em grupo. Exclusivo para adultos maiores de 18 anos.O evento pode sofrer alterações de data\, local ou cancelamento sem aviso prévio.
URL:https://lecanton.com.br/evento/futebol/2027-12-09/
LOCATION:Campo/Society
CATEGORIES:Adultos acima de 18 anos
ATTACH;FMTTYPE=image/jpeg:https://lecanton.com.br/wp-content/uploads/2026/04/futebol.jpg
END:VEVENT
BEGIN:VEVENT
DTSTART;TZID=America/Sao_Paulo:20271211T170000
DTEND;TZID=America/Sao_Paulo:20271211T180000
DTSTAMP:20260422T074934
CREATED:20260414T191414Z
LAST-MODIFIED:20260414T191414Z
UID:10004724-1828544400-1828548000@lecanton.com.br
SUMMARY:Futebol
DESCRIPTION:Uma atividade clássica e cheia de energia para quem gosta de esporte e competição saudável! O futebol é ideal para reunir participantes em partidas dinâmicas\, promovendo integração\, movimento e momentos de diversão em grupo. Exclusivo para adultos maiores de 18 anos.O evento pode sofrer alterações de data\, local ou cancelamento sem aviso prévio.
URL:https://lecanton.com.br/evento/futebol/2027-12-11/
LOCATION:Campo/Society
CATEGORIES:Adultos acima de 18 anos
ATTACH;FMTTYPE=image/jpeg:https://lecanton.com.br/wp-content/uploads/2026/04/futebol.jpg
END:VEVENT
BEGIN:VEVENT
DTSTART;TZID=America/Sao_Paulo:20271216T170000
DTEND;TZID=America/Sao_Paulo:20271216T180000
DTSTAMP:20260422T074934
CREATED:20260414T191414Z
LAST-MODIFIED:20260414T191414Z
UID:10004725-1828976400-1828980000@lecanton.com.br
SUMMARY:Futebol
DESCRIPTION:Uma atividade clássica e cheia de energia para quem gosta de esporte e competição saudável! O futebol é ideal para reunir participantes em partidas dinâmicas\, promovendo integração\, movimento e momentos de diversão em grupo. Exclusivo para adultos maiores de 18 anos.O evento pode sofrer alterações de data\, local ou cancelamento sem aviso prévio.
URL:https://lecanton.com.br/evento/futebol/2027-12-16/
LOCATION:Campo/Society
CATEGORIES:Adultos acima de 18 anos
ATTACH;FMTTYPE=image/jpeg:https://lecanton.com.br/wp-content/uploads/2026/04/futebol.jpg
END:VEVENT
BEGIN:VEVENT
DTSTART;TZID=America/Sao_Paulo:20271218T170000
DTEND;TZID=America/Sao_Paulo:20271218T180000
DTSTAMP:20260422T074934
CREATED:20260414T191414Z
LAST-MODIFIED:20260414T191414Z
UID:10004726-1829149200-1829152800@lecanton.com.br
SUMMARY:Futebol
DESCRIPTION:Uma atividade clássica e cheia de energia para quem gosta de esporte e competição saudável! O futebol é ideal para reunir participantes em partidas dinâmicas\, promovendo integração\, movimento e momentos de diversão em grupo. Exclusivo para adultos maiores de 18 anos.O evento pode sofrer alterações de data\, local ou cancelamento sem aviso prévio.
URL:https://lecanton.com.br/evento/futebol/2027-12-18/
LOCATION:Campo/Society
CATEGORIES:Adultos acima de 18 anos
ATTACH;FMTTYPE=image/jpeg:https://lecanton.com.br/wp-content/uploads/2026/04/futebol.jpg
END:VEVENT
BEGIN:VEVENT
DTSTART;TZID=America/Sao_Paulo:20271223T170000
DTEND;TZID=America/Sao_Paulo:20271223T180000
DTSTAMP:20260422T074934
CREATED:20260414T191414Z
LAST-MODIFIED:20260414T191414Z
UID:10004727-1829581200-1829584800@lecanton.com.br
SUMMARY:Futebol
DESCRIPTION:Uma atividade clássica e cheia de energia para quem gosta de esporte e competição saudável! O futebol é ideal para reunir participantes em partidas dinâmicas\, promovendo integração\, movimento e momentos de diversão em grupo. Exclusivo para adultos maiores de 18 anos.O evento pode sofrer alterações de data\, local ou cancelamento sem aviso prévio.
URL:https://lecanton.com.br/evento/futebol/2027-12-23/
LOCATION:Campo/Society
CATEGORIES:Adultos acima de 18 anos
ATTACH;FMTTYPE=image/jpeg:https://lecanton.com.br/wp-content/uploads/2026/04/futebol.jpg
END:VEVENT
BEGIN:VEVENT
DTSTART;TZID=America/Sao_Paulo:20271225T170000
DTEND;TZID=America/Sao_Paulo:20271225T180000
DTSTAMP:20260422T074934
CREATED:20260414T191414Z
LAST-MODIFIED:20260414T191414Z
UID:10004728-1829754000-1829757600@lecanton.com.br
SUMMARY:Futebol
DESCRIPTION:Uma atividade clássica e cheia de energia para quem gosta de esporte e competição saudável! O futebol é ideal para reunir participantes em partidas dinâmicas\, promovendo integração\, movimento e momentos de diversão em grupo. Exclusivo para adultos maiores de 18 anos.O evento pode sofrer alterações de data\, local ou cancelamento sem aviso prévio.
URL:https://lecanton.com.br/evento/futebol/2027-12-25/
LOCATION:Campo/Society
CATEGORIES:Adultos acima de 18 anos
ATTACH;FMTTYPE=image/jpeg:https://lecanton.com.br/wp-content/uploads/2026/04/futebol.jpg
END:VEVENT
BEGIN:VEVENT
DTSTART;TZID=America/Sao_Paulo:20271230T170000
DTEND;TZID=America/Sao_Paulo:20271230T180000
DTSTAMP:20260422T074934
CREATED:20260414T191414Z
LAST-MODIFIED:20260414T191414Z
UID:10004729-1830186000-1830189600@lecanton.com.br
SUMMARY:Futebol
DESCRIPTION:Uma atividade clássica e cheia de energia para quem gosta de esporte e competição saudável! O futebol é ideal para reunir participantes em partidas dinâmicas\, promovendo integração\, movimento e momentos de diversão em grupo. Exclusivo para adultos maiores de 18 anos.O evento pode sofrer alterações de data\, local ou cancelamento sem aviso prévio.
URL:https://lecanton.com.br/evento/futebol/2027-12-30/
LOCATION:Campo/Society
CATEGORIES:Adultos acima de 18 anos
ATTACH;FMTTYPE=image/jpeg:https://lecanton.com.br/wp-content/uploads/2026/04/futebol.jpg
END:VEVENT
BEGIN:VEVENT
DTSTART;TZID=America/Sao_Paulo:20280101T170000
DTEND;TZID=America/Sao_Paulo:20280101T180000
DTSTAMP:20260422T074934
CREATED:20260414T191414Z
LAST-MODIFIED:20260414T191414Z
UID:10004730-1830358800-1830362400@lecanton.com.br
SUMMARY:Futebol
DESCRIPTION:Uma atividade clássica e cheia de energia para quem gosta de esporte e competição saudável! O futebol é ideal para reunir participantes em partidas dinâmicas\, promovendo integração\, movimento e momentos de diversão em grupo. Exclusivo para adultos maiores de 18 anos.O evento pode sofrer alterações de data\, local ou cancelamento sem aviso prévio.
URL:https://lecanton.com.br/evento/futebol/2028-01-01/
LOCATION:Campo/Society
CATEGORIES:Adultos acima de 18 anos
ATTACH;FMTTYPE=image/jpeg:https://lecanton.com.br/wp-content/uploads/2026/04/futebol.jpg
END:VEVENT
BEGIN:VEVENT
DTSTART;TZID=America/Sao_Paulo:20280106T170000
DTEND;TZID=America/Sao_Paulo:20280106T180000
DTSTAMP:20260422T074934
CREATED:20260414T191414Z
LAST-MODIFIED:20260414T191414Z
UID:10004731-1830790800-1830794400@lecanton.com.br
SUMMARY:Futebol
DESCRIPTION:Uma atividade clássica e cheia de energia para quem gosta de esporte e competição saudável! O futebol é ideal para reunir participantes em partidas dinâmicas\, promovendo integração\, movimento e momentos de diversão em grupo. Exclusivo para adultos maiores de 18 anos.O evento pode sofrer alterações de data\, local ou cancelamento sem aviso prévio.
URL:https://lecanton.com.br/evento/futebol/2028-01-06/
LOCATION:Campo/Society
CATEGORIES:Adultos acima de 18 anos
ATTACH;FMTTYPE=image/jpeg:https://lecanton.com.br/wp-content/uploads/2026/04/futebol.jpg
END:VEVENT
BEGIN:VEVENT
DTSTART;TZID=America/Sao_Paulo:20280108T170000
DTEND;TZID=America/Sao_Paulo:20280108T180000
DTSTAMP:20260422T074934
CREATED:20260414T191414Z
LAST-MODIFIED:20260414T191414Z
UID:10004732-1830963600-1830967200@lecanton.com.br
SUMMARY:Futebol
DESCRIPTION:Uma atividade clássica e cheia de energia para quem gosta de esporte e competição saudável! O futebol é ideal para reunir participantes em partidas dinâmicas\, promovendo integração\, movimento e momentos de diversão em grupo. Exclusivo para adultos maiores de 18 anos.O evento pode sofrer alterações de data\, local ou cancelamento sem aviso prévio.
URL:https://lecanton.com.br/evento/futebol/2028-01-08/
LOCATION:Campo/Society
CATEGORIES:Adultos acima de 18 anos
ATTACH;FMTTYPE=image/jpeg:https://lecanton.com.br/wp-content/uploads/2026/04/futebol.jpg
END:VEVENT
BEGIN:VEVENT
DTSTART;TZID=America/Sao_Paulo:20280113T170000
DTEND;TZID=America/Sao_Paulo:20280113T180000
DTSTAMP:20260422T074934
CREATED:20260414T191414Z
LAST-MODIFIED:20260414T191414Z
UID:10004733-1831395600-1831399200@lecanton.com.br
SUMMARY:Futebol
DESCRIPTION:Uma atividade clássica e cheia de energia para quem gosta de esporte e competição saudável! O futebol é ideal para reunir participantes em partidas dinâmicas\, promovendo integração\, movimento e momentos de diversão em grupo. Exclusivo para adultos maiores de 18 anos.O evento pode sofrer alterações de data\, local ou cancelamento sem aviso prévio.
URL:https://lecanton.com.br/evento/futebol/2028-01-13/
LOCATION:Campo/Society
CATEGORIES:Adultos acima de 18 anos
ATTACH;FMTTYPE=image/jpeg:https://lecanton.com.br/wp-content/uploads/2026/04/futebol.jpg
END:VEVENT
BEGIN:VEVENT
DTSTART;TZID=America/Sao_Paulo:20280115T170000
DTEND;TZID=America/Sao_Paulo:20280115T180000
DTSTAMP:20260422T074934
CREATED:20260414T191414Z
LAST-MODIFIED:20260414T191414Z
UID:10004734-1831568400-1831572000@lecanton.com.br
SUMMARY:Futebol
DESCRIPTION:Uma atividade clássica e cheia de energia para quem gosta de esporte e competição saudável! O futebol é ideal para reunir participantes em partidas dinâmicas\, promovendo integração\, movimento e momentos de diversão em grupo. Exclusivo para adultos maiores de 18 anos.O evento pode sofrer alterações de data\, local ou cancelamento sem aviso prévio.
URL:https://lecanton.com.br/evento/futebol/2028-01-15/
LOCATION:Campo/Society
CATEGORIES:Adultos acima de 18 anos
ATTACH;FMTTYPE=image/jpeg:https://lecanton.com.br/wp-content/uploads/2026/04/futebol.jpg
END:VEVENT
BEGIN:VEVENT
DTSTART;TZID=America/Sao_Paulo:20280120T170000
DTEND;TZID=America/Sao_Paulo:20280120T180000
DTSTAMP:20260422T074934
CREATED:20260414T191414Z
LAST-MODIFIED:20260414T191414Z
UID:10004735-1832000400-1832004000@lecanton.com.br
SUMMARY:Futebol
DESCRIPTION:Uma atividade clássica e cheia de energia para quem gosta de esporte e competição saudável! O futebol é ideal para reunir participantes em partidas dinâmicas\, promovendo integração\, movimento e momentos de diversão em grupo. Exclusivo para adultos maiores de 18 anos.O evento pode sofrer alterações de data\, local ou cancelamento sem aviso prévio.
URL:https://lecanton.com.br/evento/futebol/2028-01-20/
LOCATION:Campo/Society
CATEGORIES:Adultos acima de 18 anos
ATTACH;FMTTYPE=image/jpeg:https://lecanton.com.br/wp-content/uploads/2026/04/futebol.jpg
END:VEVENT
BEGIN:VEVENT
DTSTART;TZID=America/Sao_Paulo:20280122T170000
DTEND;TZID=America/Sao_Paulo:20280122T180000
DTSTAMP:20260422T074934
CREATED:20260414T191414Z
LAST-MODIFIED:20260414T191414Z
UID:10004736-1832173200-1832176800@lecanton.com.br
SUMMARY:Futebol
DESCRIPTION:Uma atividade clássica e cheia de energia para quem gosta de esporte e competição saudável! O futebol é ideal para reunir participantes em partidas dinâmicas\, promovendo integração\, movimento e momentos de diversão em grupo. Exclusivo para adultos maiores de 18 anos.O evento pode sofrer alterações de data\, local ou cancelamento sem aviso prévio.
URL:https://lecanton.com.br/evento/futebol/2028-01-22/
LOCATION:Campo/Society
CATEGORIES:Adultos acima de 18 anos
ATTACH;FMTTYPE=image/jpeg:https://lecanton.com.br/wp-content/uploads/2026/04/futebol.jpg
END:VEVENT
BEGIN:VEVENT
DTSTART;TZID=America/Sao_Paulo:20280127T170000
DTEND;TZID=America/Sao_Paulo:20280127T180000
DTSTAMP:20260422T074934
CREATED:20260414T191414Z
LAST-MODIFIED:20260414T191414Z
UID:10004737-1832605200-1832608800@lecanton.com.br
SUMMARY:Futebol
DESCRIPTION:Uma atividade clássica e cheia de energia para quem gosta de esporte e competição saudável! O futebol é ideal para reunir participantes em partidas dinâmicas\, promovendo integração\, movimento e momentos de diversão em grupo. Exclusivo para adultos maiores de 18 anos.O evento pode sofrer alterações de data\, local ou cancelamento sem aviso prévio.
URL:https://lecanton.com.br/evento/futebol/2028-01-27/
LOCATION:Campo/Society
CATEGORIES:Adultos acima de 18 anos
ATTACH;FMTTYPE=image/jpeg:https://lecanton.com.br/wp-content/uploads/2026/04/futebol.jpg
END:VEVENT
BEGIN:VEVENT
DTSTART;TZID=America/Sao_Paulo:20280129T170000
DTEND;TZID=America/Sao_Paulo:20280129T180000
DTSTAMP:20260422T074934
CREATED:20260414T191414Z
LAST-MODIFIED:20260414T191414Z
UID:10004738-1832778000-1832781600@lecanton.com.br
SUMMARY:Futebol
DESCRIPTION:Uma atividade clássica e cheia de energia para quem gosta de esporte e competição saudável! O futebol é ideal para reunir participantes em partidas dinâmicas\, promovendo integração\, movimento e momentos de diversão em grupo. Exclusivo para adultos maiores de 18 anos.O evento pode sofrer alterações de data\, local ou cancelamento sem aviso prévio.
URL:https://lecanton.com.br/evento/futebol/2028-01-29/
LOCATION:Campo/Society
CATEGORIES:Adultos acima de 18 anos
ATTACH;FMTTYPE=image/jpeg:https://lecanton.com.br/wp-content/uploads/2026/04/futebol.jpg
END:VEVENT
BEGIN:VEVENT
DTSTART;TZID=America/Sao_Paulo:20280203T170000
DTEND;TZID=America/Sao_Paulo:20280203T180000
DTSTAMP:20260422T074934
CREATED:20260414T191414Z
LAST-MODIFIED:20260414T191414Z
UID:10004739-1833210000-1833213600@lecanton.com.br
SUMMARY:Futebol
DESCRIPTION:Uma atividade clássica e cheia de energia para quem gosta de esporte e competição saudável! O futebol é ideal para reunir participantes em partidas dinâmicas\, promovendo integração\, movimento e momentos de diversão em grupo. Exclusivo para adultos maiores de 18 anos.O evento pode sofrer alterações de data\, local ou cancelamento sem aviso prévio.
URL:https://lecanton.com.br/evento/futebol/2028-02-03/
LOCATION:Campo/Society
CATEGORIES:Adultos acima de 18 anos
ATTACH;FMTTYPE=image/jpeg:https://lecanton.com.br/wp-content/uploads/2026/04/futebol.jpg
END:VEVENT
BEGIN:VEVENT
DTSTART;TZID=America/Sao_Paulo:20280205T170000
DTEND;TZID=America/Sao_Paulo:20280205T180000
DTSTAMP:20260422T074934
CREATED:20260414T191414Z
LAST-MODIFIED:20260414T191414Z
UID:10004740-1833382800-1833386400@lecanton.com.br
SUMMARY:Futebol
DESCRIPTION:Uma atividade clássica e cheia de energia para quem gosta de esporte e competição saudável! O futebol é ideal para reunir participantes em partidas dinâmicas\, promovendo integração\, movimento e momentos de diversão em grupo. Exclusivo para adultos maiores de 18 anos.O evento pode sofrer alterações de data\, local ou cancelamento sem aviso prévio.
URL:https://lecanton.com.br/evento/futebol/2028-02-05/
LOCATION:Campo/Society
CATEGORIES:Adultos acima de 18 anos
ATTACH;FMTTYPE=image/jpeg:https://lecanton.com.br/wp-content/uploads/2026/04/futebol.jpg
END:VEVENT
BEGIN:VEVENT
DTSTART;TZID=America/Sao_Paulo:20280210T170000
DTEND;TZID=America/Sao_Paulo:20280210T180000
DTSTAMP:20260422T074934
CREATED:20260414T191414Z
LAST-MODIFIED:20260414T191414Z
UID:10004741-1833814800-1833818400@lecanton.com.br
SUMMARY:Futebol
DESCRIPTION:Uma atividade clássica e cheia de energia para quem gosta de esporte e competição saudável! O futebol é ideal para reunir participantes em partidas dinâmicas\, promovendo integração\, movimento e momentos de diversão em grupo. Exclusivo para adultos maiores de 18 anos.O evento pode sofrer alterações de data\, local ou cancelamento sem aviso prévio.
URL:https://lecanton.com.br/evento/futebol/2028-02-10/
LOCATION:Campo/Society
CATEGORIES:Adultos acima de 18 anos
ATTACH;FMTTYPE=image/jpeg:https://lecanton.com.br/wp-content/uploads/2026/04/futebol.jpg
END:VEVENT
BEGIN:VEVENT
DTSTART;TZID=America/Sao_Paulo:20280212T170000
DTEND;TZID=America/Sao_Paulo:20280212T180000
DTSTAMP:20260422T074934
CREATED:20260414T191414Z
LAST-MODIFIED:20260414T191414Z
UID:10004742-1833987600-1833991200@lecanton.com.br
SUMMARY:Futebol
DESCRIPTION:Uma atividade clássica e cheia de energia para quem gosta de esporte e competição saudável! O futebol é ideal para reunir participantes em partidas dinâmicas\, promovendo integração\, movimento e momentos de diversão em grupo. Exclusivo para adultos maiores de 18 anos.O evento pode sofrer alterações de data\, local ou cancelamento sem aviso prévio.
URL:https://lecanton.com.br/evento/futebol/2028-02-12/
LOCATION:Campo/Society
CATEGORIES:Adultos acima de 18 anos
ATTACH;FMTTYPE=image/jpeg:https://lecanton.com.br/wp-content/uploads/2026/04/futebol.jpg
END:VEVENT
BEGIN:VEVENT
DTSTART;TZID=America/Sao_Paulo:20280217T170000
DTEND;TZID=America/Sao_Paulo:20280217T180000
DTSTAMP:20260422T074934
CREATED:20260414T191414Z
LAST-MODIFIED:20260414T191414Z
UID:10004743-1834419600-1834423200@lecanton.com.br
SUMMARY:Futebol
DESCRIPTION:Uma atividade clássica e cheia de energia para quem gosta de esporte e competição saudável! O futebol é ideal para reunir participantes em partidas dinâmicas\, promovendo integração\, movimento e momentos de diversão em grupo. Exclusivo para adultos maiores de 18 anos.O evento pode sofrer alterações de data\, local ou cancelamento sem aviso prévio.
URL:https://lecanton.com.br/evento/futebol/2028-02-17/
LOCATION:Campo/Society
CATEGORIES:Adultos acima de 18 anos
ATTACH;FMTTYPE=image/jpeg:https://lecanton.com.br/wp-content/uploads/2026/04/futebol.jpg
END:VEVENT
BEGIN:VEVENT
DTSTART;TZID=America/Sao_Paulo:20280219T170000
DTEND;TZID=America/Sao_Paulo:20280219T180000
DTSTAMP:20260422T074934
CREATED:20260414T191414Z
LAST-MODIFIED:20260414T191414Z
UID:10004744-1834592400-1834596000@lecanton.com.br
SUMMARY:Futebol
DESCRIPTION:Uma atividade clássica e cheia de energia para quem gosta de esporte e competição saudável! O futebol é ideal para reunir participantes em partidas dinâmicas\, promovendo integração\, movimento e momentos de diversão em grupo. Exclusivo para adultos maiores de 18 anos.O evento pode sofrer alterações de data\, local ou cancelamento sem aviso prévio.
URL:https://lecanton.com.br/evento/futebol/2028-02-19/
LOCATION:Campo/Society
CATEGORIES:Adultos acima de 18 anos
ATTACH;FMTTYPE=image/jpeg:https://lecanton.com.br/wp-content/uploads/2026/04/futebol.jpg
END:VEVENT
BEGIN:VEVENT
DTSTART;TZID=America/Sao_Paulo:20280224T170000
DTEND;TZID=America/Sao_Paulo:20280224T180000
DTSTAMP:20260422T074934
CREATED:20260414T191414Z
LAST-MODIFIED:20260414T191414Z
UID:10004745-1835024400-1835028000@lecanton.com.br
SUMMARY:Futebol
DESCRIPTION:Uma atividade clássica e cheia de energia para quem gosta de esporte e competição saudável! O futebol é ideal para reunir participantes em partidas dinâmicas\, promovendo integração\, movimento e momentos de diversão em grupo. Exclusivo para adultos maiores de 18 anos.O evento pode sofrer alterações de data\, local ou cancelamento sem aviso prévio.
URL:https://lecanton.com.br/evento/futebol/2028-02-24/
LOCATION:Campo/Society
CATEGORIES:Adultos acima de 18 anos
ATTACH;FMTTYPE=image/jpeg:https://lecanton.com.br/wp-content/uploads/2026/04/futebol.jpg
END:VEVENT
BEGIN:VEVENT
DTSTART;TZID=America/Sao_Paulo:20280226T170000
DTEND;TZID=America/Sao_Paulo:20280226T180000
DTSTAMP:20260422T074934
CREATED:20260414T191414Z
LAST-MODIFIED:20260414T191414Z
UID:10004746-1835197200-1835200800@lecanton.com.br
SUMMARY:Futebol
DESCRIPTION:Uma atividade clássica e cheia de energia para quem gosta de esporte e competição saudável! O futebol é ideal para reunir participantes em partidas dinâmicas\, promovendo integração\, movimento e momentos de diversão em grupo. Exclusivo para adultos maiores de 18 anos.O evento pode sofrer alterações de data\, local ou cancelamento sem aviso prévio.
URL:https://lecanton.com.br/evento/futebol/2028-02-26/
LOCATION:Campo/Society
CATEGORIES:Adultos acima de 18 anos
ATTACH;FMTTYPE=image/jpeg:https://lecanton.com.br/wp-content/uploads/2026/04/futebol.jpg
END:VEVENT
BEGIN:VEVENT
DTSTART;TZID=America/Sao_Paulo:20280302T170000
DTEND;TZID=America/Sao_Paulo:20280302T180000
DTSTAMP:20260422T074934
CREATED:20260414T191414Z
LAST-MODIFIED:20260414T191414Z
UID:10004747-1835629200-1835632800@lecanton.com.br
SUMMARY:Futebol
DESCRIPTION:Uma atividade clássica e cheia de energia para quem gosta de esporte e competição saudável! O futebol é ideal para reunir participantes em partidas dinâmicas\, promovendo integração\, movimento e momentos de diversão em grupo. Exclusivo para adultos maiores de 18 anos.O evento pode sofrer alterações de data\, local ou cancelamento sem aviso prévio.
URL:https://lecanton.com.br/evento/futebol/2028-03-02/
LOCATION:Campo/Society
CATEGORIES:Adultos acima de 18 anos
ATTACH;FMTTYPE=image/jpeg:https://lecanton.com.br/wp-content/uploads/2026/04/futebol.jpg
END:VEVENT
BEGIN:VEVENT
DTSTART;TZID=America/Sao_Paulo:20280304T170000
DTEND;TZID=America/Sao_Paulo:20280304T180000
DTSTAMP:20260422T074934
CREATED:20260414T191414Z
LAST-MODIFIED:20260414T191414Z
UID:10004748-1835802000-1835805600@lecanton.com.br
SUMMARY:Futebol
DESCRIPTION:Uma atividade clássica e cheia de energia para quem gosta de esporte e competição saudável! O futebol é ideal para reunir participantes em partidas dinâmicas\, promovendo integração\, movimento e momentos de diversão em grupo. Exclusivo para adultos maiores de 18 anos.O evento pode sofrer alterações de data\, local ou cancelamento sem aviso prévio.
URL:https://lecanton.com.br/evento/futebol/2028-03-04/
LOCATION:Campo/Society
CATEGORIES:Adultos acima de 18 anos
ATTACH;FMTTYPE=image/jpeg:https://lecanton.com.br/wp-content/uploads/2026/04/futebol.jpg
END:VEVENT
END:VCALENDAR