BEGIN:VCALENDAR
VERSION:2.0
PRODID:-//Le Canton | O melhor Resort da Serra - ECPv6.15.17.1//NONSGML v1.0//EN
CALSCALE:GREGORIAN
METHOD:PUBLISH
X-WR-CALNAME:Le Canton | O melhor Resort da Serra
X-ORIGINAL-URL:https://lecanton.com.br
X-WR-CALDESC:Eventos para Le Canton | O melhor Resort da Serra
REFRESH-INTERVAL;VALUE=DURATION:PT1H
X-Robots-Tag:noindex
X-PUBLISHED-TTL:PT1H
BEGIN:VTIMEZONE
TZID:America/Sao_Paulo
BEGIN:STANDARD
TZOFFSETFROM:-0300
TZOFFSETTO:-0300
TZNAME:-03
DTSTART:20250101T000000
END:STANDARD
END:VTIMEZONE
BEGIN:VEVENT
DTSTART;TZID=America/Sao_Paulo:20260427T102000
DTEND;TZID=America/Sao_Paulo:20260427T112000
DTSTAMP:20260424T231951
CREATED:20260424T212253Z
LAST-MODIFIED:20260424T212253Z
UID:10035606-1777285200-1777288800@lecanton.com.br
SUMMARY:Caos
DESCRIPTION:Uma atividade em equipe cheia de desafios para crianças de 5 a 8 anos! Os participantes exploram um quadro numerado\, onde cada número corresponde a uma imagem e um desafio diferente. Ao encontrar e cumprir as tarefas\, os grupos acumulam pontos em uma disputa dinâmica e divertida até alcançar a pontuação final.O evento pode sofrer alterações de data\, local ou cancelamento sem aviso prévio.
URL:https://lecanton.com.br/evento/caos/2026-04-27/
LOCATION:Canton Ville
CATEGORIES:Crianças de 5 a 8 anos
ATTACH;FMTTYPE=image/jpeg:https://lecanton.com.br/wp-content/uploads/2026/04/Caos.jpg
END:VEVENT
BEGIN:VEVENT
DTSTART;TZID=America/Sao_Paulo:20260504T102000
DTEND;TZID=America/Sao_Paulo:20260504T112000
DTSTAMP:20260424T231951
CREATED:20260424T212253Z
LAST-MODIFIED:20260424T212253Z
UID:10035607-1777890000-1777893600@lecanton.com.br
SUMMARY:Caos
DESCRIPTION:Uma atividade em equipe cheia de desafios para crianças de 5 a 8 anos! Os participantes exploram um quadro numerado\, onde cada número corresponde a uma imagem e um desafio diferente. Ao encontrar e cumprir as tarefas\, os grupos acumulam pontos em uma disputa dinâmica e divertida até alcançar a pontuação final.O evento pode sofrer alterações de data\, local ou cancelamento sem aviso prévio.
URL:https://lecanton.com.br/evento/caos/2026-05-04/
LOCATION:Canton Ville
CATEGORIES:Crianças de 5 a 8 anos
ATTACH;FMTTYPE=image/jpeg:https://lecanton.com.br/wp-content/uploads/2026/04/Caos.jpg
END:VEVENT
BEGIN:VEVENT
DTSTART;TZID=America/Sao_Paulo:20260511T102000
DTEND;TZID=America/Sao_Paulo:20260511T112000
DTSTAMP:20260424T231951
CREATED:20260424T212253Z
LAST-MODIFIED:20260424T212253Z
UID:10035608-1778494800-1778498400@lecanton.com.br
SUMMARY:Caos
DESCRIPTION:Uma atividade em equipe cheia de desafios para crianças de 5 a 8 anos! Os participantes exploram um quadro numerado\, onde cada número corresponde a uma imagem e um desafio diferente. Ao encontrar e cumprir as tarefas\, os grupos acumulam pontos em uma disputa dinâmica e divertida até alcançar a pontuação final.O evento pode sofrer alterações de data\, local ou cancelamento sem aviso prévio.
URL:https://lecanton.com.br/evento/caos/2026-05-11/
LOCATION:Canton Ville
CATEGORIES:Crianças de 5 a 8 anos
ATTACH;FMTTYPE=image/jpeg:https://lecanton.com.br/wp-content/uploads/2026/04/Caos.jpg
END:VEVENT
BEGIN:VEVENT
DTSTART;TZID=America/Sao_Paulo:20260518T102000
DTEND;TZID=America/Sao_Paulo:20260518T112000
DTSTAMP:20260424T231951
CREATED:20260424T212253Z
LAST-MODIFIED:20260424T212253Z
UID:10035609-1779099600-1779103200@lecanton.com.br
SUMMARY:Caos
DESCRIPTION:Uma atividade em equipe cheia de desafios para crianças de 5 a 8 anos! Os participantes exploram um quadro numerado\, onde cada número corresponde a uma imagem e um desafio diferente. Ao encontrar e cumprir as tarefas\, os grupos acumulam pontos em uma disputa dinâmica e divertida até alcançar a pontuação final.O evento pode sofrer alterações de data\, local ou cancelamento sem aviso prévio.
URL:https://lecanton.com.br/evento/caos/2026-05-18/
LOCATION:Canton Ville
CATEGORIES:Crianças de 5 a 8 anos
ATTACH;FMTTYPE=image/jpeg:https://lecanton.com.br/wp-content/uploads/2026/04/Caos.jpg
END:VEVENT
BEGIN:VEVENT
DTSTART;TZID=America/Sao_Paulo:20260525T102000
DTEND;TZID=America/Sao_Paulo:20260525T112000
DTSTAMP:20260424T231951
CREATED:20260424T212253Z
LAST-MODIFIED:20260424T212253Z
UID:10035610-1779704400-1779708000@lecanton.com.br
SUMMARY:Caos
DESCRIPTION:Uma atividade em equipe cheia de desafios para crianças de 5 a 8 anos! Os participantes exploram um quadro numerado\, onde cada número corresponde a uma imagem e um desafio diferente. Ao encontrar e cumprir as tarefas\, os grupos acumulam pontos em uma disputa dinâmica e divertida até alcançar a pontuação final.O evento pode sofrer alterações de data\, local ou cancelamento sem aviso prévio.
URL:https://lecanton.com.br/evento/caos/2026-05-25/
LOCATION:Canton Ville
CATEGORIES:Crianças de 5 a 8 anos
ATTACH;FMTTYPE=image/jpeg:https://lecanton.com.br/wp-content/uploads/2026/04/Caos.jpg
END:VEVENT
BEGIN:VEVENT
DTSTART;TZID=America/Sao_Paulo:20260601T102000
DTEND;TZID=America/Sao_Paulo:20260601T112000
DTSTAMP:20260424T231951
CREATED:20260424T212253Z
LAST-MODIFIED:20260424T212253Z
UID:10035611-1780309200-1780312800@lecanton.com.br
SUMMARY:Caos
DESCRIPTION:Uma atividade em equipe cheia de desafios para crianças de 5 a 8 anos! Os participantes exploram um quadro numerado\, onde cada número corresponde a uma imagem e um desafio diferente. Ao encontrar e cumprir as tarefas\, os grupos acumulam pontos em uma disputa dinâmica e divertida até alcançar a pontuação final.O evento pode sofrer alterações de data\, local ou cancelamento sem aviso prévio.
URL:https://lecanton.com.br/evento/caos/2026-06-01/
LOCATION:Canton Ville
CATEGORIES:Crianças de 5 a 8 anos
ATTACH;FMTTYPE=image/jpeg:https://lecanton.com.br/wp-content/uploads/2026/04/Caos.jpg
END:VEVENT
BEGIN:VEVENT
DTSTART;TZID=America/Sao_Paulo:20260608T102000
DTEND;TZID=America/Sao_Paulo:20260608T112000
DTSTAMP:20260424T231951
CREATED:20260424T212253Z
LAST-MODIFIED:20260424T212253Z
UID:10035612-1780914000-1780917600@lecanton.com.br
SUMMARY:Caos
DESCRIPTION:Uma atividade em equipe cheia de desafios para crianças de 5 a 8 anos! Os participantes exploram um quadro numerado\, onde cada número corresponde a uma imagem e um desafio diferente. Ao encontrar e cumprir as tarefas\, os grupos acumulam pontos em uma disputa dinâmica e divertida até alcançar a pontuação final.O evento pode sofrer alterações de data\, local ou cancelamento sem aviso prévio.
URL:https://lecanton.com.br/evento/caos/2026-06-08/
LOCATION:Canton Ville
CATEGORIES:Crianças de 5 a 8 anos
ATTACH;FMTTYPE=image/jpeg:https://lecanton.com.br/wp-content/uploads/2026/04/Caos.jpg
END:VEVENT
BEGIN:VEVENT
DTSTART;TZID=America/Sao_Paulo:20260615T102000
DTEND;TZID=America/Sao_Paulo:20260615T112000
DTSTAMP:20260424T231951
CREATED:20260424T212253Z
LAST-MODIFIED:20260424T212253Z
UID:10035613-1781518800-1781522400@lecanton.com.br
SUMMARY:Caos
DESCRIPTION:Uma atividade em equipe cheia de desafios para crianças de 5 a 8 anos! Os participantes exploram um quadro numerado\, onde cada número corresponde a uma imagem e um desafio diferente. Ao encontrar e cumprir as tarefas\, os grupos acumulam pontos em uma disputa dinâmica e divertida até alcançar a pontuação final.O evento pode sofrer alterações de data\, local ou cancelamento sem aviso prévio.
URL:https://lecanton.com.br/evento/caos/2026-06-15/
LOCATION:Canton Ville
CATEGORIES:Crianças de 5 a 8 anos
ATTACH;FMTTYPE=image/jpeg:https://lecanton.com.br/wp-content/uploads/2026/04/Caos.jpg
END:VEVENT
BEGIN:VEVENT
DTSTART;TZID=America/Sao_Paulo:20260622T102000
DTEND;TZID=America/Sao_Paulo:20260622T112000
DTSTAMP:20260424T231951
CREATED:20260424T212253Z
LAST-MODIFIED:20260424T212253Z
UID:10035614-1782123600-1782127200@lecanton.com.br
SUMMARY:Caos
DESCRIPTION:Uma atividade em equipe cheia de desafios para crianças de 5 a 8 anos! Os participantes exploram um quadro numerado\, onde cada número corresponde a uma imagem e um desafio diferente. Ao encontrar e cumprir as tarefas\, os grupos acumulam pontos em uma disputa dinâmica e divertida até alcançar a pontuação final.O evento pode sofrer alterações de data\, local ou cancelamento sem aviso prévio.
URL:https://lecanton.com.br/evento/caos/2026-06-22/
LOCATION:Canton Ville
CATEGORIES:Crianças de 5 a 8 anos
ATTACH;FMTTYPE=image/jpeg:https://lecanton.com.br/wp-content/uploads/2026/04/Caos.jpg
END:VEVENT
BEGIN:VEVENT
DTSTART;TZID=America/Sao_Paulo:20260629T102000
DTEND;TZID=America/Sao_Paulo:20260629T112000
DTSTAMP:20260424T231951
CREATED:20260424T212253Z
LAST-MODIFIED:20260424T212253Z
UID:10035615-1782728400-1782732000@lecanton.com.br
SUMMARY:Caos
DESCRIPTION:Uma atividade em equipe cheia de desafios para crianças de 5 a 8 anos! Os participantes exploram um quadro numerado\, onde cada número corresponde a uma imagem e um desafio diferente. Ao encontrar e cumprir as tarefas\, os grupos acumulam pontos em uma disputa dinâmica e divertida até alcançar a pontuação final.O evento pode sofrer alterações de data\, local ou cancelamento sem aviso prévio.
URL:https://lecanton.com.br/evento/caos/2026-06-29/
LOCATION:Canton Ville
CATEGORIES:Crianças de 5 a 8 anos
ATTACH;FMTTYPE=image/jpeg:https://lecanton.com.br/wp-content/uploads/2026/04/Caos.jpg
END:VEVENT
BEGIN:VEVENT
DTSTART;TZID=America/Sao_Paulo:20260706T102000
DTEND;TZID=America/Sao_Paulo:20260706T112000
DTSTAMP:20260424T231951
CREATED:20260424T212253Z
LAST-MODIFIED:20260424T212253Z
UID:10035616-1783333200-1783336800@lecanton.com.br
SUMMARY:Caos
DESCRIPTION:Uma atividade em equipe cheia de desafios para crianças de 5 a 8 anos! Os participantes exploram um quadro numerado\, onde cada número corresponde a uma imagem e um desafio diferente. Ao encontrar e cumprir as tarefas\, os grupos acumulam pontos em uma disputa dinâmica e divertida até alcançar a pontuação final.O evento pode sofrer alterações de data\, local ou cancelamento sem aviso prévio.
URL:https://lecanton.com.br/evento/caos/2026-07-06/
LOCATION:Canton Ville
CATEGORIES:Crianças de 5 a 8 anos
ATTACH;FMTTYPE=image/jpeg:https://lecanton.com.br/wp-content/uploads/2026/04/Caos.jpg
END:VEVENT
BEGIN:VEVENT
DTSTART;TZID=America/Sao_Paulo:20260713T102000
DTEND;TZID=America/Sao_Paulo:20260713T112000
DTSTAMP:20260424T231951
CREATED:20260424T212253Z
LAST-MODIFIED:20260424T212253Z
UID:10035617-1783938000-1783941600@lecanton.com.br
SUMMARY:Caos
DESCRIPTION:Uma atividade em equipe cheia de desafios para crianças de 5 a 8 anos! Os participantes exploram um quadro numerado\, onde cada número corresponde a uma imagem e um desafio diferente. Ao encontrar e cumprir as tarefas\, os grupos acumulam pontos em uma disputa dinâmica e divertida até alcançar a pontuação final.O evento pode sofrer alterações de data\, local ou cancelamento sem aviso prévio.
URL:https://lecanton.com.br/evento/caos/2026-07-13/
LOCATION:Canton Ville
CATEGORIES:Crianças de 5 a 8 anos
ATTACH;FMTTYPE=image/jpeg:https://lecanton.com.br/wp-content/uploads/2026/04/Caos.jpg
END:VEVENT
BEGIN:VEVENT
DTSTART;TZID=America/Sao_Paulo:20260720T102000
DTEND;TZID=America/Sao_Paulo:20260720T112000
DTSTAMP:20260424T231951
CREATED:20260424T212253Z
LAST-MODIFIED:20260424T212253Z
UID:10035618-1784542800-1784546400@lecanton.com.br
SUMMARY:Caos
DESCRIPTION:Uma atividade em equipe cheia de desafios para crianças de 5 a 8 anos! Os participantes exploram um quadro numerado\, onde cada número corresponde a uma imagem e um desafio diferente. Ao encontrar e cumprir as tarefas\, os grupos acumulam pontos em uma disputa dinâmica e divertida até alcançar a pontuação final.O evento pode sofrer alterações de data\, local ou cancelamento sem aviso prévio.
URL:https://lecanton.com.br/evento/caos/2026-07-20/
LOCATION:Canton Ville
CATEGORIES:Crianças de 5 a 8 anos
ATTACH;FMTTYPE=image/jpeg:https://lecanton.com.br/wp-content/uploads/2026/04/Caos.jpg
END:VEVENT
BEGIN:VEVENT
DTSTART;TZID=America/Sao_Paulo:20260727T102000
DTEND;TZID=America/Sao_Paulo:20260727T112000
DTSTAMP:20260424T231951
CREATED:20260424T212253Z
LAST-MODIFIED:20260424T212253Z
UID:10035619-1785147600-1785151200@lecanton.com.br
SUMMARY:Caos
DESCRIPTION:Uma atividade em equipe cheia de desafios para crianças de 5 a 8 anos! Os participantes exploram um quadro numerado\, onde cada número corresponde a uma imagem e um desafio diferente. Ao encontrar e cumprir as tarefas\, os grupos acumulam pontos em uma disputa dinâmica e divertida até alcançar a pontuação final.O evento pode sofrer alterações de data\, local ou cancelamento sem aviso prévio.
URL:https://lecanton.com.br/evento/caos/2026-07-27/
LOCATION:Canton Ville
CATEGORIES:Crianças de 5 a 8 anos
ATTACH;FMTTYPE=image/jpeg:https://lecanton.com.br/wp-content/uploads/2026/04/Caos.jpg
END:VEVENT
BEGIN:VEVENT
DTSTART;TZID=America/Sao_Paulo:20260803T102000
DTEND;TZID=America/Sao_Paulo:20260803T112000
DTSTAMP:20260424T231951
CREATED:20260424T212253Z
LAST-MODIFIED:20260424T212253Z
UID:10035620-1785752400-1785756000@lecanton.com.br
SUMMARY:Caos
DESCRIPTION:Uma atividade em equipe cheia de desafios para crianças de 5 a 8 anos! Os participantes exploram um quadro numerado\, onde cada número corresponde a uma imagem e um desafio diferente. Ao encontrar e cumprir as tarefas\, os grupos acumulam pontos em uma disputa dinâmica e divertida até alcançar a pontuação final.O evento pode sofrer alterações de data\, local ou cancelamento sem aviso prévio.
URL:https://lecanton.com.br/evento/caos/2026-08-03/
LOCATION:Canton Ville
CATEGORIES:Crianças de 5 a 8 anos
ATTACH;FMTTYPE=image/jpeg:https://lecanton.com.br/wp-content/uploads/2026/04/Caos.jpg
END:VEVENT
BEGIN:VEVENT
DTSTART;TZID=America/Sao_Paulo:20260810T102000
DTEND;TZID=America/Sao_Paulo:20260810T112000
DTSTAMP:20260424T231951
CREATED:20260424T212253Z
LAST-MODIFIED:20260424T212253Z
UID:10035621-1786357200-1786360800@lecanton.com.br
SUMMARY:Caos
DESCRIPTION:Uma atividade em equipe cheia de desafios para crianças de 5 a 8 anos! Os participantes exploram um quadro numerado\, onde cada número corresponde a uma imagem e um desafio diferente. Ao encontrar e cumprir as tarefas\, os grupos acumulam pontos em uma disputa dinâmica e divertida até alcançar a pontuação final.O evento pode sofrer alterações de data\, local ou cancelamento sem aviso prévio.
URL:https://lecanton.com.br/evento/caos/2026-08-10/
LOCATION:Canton Ville
CATEGORIES:Crianças de 5 a 8 anos
ATTACH;FMTTYPE=image/jpeg:https://lecanton.com.br/wp-content/uploads/2026/04/Caos.jpg
END:VEVENT
BEGIN:VEVENT
DTSTART;TZID=America/Sao_Paulo:20260817T102000
DTEND;TZID=America/Sao_Paulo:20260817T112000
DTSTAMP:20260424T231951
CREATED:20260424T212253Z
LAST-MODIFIED:20260424T212253Z
UID:10035622-1786962000-1786965600@lecanton.com.br
SUMMARY:Caos
DESCRIPTION:Uma atividade em equipe cheia de desafios para crianças de 5 a 8 anos! Os participantes exploram um quadro numerado\, onde cada número corresponde a uma imagem e um desafio diferente. Ao encontrar e cumprir as tarefas\, os grupos acumulam pontos em uma disputa dinâmica e divertida até alcançar a pontuação final.O evento pode sofrer alterações de data\, local ou cancelamento sem aviso prévio.
URL:https://lecanton.com.br/evento/caos/2026-08-17/
LOCATION:Canton Ville
CATEGORIES:Crianças de 5 a 8 anos
ATTACH;FMTTYPE=image/jpeg:https://lecanton.com.br/wp-content/uploads/2026/04/Caos.jpg
END:VEVENT
BEGIN:VEVENT
DTSTART;TZID=America/Sao_Paulo:20260824T102000
DTEND;TZID=America/Sao_Paulo:20260824T112000
DTSTAMP:20260424T231951
CREATED:20260424T212253Z
LAST-MODIFIED:20260424T212253Z
UID:10035623-1787566800-1787570400@lecanton.com.br
SUMMARY:Caos
DESCRIPTION:Uma atividade em equipe cheia de desafios para crianças de 5 a 8 anos! Os participantes exploram um quadro numerado\, onde cada número corresponde a uma imagem e um desafio diferente. Ao encontrar e cumprir as tarefas\, os grupos acumulam pontos em uma disputa dinâmica e divertida até alcançar a pontuação final.O evento pode sofrer alterações de data\, local ou cancelamento sem aviso prévio.
URL:https://lecanton.com.br/evento/caos/2026-08-24/
LOCATION:Canton Ville
CATEGORIES:Crianças de 5 a 8 anos
ATTACH;FMTTYPE=image/jpeg:https://lecanton.com.br/wp-content/uploads/2026/04/Caos.jpg
END:VEVENT
BEGIN:VEVENT
DTSTART;TZID=America/Sao_Paulo:20260831T102000
DTEND;TZID=America/Sao_Paulo:20260831T112000
DTSTAMP:20260424T231951
CREATED:20260424T212253Z
LAST-MODIFIED:20260424T212253Z
UID:10035624-1788171600-1788175200@lecanton.com.br
SUMMARY:Caos
DESCRIPTION:Uma atividade em equipe cheia de desafios para crianças de 5 a 8 anos! Os participantes exploram um quadro numerado\, onde cada número corresponde a uma imagem e um desafio diferente. Ao encontrar e cumprir as tarefas\, os grupos acumulam pontos em uma disputa dinâmica e divertida até alcançar a pontuação final.O evento pode sofrer alterações de data\, local ou cancelamento sem aviso prévio.
URL:https://lecanton.com.br/evento/caos/2026-08-31/
LOCATION:Canton Ville
CATEGORIES:Crianças de 5 a 8 anos
ATTACH;FMTTYPE=image/jpeg:https://lecanton.com.br/wp-content/uploads/2026/04/Caos.jpg
END:VEVENT
BEGIN:VEVENT
DTSTART;TZID=America/Sao_Paulo:20260907T102000
DTEND;TZID=America/Sao_Paulo:20260907T112000
DTSTAMP:20260424T231951
CREATED:20260424T212253Z
LAST-MODIFIED:20260424T212253Z
UID:10035625-1788776400-1788780000@lecanton.com.br
SUMMARY:Caos
DESCRIPTION:Uma atividade em equipe cheia de desafios para crianças de 5 a 8 anos! Os participantes exploram um quadro numerado\, onde cada número corresponde a uma imagem e um desafio diferente. Ao encontrar e cumprir as tarefas\, os grupos acumulam pontos em uma disputa dinâmica e divertida até alcançar a pontuação final.O evento pode sofrer alterações de data\, local ou cancelamento sem aviso prévio.
URL:https://lecanton.com.br/evento/caos/2026-09-07/
LOCATION:Canton Ville
CATEGORIES:Crianças de 5 a 8 anos
ATTACH;FMTTYPE=image/jpeg:https://lecanton.com.br/wp-content/uploads/2026/04/Caos.jpg
END:VEVENT
BEGIN:VEVENT
DTSTART;TZID=America/Sao_Paulo:20260914T102000
DTEND;TZID=America/Sao_Paulo:20260914T112000
DTSTAMP:20260424T231951
CREATED:20260424T212253Z
LAST-MODIFIED:20260424T212253Z
UID:10035626-1789381200-1789384800@lecanton.com.br
SUMMARY:Caos
DESCRIPTION:Uma atividade em equipe cheia de desafios para crianças de 5 a 8 anos! Os participantes exploram um quadro numerado\, onde cada número corresponde a uma imagem e um desafio diferente. Ao encontrar e cumprir as tarefas\, os grupos acumulam pontos em uma disputa dinâmica e divertida até alcançar a pontuação final.O evento pode sofrer alterações de data\, local ou cancelamento sem aviso prévio.
URL:https://lecanton.com.br/evento/caos/2026-09-14/
LOCATION:Canton Ville
CATEGORIES:Crianças de 5 a 8 anos
ATTACH;FMTTYPE=image/jpeg:https://lecanton.com.br/wp-content/uploads/2026/04/Caos.jpg
END:VEVENT
BEGIN:VEVENT
DTSTART;TZID=America/Sao_Paulo:20260921T102000
DTEND;TZID=America/Sao_Paulo:20260921T112000
DTSTAMP:20260424T231951
CREATED:20260424T212253Z
LAST-MODIFIED:20260424T212253Z
UID:10035627-1789986000-1789989600@lecanton.com.br
SUMMARY:Caos
DESCRIPTION:Uma atividade em equipe cheia de desafios para crianças de 5 a 8 anos! Os participantes exploram um quadro numerado\, onde cada número corresponde a uma imagem e um desafio diferente. Ao encontrar e cumprir as tarefas\, os grupos acumulam pontos em uma disputa dinâmica e divertida até alcançar a pontuação final.O evento pode sofrer alterações de data\, local ou cancelamento sem aviso prévio.
URL:https://lecanton.com.br/evento/caos/2026-09-21/
LOCATION:Canton Ville
CATEGORIES:Crianças de 5 a 8 anos
ATTACH;FMTTYPE=image/jpeg:https://lecanton.com.br/wp-content/uploads/2026/04/Caos.jpg
END:VEVENT
BEGIN:VEVENT
DTSTART;TZID=America/Sao_Paulo:20260928T102000
DTEND;TZID=America/Sao_Paulo:20260928T112000
DTSTAMP:20260424T231951
CREATED:20260424T212253Z
LAST-MODIFIED:20260424T212253Z
UID:10035628-1790590800-1790594400@lecanton.com.br
SUMMARY:Caos
DESCRIPTION:Uma atividade em equipe cheia de desafios para crianças de 5 a 8 anos! Os participantes exploram um quadro numerado\, onde cada número corresponde a uma imagem e um desafio diferente. Ao encontrar e cumprir as tarefas\, os grupos acumulam pontos em uma disputa dinâmica e divertida até alcançar a pontuação final.O evento pode sofrer alterações de data\, local ou cancelamento sem aviso prévio.
URL:https://lecanton.com.br/evento/caos/2026-09-28/
LOCATION:Canton Ville
CATEGORIES:Crianças de 5 a 8 anos
ATTACH;FMTTYPE=image/jpeg:https://lecanton.com.br/wp-content/uploads/2026/04/Caos.jpg
END:VEVENT
BEGIN:VEVENT
DTSTART;TZID=America/Sao_Paulo:20261005T102000
DTEND;TZID=America/Sao_Paulo:20261005T112000
DTSTAMP:20260424T231951
CREATED:20260424T212253Z
LAST-MODIFIED:20260424T212253Z
UID:10035629-1791195600-1791199200@lecanton.com.br
SUMMARY:Caos
DESCRIPTION:Uma atividade em equipe cheia de desafios para crianças de 5 a 8 anos! Os participantes exploram um quadro numerado\, onde cada número corresponde a uma imagem e um desafio diferente. Ao encontrar e cumprir as tarefas\, os grupos acumulam pontos em uma disputa dinâmica e divertida até alcançar a pontuação final.O evento pode sofrer alterações de data\, local ou cancelamento sem aviso prévio.
URL:https://lecanton.com.br/evento/caos/2026-10-05/
LOCATION:Canton Ville
CATEGORIES:Crianças de 5 a 8 anos
ATTACH;FMTTYPE=image/jpeg:https://lecanton.com.br/wp-content/uploads/2026/04/Caos.jpg
END:VEVENT
BEGIN:VEVENT
DTSTART;TZID=America/Sao_Paulo:20261012T102000
DTEND;TZID=America/Sao_Paulo:20261012T112000
DTSTAMP:20260424T231952
CREATED:20260424T212253Z
LAST-MODIFIED:20260424T212253Z
UID:10035630-1791800400-1791804000@lecanton.com.br
SUMMARY:Caos
DESCRIPTION:Uma atividade em equipe cheia de desafios para crianças de 5 a 8 anos! Os participantes exploram um quadro numerado\, onde cada número corresponde a uma imagem e um desafio diferente. Ao encontrar e cumprir as tarefas\, os grupos acumulam pontos em uma disputa dinâmica e divertida até alcançar a pontuação final.O evento pode sofrer alterações de data\, local ou cancelamento sem aviso prévio.
URL:https://lecanton.com.br/evento/caos/2026-10-12/
LOCATION:Canton Ville
CATEGORIES:Crianças de 5 a 8 anos
ATTACH;FMTTYPE=image/jpeg:https://lecanton.com.br/wp-content/uploads/2026/04/Caos.jpg
END:VEVENT
BEGIN:VEVENT
DTSTART;TZID=America/Sao_Paulo:20261019T102000
DTEND;TZID=America/Sao_Paulo:20261019T112000
DTSTAMP:20260424T231952
CREATED:20260424T212253Z
LAST-MODIFIED:20260424T212253Z
UID:10035631-1792405200-1792408800@lecanton.com.br
SUMMARY:Caos
DESCRIPTION:Uma atividade em equipe cheia de desafios para crianças de 5 a 8 anos! Os participantes exploram um quadro numerado\, onde cada número corresponde a uma imagem e um desafio diferente. Ao encontrar e cumprir as tarefas\, os grupos acumulam pontos em uma disputa dinâmica e divertida até alcançar a pontuação final.O evento pode sofrer alterações de data\, local ou cancelamento sem aviso prévio.
URL:https://lecanton.com.br/evento/caos/2026-10-19/
LOCATION:Canton Ville
CATEGORIES:Crianças de 5 a 8 anos
ATTACH;FMTTYPE=image/jpeg:https://lecanton.com.br/wp-content/uploads/2026/04/Caos.jpg
END:VEVENT
BEGIN:VEVENT
DTSTART;TZID=America/Sao_Paulo:20261026T102000
DTEND;TZID=America/Sao_Paulo:20261026T112000
DTSTAMP:20260424T231952
CREATED:20260424T212253Z
LAST-MODIFIED:20260424T212253Z
UID:10035632-1793010000-1793013600@lecanton.com.br
SUMMARY:Caos
DESCRIPTION:Uma atividade em equipe cheia de desafios para crianças de 5 a 8 anos! Os participantes exploram um quadro numerado\, onde cada número corresponde a uma imagem e um desafio diferente. Ao encontrar e cumprir as tarefas\, os grupos acumulam pontos em uma disputa dinâmica e divertida até alcançar a pontuação final.O evento pode sofrer alterações de data\, local ou cancelamento sem aviso prévio.
URL:https://lecanton.com.br/evento/caos/2026-10-26/
LOCATION:Canton Ville
CATEGORIES:Crianças de 5 a 8 anos
ATTACH;FMTTYPE=image/jpeg:https://lecanton.com.br/wp-content/uploads/2026/04/Caos.jpg
END:VEVENT
BEGIN:VEVENT
DTSTART;TZID=America/Sao_Paulo:20261102T102000
DTEND;TZID=America/Sao_Paulo:20261102T112000
DTSTAMP:20260424T231952
CREATED:20260424T212253Z
LAST-MODIFIED:20260424T212253Z
UID:10035633-1793614800-1793618400@lecanton.com.br
SUMMARY:Caos
DESCRIPTION:Uma atividade em equipe cheia de desafios para crianças de 5 a 8 anos! Os participantes exploram um quadro numerado\, onde cada número corresponde a uma imagem e um desafio diferente. Ao encontrar e cumprir as tarefas\, os grupos acumulam pontos em uma disputa dinâmica e divertida até alcançar a pontuação final.O evento pode sofrer alterações de data\, local ou cancelamento sem aviso prévio.
URL:https://lecanton.com.br/evento/caos/2026-11-02/
LOCATION:Canton Ville
CATEGORIES:Crianças de 5 a 8 anos
ATTACH;FMTTYPE=image/jpeg:https://lecanton.com.br/wp-content/uploads/2026/04/Caos.jpg
END:VEVENT
BEGIN:VEVENT
DTSTART;TZID=America/Sao_Paulo:20261109T102000
DTEND;TZID=America/Sao_Paulo:20261109T112000
DTSTAMP:20260424T231952
CREATED:20260424T212253Z
LAST-MODIFIED:20260424T212253Z
UID:10035634-1794219600-1794223200@lecanton.com.br
SUMMARY:Caos
DESCRIPTION:Uma atividade em equipe cheia de desafios para crianças de 5 a 8 anos! Os participantes exploram um quadro numerado\, onde cada número corresponde a uma imagem e um desafio diferente. Ao encontrar e cumprir as tarefas\, os grupos acumulam pontos em uma disputa dinâmica e divertida até alcançar a pontuação final.O evento pode sofrer alterações de data\, local ou cancelamento sem aviso prévio.
URL:https://lecanton.com.br/evento/caos/2026-11-09/
LOCATION:Canton Ville
CATEGORIES:Crianças de 5 a 8 anos
ATTACH;FMTTYPE=image/jpeg:https://lecanton.com.br/wp-content/uploads/2026/04/Caos.jpg
END:VEVENT
BEGIN:VEVENT
DTSTART;TZID=America/Sao_Paulo:20261116T102000
DTEND;TZID=America/Sao_Paulo:20261116T112000
DTSTAMP:20260424T231952
CREATED:20260424T212253Z
LAST-MODIFIED:20260424T212253Z
UID:10035635-1794824400-1794828000@lecanton.com.br
SUMMARY:Caos
DESCRIPTION:Uma atividade em equipe cheia de desafios para crianças de 5 a 8 anos! Os participantes exploram um quadro numerado\, onde cada número corresponde a uma imagem e um desafio diferente. Ao encontrar e cumprir as tarefas\, os grupos acumulam pontos em uma disputa dinâmica e divertida até alcançar a pontuação final.O evento pode sofrer alterações de data\, local ou cancelamento sem aviso prévio.
URL:https://lecanton.com.br/evento/caos/2026-11-16/
LOCATION:Canton Ville
CATEGORIES:Crianças de 5 a 8 anos
ATTACH;FMTTYPE=image/jpeg:https://lecanton.com.br/wp-content/uploads/2026/04/Caos.jpg
END:VEVENT
END:VCALENDAR