BEGIN:VCALENDAR
VERSION:2.0
PRODID:-//Le Canton | O melhor Resort da Serra - ECPv6.15.17.1//NONSGML v1.0//EN
CALSCALE:GREGORIAN
METHOD:PUBLISH
X-WR-CALNAME:Le Canton | O melhor Resort da Serra
X-ORIGINAL-URL:https://lecanton.com.br
X-WR-CALDESC:Eventos para Le Canton | O melhor Resort da Serra
REFRESH-INTERVAL;VALUE=DURATION:PT1H
X-Robots-Tag:noindex
X-PUBLISHED-TTL:PT1H
BEGIN:VTIMEZONE
TZID:America/Sao_Paulo
BEGIN:STANDARD
TZOFFSETFROM:-0300
TZOFFSETTO:-0300
TZNAME:-03
DTSTART:20250101T000000
END:STANDARD
END:VTIMEZONE
BEGIN:VEVENT
DTSTART;TZID=America/Sao_Paulo:20260427T034000
DTEND;TZID=America/Sao_Paulo:20260427T164000
DTSTAMP:20260424T225454
CREATED:20260424T210828Z
LAST-MODIFIED:20260424T210828Z
UID:10035344-1777261200-1777308000@lecanton.com.br
SUMMARY:Jogo do Envelope
DESCRIPTION:Uma atividade divertida em formato de gincana para crianças de 5 a 8 anos! Os participantes utilizam um dado gigante para descobrir qual envelope numerado devem encontrar\, com desafios escondidos dentro de cada um. A dinâmica estimula atenção\, memória e trabalho em equipe\, tornando a busca ainda mais envolvente e cheia de diversão.\nO evento pode sofrer alterações de data\, local ou cancelamento sem aviso prévio.
URL:https://lecanton.com.br/evento/jogo-do-envelope/2026-04-27/
LOCATION:Canton Ville
CATEGORIES:Crianças de 5 a 8 anos
ATTACH;FMTTYPE=image/jpeg:https://lecanton.com.br/wp-content/uploads/2026/04/envelope.jpg
END:VEVENT
BEGIN:VEVENT
DTSTART;TZID=America/Sao_Paulo:20260504T034000
DTEND;TZID=America/Sao_Paulo:20260504T164000
DTSTAMP:20260424T225454
CREATED:20260424T210828Z
LAST-MODIFIED:20260424T210828Z
UID:10035345-1777866000-1777912800@lecanton.com.br
SUMMARY:Jogo do Envelope
DESCRIPTION:Uma atividade divertida em formato de gincana para crianças de 5 a 8 anos! Os participantes utilizam um dado gigante para descobrir qual envelope numerado devem encontrar\, com desafios escondidos dentro de cada um. A dinâmica estimula atenção\, memória e trabalho em equipe\, tornando a busca ainda mais envolvente e cheia de diversão.\nO evento pode sofrer alterações de data\, local ou cancelamento sem aviso prévio.
URL:https://lecanton.com.br/evento/jogo-do-envelope/2026-05-04/
LOCATION:Canton Ville
CATEGORIES:Crianças de 5 a 8 anos
ATTACH;FMTTYPE=image/jpeg:https://lecanton.com.br/wp-content/uploads/2026/04/envelope.jpg
END:VEVENT
BEGIN:VEVENT
DTSTART;TZID=America/Sao_Paulo:20260511T034000
DTEND;TZID=America/Sao_Paulo:20260511T164000
DTSTAMP:20260424T225454
CREATED:20260424T210828Z
LAST-MODIFIED:20260424T210828Z
UID:10035346-1778470800-1778517600@lecanton.com.br
SUMMARY:Jogo do Envelope
DESCRIPTION:Uma atividade divertida em formato de gincana para crianças de 5 a 8 anos! Os participantes utilizam um dado gigante para descobrir qual envelope numerado devem encontrar\, com desafios escondidos dentro de cada um. A dinâmica estimula atenção\, memória e trabalho em equipe\, tornando a busca ainda mais envolvente e cheia de diversão.\nO evento pode sofrer alterações de data\, local ou cancelamento sem aviso prévio.
URL:https://lecanton.com.br/evento/jogo-do-envelope/2026-05-11/
LOCATION:Canton Ville
CATEGORIES:Crianças de 5 a 8 anos
ATTACH;FMTTYPE=image/jpeg:https://lecanton.com.br/wp-content/uploads/2026/04/envelope.jpg
END:VEVENT
BEGIN:VEVENT
DTSTART;TZID=America/Sao_Paulo:20260518T034000
DTEND;TZID=America/Sao_Paulo:20260518T164000
DTSTAMP:20260424T225454
CREATED:20260424T210828Z
LAST-MODIFIED:20260424T210828Z
UID:10035347-1779075600-1779122400@lecanton.com.br
SUMMARY:Jogo do Envelope
DESCRIPTION:Uma atividade divertida em formato de gincana para crianças de 5 a 8 anos! Os participantes utilizam um dado gigante para descobrir qual envelope numerado devem encontrar\, com desafios escondidos dentro de cada um. A dinâmica estimula atenção\, memória e trabalho em equipe\, tornando a busca ainda mais envolvente e cheia de diversão.\nO evento pode sofrer alterações de data\, local ou cancelamento sem aviso prévio.
URL:https://lecanton.com.br/evento/jogo-do-envelope/2026-05-18/
LOCATION:Canton Ville
CATEGORIES:Crianças de 5 a 8 anos
ATTACH;FMTTYPE=image/jpeg:https://lecanton.com.br/wp-content/uploads/2026/04/envelope.jpg
END:VEVENT
BEGIN:VEVENT
DTSTART;TZID=America/Sao_Paulo:20260525T034000
DTEND;TZID=America/Sao_Paulo:20260525T164000
DTSTAMP:20260424T225454
CREATED:20260424T210828Z
LAST-MODIFIED:20260424T210828Z
UID:10035348-1779680400-1779727200@lecanton.com.br
SUMMARY:Jogo do Envelope
DESCRIPTION:Uma atividade divertida em formato de gincana para crianças de 5 a 8 anos! Os participantes utilizam um dado gigante para descobrir qual envelope numerado devem encontrar\, com desafios escondidos dentro de cada um. A dinâmica estimula atenção\, memória e trabalho em equipe\, tornando a busca ainda mais envolvente e cheia de diversão.\nO evento pode sofrer alterações de data\, local ou cancelamento sem aviso prévio.
URL:https://lecanton.com.br/evento/jogo-do-envelope/2026-05-25/
LOCATION:Canton Ville
CATEGORIES:Crianças de 5 a 8 anos
ATTACH;FMTTYPE=image/jpeg:https://lecanton.com.br/wp-content/uploads/2026/04/envelope.jpg
END:VEVENT
BEGIN:VEVENT
DTSTART;TZID=America/Sao_Paulo:20260601T034000
DTEND;TZID=America/Sao_Paulo:20260601T164000
DTSTAMP:20260424T225454
CREATED:20260424T210828Z
LAST-MODIFIED:20260424T210828Z
UID:10035349-1780285200-1780332000@lecanton.com.br
SUMMARY:Jogo do Envelope
DESCRIPTION:Uma atividade divertida em formato de gincana para crianças de 5 a 8 anos! Os participantes utilizam um dado gigante para descobrir qual envelope numerado devem encontrar\, com desafios escondidos dentro de cada um. A dinâmica estimula atenção\, memória e trabalho em equipe\, tornando a busca ainda mais envolvente e cheia de diversão.\nO evento pode sofrer alterações de data\, local ou cancelamento sem aviso prévio.
URL:https://lecanton.com.br/evento/jogo-do-envelope/2026-06-01/
LOCATION:Canton Ville
CATEGORIES:Crianças de 5 a 8 anos
ATTACH;FMTTYPE=image/jpeg:https://lecanton.com.br/wp-content/uploads/2026/04/envelope.jpg
END:VEVENT
BEGIN:VEVENT
DTSTART;TZID=America/Sao_Paulo:20260608T034000
DTEND;TZID=America/Sao_Paulo:20260608T164000
DTSTAMP:20260424T225454
CREATED:20260424T210828Z
LAST-MODIFIED:20260424T210828Z
UID:10035350-1780890000-1780936800@lecanton.com.br
SUMMARY:Jogo do Envelope
DESCRIPTION:Uma atividade divertida em formato de gincana para crianças de 5 a 8 anos! Os participantes utilizam um dado gigante para descobrir qual envelope numerado devem encontrar\, com desafios escondidos dentro de cada um. A dinâmica estimula atenção\, memória e trabalho em equipe\, tornando a busca ainda mais envolvente e cheia de diversão.\nO evento pode sofrer alterações de data\, local ou cancelamento sem aviso prévio.
URL:https://lecanton.com.br/evento/jogo-do-envelope/2026-06-08/
LOCATION:Canton Ville
CATEGORIES:Crianças de 5 a 8 anos
ATTACH;FMTTYPE=image/jpeg:https://lecanton.com.br/wp-content/uploads/2026/04/envelope.jpg
END:VEVENT
BEGIN:VEVENT
DTSTART;TZID=America/Sao_Paulo:20260615T034000
DTEND;TZID=America/Sao_Paulo:20260615T164000
DTSTAMP:20260424T225454
CREATED:20260424T210828Z
LAST-MODIFIED:20260424T210828Z
UID:10035351-1781494800-1781541600@lecanton.com.br
SUMMARY:Jogo do Envelope
DESCRIPTION:Uma atividade divertida em formato de gincana para crianças de 5 a 8 anos! Os participantes utilizam um dado gigante para descobrir qual envelope numerado devem encontrar\, com desafios escondidos dentro de cada um. A dinâmica estimula atenção\, memória e trabalho em equipe\, tornando a busca ainda mais envolvente e cheia de diversão.\nO evento pode sofrer alterações de data\, local ou cancelamento sem aviso prévio.
URL:https://lecanton.com.br/evento/jogo-do-envelope/2026-06-15/
LOCATION:Canton Ville
CATEGORIES:Crianças de 5 a 8 anos
ATTACH;FMTTYPE=image/jpeg:https://lecanton.com.br/wp-content/uploads/2026/04/envelope.jpg
END:VEVENT
BEGIN:VEVENT
DTSTART;TZID=America/Sao_Paulo:20260622T034000
DTEND;TZID=America/Sao_Paulo:20260622T164000
DTSTAMP:20260424T225454
CREATED:20260424T210828Z
LAST-MODIFIED:20260424T210828Z
UID:10035352-1782099600-1782146400@lecanton.com.br
SUMMARY:Jogo do Envelope
DESCRIPTION:Uma atividade divertida em formato de gincana para crianças de 5 a 8 anos! Os participantes utilizam um dado gigante para descobrir qual envelope numerado devem encontrar\, com desafios escondidos dentro de cada um. A dinâmica estimula atenção\, memória e trabalho em equipe\, tornando a busca ainda mais envolvente e cheia de diversão.\nO evento pode sofrer alterações de data\, local ou cancelamento sem aviso prévio.
URL:https://lecanton.com.br/evento/jogo-do-envelope/2026-06-22/
LOCATION:Canton Ville
CATEGORIES:Crianças de 5 a 8 anos
ATTACH;FMTTYPE=image/jpeg:https://lecanton.com.br/wp-content/uploads/2026/04/envelope.jpg
END:VEVENT
BEGIN:VEVENT
DTSTART;TZID=America/Sao_Paulo:20260629T034000
DTEND;TZID=America/Sao_Paulo:20260629T164000
DTSTAMP:20260424T225454
CREATED:20260424T210828Z
LAST-MODIFIED:20260424T210828Z
UID:10035353-1782704400-1782751200@lecanton.com.br
SUMMARY:Jogo do Envelope
DESCRIPTION:Uma atividade divertida em formato de gincana para crianças de 5 a 8 anos! Os participantes utilizam um dado gigante para descobrir qual envelope numerado devem encontrar\, com desafios escondidos dentro de cada um. A dinâmica estimula atenção\, memória e trabalho em equipe\, tornando a busca ainda mais envolvente e cheia de diversão.\nO evento pode sofrer alterações de data\, local ou cancelamento sem aviso prévio.
URL:https://lecanton.com.br/evento/jogo-do-envelope/2026-06-29/
LOCATION:Canton Ville
CATEGORIES:Crianças de 5 a 8 anos
ATTACH;FMTTYPE=image/jpeg:https://lecanton.com.br/wp-content/uploads/2026/04/envelope.jpg
END:VEVENT
BEGIN:VEVENT
DTSTART;TZID=America/Sao_Paulo:20260706T034000
DTEND;TZID=America/Sao_Paulo:20260706T164000
DTSTAMP:20260424T225454
CREATED:20260424T210828Z
LAST-MODIFIED:20260424T210828Z
UID:10035354-1783309200-1783356000@lecanton.com.br
SUMMARY:Jogo do Envelope
DESCRIPTION:Uma atividade divertida em formato de gincana para crianças de 5 a 8 anos! Os participantes utilizam um dado gigante para descobrir qual envelope numerado devem encontrar\, com desafios escondidos dentro de cada um. A dinâmica estimula atenção\, memória e trabalho em equipe\, tornando a busca ainda mais envolvente e cheia de diversão.\nO evento pode sofrer alterações de data\, local ou cancelamento sem aviso prévio.
URL:https://lecanton.com.br/evento/jogo-do-envelope/2026-07-06/
LOCATION:Canton Ville
CATEGORIES:Crianças de 5 a 8 anos
ATTACH;FMTTYPE=image/jpeg:https://lecanton.com.br/wp-content/uploads/2026/04/envelope.jpg
END:VEVENT
BEGIN:VEVENT
DTSTART;TZID=America/Sao_Paulo:20260713T034000
DTEND;TZID=America/Sao_Paulo:20260713T164000
DTSTAMP:20260424T225454
CREATED:20260424T210828Z
LAST-MODIFIED:20260424T210828Z
UID:10035355-1783914000-1783960800@lecanton.com.br
SUMMARY:Jogo do Envelope
DESCRIPTION:Uma atividade divertida em formato de gincana para crianças de 5 a 8 anos! Os participantes utilizam um dado gigante para descobrir qual envelope numerado devem encontrar\, com desafios escondidos dentro de cada um. A dinâmica estimula atenção\, memória e trabalho em equipe\, tornando a busca ainda mais envolvente e cheia de diversão.\nO evento pode sofrer alterações de data\, local ou cancelamento sem aviso prévio.
URL:https://lecanton.com.br/evento/jogo-do-envelope/2026-07-13/
LOCATION:Canton Ville
CATEGORIES:Crianças de 5 a 8 anos
ATTACH;FMTTYPE=image/jpeg:https://lecanton.com.br/wp-content/uploads/2026/04/envelope.jpg
END:VEVENT
BEGIN:VEVENT
DTSTART;TZID=America/Sao_Paulo:20260720T034000
DTEND;TZID=America/Sao_Paulo:20260720T164000
DTSTAMP:20260424T225454
CREATED:20260424T210828Z
LAST-MODIFIED:20260424T210828Z
UID:10035356-1784518800-1784565600@lecanton.com.br
SUMMARY:Jogo do Envelope
DESCRIPTION:Uma atividade divertida em formato de gincana para crianças de 5 a 8 anos! Os participantes utilizam um dado gigante para descobrir qual envelope numerado devem encontrar\, com desafios escondidos dentro de cada um. A dinâmica estimula atenção\, memória e trabalho em equipe\, tornando a busca ainda mais envolvente e cheia de diversão.\nO evento pode sofrer alterações de data\, local ou cancelamento sem aviso prévio.
URL:https://lecanton.com.br/evento/jogo-do-envelope/2026-07-20/
LOCATION:Canton Ville
CATEGORIES:Crianças de 5 a 8 anos
ATTACH;FMTTYPE=image/jpeg:https://lecanton.com.br/wp-content/uploads/2026/04/envelope.jpg
END:VEVENT
BEGIN:VEVENT
DTSTART;TZID=America/Sao_Paulo:20260727T034000
DTEND;TZID=America/Sao_Paulo:20260727T164000
DTSTAMP:20260424T225454
CREATED:20260424T210828Z
LAST-MODIFIED:20260424T210828Z
UID:10035357-1785123600-1785170400@lecanton.com.br
SUMMARY:Jogo do Envelope
DESCRIPTION:Uma atividade divertida em formato de gincana para crianças de 5 a 8 anos! Os participantes utilizam um dado gigante para descobrir qual envelope numerado devem encontrar\, com desafios escondidos dentro de cada um. A dinâmica estimula atenção\, memória e trabalho em equipe\, tornando a busca ainda mais envolvente e cheia de diversão.\nO evento pode sofrer alterações de data\, local ou cancelamento sem aviso prévio.
URL:https://lecanton.com.br/evento/jogo-do-envelope/2026-07-27/
LOCATION:Canton Ville
CATEGORIES:Crianças de 5 a 8 anos
ATTACH;FMTTYPE=image/jpeg:https://lecanton.com.br/wp-content/uploads/2026/04/envelope.jpg
END:VEVENT
BEGIN:VEVENT
DTSTART;TZID=America/Sao_Paulo:20260803T034000
DTEND;TZID=America/Sao_Paulo:20260803T164000
DTSTAMP:20260424T225454
CREATED:20260424T210828Z
LAST-MODIFIED:20260424T210828Z
UID:10035358-1785728400-1785775200@lecanton.com.br
SUMMARY:Jogo do Envelope
DESCRIPTION:Uma atividade divertida em formato de gincana para crianças de 5 a 8 anos! Os participantes utilizam um dado gigante para descobrir qual envelope numerado devem encontrar\, com desafios escondidos dentro de cada um. A dinâmica estimula atenção\, memória e trabalho em equipe\, tornando a busca ainda mais envolvente e cheia de diversão.\nO evento pode sofrer alterações de data\, local ou cancelamento sem aviso prévio.
URL:https://lecanton.com.br/evento/jogo-do-envelope/2026-08-03/
LOCATION:Canton Ville
CATEGORIES:Crianças de 5 a 8 anos
ATTACH;FMTTYPE=image/jpeg:https://lecanton.com.br/wp-content/uploads/2026/04/envelope.jpg
END:VEVENT
BEGIN:VEVENT
DTSTART;TZID=America/Sao_Paulo:20260810T034000
DTEND;TZID=America/Sao_Paulo:20260810T164000
DTSTAMP:20260424T225454
CREATED:20260424T210828Z
LAST-MODIFIED:20260424T210828Z
UID:10035359-1786333200-1786380000@lecanton.com.br
SUMMARY:Jogo do Envelope
DESCRIPTION:Uma atividade divertida em formato de gincana para crianças de 5 a 8 anos! Os participantes utilizam um dado gigante para descobrir qual envelope numerado devem encontrar\, com desafios escondidos dentro de cada um. A dinâmica estimula atenção\, memória e trabalho em equipe\, tornando a busca ainda mais envolvente e cheia de diversão.\nO evento pode sofrer alterações de data\, local ou cancelamento sem aviso prévio.
URL:https://lecanton.com.br/evento/jogo-do-envelope/2026-08-10/
LOCATION:Canton Ville
CATEGORIES:Crianças de 5 a 8 anos
ATTACH;FMTTYPE=image/jpeg:https://lecanton.com.br/wp-content/uploads/2026/04/envelope.jpg
END:VEVENT
BEGIN:VEVENT
DTSTART;TZID=America/Sao_Paulo:20260817T034000
DTEND;TZID=America/Sao_Paulo:20260817T164000
DTSTAMP:20260424T225454
CREATED:20260424T210828Z
LAST-MODIFIED:20260424T210828Z
UID:10035360-1786938000-1786984800@lecanton.com.br
SUMMARY:Jogo do Envelope
DESCRIPTION:Uma atividade divertida em formato de gincana para crianças de 5 a 8 anos! Os participantes utilizam um dado gigante para descobrir qual envelope numerado devem encontrar\, com desafios escondidos dentro de cada um. A dinâmica estimula atenção\, memória e trabalho em equipe\, tornando a busca ainda mais envolvente e cheia de diversão.\nO evento pode sofrer alterações de data\, local ou cancelamento sem aviso prévio.
URL:https://lecanton.com.br/evento/jogo-do-envelope/2026-08-17/
LOCATION:Canton Ville
CATEGORIES:Crianças de 5 a 8 anos
ATTACH;FMTTYPE=image/jpeg:https://lecanton.com.br/wp-content/uploads/2026/04/envelope.jpg
END:VEVENT
BEGIN:VEVENT
DTSTART;TZID=America/Sao_Paulo:20260824T034000
DTEND;TZID=America/Sao_Paulo:20260824T164000
DTSTAMP:20260424T225454
CREATED:20260424T210828Z
LAST-MODIFIED:20260424T210828Z
UID:10035361-1787542800-1787589600@lecanton.com.br
SUMMARY:Jogo do Envelope
DESCRIPTION:Uma atividade divertida em formato de gincana para crianças de 5 a 8 anos! Os participantes utilizam um dado gigante para descobrir qual envelope numerado devem encontrar\, com desafios escondidos dentro de cada um. A dinâmica estimula atenção\, memória e trabalho em equipe\, tornando a busca ainda mais envolvente e cheia de diversão.\nO evento pode sofrer alterações de data\, local ou cancelamento sem aviso prévio.
URL:https://lecanton.com.br/evento/jogo-do-envelope/2026-08-24/
LOCATION:Canton Ville
CATEGORIES:Crianças de 5 a 8 anos
ATTACH;FMTTYPE=image/jpeg:https://lecanton.com.br/wp-content/uploads/2026/04/envelope.jpg
END:VEVENT
BEGIN:VEVENT
DTSTART;TZID=America/Sao_Paulo:20260831T034000
DTEND;TZID=America/Sao_Paulo:20260831T164000
DTSTAMP:20260424T225454
CREATED:20260424T210828Z
LAST-MODIFIED:20260424T210828Z
UID:10035362-1788147600-1788194400@lecanton.com.br
SUMMARY:Jogo do Envelope
DESCRIPTION:Uma atividade divertida em formato de gincana para crianças de 5 a 8 anos! Os participantes utilizam um dado gigante para descobrir qual envelope numerado devem encontrar\, com desafios escondidos dentro de cada um. A dinâmica estimula atenção\, memória e trabalho em equipe\, tornando a busca ainda mais envolvente e cheia de diversão.\nO evento pode sofrer alterações de data\, local ou cancelamento sem aviso prévio.
URL:https://lecanton.com.br/evento/jogo-do-envelope/2026-08-31/
LOCATION:Canton Ville
CATEGORIES:Crianças de 5 a 8 anos
ATTACH;FMTTYPE=image/jpeg:https://lecanton.com.br/wp-content/uploads/2026/04/envelope.jpg
END:VEVENT
BEGIN:VEVENT
DTSTART;TZID=America/Sao_Paulo:20260907T034000
DTEND;TZID=America/Sao_Paulo:20260907T164000
DTSTAMP:20260424T225454
CREATED:20260424T210828Z
LAST-MODIFIED:20260424T210828Z
UID:10035363-1788752400-1788799200@lecanton.com.br
SUMMARY:Jogo do Envelope
DESCRIPTION:Uma atividade divertida em formato de gincana para crianças de 5 a 8 anos! Os participantes utilizam um dado gigante para descobrir qual envelope numerado devem encontrar\, com desafios escondidos dentro de cada um. A dinâmica estimula atenção\, memória e trabalho em equipe\, tornando a busca ainda mais envolvente e cheia de diversão.\nO evento pode sofrer alterações de data\, local ou cancelamento sem aviso prévio.
URL:https://lecanton.com.br/evento/jogo-do-envelope/2026-09-07/
LOCATION:Canton Ville
CATEGORIES:Crianças de 5 a 8 anos
ATTACH;FMTTYPE=image/jpeg:https://lecanton.com.br/wp-content/uploads/2026/04/envelope.jpg
END:VEVENT
BEGIN:VEVENT
DTSTART;TZID=America/Sao_Paulo:20260914T034000
DTEND;TZID=America/Sao_Paulo:20260914T164000
DTSTAMP:20260424T225454
CREATED:20260424T210828Z
LAST-MODIFIED:20260424T210828Z
UID:10035364-1789357200-1789404000@lecanton.com.br
SUMMARY:Jogo do Envelope
DESCRIPTION:Uma atividade divertida em formato de gincana para crianças de 5 a 8 anos! Os participantes utilizam um dado gigante para descobrir qual envelope numerado devem encontrar\, com desafios escondidos dentro de cada um. A dinâmica estimula atenção\, memória e trabalho em equipe\, tornando a busca ainda mais envolvente e cheia de diversão.\nO evento pode sofrer alterações de data\, local ou cancelamento sem aviso prévio.
URL:https://lecanton.com.br/evento/jogo-do-envelope/2026-09-14/
LOCATION:Canton Ville
CATEGORIES:Crianças de 5 a 8 anos
ATTACH;FMTTYPE=image/jpeg:https://lecanton.com.br/wp-content/uploads/2026/04/envelope.jpg
END:VEVENT
BEGIN:VEVENT
DTSTART;TZID=America/Sao_Paulo:20260921T034000
DTEND;TZID=America/Sao_Paulo:20260921T164000
DTSTAMP:20260424T225454
CREATED:20260424T210828Z
LAST-MODIFIED:20260424T210828Z
UID:10035365-1789962000-1790008800@lecanton.com.br
SUMMARY:Jogo do Envelope
DESCRIPTION:Uma atividade divertida em formato de gincana para crianças de 5 a 8 anos! Os participantes utilizam um dado gigante para descobrir qual envelope numerado devem encontrar\, com desafios escondidos dentro de cada um. A dinâmica estimula atenção\, memória e trabalho em equipe\, tornando a busca ainda mais envolvente e cheia de diversão.\nO evento pode sofrer alterações de data\, local ou cancelamento sem aviso prévio.
URL:https://lecanton.com.br/evento/jogo-do-envelope/2026-09-21/
LOCATION:Canton Ville
CATEGORIES:Crianças de 5 a 8 anos
ATTACH;FMTTYPE=image/jpeg:https://lecanton.com.br/wp-content/uploads/2026/04/envelope.jpg
END:VEVENT
BEGIN:VEVENT
DTSTART;TZID=America/Sao_Paulo:20260928T034000
DTEND;TZID=America/Sao_Paulo:20260928T164000
DTSTAMP:20260424T225454
CREATED:20260424T210828Z
LAST-MODIFIED:20260424T210828Z
UID:10035366-1790566800-1790613600@lecanton.com.br
SUMMARY:Jogo do Envelope
DESCRIPTION:Uma atividade divertida em formato de gincana para crianças de 5 a 8 anos! Os participantes utilizam um dado gigante para descobrir qual envelope numerado devem encontrar\, com desafios escondidos dentro de cada um. A dinâmica estimula atenção\, memória e trabalho em equipe\, tornando a busca ainda mais envolvente e cheia de diversão.\nO evento pode sofrer alterações de data\, local ou cancelamento sem aviso prévio.
URL:https://lecanton.com.br/evento/jogo-do-envelope/2026-09-28/
LOCATION:Canton Ville
CATEGORIES:Crianças de 5 a 8 anos
ATTACH;FMTTYPE=image/jpeg:https://lecanton.com.br/wp-content/uploads/2026/04/envelope.jpg
END:VEVENT
BEGIN:VEVENT
DTSTART;TZID=America/Sao_Paulo:20261005T034000
DTEND;TZID=America/Sao_Paulo:20261005T164000
DTSTAMP:20260424T225454
CREATED:20260424T210828Z
LAST-MODIFIED:20260424T210828Z
UID:10035367-1791171600-1791218400@lecanton.com.br
SUMMARY:Jogo do Envelope
DESCRIPTION:Uma atividade divertida em formato de gincana para crianças de 5 a 8 anos! Os participantes utilizam um dado gigante para descobrir qual envelope numerado devem encontrar\, com desafios escondidos dentro de cada um. A dinâmica estimula atenção\, memória e trabalho em equipe\, tornando a busca ainda mais envolvente e cheia de diversão.\nO evento pode sofrer alterações de data\, local ou cancelamento sem aviso prévio.
URL:https://lecanton.com.br/evento/jogo-do-envelope/2026-10-05/
LOCATION:Canton Ville
CATEGORIES:Crianças de 5 a 8 anos
ATTACH;FMTTYPE=image/jpeg:https://lecanton.com.br/wp-content/uploads/2026/04/envelope.jpg
END:VEVENT
BEGIN:VEVENT
DTSTART;TZID=America/Sao_Paulo:20261012T034000
DTEND;TZID=America/Sao_Paulo:20261012T164000
DTSTAMP:20260424T225454
CREATED:20260424T210828Z
LAST-MODIFIED:20260424T210828Z
UID:10035368-1791776400-1791823200@lecanton.com.br
SUMMARY:Jogo do Envelope
DESCRIPTION:Uma atividade divertida em formato de gincana para crianças de 5 a 8 anos! Os participantes utilizam um dado gigante para descobrir qual envelope numerado devem encontrar\, com desafios escondidos dentro de cada um. A dinâmica estimula atenção\, memória e trabalho em equipe\, tornando a busca ainda mais envolvente e cheia de diversão.\nO evento pode sofrer alterações de data\, local ou cancelamento sem aviso prévio.
URL:https://lecanton.com.br/evento/jogo-do-envelope/2026-10-12/
LOCATION:Canton Ville
CATEGORIES:Crianças de 5 a 8 anos
ATTACH;FMTTYPE=image/jpeg:https://lecanton.com.br/wp-content/uploads/2026/04/envelope.jpg
END:VEVENT
BEGIN:VEVENT
DTSTART;TZID=America/Sao_Paulo:20261019T034000
DTEND;TZID=America/Sao_Paulo:20261019T164000
DTSTAMP:20260424T225454
CREATED:20260424T210828Z
LAST-MODIFIED:20260424T210828Z
UID:10035369-1792381200-1792428000@lecanton.com.br
SUMMARY:Jogo do Envelope
DESCRIPTION:Uma atividade divertida em formato de gincana para crianças de 5 a 8 anos! Os participantes utilizam um dado gigante para descobrir qual envelope numerado devem encontrar\, com desafios escondidos dentro de cada um. A dinâmica estimula atenção\, memória e trabalho em equipe\, tornando a busca ainda mais envolvente e cheia de diversão.\nO evento pode sofrer alterações de data\, local ou cancelamento sem aviso prévio.
URL:https://lecanton.com.br/evento/jogo-do-envelope/2026-10-19/
LOCATION:Canton Ville
CATEGORIES:Crianças de 5 a 8 anos
ATTACH;FMTTYPE=image/jpeg:https://lecanton.com.br/wp-content/uploads/2026/04/envelope.jpg
END:VEVENT
BEGIN:VEVENT
DTSTART;TZID=America/Sao_Paulo:20261026T034000
DTEND;TZID=America/Sao_Paulo:20261026T164000
DTSTAMP:20260424T225454
CREATED:20260424T210828Z
LAST-MODIFIED:20260424T210828Z
UID:10035370-1792986000-1793032800@lecanton.com.br
SUMMARY:Jogo do Envelope
DESCRIPTION:Uma atividade divertida em formato de gincana para crianças de 5 a 8 anos! Os participantes utilizam um dado gigante para descobrir qual envelope numerado devem encontrar\, com desafios escondidos dentro de cada um. A dinâmica estimula atenção\, memória e trabalho em equipe\, tornando a busca ainda mais envolvente e cheia de diversão.\nO evento pode sofrer alterações de data\, local ou cancelamento sem aviso prévio.
URL:https://lecanton.com.br/evento/jogo-do-envelope/2026-10-26/
LOCATION:Canton Ville
CATEGORIES:Crianças de 5 a 8 anos
ATTACH;FMTTYPE=image/jpeg:https://lecanton.com.br/wp-content/uploads/2026/04/envelope.jpg
END:VEVENT
BEGIN:VEVENT
DTSTART;TZID=America/Sao_Paulo:20261102T034000
DTEND;TZID=America/Sao_Paulo:20261102T164000
DTSTAMP:20260424T225454
CREATED:20260424T210828Z
LAST-MODIFIED:20260424T210828Z
UID:10035371-1793590800-1793637600@lecanton.com.br
SUMMARY:Jogo do Envelope
DESCRIPTION:Uma atividade divertida em formato de gincana para crianças de 5 a 8 anos! Os participantes utilizam um dado gigante para descobrir qual envelope numerado devem encontrar\, com desafios escondidos dentro de cada um. A dinâmica estimula atenção\, memória e trabalho em equipe\, tornando a busca ainda mais envolvente e cheia de diversão.\nO evento pode sofrer alterações de data\, local ou cancelamento sem aviso prévio.
URL:https://lecanton.com.br/evento/jogo-do-envelope/2026-11-02/
LOCATION:Canton Ville
CATEGORIES:Crianças de 5 a 8 anos
ATTACH;FMTTYPE=image/jpeg:https://lecanton.com.br/wp-content/uploads/2026/04/envelope.jpg
END:VEVENT
BEGIN:VEVENT
DTSTART;TZID=America/Sao_Paulo:20261109T034000
DTEND;TZID=America/Sao_Paulo:20261109T164000
DTSTAMP:20260424T225454
CREATED:20260424T210828Z
LAST-MODIFIED:20260424T210828Z
UID:10035372-1794195600-1794242400@lecanton.com.br
SUMMARY:Jogo do Envelope
DESCRIPTION:Uma atividade divertida em formato de gincana para crianças de 5 a 8 anos! Os participantes utilizam um dado gigante para descobrir qual envelope numerado devem encontrar\, com desafios escondidos dentro de cada um. A dinâmica estimula atenção\, memória e trabalho em equipe\, tornando a busca ainda mais envolvente e cheia de diversão.\nO evento pode sofrer alterações de data\, local ou cancelamento sem aviso prévio.
URL:https://lecanton.com.br/evento/jogo-do-envelope/2026-11-09/
LOCATION:Canton Ville
CATEGORIES:Crianças de 5 a 8 anos
ATTACH;FMTTYPE=image/jpeg:https://lecanton.com.br/wp-content/uploads/2026/04/envelope.jpg
END:VEVENT
BEGIN:VEVENT
DTSTART;TZID=America/Sao_Paulo:20261116T034000
DTEND;TZID=America/Sao_Paulo:20261116T164000
DTSTAMP:20260424T225454
CREATED:20260424T210828Z
LAST-MODIFIED:20260424T210828Z
UID:10035373-1794800400-1794847200@lecanton.com.br
SUMMARY:Jogo do Envelope
DESCRIPTION:Uma atividade divertida em formato de gincana para crianças de 5 a 8 anos! Os participantes utilizam um dado gigante para descobrir qual envelope numerado devem encontrar\, com desafios escondidos dentro de cada um. A dinâmica estimula atenção\, memória e trabalho em equipe\, tornando a busca ainda mais envolvente e cheia de diversão.\nO evento pode sofrer alterações de data\, local ou cancelamento sem aviso prévio.
URL:https://lecanton.com.br/evento/jogo-do-envelope/2026-11-16/
LOCATION:Canton Ville
CATEGORIES:Crianças de 5 a 8 anos
ATTACH;FMTTYPE=image/jpeg:https://lecanton.com.br/wp-content/uploads/2026/04/envelope.jpg
END:VEVENT
END:VCALENDAR