BEGIN:VCALENDAR
VERSION:2.0
PRODID:-//Le Canton | O melhor Resort da Serra - ECPv6.15.17.1//NONSGML v1.0//EN
CALSCALE:GREGORIAN
METHOD:PUBLISH
X-WR-CALNAME:Le Canton | O melhor Resort da Serra
X-ORIGINAL-URL:https://lecanton.com.br
X-WR-CALDESC:Eventos para Le Canton | O melhor Resort da Serra
REFRESH-INTERVAL;VALUE=DURATION:PT1H
X-Robots-Tag:noindex
X-PUBLISHED-TTL:PT1H
BEGIN:VTIMEZONE
TZID:America/Sao_Paulo
BEGIN:STANDARD
TZOFFSETFROM:-0300
TZOFFSETTO:-0300
TZNAME:-03
DTSTART:20250101T000000
END:STANDARD
END:VTIMEZONE
BEGIN:VEVENT
DTSTART;TZID=America/Sao_Paulo:20260501T102000
DTEND;TZID=America/Sao_Paulo:20260501T112000
DTSTAMP:20260424T225354
CREATED:20260424T205848Z
LAST-MODIFIED:20260424T205848Z
UID:10035083-1777630800-1777634400@lecanton.com.br
SUMMARY:Na Trilha do Arco Íris
DESCRIPTION:Uma atividade lúdica e cheia de imaginação para crianças de 5 a 8 anos! Os participantes embarcam em uma aventura para encontrar lápis mágicos escondidos e completar um caderno especial com as cores corretas. A dinâmica estimula criatividade\, atenção e trabalho em equipe em um ambiente encantador.O evento pode sofrer alterações de data\, local ou cancelamento sem aviso prévio.
URL:https://lecanton.com.br/evento/na-trilha-do-arco-iris/2026-05-01/
LOCATION:Canton Ville
CATEGORIES:Crianças de 5 a 8 anos
ATTACH;FMTTYPE=image/jpeg:https://lecanton.com.br/wp-content/uploads/2026/04/arco-iris.jpg
END:VEVENT
BEGIN:VEVENT
DTSTART;TZID=America/Sao_Paulo:20260508T102000
DTEND;TZID=America/Sao_Paulo:20260508T112000
DTSTAMP:20260424T225354
CREATED:20260424T205848Z
LAST-MODIFIED:20260424T205848Z
UID:10035084-1778235600-1778239200@lecanton.com.br
SUMMARY:Na Trilha do Arco Íris
DESCRIPTION:Uma atividade lúdica e cheia de imaginação para crianças de 5 a 8 anos! Os participantes embarcam em uma aventura para encontrar lápis mágicos escondidos e completar um caderno especial com as cores corretas. A dinâmica estimula criatividade\, atenção e trabalho em equipe em um ambiente encantador.O evento pode sofrer alterações de data\, local ou cancelamento sem aviso prévio.
URL:https://lecanton.com.br/evento/na-trilha-do-arco-iris/2026-05-08/
LOCATION:Canton Ville
CATEGORIES:Crianças de 5 a 8 anos
ATTACH;FMTTYPE=image/jpeg:https://lecanton.com.br/wp-content/uploads/2026/04/arco-iris.jpg
END:VEVENT
BEGIN:VEVENT
DTSTART;TZID=America/Sao_Paulo:20260515T102000
DTEND;TZID=America/Sao_Paulo:20260515T112000
DTSTAMP:20260424T225354
CREATED:20260424T205848Z
LAST-MODIFIED:20260424T205848Z
UID:10035085-1778840400-1778844000@lecanton.com.br
SUMMARY:Na Trilha do Arco Íris
DESCRIPTION:Uma atividade lúdica e cheia de imaginação para crianças de 5 a 8 anos! Os participantes embarcam em uma aventura para encontrar lápis mágicos escondidos e completar um caderno especial com as cores corretas. A dinâmica estimula criatividade\, atenção e trabalho em equipe em um ambiente encantador.O evento pode sofrer alterações de data\, local ou cancelamento sem aviso prévio.
URL:https://lecanton.com.br/evento/na-trilha-do-arco-iris/2026-05-15/
LOCATION:Canton Ville
CATEGORIES:Crianças de 5 a 8 anos
ATTACH;FMTTYPE=image/jpeg:https://lecanton.com.br/wp-content/uploads/2026/04/arco-iris.jpg
END:VEVENT
BEGIN:VEVENT
DTSTART;TZID=America/Sao_Paulo:20260522T102000
DTEND;TZID=America/Sao_Paulo:20260522T112000
DTSTAMP:20260424T225354
CREATED:20260424T205848Z
LAST-MODIFIED:20260424T205848Z
UID:10035086-1779445200-1779448800@lecanton.com.br
SUMMARY:Na Trilha do Arco Íris
DESCRIPTION:Uma atividade lúdica e cheia de imaginação para crianças de 5 a 8 anos! Os participantes embarcam em uma aventura para encontrar lápis mágicos escondidos e completar um caderno especial com as cores corretas. A dinâmica estimula criatividade\, atenção e trabalho em equipe em um ambiente encantador.O evento pode sofrer alterações de data\, local ou cancelamento sem aviso prévio.
URL:https://lecanton.com.br/evento/na-trilha-do-arco-iris/2026-05-22/
LOCATION:Canton Ville
CATEGORIES:Crianças de 5 a 8 anos
ATTACH;FMTTYPE=image/jpeg:https://lecanton.com.br/wp-content/uploads/2026/04/arco-iris.jpg
END:VEVENT
BEGIN:VEVENT
DTSTART;TZID=America/Sao_Paulo:20260529T102000
DTEND;TZID=America/Sao_Paulo:20260529T112000
DTSTAMP:20260424T225354
CREATED:20260424T205848Z
LAST-MODIFIED:20260424T205848Z
UID:10035087-1780050000-1780053600@lecanton.com.br
SUMMARY:Na Trilha do Arco Íris
DESCRIPTION:Uma atividade lúdica e cheia de imaginação para crianças de 5 a 8 anos! Os participantes embarcam em uma aventura para encontrar lápis mágicos escondidos e completar um caderno especial com as cores corretas. A dinâmica estimula criatividade\, atenção e trabalho em equipe em um ambiente encantador.O evento pode sofrer alterações de data\, local ou cancelamento sem aviso prévio.
URL:https://lecanton.com.br/evento/na-trilha-do-arco-iris/2026-05-29/
LOCATION:Canton Ville
CATEGORIES:Crianças de 5 a 8 anos
ATTACH;FMTTYPE=image/jpeg:https://lecanton.com.br/wp-content/uploads/2026/04/arco-iris.jpg
END:VEVENT
BEGIN:VEVENT
DTSTART;TZID=America/Sao_Paulo:20260605T102000
DTEND;TZID=America/Sao_Paulo:20260605T112000
DTSTAMP:20260424T225354
CREATED:20260424T205848Z
LAST-MODIFIED:20260424T205848Z
UID:10035088-1780654800-1780658400@lecanton.com.br
SUMMARY:Na Trilha do Arco Íris
DESCRIPTION:Uma atividade lúdica e cheia de imaginação para crianças de 5 a 8 anos! Os participantes embarcam em uma aventura para encontrar lápis mágicos escondidos e completar um caderno especial com as cores corretas. A dinâmica estimula criatividade\, atenção e trabalho em equipe em um ambiente encantador.O evento pode sofrer alterações de data\, local ou cancelamento sem aviso prévio.
URL:https://lecanton.com.br/evento/na-trilha-do-arco-iris/2026-06-05/
LOCATION:Canton Ville
CATEGORIES:Crianças de 5 a 8 anos
ATTACH;FMTTYPE=image/jpeg:https://lecanton.com.br/wp-content/uploads/2026/04/arco-iris.jpg
END:VEVENT
BEGIN:VEVENT
DTSTART;TZID=America/Sao_Paulo:20260612T102000
DTEND;TZID=America/Sao_Paulo:20260612T112000
DTSTAMP:20260424T225354
CREATED:20260424T205848Z
LAST-MODIFIED:20260424T205848Z
UID:10035089-1781259600-1781263200@lecanton.com.br
SUMMARY:Na Trilha do Arco Íris
DESCRIPTION:Uma atividade lúdica e cheia de imaginação para crianças de 5 a 8 anos! Os participantes embarcam em uma aventura para encontrar lápis mágicos escondidos e completar um caderno especial com as cores corretas. A dinâmica estimula criatividade\, atenção e trabalho em equipe em um ambiente encantador.O evento pode sofrer alterações de data\, local ou cancelamento sem aviso prévio.
URL:https://lecanton.com.br/evento/na-trilha-do-arco-iris/2026-06-12/
LOCATION:Canton Ville
CATEGORIES:Crianças de 5 a 8 anos
ATTACH;FMTTYPE=image/jpeg:https://lecanton.com.br/wp-content/uploads/2026/04/arco-iris.jpg
END:VEVENT
BEGIN:VEVENT
DTSTART;TZID=America/Sao_Paulo:20260619T102000
DTEND;TZID=America/Sao_Paulo:20260619T112000
DTSTAMP:20260424T225354
CREATED:20260424T205848Z
LAST-MODIFIED:20260424T205848Z
UID:10035090-1781864400-1781868000@lecanton.com.br
SUMMARY:Na Trilha do Arco Íris
DESCRIPTION:Uma atividade lúdica e cheia de imaginação para crianças de 5 a 8 anos! Os participantes embarcam em uma aventura para encontrar lápis mágicos escondidos e completar um caderno especial com as cores corretas. A dinâmica estimula criatividade\, atenção e trabalho em equipe em um ambiente encantador.O evento pode sofrer alterações de data\, local ou cancelamento sem aviso prévio.
URL:https://lecanton.com.br/evento/na-trilha-do-arco-iris/2026-06-19/
LOCATION:Canton Ville
CATEGORIES:Crianças de 5 a 8 anos
ATTACH;FMTTYPE=image/jpeg:https://lecanton.com.br/wp-content/uploads/2026/04/arco-iris.jpg
END:VEVENT
BEGIN:VEVENT
DTSTART;TZID=America/Sao_Paulo:20260626T102000
DTEND;TZID=America/Sao_Paulo:20260626T112000
DTSTAMP:20260424T225354
CREATED:20260424T205848Z
LAST-MODIFIED:20260424T205848Z
UID:10035091-1782469200-1782472800@lecanton.com.br
SUMMARY:Na Trilha do Arco Íris
DESCRIPTION:Uma atividade lúdica e cheia de imaginação para crianças de 5 a 8 anos! Os participantes embarcam em uma aventura para encontrar lápis mágicos escondidos e completar um caderno especial com as cores corretas. A dinâmica estimula criatividade\, atenção e trabalho em equipe em um ambiente encantador.O evento pode sofrer alterações de data\, local ou cancelamento sem aviso prévio.
URL:https://lecanton.com.br/evento/na-trilha-do-arco-iris/2026-06-26/
LOCATION:Canton Ville
CATEGORIES:Crianças de 5 a 8 anos
ATTACH;FMTTYPE=image/jpeg:https://lecanton.com.br/wp-content/uploads/2026/04/arco-iris.jpg
END:VEVENT
BEGIN:VEVENT
DTSTART;TZID=America/Sao_Paulo:20260703T102000
DTEND;TZID=America/Sao_Paulo:20260703T112000
DTSTAMP:20260424T225354
CREATED:20260424T205848Z
LAST-MODIFIED:20260424T205848Z
UID:10035092-1783074000-1783077600@lecanton.com.br
SUMMARY:Na Trilha do Arco Íris
DESCRIPTION:Uma atividade lúdica e cheia de imaginação para crianças de 5 a 8 anos! Os participantes embarcam em uma aventura para encontrar lápis mágicos escondidos e completar um caderno especial com as cores corretas. A dinâmica estimula criatividade\, atenção e trabalho em equipe em um ambiente encantador.O evento pode sofrer alterações de data\, local ou cancelamento sem aviso prévio.
URL:https://lecanton.com.br/evento/na-trilha-do-arco-iris/2026-07-03/
LOCATION:Canton Ville
CATEGORIES:Crianças de 5 a 8 anos
ATTACH;FMTTYPE=image/jpeg:https://lecanton.com.br/wp-content/uploads/2026/04/arco-iris.jpg
END:VEVENT
BEGIN:VEVENT
DTSTART;TZID=America/Sao_Paulo:20260710T102000
DTEND;TZID=America/Sao_Paulo:20260710T112000
DTSTAMP:20260424T225354
CREATED:20260424T205848Z
LAST-MODIFIED:20260424T205848Z
UID:10035093-1783678800-1783682400@lecanton.com.br
SUMMARY:Na Trilha do Arco Íris
DESCRIPTION:Uma atividade lúdica e cheia de imaginação para crianças de 5 a 8 anos! Os participantes embarcam em uma aventura para encontrar lápis mágicos escondidos e completar um caderno especial com as cores corretas. A dinâmica estimula criatividade\, atenção e trabalho em equipe em um ambiente encantador.O evento pode sofrer alterações de data\, local ou cancelamento sem aviso prévio.
URL:https://lecanton.com.br/evento/na-trilha-do-arco-iris/2026-07-10/
LOCATION:Canton Ville
CATEGORIES:Crianças de 5 a 8 anos
ATTACH;FMTTYPE=image/jpeg:https://lecanton.com.br/wp-content/uploads/2026/04/arco-iris.jpg
END:VEVENT
BEGIN:VEVENT
DTSTART;TZID=America/Sao_Paulo:20260717T102000
DTEND;TZID=America/Sao_Paulo:20260717T112000
DTSTAMP:20260424T225354
CREATED:20260424T205848Z
LAST-MODIFIED:20260424T205848Z
UID:10035094-1784283600-1784287200@lecanton.com.br
SUMMARY:Na Trilha do Arco Íris
DESCRIPTION:Uma atividade lúdica e cheia de imaginação para crianças de 5 a 8 anos! Os participantes embarcam em uma aventura para encontrar lápis mágicos escondidos e completar um caderno especial com as cores corretas. A dinâmica estimula criatividade\, atenção e trabalho em equipe em um ambiente encantador.O evento pode sofrer alterações de data\, local ou cancelamento sem aviso prévio.
URL:https://lecanton.com.br/evento/na-trilha-do-arco-iris/2026-07-17/
LOCATION:Canton Ville
CATEGORIES:Crianças de 5 a 8 anos
ATTACH;FMTTYPE=image/jpeg:https://lecanton.com.br/wp-content/uploads/2026/04/arco-iris.jpg
END:VEVENT
BEGIN:VEVENT
DTSTART;TZID=America/Sao_Paulo:20260724T102000
DTEND;TZID=America/Sao_Paulo:20260724T112000
DTSTAMP:20260424T225354
CREATED:20260424T205848Z
LAST-MODIFIED:20260424T205848Z
UID:10035095-1784888400-1784892000@lecanton.com.br
SUMMARY:Na Trilha do Arco Íris
DESCRIPTION:Uma atividade lúdica e cheia de imaginação para crianças de 5 a 8 anos! Os participantes embarcam em uma aventura para encontrar lápis mágicos escondidos e completar um caderno especial com as cores corretas. A dinâmica estimula criatividade\, atenção e trabalho em equipe em um ambiente encantador.O evento pode sofrer alterações de data\, local ou cancelamento sem aviso prévio.
URL:https://lecanton.com.br/evento/na-trilha-do-arco-iris/2026-07-24/
LOCATION:Canton Ville
CATEGORIES:Crianças de 5 a 8 anos
ATTACH;FMTTYPE=image/jpeg:https://lecanton.com.br/wp-content/uploads/2026/04/arco-iris.jpg
END:VEVENT
BEGIN:VEVENT
DTSTART;TZID=America/Sao_Paulo:20260731T102000
DTEND;TZID=America/Sao_Paulo:20260731T112000
DTSTAMP:20260424T225354
CREATED:20260424T205848Z
LAST-MODIFIED:20260424T205848Z
UID:10035096-1785493200-1785496800@lecanton.com.br
SUMMARY:Na Trilha do Arco Íris
DESCRIPTION:Uma atividade lúdica e cheia de imaginação para crianças de 5 a 8 anos! Os participantes embarcam em uma aventura para encontrar lápis mágicos escondidos e completar um caderno especial com as cores corretas. A dinâmica estimula criatividade\, atenção e trabalho em equipe em um ambiente encantador.O evento pode sofrer alterações de data\, local ou cancelamento sem aviso prévio.
URL:https://lecanton.com.br/evento/na-trilha-do-arco-iris/2026-07-31/
LOCATION:Canton Ville
CATEGORIES:Crianças de 5 a 8 anos
ATTACH;FMTTYPE=image/jpeg:https://lecanton.com.br/wp-content/uploads/2026/04/arco-iris.jpg
END:VEVENT
BEGIN:VEVENT
DTSTART;TZID=America/Sao_Paulo:20260807T102000
DTEND;TZID=America/Sao_Paulo:20260807T112000
DTSTAMP:20260424T225354
CREATED:20260424T205848Z
LAST-MODIFIED:20260424T205848Z
UID:10035097-1786098000-1786101600@lecanton.com.br
SUMMARY:Na Trilha do Arco Íris
DESCRIPTION:Uma atividade lúdica e cheia de imaginação para crianças de 5 a 8 anos! Os participantes embarcam em uma aventura para encontrar lápis mágicos escondidos e completar um caderno especial com as cores corretas. A dinâmica estimula criatividade\, atenção e trabalho em equipe em um ambiente encantador.O evento pode sofrer alterações de data\, local ou cancelamento sem aviso prévio.
URL:https://lecanton.com.br/evento/na-trilha-do-arco-iris/2026-08-07/
LOCATION:Canton Ville
CATEGORIES:Crianças de 5 a 8 anos
ATTACH;FMTTYPE=image/jpeg:https://lecanton.com.br/wp-content/uploads/2026/04/arco-iris.jpg
END:VEVENT
BEGIN:VEVENT
DTSTART;TZID=America/Sao_Paulo:20260814T102000
DTEND;TZID=America/Sao_Paulo:20260814T112000
DTSTAMP:20260424T225354
CREATED:20260424T205848Z
LAST-MODIFIED:20260424T205848Z
UID:10035098-1786702800-1786706400@lecanton.com.br
SUMMARY:Na Trilha do Arco Íris
DESCRIPTION:Uma atividade lúdica e cheia de imaginação para crianças de 5 a 8 anos! Os participantes embarcam em uma aventura para encontrar lápis mágicos escondidos e completar um caderno especial com as cores corretas. A dinâmica estimula criatividade\, atenção e trabalho em equipe em um ambiente encantador.O evento pode sofrer alterações de data\, local ou cancelamento sem aviso prévio.
URL:https://lecanton.com.br/evento/na-trilha-do-arco-iris/2026-08-14/
LOCATION:Canton Ville
CATEGORIES:Crianças de 5 a 8 anos
ATTACH;FMTTYPE=image/jpeg:https://lecanton.com.br/wp-content/uploads/2026/04/arco-iris.jpg
END:VEVENT
BEGIN:VEVENT
DTSTART;TZID=America/Sao_Paulo:20260821T102000
DTEND;TZID=America/Sao_Paulo:20260821T112000
DTSTAMP:20260424T225354
CREATED:20260424T205848Z
LAST-MODIFIED:20260424T205848Z
UID:10035099-1787307600-1787311200@lecanton.com.br
SUMMARY:Na Trilha do Arco Íris
DESCRIPTION:Uma atividade lúdica e cheia de imaginação para crianças de 5 a 8 anos! Os participantes embarcam em uma aventura para encontrar lápis mágicos escondidos e completar um caderno especial com as cores corretas. A dinâmica estimula criatividade\, atenção e trabalho em equipe em um ambiente encantador.O evento pode sofrer alterações de data\, local ou cancelamento sem aviso prévio.
URL:https://lecanton.com.br/evento/na-trilha-do-arco-iris/2026-08-21/
LOCATION:Canton Ville
CATEGORIES:Crianças de 5 a 8 anos
ATTACH;FMTTYPE=image/jpeg:https://lecanton.com.br/wp-content/uploads/2026/04/arco-iris.jpg
END:VEVENT
BEGIN:VEVENT
DTSTART;TZID=America/Sao_Paulo:20260828T102000
DTEND;TZID=America/Sao_Paulo:20260828T112000
DTSTAMP:20260424T225354
CREATED:20260424T205848Z
LAST-MODIFIED:20260424T205848Z
UID:10035100-1787912400-1787916000@lecanton.com.br
SUMMARY:Na Trilha do Arco Íris
DESCRIPTION:Uma atividade lúdica e cheia de imaginação para crianças de 5 a 8 anos! Os participantes embarcam em uma aventura para encontrar lápis mágicos escondidos e completar um caderno especial com as cores corretas. A dinâmica estimula criatividade\, atenção e trabalho em equipe em um ambiente encantador.O evento pode sofrer alterações de data\, local ou cancelamento sem aviso prévio.
URL:https://lecanton.com.br/evento/na-trilha-do-arco-iris/2026-08-28/
LOCATION:Canton Ville
CATEGORIES:Crianças de 5 a 8 anos
ATTACH;FMTTYPE=image/jpeg:https://lecanton.com.br/wp-content/uploads/2026/04/arco-iris.jpg
END:VEVENT
BEGIN:VEVENT
DTSTART;TZID=America/Sao_Paulo:20260904T102000
DTEND;TZID=America/Sao_Paulo:20260904T112000
DTSTAMP:20260424T225354
CREATED:20260424T205848Z
LAST-MODIFIED:20260424T205848Z
UID:10035101-1788517200-1788520800@lecanton.com.br
SUMMARY:Na Trilha do Arco Íris
DESCRIPTION:Uma atividade lúdica e cheia de imaginação para crianças de 5 a 8 anos! Os participantes embarcam em uma aventura para encontrar lápis mágicos escondidos e completar um caderno especial com as cores corretas. A dinâmica estimula criatividade\, atenção e trabalho em equipe em um ambiente encantador.O evento pode sofrer alterações de data\, local ou cancelamento sem aviso prévio.
URL:https://lecanton.com.br/evento/na-trilha-do-arco-iris/2026-09-04/
LOCATION:Canton Ville
CATEGORIES:Crianças de 5 a 8 anos
ATTACH;FMTTYPE=image/jpeg:https://lecanton.com.br/wp-content/uploads/2026/04/arco-iris.jpg
END:VEVENT
BEGIN:VEVENT
DTSTART;TZID=America/Sao_Paulo:20260911T102000
DTEND;TZID=America/Sao_Paulo:20260911T112000
DTSTAMP:20260424T225354
CREATED:20260424T205848Z
LAST-MODIFIED:20260424T205848Z
UID:10035102-1789122000-1789125600@lecanton.com.br
SUMMARY:Na Trilha do Arco Íris
DESCRIPTION:Uma atividade lúdica e cheia de imaginação para crianças de 5 a 8 anos! Os participantes embarcam em uma aventura para encontrar lápis mágicos escondidos e completar um caderno especial com as cores corretas. A dinâmica estimula criatividade\, atenção e trabalho em equipe em um ambiente encantador.O evento pode sofrer alterações de data\, local ou cancelamento sem aviso prévio.
URL:https://lecanton.com.br/evento/na-trilha-do-arco-iris/2026-09-11/
LOCATION:Canton Ville
CATEGORIES:Crianças de 5 a 8 anos
ATTACH;FMTTYPE=image/jpeg:https://lecanton.com.br/wp-content/uploads/2026/04/arco-iris.jpg
END:VEVENT
BEGIN:VEVENT
DTSTART;TZID=America/Sao_Paulo:20260918T102000
DTEND;TZID=America/Sao_Paulo:20260918T112000
DTSTAMP:20260424T225354
CREATED:20260424T205848Z
LAST-MODIFIED:20260424T205848Z
UID:10035103-1789726800-1789730400@lecanton.com.br
SUMMARY:Na Trilha do Arco Íris
DESCRIPTION:Uma atividade lúdica e cheia de imaginação para crianças de 5 a 8 anos! Os participantes embarcam em uma aventura para encontrar lápis mágicos escondidos e completar um caderno especial com as cores corretas. A dinâmica estimula criatividade\, atenção e trabalho em equipe em um ambiente encantador.O evento pode sofrer alterações de data\, local ou cancelamento sem aviso prévio.
URL:https://lecanton.com.br/evento/na-trilha-do-arco-iris/2026-09-18/
LOCATION:Canton Ville
CATEGORIES:Crianças de 5 a 8 anos
ATTACH;FMTTYPE=image/jpeg:https://lecanton.com.br/wp-content/uploads/2026/04/arco-iris.jpg
END:VEVENT
BEGIN:VEVENT
DTSTART;TZID=America/Sao_Paulo:20260925T102000
DTEND;TZID=America/Sao_Paulo:20260925T112000
DTSTAMP:20260424T225354
CREATED:20260424T205848Z
LAST-MODIFIED:20260424T205848Z
UID:10035104-1790331600-1790335200@lecanton.com.br
SUMMARY:Na Trilha do Arco Íris
DESCRIPTION:Uma atividade lúdica e cheia de imaginação para crianças de 5 a 8 anos! Os participantes embarcam em uma aventura para encontrar lápis mágicos escondidos e completar um caderno especial com as cores corretas. A dinâmica estimula criatividade\, atenção e trabalho em equipe em um ambiente encantador.O evento pode sofrer alterações de data\, local ou cancelamento sem aviso prévio.
URL:https://lecanton.com.br/evento/na-trilha-do-arco-iris/2026-09-25/
LOCATION:Canton Ville
CATEGORIES:Crianças de 5 a 8 anos
ATTACH;FMTTYPE=image/jpeg:https://lecanton.com.br/wp-content/uploads/2026/04/arco-iris.jpg
END:VEVENT
BEGIN:VEVENT
DTSTART;TZID=America/Sao_Paulo:20261002T102000
DTEND;TZID=America/Sao_Paulo:20261002T112000
DTSTAMP:20260424T225354
CREATED:20260424T205848Z
LAST-MODIFIED:20260424T205848Z
UID:10035105-1790936400-1790940000@lecanton.com.br
SUMMARY:Na Trilha do Arco Íris
DESCRIPTION:Uma atividade lúdica e cheia de imaginação para crianças de 5 a 8 anos! Os participantes embarcam em uma aventura para encontrar lápis mágicos escondidos e completar um caderno especial com as cores corretas. A dinâmica estimula criatividade\, atenção e trabalho em equipe em um ambiente encantador.O evento pode sofrer alterações de data\, local ou cancelamento sem aviso prévio.
URL:https://lecanton.com.br/evento/na-trilha-do-arco-iris/2026-10-02/
LOCATION:Canton Ville
CATEGORIES:Crianças de 5 a 8 anos
ATTACH;FMTTYPE=image/jpeg:https://lecanton.com.br/wp-content/uploads/2026/04/arco-iris.jpg
END:VEVENT
BEGIN:VEVENT
DTSTART;TZID=America/Sao_Paulo:20261009T102000
DTEND;TZID=America/Sao_Paulo:20261009T112000
DTSTAMP:20260424T225354
CREATED:20260424T205848Z
LAST-MODIFIED:20260424T205848Z
UID:10035106-1791541200-1791544800@lecanton.com.br
SUMMARY:Na Trilha do Arco Íris
DESCRIPTION:Uma atividade lúdica e cheia de imaginação para crianças de 5 a 8 anos! Os participantes embarcam em uma aventura para encontrar lápis mágicos escondidos e completar um caderno especial com as cores corretas. A dinâmica estimula criatividade\, atenção e trabalho em equipe em um ambiente encantador.O evento pode sofrer alterações de data\, local ou cancelamento sem aviso prévio.
URL:https://lecanton.com.br/evento/na-trilha-do-arco-iris/2026-10-09/
LOCATION:Canton Ville
CATEGORIES:Crianças de 5 a 8 anos
ATTACH;FMTTYPE=image/jpeg:https://lecanton.com.br/wp-content/uploads/2026/04/arco-iris.jpg
END:VEVENT
BEGIN:VEVENT
DTSTART;TZID=America/Sao_Paulo:20261016T102000
DTEND;TZID=America/Sao_Paulo:20261016T112000
DTSTAMP:20260424T225354
CREATED:20260424T205848Z
LAST-MODIFIED:20260424T205848Z
UID:10035107-1792146000-1792149600@lecanton.com.br
SUMMARY:Na Trilha do Arco Íris
DESCRIPTION:Uma atividade lúdica e cheia de imaginação para crianças de 5 a 8 anos! Os participantes embarcam em uma aventura para encontrar lápis mágicos escondidos e completar um caderno especial com as cores corretas. A dinâmica estimula criatividade\, atenção e trabalho em equipe em um ambiente encantador.O evento pode sofrer alterações de data\, local ou cancelamento sem aviso prévio.
URL:https://lecanton.com.br/evento/na-trilha-do-arco-iris/2026-10-16/
LOCATION:Canton Ville
CATEGORIES:Crianças de 5 a 8 anos
ATTACH;FMTTYPE=image/jpeg:https://lecanton.com.br/wp-content/uploads/2026/04/arco-iris.jpg
END:VEVENT
BEGIN:VEVENT
DTSTART;TZID=America/Sao_Paulo:20261023T102000
DTEND;TZID=America/Sao_Paulo:20261023T112000
DTSTAMP:20260424T225354
CREATED:20260424T205848Z
LAST-MODIFIED:20260424T205848Z
UID:10035108-1792750800-1792754400@lecanton.com.br
SUMMARY:Na Trilha do Arco Íris
DESCRIPTION:Uma atividade lúdica e cheia de imaginação para crianças de 5 a 8 anos! Os participantes embarcam em uma aventura para encontrar lápis mágicos escondidos e completar um caderno especial com as cores corretas. A dinâmica estimula criatividade\, atenção e trabalho em equipe em um ambiente encantador.O evento pode sofrer alterações de data\, local ou cancelamento sem aviso prévio.
URL:https://lecanton.com.br/evento/na-trilha-do-arco-iris/2026-10-23/
LOCATION:Canton Ville
CATEGORIES:Crianças de 5 a 8 anos
ATTACH;FMTTYPE=image/jpeg:https://lecanton.com.br/wp-content/uploads/2026/04/arco-iris.jpg
END:VEVENT
BEGIN:VEVENT
DTSTART;TZID=America/Sao_Paulo:20261030T102000
DTEND;TZID=America/Sao_Paulo:20261030T112000
DTSTAMP:20260424T225354
CREATED:20260424T205848Z
LAST-MODIFIED:20260424T205848Z
UID:10035109-1793355600-1793359200@lecanton.com.br
SUMMARY:Na Trilha do Arco Íris
DESCRIPTION:Uma atividade lúdica e cheia de imaginação para crianças de 5 a 8 anos! Os participantes embarcam em uma aventura para encontrar lápis mágicos escondidos e completar um caderno especial com as cores corretas. A dinâmica estimula criatividade\, atenção e trabalho em equipe em um ambiente encantador.O evento pode sofrer alterações de data\, local ou cancelamento sem aviso prévio.
URL:https://lecanton.com.br/evento/na-trilha-do-arco-iris/2026-10-30/
LOCATION:Canton Ville
CATEGORIES:Crianças de 5 a 8 anos
ATTACH;FMTTYPE=image/jpeg:https://lecanton.com.br/wp-content/uploads/2026/04/arco-iris.jpg
END:VEVENT
BEGIN:VEVENT
DTSTART;TZID=America/Sao_Paulo:20261106T102000
DTEND;TZID=America/Sao_Paulo:20261106T112000
DTSTAMP:20260424T225354
CREATED:20260424T205848Z
LAST-MODIFIED:20260424T205848Z
UID:10035110-1793960400-1793964000@lecanton.com.br
SUMMARY:Na Trilha do Arco Íris
DESCRIPTION:Uma atividade lúdica e cheia de imaginação para crianças de 5 a 8 anos! Os participantes embarcam em uma aventura para encontrar lápis mágicos escondidos e completar um caderno especial com as cores corretas. A dinâmica estimula criatividade\, atenção e trabalho em equipe em um ambiente encantador.O evento pode sofrer alterações de data\, local ou cancelamento sem aviso prévio.
URL:https://lecanton.com.br/evento/na-trilha-do-arco-iris/2026-11-06/
LOCATION:Canton Ville
CATEGORIES:Crianças de 5 a 8 anos
ATTACH;FMTTYPE=image/jpeg:https://lecanton.com.br/wp-content/uploads/2026/04/arco-iris.jpg
END:VEVENT
BEGIN:VEVENT
DTSTART;TZID=America/Sao_Paulo:20261113T102000
DTEND;TZID=America/Sao_Paulo:20261113T112000
DTSTAMP:20260424T225354
CREATED:20260424T205848Z
LAST-MODIFIED:20260424T205848Z
UID:10035111-1794565200-1794568800@lecanton.com.br
SUMMARY:Na Trilha do Arco Íris
DESCRIPTION:Uma atividade lúdica e cheia de imaginação para crianças de 5 a 8 anos! Os participantes embarcam em uma aventura para encontrar lápis mágicos escondidos e completar um caderno especial com as cores corretas. A dinâmica estimula criatividade\, atenção e trabalho em equipe em um ambiente encantador.O evento pode sofrer alterações de data\, local ou cancelamento sem aviso prévio.
URL:https://lecanton.com.br/evento/na-trilha-do-arco-iris/2026-11-13/
LOCATION:Canton Ville
CATEGORIES:Crianças de 5 a 8 anos
ATTACH;FMTTYPE=image/jpeg:https://lecanton.com.br/wp-content/uploads/2026/04/arco-iris.jpg
END:VEVENT
BEGIN:VEVENT
DTSTART;TZID=America/Sao_Paulo:20261120T102000
DTEND;TZID=America/Sao_Paulo:20261120T112000
DTSTAMP:20260424T225354
CREATED:20260424T205848Z
LAST-MODIFIED:20260424T205848Z
UID:10035112-1795170000-1795173600@lecanton.com.br
SUMMARY:Na Trilha do Arco Íris
DESCRIPTION:Uma atividade lúdica e cheia de imaginação para crianças de 5 a 8 anos! Os participantes embarcam em uma aventura para encontrar lápis mágicos escondidos e completar um caderno especial com as cores corretas. A dinâmica estimula criatividade\, atenção e trabalho em equipe em um ambiente encantador.O evento pode sofrer alterações de data\, local ou cancelamento sem aviso prévio.
URL:https://lecanton.com.br/evento/na-trilha-do-arco-iris/2026-11-20/
LOCATION:Canton Ville
CATEGORIES:Crianças de 5 a 8 anos
ATTACH;FMTTYPE=image/jpeg:https://lecanton.com.br/wp-content/uploads/2026/04/arco-iris.jpg
END:VEVENT
END:VCALENDAR