BEGIN:VCALENDAR
VERSION:2.0
PRODID:-//Le Canton | O melhor Resort da Serra - ECPv6.15.17.1//NONSGML v1.0//EN
CALSCALE:GREGORIAN
METHOD:PUBLISH
X-WR-CALNAME:Le Canton | O melhor Resort da Serra
X-ORIGINAL-URL:https://lecanton.com.br
X-WR-CALDESC:Eventos para Le Canton | O melhor Resort da Serra
REFRESH-INTERVAL;VALUE=DURATION:PT1H
X-Robots-Tag:noindex
X-PUBLISHED-TTL:PT1H
BEGIN:VTIMEZONE
TZID:America/Sao_Paulo
BEGIN:STANDARD
TZOFFSETFROM:-0300
TZOFFSETTO:-0300
TZNAME:-03
DTSTART:20250101T000000
END:STANDARD
END:VTIMEZONE
BEGIN:VEVENT
DTSTART;TZID=America/Sao_Paulo:20260426T150000
DTEND;TZID=America/Sao_Paulo:20260426T160000
DTSTAMP:20260424T221854
CREATED:20260424T202421Z
LAST-MODIFIED:20260424T202421Z
UID:10034821-1777215600-1777219200@lecanton.com.br
SUMMARY:Momento Jogos
DESCRIPTION:Um momento descontraído para reunir amigos e aproveitar diferentes jogos em um ambiente leve e divertido. A atividade promove interação\, estratégia e boas risadas\, ideal para relaxar durante a estadia. Exclusivo para adultos maiores de 18 anos.\nO evento pode sofrer alterações de data\, local ou cancelamento sem aviso prévio.
URL:https://lecanton.com.br/evento/momento-jogos-2/2026-04-26/
LOCATION:Castelo Medieval
CATEGORIES:Adultos acima de 18 anos
ATTACH;FMTTYPE=image/jpeg:https://lecanton.com.br/wp-content/uploads/2026/04/tabuleiro.jpg
END:VEVENT
BEGIN:VEVENT
DTSTART;TZID=America/Sao_Paulo:20260428T160000
DTEND;TZID=America/Sao_Paulo:20260428T170000
DTSTAMP:20260424T221854
CREATED:20260424T202329Z
LAST-MODIFIED:20260424T202329Z
UID:10034298-1777392000-1777395600@lecanton.com.br
SUMMARY:Momento Jogos
DESCRIPTION:Um momento descontraído para reunir amigos e aproveitar diferentes jogos em um ambiente leve e divertido. A atividade promove interação\, estratégia e boas risadas\, ideal para relaxar durante a estadia. Exclusivo para adultos maiores de 18 anos.\nO evento pode sofrer alterações de data\, local ou cancelamento sem aviso prévio.
URL:https://lecanton.com.br/evento/momento-jogos/2026-04-28/
LOCATION:Castelo Medieval
CATEGORIES:Adultos acima de 18 anos
ATTACH;FMTTYPE=image/jpeg:https://lecanton.com.br/wp-content/uploads/2026/04/tabuleiro.jpg
END:VEVENT
BEGIN:VEVENT
DTSTART;TZID=America/Sao_Paulo:20260503T150000
DTEND;TZID=America/Sao_Paulo:20260503T160000
DTSTAMP:20260424T221854
CREATED:20260424T202421Z
LAST-MODIFIED:20260424T202421Z
UID:10034822-1777820400-1777824000@lecanton.com.br
SUMMARY:Momento Jogos
DESCRIPTION:Um momento descontraído para reunir amigos e aproveitar diferentes jogos em um ambiente leve e divertido. A atividade promove interação\, estratégia e boas risadas\, ideal para relaxar durante a estadia. Exclusivo para adultos maiores de 18 anos.\nO evento pode sofrer alterações de data\, local ou cancelamento sem aviso prévio.
URL:https://lecanton.com.br/evento/momento-jogos-2/2026-05-03/
LOCATION:Castelo Medieval
CATEGORIES:Adultos acima de 18 anos
ATTACH;FMTTYPE=image/jpeg:https://lecanton.com.br/wp-content/uploads/2026/04/tabuleiro.jpg
END:VEVENT
BEGIN:VEVENT
DTSTART;TZID=America/Sao_Paulo:20260505T160000
DTEND;TZID=America/Sao_Paulo:20260505T170000
DTSTAMP:20260424T221854
CREATED:20260424T202329Z
LAST-MODIFIED:20260424T202329Z
UID:10034299-1777996800-1778000400@lecanton.com.br
SUMMARY:Momento Jogos
DESCRIPTION:Um momento descontraído para reunir amigos e aproveitar diferentes jogos em um ambiente leve e divertido. A atividade promove interação\, estratégia e boas risadas\, ideal para relaxar durante a estadia. Exclusivo para adultos maiores de 18 anos.\nO evento pode sofrer alterações de data\, local ou cancelamento sem aviso prévio.
URL:https://lecanton.com.br/evento/momento-jogos/2026-05-05/
LOCATION:Castelo Medieval
CATEGORIES:Adultos acima de 18 anos
ATTACH;FMTTYPE=image/jpeg:https://lecanton.com.br/wp-content/uploads/2026/04/tabuleiro.jpg
END:VEVENT
BEGIN:VEVENT
DTSTART;TZID=America/Sao_Paulo:20260510T150000
DTEND;TZID=America/Sao_Paulo:20260510T160000
DTSTAMP:20260424T221854
CREATED:20260424T202421Z
LAST-MODIFIED:20260424T202421Z
UID:10034823-1778425200-1778428800@lecanton.com.br
SUMMARY:Momento Jogos
DESCRIPTION:Um momento descontraído para reunir amigos e aproveitar diferentes jogos em um ambiente leve e divertido. A atividade promove interação\, estratégia e boas risadas\, ideal para relaxar durante a estadia. Exclusivo para adultos maiores de 18 anos.\nO evento pode sofrer alterações de data\, local ou cancelamento sem aviso prévio.
URL:https://lecanton.com.br/evento/momento-jogos-2/2026-05-10/
LOCATION:Castelo Medieval
CATEGORIES:Adultos acima de 18 anos
ATTACH;FMTTYPE=image/jpeg:https://lecanton.com.br/wp-content/uploads/2026/04/tabuleiro.jpg
END:VEVENT
BEGIN:VEVENT
DTSTART;TZID=America/Sao_Paulo:20260512T160000
DTEND;TZID=America/Sao_Paulo:20260512T170000
DTSTAMP:20260424T221854
CREATED:20260424T202329Z
LAST-MODIFIED:20260424T202329Z
UID:10034300-1778601600-1778605200@lecanton.com.br
SUMMARY:Momento Jogos
DESCRIPTION:Um momento descontraído para reunir amigos e aproveitar diferentes jogos em um ambiente leve e divertido. A atividade promove interação\, estratégia e boas risadas\, ideal para relaxar durante a estadia. Exclusivo para adultos maiores de 18 anos.\nO evento pode sofrer alterações de data\, local ou cancelamento sem aviso prévio.
URL:https://lecanton.com.br/evento/momento-jogos/2026-05-12/
LOCATION:Castelo Medieval
CATEGORIES:Adultos acima de 18 anos
ATTACH;FMTTYPE=image/jpeg:https://lecanton.com.br/wp-content/uploads/2026/04/tabuleiro.jpg
END:VEVENT
BEGIN:VEVENT
DTSTART;TZID=America/Sao_Paulo:20260517T150000
DTEND;TZID=America/Sao_Paulo:20260517T160000
DTSTAMP:20260424T221854
CREATED:20260424T202421Z
LAST-MODIFIED:20260424T202421Z
UID:10034824-1779030000-1779033600@lecanton.com.br
SUMMARY:Momento Jogos
DESCRIPTION:Um momento descontraído para reunir amigos e aproveitar diferentes jogos em um ambiente leve e divertido. A atividade promove interação\, estratégia e boas risadas\, ideal para relaxar durante a estadia. Exclusivo para adultos maiores de 18 anos.\nO evento pode sofrer alterações de data\, local ou cancelamento sem aviso prévio.
URL:https://lecanton.com.br/evento/momento-jogos-2/2026-05-17/
LOCATION:Castelo Medieval
CATEGORIES:Adultos acima de 18 anos
ATTACH;FMTTYPE=image/jpeg:https://lecanton.com.br/wp-content/uploads/2026/04/tabuleiro.jpg
END:VEVENT
BEGIN:VEVENT
DTSTART;TZID=America/Sao_Paulo:20260519T160000
DTEND;TZID=America/Sao_Paulo:20260519T170000
DTSTAMP:20260424T221854
CREATED:20260424T202329Z
LAST-MODIFIED:20260424T202329Z
UID:10034301-1779206400-1779210000@lecanton.com.br
SUMMARY:Momento Jogos
DESCRIPTION:Um momento descontraído para reunir amigos e aproveitar diferentes jogos em um ambiente leve e divertido. A atividade promove interação\, estratégia e boas risadas\, ideal para relaxar durante a estadia. Exclusivo para adultos maiores de 18 anos.\nO evento pode sofrer alterações de data\, local ou cancelamento sem aviso prévio.
URL:https://lecanton.com.br/evento/momento-jogos/2026-05-19/
LOCATION:Castelo Medieval
CATEGORIES:Adultos acima de 18 anos
ATTACH;FMTTYPE=image/jpeg:https://lecanton.com.br/wp-content/uploads/2026/04/tabuleiro.jpg
END:VEVENT
BEGIN:VEVENT
DTSTART;TZID=America/Sao_Paulo:20260524T150000
DTEND;TZID=America/Sao_Paulo:20260524T160000
DTSTAMP:20260424T221854
CREATED:20260424T202421Z
LAST-MODIFIED:20260424T202421Z
UID:10034825-1779634800-1779638400@lecanton.com.br
SUMMARY:Momento Jogos
DESCRIPTION:Um momento descontraído para reunir amigos e aproveitar diferentes jogos em um ambiente leve e divertido. A atividade promove interação\, estratégia e boas risadas\, ideal para relaxar durante a estadia. Exclusivo para adultos maiores de 18 anos.\nO evento pode sofrer alterações de data\, local ou cancelamento sem aviso prévio.
URL:https://lecanton.com.br/evento/momento-jogos-2/2026-05-24/
LOCATION:Castelo Medieval
CATEGORIES:Adultos acima de 18 anos
ATTACH;FMTTYPE=image/jpeg:https://lecanton.com.br/wp-content/uploads/2026/04/tabuleiro.jpg
END:VEVENT
BEGIN:VEVENT
DTSTART;TZID=America/Sao_Paulo:20260526T160000
DTEND;TZID=America/Sao_Paulo:20260526T170000
DTSTAMP:20260424T221854
CREATED:20260424T202329Z
LAST-MODIFIED:20260424T202329Z
UID:10034302-1779811200-1779814800@lecanton.com.br
SUMMARY:Momento Jogos
DESCRIPTION:Um momento descontraído para reunir amigos e aproveitar diferentes jogos em um ambiente leve e divertido. A atividade promove interação\, estratégia e boas risadas\, ideal para relaxar durante a estadia. Exclusivo para adultos maiores de 18 anos.\nO evento pode sofrer alterações de data\, local ou cancelamento sem aviso prévio.
URL:https://lecanton.com.br/evento/momento-jogos/2026-05-26/
LOCATION:Castelo Medieval
CATEGORIES:Adultos acima de 18 anos
ATTACH;FMTTYPE=image/jpeg:https://lecanton.com.br/wp-content/uploads/2026/04/tabuleiro.jpg
END:VEVENT
BEGIN:VEVENT
DTSTART;TZID=America/Sao_Paulo:20260531T150000
DTEND;TZID=America/Sao_Paulo:20260531T160000
DTSTAMP:20260424T221854
CREATED:20260424T202421Z
LAST-MODIFIED:20260424T202421Z
UID:10034826-1780239600-1780243200@lecanton.com.br
SUMMARY:Momento Jogos
DESCRIPTION:Um momento descontraído para reunir amigos e aproveitar diferentes jogos em um ambiente leve e divertido. A atividade promove interação\, estratégia e boas risadas\, ideal para relaxar durante a estadia. Exclusivo para adultos maiores de 18 anos.\nO evento pode sofrer alterações de data\, local ou cancelamento sem aviso prévio.
URL:https://lecanton.com.br/evento/momento-jogos-2/2026-05-31/
LOCATION:Castelo Medieval
CATEGORIES:Adultos acima de 18 anos
ATTACH;FMTTYPE=image/jpeg:https://lecanton.com.br/wp-content/uploads/2026/04/tabuleiro.jpg
END:VEVENT
BEGIN:VEVENT
DTSTART;TZID=America/Sao_Paulo:20260602T160000
DTEND;TZID=America/Sao_Paulo:20260602T170000
DTSTAMP:20260424T221854
CREATED:20260424T202329Z
LAST-MODIFIED:20260424T202329Z
UID:10034303-1780416000-1780419600@lecanton.com.br
SUMMARY:Momento Jogos
DESCRIPTION:Um momento descontraído para reunir amigos e aproveitar diferentes jogos em um ambiente leve e divertido. A atividade promove interação\, estratégia e boas risadas\, ideal para relaxar durante a estadia. Exclusivo para adultos maiores de 18 anos.\nO evento pode sofrer alterações de data\, local ou cancelamento sem aviso prévio.
URL:https://lecanton.com.br/evento/momento-jogos/2026-06-02/
LOCATION:Castelo Medieval
CATEGORIES:Adultos acima de 18 anos
ATTACH;FMTTYPE=image/jpeg:https://lecanton.com.br/wp-content/uploads/2026/04/tabuleiro.jpg
END:VEVENT
BEGIN:VEVENT
DTSTART;TZID=America/Sao_Paulo:20260607T150000
DTEND;TZID=America/Sao_Paulo:20260607T160000
DTSTAMP:20260424T221854
CREATED:20260424T202421Z
LAST-MODIFIED:20260424T202421Z
UID:10034827-1780844400-1780848000@lecanton.com.br
SUMMARY:Momento Jogos
DESCRIPTION:Um momento descontraído para reunir amigos e aproveitar diferentes jogos em um ambiente leve e divertido. A atividade promove interação\, estratégia e boas risadas\, ideal para relaxar durante a estadia. Exclusivo para adultos maiores de 18 anos.\nO evento pode sofrer alterações de data\, local ou cancelamento sem aviso prévio.
URL:https://lecanton.com.br/evento/momento-jogos-2/2026-06-07/
LOCATION:Castelo Medieval
CATEGORIES:Adultos acima de 18 anos
ATTACH;FMTTYPE=image/jpeg:https://lecanton.com.br/wp-content/uploads/2026/04/tabuleiro.jpg
END:VEVENT
BEGIN:VEVENT
DTSTART;TZID=America/Sao_Paulo:20260609T160000
DTEND;TZID=America/Sao_Paulo:20260609T170000
DTSTAMP:20260424T221854
CREATED:20260424T202329Z
LAST-MODIFIED:20260424T202329Z
UID:10034304-1781020800-1781024400@lecanton.com.br
SUMMARY:Momento Jogos
DESCRIPTION:Um momento descontraído para reunir amigos e aproveitar diferentes jogos em um ambiente leve e divertido. A atividade promove interação\, estratégia e boas risadas\, ideal para relaxar durante a estadia. Exclusivo para adultos maiores de 18 anos.\nO evento pode sofrer alterações de data\, local ou cancelamento sem aviso prévio.
URL:https://lecanton.com.br/evento/momento-jogos/2026-06-09/
LOCATION:Castelo Medieval
CATEGORIES:Adultos acima de 18 anos
ATTACH;FMTTYPE=image/jpeg:https://lecanton.com.br/wp-content/uploads/2026/04/tabuleiro.jpg
END:VEVENT
BEGIN:VEVENT
DTSTART;TZID=America/Sao_Paulo:20260614T150000
DTEND;TZID=America/Sao_Paulo:20260614T160000
DTSTAMP:20260424T221854
CREATED:20260424T202421Z
LAST-MODIFIED:20260424T202421Z
UID:10034828-1781449200-1781452800@lecanton.com.br
SUMMARY:Momento Jogos
DESCRIPTION:Um momento descontraído para reunir amigos e aproveitar diferentes jogos em um ambiente leve e divertido. A atividade promove interação\, estratégia e boas risadas\, ideal para relaxar durante a estadia. Exclusivo para adultos maiores de 18 anos.\nO evento pode sofrer alterações de data\, local ou cancelamento sem aviso prévio.
URL:https://lecanton.com.br/evento/momento-jogos-2/2026-06-14/
LOCATION:Castelo Medieval
CATEGORIES:Adultos acima de 18 anos
ATTACH;FMTTYPE=image/jpeg:https://lecanton.com.br/wp-content/uploads/2026/04/tabuleiro.jpg
END:VEVENT
BEGIN:VEVENT
DTSTART;TZID=America/Sao_Paulo:20260616T160000
DTEND;TZID=America/Sao_Paulo:20260616T170000
DTSTAMP:20260424T221854
CREATED:20260424T202329Z
LAST-MODIFIED:20260424T202329Z
UID:10034305-1781625600-1781629200@lecanton.com.br
SUMMARY:Momento Jogos
DESCRIPTION:Um momento descontraído para reunir amigos e aproveitar diferentes jogos em um ambiente leve e divertido. A atividade promove interação\, estratégia e boas risadas\, ideal para relaxar durante a estadia. Exclusivo para adultos maiores de 18 anos.\nO evento pode sofrer alterações de data\, local ou cancelamento sem aviso prévio.
URL:https://lecanton.com.br/evento/momento-jogos/2026-06-16/
LOCATION:Castelo Medieval
CATEGORIES:Adultos acima de 18 anos
ATTACH;FMTTYPE=image/jpeg:https://lecanton.com.br/wp-content/uploads/2026/04/tabuleiro.jpg
END:VEVENT
BEGIN:VEVENT
DTSTART;TZID=America/Sao_Paulo:20260621T150000
DTEND;TZID=America/Sao_Paulo:20260621T160000
DTSTAMP:20260424T221854
CREATED:20260424T202421Z
LAST-MODIFIED:20260424T202421Z
UID:10034829-1782054000-1782057600@lecanton.com.br
SUMMARY:Momento Jogos
DESCRIPTION:Um momento descontraído para reunir amigos e aproveitar diferentes jogos em um ambiente leve e divertido. A atividade promove interação\, estratégia e boas risadas\, ideal para relaxar durante a estadia. Exclusivo para adultos maiores de 18 anos.\nO evento pode sofrer alterações de data\, local ou cancelamento sem aviso prévio.
URL:https://lecanton.com.br/evento/momento-jogos-2/2026-06-21/
LOCATION:Castelo Medieval
CATEGORIES:Adultos acima de 18 anos
ATTACH;FMTTYPE=image/jpeg:https://lecanton.com.br/wp-content/uploads/2026/04/tabuleiro.jpg
END:VEVENT
BEGIN:VEVENT
DTSTART;TZID=America/Sao_Paulo:20260623T160000
DTEND;TZID=America/Sao_Paulo:20260623T170000
DTSTAMP:20260424T221854
CREATED:20260424T202329Z
LAST-MODIFIED:20260424T202329Z
UID:10034306-1782230400-1782234000@lecanton.com.br
SUMMARY:Momento Jogos
DESCRIPTION:Um momento descontraído para reunir amigos e aproveitar diferentes jogos em um ambiente leve e divertido. A atividade promove interação\, estratégia e boas risadas\, ideal para relaxar durante a estadia. Exclusivo para adultos maiores de 18 anos.\nO evento pode sofrer alterações de data\, local ou cancelamento sem aviso prévio.
URL:https://lecanton.com.br/evento/momento-jogos/2026-06-23/
LOCATION:Castelo Medieval
CATEGORIES:Adultos acima de 18 anos
ATTACH;FMTTYPE=image/jpeg:https://lecanton.com.br/wp-content/uploads/2026/04/tabuleiro.jpg
END:VEVENT
BEGIN:VEVENT
DTSTART;TZID=America/Sao_Paulo:20260628T150000
DTEND;TZID=America/Sao_Paulo:20260628T160000
DTSTAMP:20260424T221855
CREATED:20260424T202421Z
LAST-MODIFIED:20260424T202421Z
UID:10034830-1782658800-1782662400@lecanton.com.br
SUMMARY:Momento Jogos
DESCRIPTION:Um momento descontraído para reunir amigos e aproveitar diferentes jogos em um ambiente leve e divertido. A atividade promove interação\, estratégia e boas risadas\, ideal para relaxar durante a estadia. Exclusivo para adultos maiores de 18 anos.\nO evento pode sofrer alterações de data\, local ou cancelamento sem aviso prévio.
URL:https://lecanton.com.br/evento/momento-jogos-2/2026-06-28/
LOCATION:Castelo Medieval
CATEGORIES:Adultos acima de 18 anos
ATTACH;FMTTYPE=image/jpeg:https://lecanton.com.br/wp-content/uploads/2026/04/tabuleiro.jpg
END:VEVENT
BEGIN:VEVENT
DTSTART;TZID=America/Sao_Paulo:20260630T160000
DTEND;TZID=America/Sao_Paulo:20260630T170000
DTSTAMP:20260424T221855
CREATED:20260424T202329Z
LAST-MODIFIED:20260424T202329Z
UID:10034307-1782835200-1782838800@lecanton.com.br
SUMMARY:Momento Jogos
DESCRIPTION:Um momento descontraído para reunir amigos e aproveitar diferentes jogos em um ambiente leve e divertido. A atividade promove interação\, estratégia e boas risadas\, ideal para relaxar durante a estadia. Exclusivo para adultos maiores de 18 anos.\nO evento pode sofrer alterações de data\, local ou cancelamento sem aviso prévio.
URL:https://lecanton.com.br/evento/momento-jogos/2026-06-30/
LOCATION:Castelo Medieval
CATEGORIES:Adultos acima de 18 anos
ATTACH;FMTTYPE=image/jpeg:https://lecanton.com.br/wp-content/uploads/2026/04/tabuleiro.jpg
END:VEVENT
BEGIN:VEVENT
DTSTART;TZID=America/Sao_Paulo:20260705T150000
DTEND;TZID=America/Sao_Paulo:20260705T160000
DTSTAMP:20260424T221855
CREATED:20260424T202421Z
LAST-MODIFIED:20260424T202421Z
UID:10034831-1783263600-1783267200@lecanton.com.br
SUMMARY:Momento Jogos
DESCRIPTION:Um momento descontraído para reunir amigos e aproveitar diferentes jogos em um ambiente leve e divertido. A atividade promove interação\, estratégia e boas risadas\, ideal para relaxar durante a estadia. Exclusivo para adultos maiores de 18 anos.\nO evento pode sofrer alterações de data\, local ou cancelamento sem aviso prévio.
URL:https://lecanton.com.br/evento/momento-jogos-2/2026-07-05/
LOCATION:Castelo Medieval
CATEGORIES:Adultos acima de 18 anos
ATTACH;FMTTYPE=image/jpeg:https://lecanton.com.br/wp-content/uploads/2026/04/tabuleiro.jpg
END:VEVENT
BEGIN:VEVENT
DTSTART;TZID=America/Sao_Paulo:20260707T160000
DTEND;TZID=America/Sao_Paulo:20260707T170000
DTSTAMP:20260424T221855
CREATED:20260424T202329Z
LAST-MODIFIED:20260424T202329Z
UID:10034308-1783440000-1783443600@lecanton.com.br
SUMMARY:Momento Jogos
DESCRIPTION:Um momento descontraído para reunir amigos e aproveitar diferentes jogos em um ambiente leve e divertido. A atividade promove interação\, estratégia e boas risadas\, ideal para relaxar durante a estadia. Exclusivo para adultos maiores de 18 anos.\nO evento pode sofrer alterações de data\, local ou cancelamento sem aviso prévio.
URL:https://lecanton.com.br/evento/momento-jogos/2026-07-07/
LOCATION:Castelo Medieval
CATEGORIES:Adultos acima de 18 anos
ATTACH;FMTTYPE=image/jpeg:https://lecanton.com.br/wp-content/uploads/2026/04/tabuleiro.jpg
END:VEVENT
BEGIN:VEVENT
DTSTART;TZID=America/Sao_Paulo:20260712T150000
DTEND;TZID=America/Sao_Paulo:20260712T160000
DTSTAMP:20260424T221855
CREATED:20260424T202421Z
LAST-MODIFIED:20260424T202421Z
UID:10034832-1783868400-1783872000@lecanton.com.br
SUMMARY:Momento Jogos
DESCRIPTION:Um momento descontraído para reunir amigos e aproveitar diferentes jogos em um ambiente leve e divertido. A atividade promove interação\, estratégia e boas risadas\, ideal para relaxar durante a estadia. Exclusivo para adultos maiores de 18 anos.\nO evento pode sofrer alterações de data\, local ou cancelamento sem aviso prévio.
URL:https://lecanton.com.br/evento/momento-jogos-2/2026-07-12/
LOCATION:Castelo Medieval
CATEGORIES:Adultos acima de 18 anos
ATTACH;FMTTYPE=image/jpeg:https://lecanton.com.br/wp-content/uploads/2026/04/tabuleiro.jpg
END:VEVENT
BEGIN:VEVENT
DTSTART;TZID=America/Sao_Paulo:20260714T160000
DTEND;TZID=America/Sao_Paulo:20260714T170000
DTSTAMP:20260424T221855
CREATED:20260424T202329Z
LAST-MODIFIED:20260424T202329Z
UID:10034309-1784044800-1784048400@lecanton.com.br
SUMMARY:Momento Jogos
DESCRIPTION:Um momento descontraído para reunir amigos e aproveitar diferentes jogos em um ambiente leve e divertido. A atividade promove interação\, estratégia e boas risadas\, ideal para relaxar durante a estadia. Exclusivo para adultos maiores de 18 anos.\nO evento pode sofrer alterações de data\, local ou cancelamento sem aviso prévio.
URL:https://lecanton.com.br/evento/momento-jogos/2026-07-14/
LOCATION:Castelo Medieval
CATEGORIES:Adultos acima de 18 anos
ATTACH;FMTTYPE=image/jpeg:https://lecanton.com.br/wp-content/uploads/2026/04/tabuleiro.jpg
END:VEVENT
BEGIN:VEVENT
DTSTART;TZID=America/Sao_Paulo:20260719T150000
DTEND;TZID=America/Sao_Paulo:20260719T160000
DTSTAMP:20260424T221855
CREATED:20260424T202421Z
LAST-MODIFIED:20260424T202421Z
UID:10034833-1784473200-1784476800@lecanton.com.br
SUMMARY:Momento Jogos
DESCRIPTION:Um momento descontraído para reunir amigos e aproveitar diferentes jogos em um ambiente leve e divertido. A atividade promove interação\, estratégia e boas risadas\, ideal para relaxar durante a estadia. Exclusivo para adultos maiores de 18 anos.\nO evento pode sofrer alterações de data\, local ou cancelamento sem aviso prévio.
URL:https://lecanton.com.br/evento/momento-jogos-2/2026-07-19/
LOCATION:Castelo Medieval
CATEGORIES:Adultos acima de 18 anos
ATTACH;FMTTYPE=image/jpeg:https://lecanton.com.br/wp-content/uploads/2026/04/tabuleiro.jpg
END:VEVENT
BEGIN:VEVENT
DTSTART;TZID=America/Sao_Paulo:20260721T160000
DTEND;TZID=America/Sao_Paulo:20260721T170000
DTSTAMP:20260424T221855
CREATED:20260424T202329Z
LAST-MODIFIED:20260424T202329Z
UID:10034310-1784649600-1784653200@lecanton.com.br
SUMMARY:Momento Jogos
DESCRIPTION:Um momento descontraído para reunir amigos e aproveitar diferentes jogos em um ambiente leve e divertido. A atividade promove interação\, estratégia e boas risadas\, ideal para relaxar durante a estadia. Exclusivo para adultos maiores de 18 anos.\nO evento pode sofrer alterações de data\, local ou cancelamento sem aviso prévio.
URL:https://lecanton.com.br/evento/momento-jogos/2026-07-21/
LOCATION:Castelo Medieval
CATEGORIES:Adultos acima de 18 anos
ATTACH;FMTTYPE=image/jpeg:https://lecanton.com.br/wp-content/uploads/2026/04/tabuleiro.jpg
END:VEVENT
BEGIN:VEVENT
DTSTART;TZID=America/Sao_Paulo:20260726T150000
DTEND;TZID=America/Sao_Paulo:20260726T160000
DTSTAMP:20260424T221855
CREATED:20260424T202421Z
LAST-MODIFIED:20260424T202421Z
UID:10034834-1785078000-1785081600@lecanton.com.br
SUMMARY:Momento Jogos
DESCRIPTION:Um momento descontraído para reunir amigos e aproveitar diferentes jogos em um ambiente leve e divertido. A atividade promove interação\, estratégia e boas risadas\, ideal para relaxar durante a estadia. Exclusivo para adultos maiores de 18 anos.\nO evento pode sofrer alterações de data\, local ou cancelamento sem aviso prévio.
URL:https://lecanton.com.br/evento/momento-jogos-2/2026-07-26/
LOCATION:Castelo Medieval
CATEGORIES:Adultos acima de 18 anos
ATTACH;FMTTYPE=image/jpeg:https://lecanton.com.br/wp-content/uploads/2026/04/tabuleiro.jpg
END:VEVENT
BEGIN:VEVENT
DTSTART;TZID=America/Sao_Paulo:20260728T160000
DTEND;TZID=America/Sao_Paulo:20260728T170000
DTSTAMP:20260424T221855
CREATED:20260424T202329Z
LAST-MODIFIED:20260424T202329Z
UID:10034311-1785254400-1785258000@lecanton.com.br
SUMMARY:Momento Jogos
DESCRIPTION:Um momento descontraído para reunir amigos e aproveitar diferentes jogos em um ambiente leve e divertido. A atividade promove interação\, estratégia e boas risadas\, ideal para relaxar durante a estadia. Exclusivo para adultos maiores de 18 anos.\nO evento pode sofrer alterações de data\, local ou cancelamento sem aviso prévio.
URL:https://lecanton.com.br/evento/momento-jogos/2026-07-28/
LOCATION:Castelo Medieval
CATEGORIES:Adultos acima de 18 anos
ATTACH;FMTTYPE=image/jpeg:https://lecanton.com.br/wp-content/uploads/2026/04/tabuleiro.jpg
END:VEVENT
BEGIN:VEVENT
DTSTART;TZID=America/Sao_Paulo:20260802T150000
DTEND;TZID=America/Sao_Paulo:20260802T160000
DTSTAMP:20260424T221855
CREATED:20260424T202421Z
LAST-MODIFIED:20260424T202421Z
UID:10034835-1785682800-1785686400@lecanton.com.br
SUMMARY:Momento Jogos
DESCRIPTION:Um momento descontraído para reunir amigos e aproveitar diferentes jogos em um ambiente leve e divertido. A atividade promove interação\, estratégia e boas risadas\, ideal para relaxar durante a estadia. Exclusivo para adultos maiores de 18 anos.\nO evento pode sofrer alterações de data\, local ou cancelamento sem aviso prévio.
URL:https://lecanton.com.br/evento/momento-jogos-2/2026-08-02/
LOCATION:Castelo Medieval
CATEGORIES:Adultos acima de 18 anos
ATTACH;FMTTYPE=image/jpeg:https://lecanton.com.br/wp-content/uploads/2026/04/tabuleiro.jpg
END:VEVENT
BEGIN:VEVENT
DTSTART;TZID=America/Sao_Paulo:20260804T160000
DTEND;TZID=America/Sao_Paulo:20260804T170000
DTSTAMP:20260424T221855
CREATED:20260424T202329Z
LAST-MODIFIED:20260424T202329Z
UID:10034312-1785859200-1785862800@lecanton.com.br
SUMMARY:Momento Jogos
DESCRIPTION:Um momento descontraído para reunir amigos e aproveitar diferentes jogos em um ambiente leve e divertido. A atividade promove interação\, estratégia e boas risadas\, ideal para relaxar durante a estadia. Exclusivo para adultos maiores de 18 anos.\nO evento pode sofrer alterações de data\, local ou cancelamento sem aviso prévio.
URL:https://lecanton.com.br/evento/momento-jogos/2026-08-04/
LOCATION:Castelo Medieval
CATEGORIES:Adultos acima de 18 anos
ATTACH;FMTTYPE=image/jpeg:https://lecanton.com.br/wp-content/uploads/2026/04/tabuleiro.jpg
END:VEVENT
END:VCALENDAR