BEGIN:VCALENDAR
VERSION:2.0
PRODID:-//Le Canton | O melhor Resort da Serra - ECPv6.15.17.1//NONSGML v1.0//EN
CALSCALE:GREGORIAN
METHOD:PUBLISH
X-WR-CALNAME:Le Canton | O melhor Resort da Serra
X-ORIGINAL-URL:https://lecanton.com.br
X-WR-CALDESC:Eventos para Le Canton | O melhor Resort da Serra
REFRESH-INTERVAL;VALUE=DURATION:PT1H
X-Robots-Tag:noindex
X-PUBLISHED-TTL:PT1H
BEGIN:VTIMEZONE
TZID:America/Sao_Paulo
BEGIN:STANDARD
TZOFFSETFROM:-0300
TZOFFSETTO:-0300
TZNAME:-03
DTSTART:20250101T000000
END:STANDARD
END:VTIMEZONE
BEGIN:VEVENT
DTSTART;TZID=America/Sao_Paulo:20260426T112000
DTEND;TZID=America/Sao_Paulo:20260426T122000
DTSTAMP:20260424T200313
CREATED:20260424T182647Z
LAST-MODIFIED:20260424T182647Z
UID:10032467-1777202400-1777206000@lecanton.com.br
SUMMARY:Siga as Pistas
DESCRIPTION:Uma aventura divertida e cheia de descobertas para crianças de 5 a 8 anos! Os participantes seguem pistas e desafios ao longo do percurso\, estimulando raciocínio\, atenção e trabalho em equipe em uma experiência envolvente.\nO evento pode sofrer alterações de data\, local ou cancelamento sem aviso prévio.
URL:https://lecanton.com.br/evento/siga-as-pistas-2/2026-04-26/
LOCATION:Canton Ville
CATEGORIES:Crianças de 5 a 8 anos
ATTACH;FMTTYPE=image/jpeg:https://lecanton.com.br/wp-content/uploads/2026/04/tesouro.jpg
END:VEVENT
BEGIN:VEVENT
DTSTART;TZID=America/Sao_Paulo:20260429T154000
DTEND;TZID=America/Sao_Paulo:20260429T164000
DTSTAMP:20260424T200313
CREATED:20260424T182547Z
LAST-MODIFIED:20260424T182547Z
UID:10031944-1777477200-1777480800@lecanton.com.br
SUMMARY:Siga as Pistas
DESCRIPTION:Uma aventura divertida e cheia de descobertas para crianças de 5 a 8 anos! Os participantes seguem pistas e desafios ao longo do percurso\, estimulando raciocínio\, atenção e trabalho em equipe em uma experiência envolvente.\nO evento pode sofrer alterações de data\, local ou cancelamento sem aviso prévio.
URL:https://lecanton.com.br/evento/siga-as-pistas/2026-04-29/
LOCATION:Canton Ville
CATEGORIES:Crianças de 5 a 8 anos
ATTACH;FMTTYPE=image/jpeg:https://lecanton.com.br/wp-content/uploads/2026/04/tesouro.jpg
END:VEVENT
BEGIN:VEVENT
DTSTART;TZID=America/Sao_Paulo:20260503T112000
DTEND;TZID=America/Sao_Paulo:20260503T122000
DTSTAMP:20260424T200313
CREATED:20260424T182647Z
LAST-MODIFIED:20260424T182647Z
UID:10032468-1777807200-1777810800@lecanton.com.br
SUMMARY:Siga as Pistas
DESCRIPTION:Uma aventura divertida e cheia de descobertas para crianças de 5 a 8 anos! Os participantes seguem pistas e desafios ao longo do percurso\, estimulando raciocínio\, atenção e trabalho em equipe em uma experiência envolvente.\nO evento pode sofrer alterações de data\, local ou cancelamento sem aviso prévio.
URL:https://lecanton.com.br/evento/siga-as-pistas-2/2026-05-03/
LOCATION:Canton Ville
CATEGORIES:Crianças de 5 a 8 anos
ATTACH;FMTTYPE=image/jpeg:https://lecanton.com.br/wp-content/uploads/2026/04/tesouro.jpg
END:VEVENT
BEGIN:VEVENT
DTSTART;TZID=America/Sao_Paulo:20260506T154000
DTEND;TZID=America/Sao_Paulo:20260506T164000
DTSTAMP:20260424T200313
CREATED:20260424T182547Z
LAST-MODIFIED:20260424T182547Z
UID:10031945-1778082000-1778085600@lecanton.com.br
SUMMARY:Siga as Pistas
DESCRIPTION:Uma aventura divertida e cheia de descobertas para crianças de 5 a 8 anos! Os participantes seguem pistas e desafios ao longo do percurso\, estimulando raciocínio\, atenção e trabalho em equipe em uma experiência envolvente.\nO evento pode sofrer alterações de data\, local ou cancelamento sem aviso prévio.
URL:https://lecanton.com.br/evento/siga-as-pistas/2026-05-06/
LOCATION:Canton Ville
CATEGORIES:Crianças de 5 a 8 anos
ATTACH;FMTTYPE=image/jpeg:https://lecanton.com.br/wp-content/uploads/2026/04/tesouro.jpg
END:VEVENT
BEGIN:VEVENT
DTSTART;TZID=America/Sao_Paulo:20260510T112000
DTEND;TZID=America/Sao_Paulo:20260510T122000
DTSTAMP:20260424T200313
CREATED:20260424T182647Z
LAST-MODIFIED:20260424T182647Z
UID:10032469-1778412000-1778415600@lecanton.com.br
SUMMARY:Siga as Pistas
DESCRIPTION:Uma aventura divertida e cheia de descobertas para crianças de 5 a 8 anos! Os participantes seguem pistas e desafios ao longo do percurso\, estimulando raciocínio\, atenção e trabalho em equipe em uma experiência envolvente.\nO evento pode sofrer alterações de data\, local ou cancelamento sem aviso prévio.
URL:https://lecanton.com.br/evento/siga-as-pistas-2/2026-05-10/
LOCATION:Canton Ville
CATEGORIES:Crianças de 5 a 8 anos
ATTACH;FMTTYPE=image/jpeg:https://lecanton.com.br/wp-content/uploads/2026/04/tesouro.jpg
END:VEVENT
BEGIN:VEVENT
DTSTART;TZID=America/Sao_Paulo:20260513T154000
DTEND;TZID=America/Sao_Paulo:20260513T164000
DTSTAMP:20260424T200313
CREATED:20260424T182547Z
LAST-MODIFIED:20260424T182547Z
UID:10031946-1778686800-1778690400@lecanton.com.br
SUMMARY:Siga as Pistas
DESCRIPTION:Uma aventura divertida e cheia de descobertas para crianças de 5 a 8 anos! Os participantes seguem pistas e desafios ao longo do percurso\, estimulando raciocínio\, atenção e trabalho em equipe em uma experiência envolvente.\nO evento pode sofrer alterações de data\, local ou cancelamento sem aviso prévio.
URL:https://lecanton.com.br/evento/siga-as-pistas/2026-05-13/
LOCATION:Canton Ville
CATEGORIES:Crianças de 5 a 8 anos
ATTACH;FMTTYPE=image/jpeg:https://lecanton.com.br/wp-content/uploads/2026/04/tesouro.jpg
END:VEVENT
BEGIN:VEVENT
DTSTART;TZID=America/Sao_Paulo:20260517T112000
DTEND;TZID=America/Sao_Paulo:20260517T122000
DTSTAMP:20260424T200313
CREATED:20260424T182647Z
LAST-MODIFIED:20260424T182647Z
UID:10032470-1779016800-1779020400@lecanton.com.br
SUMMARY:Siga as Pistas
DESCRIPTION:Uma aventura divertida e cheia de descobertas para crianças de 5 a 8 anos! Os participantes seguem pistas e desafios ao longo do percurso\, estimulando raciocínio\, atenção e trabalho em equipe em uma experiência envolvente.\nO evento pode sofrer alterações de data\, local ou cancelamento sem aviso prévio.
URL:https://lecanton.com.br/evento/siga-as-pistas-2/2026-05-17/
LOCATION:Canton Ville
CATEGORIES:Crianças de 5 a 8 anos
ATTACH;FMTTYPE=image/jpeg:https://lecanton.com.br/wp-content/uploads/2026/04/tesouro.jpg
END:VEVENT
BEGIN:VEVENT
DTSTART;TZID=America/Sao_Paulo:20260520T154000
DTEND;TZID=America/Sao_Paulo:20260520T164000
DTSTAMP:20260424T200313
CREATED:20260424T182547Z
LAST-MODIFIED:20260424T182547Z
UID:10031947-1779291600-1779295200@lecanton.com.br
SUMMARY:Siga as Pistas
DESCRIPTION:Uma aventura divertida e cheia de descobertas para crianças de 5 a 8 anos! Os participantes seguem pistas e desafios ao longo do percurso\, estimulando raciocínio\, atenção e trabalho em equipe em uma experiência envolvente.\nO evento pode sofrer alterações de data\, local ou cancelamento sem aviso prévio.
URL:https://lecanton.com.br/evento/siga-as-pistas/2026-05-20/
LOCATION:Canton Ville
CATEGORIES:Crianças de 5 a 8 anos
ATTACH;FMTTYPE=image/jpeg:https://lecanton.com.br/wp-content/uploads/2026/04/tesouro.jpg
END:VEVENT
BEGIN:VEVENT
DTSTART;TZID=America/Sao_Paulo:20260524T112000
DTEND;TZID=America/Sao_Paulo:20260524T122000
DTSTAMP:20260424T200313
CREATED:20260424T182647Z
LAST-MODIFIED:20260424T182647Z
UID:10032471-1779621600-1779625200@lecanton.com.br
SUMMARY:Siga as Pistas
DESCRIPTION:Uma aventura divertida e cheia de descobertas para crianças de 5 a 8 anos! Os participantes seguem pistas e desafios ao longo do percurso\, estimulando raciocínio\, atenção e trabalho em equipe em uma experiência envolvente.\nO evento pode sofrer alterações de data\, local ou cancelamento sem aviso prévio.
URL:https://lecanton.com.br/evento/siga-as-pistas-2/2026-05-24/
LOCATION:Canton Ville
CATEGORIES:Crianças de 5 a 8 anos
ATTACH;FMTTYPE=image/jpeg:https://lecanton.com.br/wp-content/uploads/2026/04/tesouro.jpg
END:VEVENT
BEGIN:VEVENT
DTSTART;TZID=America/Sao_Paulo:20260527T154000
DTEND;TZID=America/Sao_Paulo:20260527T164000
DTSTAMP:20260424T200313
CREATED:20260424T182547Z
LAST-MODIFIED:20260424T182547Z
UID:10031948-1779896400-1779900000@lecanton.com.br
SUMMARY:Siga as Pistas
DESCRIPTION:Uma aventura divertida e cheia de descobertas para crianças de 5 a 8 anos! Os participantes seguem pistas e desafios ao longo do percurso\, estimulando raciocínio\, atenção e trabalho em equipe em uma experiência envolvente.\nO evento pode sofrer alterações de data\, local ou cancelamento sem aviso prévio.
URL:https://lecanton.com.br/evento/siga-as-pistas/2026-05-27/
LOCATION:Canton Ville
CATEGORIES:Crianças de 5 a 8 anos
ATTACH;FMTTYPE=image/jpeg:https://lecanton.com.br/wp-content/uploads/2026/04/tesouro.jpg
END:VEVENT
BEGIN:VEVENT
DTSTART;TZID=America/Sao_Paulo:20260531T112000
DTEND;TZID=America/Sao_Paulo:20260531T122000
DTSTAMP:20260424T200313
CREATED:20260424T182647Z
LAST-MODIFIED:20260424T182647Z
UID:10032472-1780226400-1780230000@lecanton.com.br
SUMMARY:Siga as Pistas
DESCRIPTION:Uma aventura divertida e cheia de descobertas para crianças de 5 a 8 anos! Os participantes seguem pistas e desafios ao longo do percurso\, estimulando raciocínio\, atenção e trabalho em equipe em uma experiência envolvente.\nO evento pode sofrer alterações de data\, local ou cancelamento sem aviso prévio.
URL:https://lecanton.com.br/evento/siga-as-pistas-2/2026-05-31/
LOCATION:Canton Ville
CATEGORIES:Crianças de 5 a 8 anos
ATTACH;FMTTYPE=image/jpeg:https://lecanton.com.br/wp-content/uploads/2026/04/tesouro.jpg
END:VEVENT
BEGIN:VEVENT
DTSTART;TZID=America/Sao_Paulo:20260603T154000
DTEND;TZID=America/Sao_Paulo:20260603T164000
DTSTAMP:20260424T200313
CREATED:20260424T182547Z
LAST-MODIFIED:20260424T182547Z
UID:10031949-1780501200-1780504800@lecanton.com.br
SUMMARY:Siga as Pistas
DESCRIPTION:Uma aventura divertida e cheia de descobertas para crianças de 5 a 8 anos! Os participantes seguem pistas e desafios ao longo do percurso\, estimulando raciocínio\, atenção e trabalho em equipe em uma experiência envolvente.\nO evento pode sofrer alterações de data\, local ou cancelamento sem aviso prévio.
URL:https://lecanton.com.br/evento/siga-as-pistas/2026-06-03/
LOCATION:Canton Ville
CATEGORIES:Crianças de 5 a 8 anos
ATTACH;FMTTYPE=image/jpeg:https://lecanton.com.br/wp-content/uploads/2026/04/tesouro.jpg
END:VEVENT
BEGIN:VEVENT
DTSTART;TZID=America/Sao_Paulo:20260607T112000
DTEND;TZID=America/Sao_Paulo:20260607T122000
DTSTAMP:20260424T200313
CREATED:20260424T182647Z
LAST-MODIFIED:20260424T182647Z
UID:10032473-1780831200-1780834800@lecanton.com.br
SUMMARY:Siga as Pistas
DESCRIPTION:Uma aventura divertida e cheia de descobertas para crianças de 5 a 8 anos! Os participantes seguem pistas e desafios ao longo do percurso\, estimulando raciocínio\, atenção e trabalho em equipe em uma experiência envolvente.\nO evento pode sofrer alterações de data\, local ou cancelamento sem aviso prévio.
URL:https://lecanton.com.br/evento/siga-as-pistas-2/2026-06-07/
LOCATION:Canton Ville
CATEGORIES:Crianças de 5 a 8 anos
ATTACH;FMTTYPE=image/jpeg:https://lecanton.com.br/wp-content/uploads/2026/04/tesouro.jpg
END:VEVENT
BEGIN:VEVENT
DTSTART;TZID=America/Sao_Paulo:20260610T154000
DTEND;TZID=America/Sao_Paulo:20260610T164000
DTSTAMP:20260424T200313
CREATED:20260424T182547Z
LAST-MODIFIED:20260424T182547Z
UID:10031950-1781106000-1781109600@lecanton.com.br
SUMMARY:Siga as Pistas
DESCRIPTION:Uma aventura divertida e cheia de descobertas para crianças de 5 a 8 anos! Os participantes seguem pistas e desafios ao longo do percurso\, estimulando raciocínio\, atenção e trabalho em equipe em uma experiência envolvente.\nO evento pode sofrer alterações de data\, local ou cancelamento sem aviso prévio.
URL:https://lecanton.com.br/evento/siga-as-pistas/2026-06-10/
LOCATION:Canton Ville
CATEGORIES:Crianças de 5 a 8 anos
ATTACH;FMTTYPE=image/jpeg:https://lecanton.com.br/wp-content/uploads/2026/04/tesouro.jpg
END:VEVENT
BEGIN:VEVENT
DTSTART;TZID=America/Sao_Paulo:20260614T112000
DTEND;TZID=America/Sao_Paulo:20260614T122000
DTSTAMP:20260424T200313
CREATED:20260424T182647Z
LAST-MODIFIED:20260424T182647Z
UID:10032474-1781436000-1781439600@lecanton.com.br
SUMMARY:Siga as Pistas
DESCRIPTION:Uma aventura divertida e cheia de descobertas para crianças de 5 a 8 anos! Os participantes seguem pistas e desafios ao longo do percurso\, estimulando raciocínio\, atenção e trabalho em equipe em uma experiência envolvente.\nO evento pode sofrer alterações de data\, local ou cancelamento sem aviso prévio.
URL:https://lecanton.com.br/evento/siga-as-pistas-2/2026-06-14/
LOCATION:Canton Ville
CATEGORIES:Crianças de 5 a 8 anos
ATTACH;FMTTYPE=image/jpeg:https://lecanton.com.br/wp-content/uploads/2026/04/tesouro.jpg
END:VEVENT
BEGIN:VEVENT
DTSTART;TZID=America/Sao_Paulo:20260617T154000
DTEND;TZID=America/Sao_Paulo:20260617T164000
DTSTAMP:20260424T200313
CREATED:20260424T182547Z
LAST-MODIFIED:20260424T182547Z
UID:10031951-1781710800-1781714400@lecanton.com.br
SUMMARY:Siga as Pistas
DESCRIPTION:Uma aventura divertida e cheia de descobertas para crianças de 5 a 8 anos! Os participantes seguem pistas e desafios ao longo do percurso\, estimulando raciocínio\, atenção e trabalho em equipe em uma experiência envolvente.\nO evento pode sofrer alterações de data\, local ou cancelamento sem aviso prévio.
URL:https://lecanton.com.br/evento/siga-as-pistas/2026-06-17/
LOCATION:Canton Ville
CATEGORIES:Crianças de 5 a 8 anos
ATTACH;FMTTYPE=image/jpeg:https://lecanton.com.br/wp-content/uploads/2026/04/tesouro.jpg
END:VEVENT
BEGIN:VEVENT
DTSTART;TZID=America/Sao_Paulo:20260621T112000
DTEND;TZID=America/Sao_Paulo:20260621T122000
DTSTAMP:20260424T200313
CREATED:20260424T182647Z
LAST-MODIFIED:20260424T182647Z
UID:10032475-1782040800-1782044400@lecanton.com.br
SUMMARY:Siga as Pistas
DESCRIPTION:Uma aventura divertida e cheia de descobertas para crianças de 5 a 8 anos! Os participantes seguem pistas e desafios ao longo do percurso\, estimulando raciocínio\, atenção e trabalho em equipe em uma experiência envolvente.\nO evento pode sofrer alterações de data\, local ou cancelamento sem aviso prévio.
URL:https://lecanton.com.br/evento/siga-as-pistas-2/2026-06-21/
LOCATION:Canton Ville
CATEGORIES:Crianças de 5 a 8 anos
ATTACH;FMTTYPE=image/jpeg:https://lecanton.com.br/wp-content/uploads/2026/04/tesouro.jpg
END:VEVENT
BEGIN:VEVENT
DTSTART;TZID=America/Sao_Paulo:20260624T154000
DTEND;TZID=America/Sao_Paulo:20260624T164000
DTSTAMP:20260424T200313
CREATED:20260424T182547Z
LAST-MODIFIED:20260424T182547Z
UID:10031952-1782315600-1782319200@lecanton.com.br
SUMMARY:Siga as Pistas
DESCRIPTION:Uma aventura divertida e cheia de descobertas para crianças de 5 a 8 anos! Os participantes seguem pistas e desafios ao longo do percurso\, estimulando raciocínio\, atenção e trabalho em equipe em uma experiência envolvente.\nO evento pode sofrer alterações de data\, local ou cancelamento sem aviso prévio.
URL:https://lecanton.com.br/evento/siga-as-pistas/2026-06-24/
LOCATION:Canton Ville
CATEGORIES:Crianças de 5 a 8 anos
ATTACH;FMTTYPE=image/jpeg:https://lecanton.com.br/wp-content/uploads/2026/04/tesouro.jpg
END:VEVENT
BEGIN:VEVENT
DTSTART;TZID=America/Sao_Paulo:20260628T112000
DTEND;TZID=America/Sao_Paulo:20260628T122000
DTSTAMP:20260424T200313
CREATED:20260424T182647Z
LAST-MODIFIED:20260424T182647Z
UID:10032476-1782645600-1782649200@lecanton.com.br
SUMMARY:Siga as Pistas
DESCRIPTION:Uma aventura divertida e cheia de descobertas para crianças de 5 a 8 anos! Os participantes seguem pistas e desafios ao longo do percurso\, estimulando raciocínio\, atenção e trabalho em equipe em uma experiência envolvente.\nO evento pode sofrer alterações de data\, local ou cancelamento sem aviso prévio.
URL:https://lecanton.com.br/evento/siga-as-pistas-2/2026-06-28/
LOCATION:Canton Ville
CATEGORIES:Crianças de 5 a 8 anos
ATTACH;FMTTYPE=image/jpeg:https://lecanton.com.br/wp-content/uploads/2026/04/tesouro.jpg
END:VEVENT
BEGIN:VEVENT
DTSTART;TZID=America/Sao_Paulo:20260701T154000
DTEND;TZID=America/Sao_Paulo:20260701T164000
DTSTAMP:20260424T200313
CREATED:20260424T182547Z
LAST-MODIFIED:20260424T182547Z
UID:10031953-1782920400-1782924000@lecanton.com.br
SUMMARY:Siga as Pistas
DESCRIPTION:Uma aventura divertida e cheia de descobertas para crianças de 5 a 8 anos! Os participantes seguem pistas e desafios ao longo do percurso\, estimulando raciocínio\, atenção e trabalho em equipe em uma experiência envolvente.\nO evento pode sofrer alterações de data\, local ou cancelamento sem aviso prévio.
URL:https://lecanton.com.br/evento/siga-as-pistas/2026-07-01/
LOCATION:Canton Ville
CATEGORIES:Crianças de 5 a 8 anos
ATTACH;FMTTYPE=image/jpeg:https://lecanton.com.br/wp-content/uploads/2026/04/tesouro.jpg
END:VEVENT
BEGIN:VEVENT
DTSTART;TZID=America/Sao_Paulo:20260705T112000
DTEND;TZID=America/Sao_Paulo:20260705T122000
DTSTAMP:20260424T200313
CREATED:20260424T182647Z
LAST-MODIFIED:20260424T182647Z
UID:10032477-1783250400-1783254000@lecanton.com.br
SUMMARY:Siga as Pistas
DESCRIPTION:Uma aventura divertida e cheia de descobertas para crianças de 5 a 8 anos! Os participantes seguem pistas e desafios ao longo do percurso\, estimulando raciocínio\, atenção e trabalho em equipe em uma experiência envolvente.\nO evento pode sofrer alterações de data\, local ou cancelamento sem aviso prévio.
URL:https://lecanton.com.br/evento/siga-as-pistas-2/2026-07-05/
LOCATION:Canton Ville
CATEGORIES:Crianças de 5 a 8 anos
ATTACH;FMTTYPE=image/jpeg:https://lecanton.com.br/wp-content/uploads/2026/04/tesouro.jpg
END:VEVENT
BEGIN:VEVENT
DTSTART;TZID=America/Sao_Paulo:20260708T154000
DTEND;TZID=America/Sao_Paulo:20260708T164000
DTSTAMP:20260424T200313
CREATED:20260424T182547Z
LAST-MODIFIED:20260424T182547Z
UID:10031954-1783525200-1783528800@lecanton.com.br
SUMMARY:Siga as Pistas
DESCRIPTION:Uma aventura divertida e cheia de descobertas para crianças de 5 a 8 anos! Os participantes seguem pistas e desafios ao longo do percurso\, estimulando raciocínio\, atenção e trabalho em equipe em uma experiência envolvente.\nO evento pode sofrer alterações de data\, local ou cancelamento sem aviso prévio.
URL:https://lecanton.com.br/evento/siga-as-pistas/2026-07-08/
LOCATION:Canton Ville
CATEGORIES:Crianças de 5 a 8 anos
ATTACH;FMTTYPE=image/jpeg:https://lecanton.com.br/wp-content/uploads/2026/04/tesouro.jpg
END:VEVENT
BEGIN:VEVENT
DTSTART;TZID=America/Sao_Paulo:20260712T112000
DTEND;TZID=America/Sao_Paulo:20260712T122000
DTSTAMP:20260424T200313
CREATED:20260424T182647Z
LAST-MODIFIED:20260424T182647Z
UID:10032478-1783855200-1783858800@lecanton.com.br
SUMMARY:Siga as Pistas
DESCRIPTION:Uma aventura divertida e cheia de descobertas para crianças de 5 a 8 anos! Os participantes seguem pistas e desafios ao longo do percurso\, estimulando raciocínio\, atenção e trabalho em equipe em uma experiência envolvente.\nO evento pode sofrer alterações de data\, local ou cancelamento sem aviso prévio.
URL:https://lecanton.com.br/evento/siga-as-pistas-2/2026-07-12/
LOCATION:Canton Ville
CATEGORIES:Crianças de 5 a 8 anos
ATTACH;FMTTYPE=image/jpeg:https://lecanton.com.br/wp-content/uploads/2026/04/tesouro.jpg
END:VEVENT
BEGIN:VEVENT
DTSTART;TZID=America/Sao_Paulo:20260715T154000
DTEND;TZID=America/Sao_Paulo:20260715T164000
DTSTAMP:20260424T200313
CREATED:20260424T182547Z
LAST-MODIFIED:20260424T182547Z
UID:10031955-1784130000-1784133600@lecanton.com.br
SUMMARY:Siga as Pistas
DESCRIPTION:Uma aventura divertida e cheia de descobertas para crianças de 5 a 8 anos! Os participantes seguem pistas e desafios ao longo do percurso\, estimulando raciocínio\, atenção e trabalho em equipe em uma experiência envolvente.\nO evento pode sofrer alterações de data\, local ou cancelamento sem aviso prévio.
URL:https://lecanton.com.br/evento/siga-as-pistas/2026-07-15/
LOCATION:Canton Ville
CATEGORIES:Crianças de 5 a 8 anos
ATTACH;FMTTYPE=image/jpeg:https://lecanton.com.br/wp-content/uploads/2026/04/tesouro.jpg
END:VEVENT
BEGIN:VEVENT
DTSTART;TZID=America/Sao_Paulo:20260719T112000
DTEND;TZID=America/Sao_Paulo:20260719T122000
DTSTAMP:20260424T200313
CREATED:20260424T182647Z
LAST-MODIFIED:20260424T182647Z
UID:10032479-1784460000-1784463600@lecanton.com.br
SUMMARY:Siga as Pistas
DESCRIPTION:Uma aventura divertida e cheia de descobertas para crianças de 5 a 8 anos! Os participantes seguem pistas e desafios ao longo do percurso\, estimulando raciocínio\, atenção e trabalho em equipe em uma experiência envolvente.\nO evento pode sofrer alterações de data\, local ou cancelamento sem aviso prévio.
URL:https://lecanton.com.br/evento/siga-as-pistas-2/2026-07-19/
LOCATION:Canton Ville
CATEGORIES:Crianças de 5 a 8 anos
ATTACH;FMTTYPE=image/jpeg:https://lecanton.com.br/wp-content/uploads/2026/04/tesouro.jpg
END:VEVENT
BEGIN:VEVENT
DTSTART;TZID=America/Sao_Paulo:20260722T154000
DTEND;TZID=America/Sao_Paulo:20260722T164000
DTSTAMP:20260424T200313
CREATED:20260424T182547Z
LAST-MODIFIED:20260424T182547Z
UID:10031956-1784734800-1784738400@lecanton.com.br
SUMMARY:Siga as Pistas
DESCRIPTION:Uma aventura divertida e cheia de descobertas para crianças de 5 a 8 anos! Os participantes seguem pistas e desafios ao longo do percurso\, estimulando raciocínio\, atenção e trabalho em equipe em uma experiência envolvente.\nO evento pode sofrer alterações de data\, local ou cancelamento sem aviso prévio.
URL:https://lecanton.com.br/evento/siga-as-pistas/2026-07-22/
LOCATION:Canton Ville
CATEGORIES:Crianças de 5 a 8 anos
ATTACH;FMTTYPE=image/jpeg:https://lecanton.com.br/wp-content/uploads/2026/04/tesouro.jpg
END:VEVENT
BEGIN:VEVENT
DTSTART;TZID=America/Sao_Paulo:20260726T112000
DTEND;TZID=America/Sao_Paulo:20260726T122000
DTSTAMP:20260424T200313
CREATED:20260424T182647Z
LAST-MODIFIED:20260424T182647Z
UID:10032480-1785064800-1785068400@lecanton.com.br
SUMMARY:Siga as Pistas
DESCRIPTION:Uma aventura divertida e cheia de descobertas para crianças de 5 a 8 anos! Os participantes seguem pistas e desafios ao longo do percurso\, estimulando raciocínio\, atenção e trabalho em equipe em uma experiência envolvente.\nO evento pode sofrer alterações de data\, local ou cancelamento sem aviso prévio.
URL:https://lecanton.com.br/evento/siga-as-pistas-2/2026-07-26/
LOCATION:Canton Ville
CATEGORIES:Crianças de 5 a 8 anos
ATTACH;FMTTYPE=image/jpeg:https://lecanton.com.br/wp-content/uploads/2026/04/tesouro.jpg
END:VEVENT
BEGIN:VEVENT
DTSTART;TZID=America/Sao_Paulo:20260729T154000
DTEND;TZID=America/Sao_Paulo:20260729T164000
DTSTAMP:20260424T200313
CREATED:20260424T182547Z
LAST-MODIFIED:20260424T182547Z
UID:10031957-1785339600-1785343200@lecanton.com.br
SUMMARY:Siga as Pistas
DESCRIPTION:Uma aventura divertida e cheia de descobertas para crianças de 5 a 8 anos! Os participantes seguem pistas e desafios ao longo do percurso\, estimulando raciocínio\, atenção e trabalho em equipe em uma experiência envolvente.\nO evento pode sofrer alterações de data\, local ou cancelamento sem aviso prévio.
URL:https://lecanton.com.br/evento/siga-as-pistas/2026-07-29/
LOCATION:Canton Ville
CATEGORIES:Crianças de 5 a 8 anos
ATTACH;FMTTYPE=image/jpeg:https://lecanton.com.br/wp-content/uploads/2026/04/tesouro.jpg
END:VEVENT
BEGIN:VEVENT
DTSTART;TZID=America/Sao_Paulo:20260802T112000
DTEND;TZID=America/Sao_Paulo:20260802T122000
DTSTAMP:20260424T200313
CREATED:20260424T182647Z
LAST-MODIFIED:20260424T182647Z
UID:10032481-1785669600-1785673200@lecanton.com.br
SUMMARY:Siga as Pistas
DESCRIPTION:Uma aventura divertida e cheia de descobertas para crianças de 5 a 8 anos! Os participantes seguem pistas e desafios ao longo do percurso\, estimulando raciocínio\, atenção e trabalho em equipe em uma experiência envolvente.\nO evento pode sofrer alterações de data\, local ou cancelamento sem aviso prévio.
URL:https://lecanton.com.br/evento/siga-as-pistas-2/2026-08-02/
LOCATION:Canton Ville
CATEGORIES:Crianças de 5 a 8 anos
ATTACH;FMTTYPE=image/jpeg:https://lecanton.com.br/wp-content/uploads/2026/04/tesouro.jpg
END:VEVENT
BEGIN:VEVENT
DTSTART;TZID=America/Sao_Paulo:20260805T154000
DTEND;TZID=America/Sao_Paulo:20260805T164000
DTSTAMP:20260424T200313
CREATED:20260424T182547Z
LAST-MODIFIED:20260424T182547Z
UID:10031958-1785944400-1785948000@lecanton.com.br
SUMMARY:Siga as Pistas
DESCRIPTION:Uma aventura divertida e cheia de descobertas para crianças de 5 a 8 anos! Os participantes seguem pistas e desafios ao longo do percurso\, estimulando raciocínio\, atenção e trabalho em equipe em uma experiência envolvente.\nO evento pode sofrer alterações de data\, local ou cancelamento sem aviso prévio.
URL:https://lecanton.com.br/evento/siga-as-pistas/2026-08-05/
LOCATION:Canton Ville
CATEGORIES:Crianças de 5 a 8 anos
ATTACH;FMTTYPE=image/jpeg:https://lecanton.com.br/wp-content/uploads/2026/04/tesouro.jpg
END:VEVENT
END:VCALENDAR