BEGIN:VCALENDAR
VERSION:2.0
PRODID:-//Le Canton | O melhor Resort da Serra - ECPv6.15.17.1//NONSGML v1.0//EN
CALSCALE:GREGORIAN
METHOD:PUBLISH
X-WR-CALNAME:Le Canton | O melhor Resort da Serra
X-ORIGINAL-URL:https://lecanton.com.br
X-WR-CALDESC:Eventos para Le Canton | O melhor Resort da Serra
REFRESH-INTERVAL;VALUE=DURATION:PT1H
X-Robots-Tag:noindex
X-PUBLISHED-TTL:PT1H
BEGIN:VTIMEZONE
TZID:America/Sao_Paulo
BEGIN:STANDARD
TZOFFSETFROM:-0300
TZOFFSETTO:-0300
TZNAME:-03
DTSTART:20250101T000000
END:STANDARD
END:VTIMEZONE
BEGIN:VEVENT
DTSTART;TZID=America/Sao_Paulo:20260423T154000
DTEND;TZID=America/Sao_Paulo:20260423T164000
DTSTAMP:20260421T093529
CREATED:20260420T205958Z
LAST-MODIFIED:20260420T205958Z
UID:10030373-1776958800-1776962400@lecanton.com.br
SUMMARY:Quebra-Cabeça Gigante
DESCRIPTION:Uma atividade divertida e colaborativa para crianças de 5 a 8 anos! Com peças grandes e coloridas\, os participantes trabalham juntos para montar o desafio\, estimulando raciocínio lógico\, coordenação e trabalho em equipe.O evento pode sofrer alterações de data\, local ou cancelamento sem aviso prévio.
URL:https://lecanton.com.br/evento/quebra-cabeca-gigante/2026-04-23/
LOCATION:Canton Ville
CATEGORIES:Crianças de 5 a 8 anos
ATTACH;FMTTYPE=image/jpeg:https://lecanton.com.br/wp-content/uploads/2026/04/quebra-cabeca.jpg
END:VEVENT
BEGIN:VEVENT
DTSTART;TZID=America/Sao_Paulo:20260430T154000
DTEND;TZID=America/Sao_Paulo:20260430T164000
DTSTAMP:20260421T093529
CREATED:20260420T205958Z
LAST-MODIFIED:20260420T205958Z
UID:10030374-1777563600-1777567200@lecanton.com.br
SUMMARY:Quebra-Cabeça Gigante
DESCRIPTION:Uma atividade divertida e colaborativa para crianças de 5 a 8 anos! Com peças grandes e coloridas\, os participantes trabalham juntos para montar o desafio\, estimulando raciocínio lógico\, coordenação e trabalho em equipe.O evento pode sofrer alterações de data\, local ou cancelamento sem aviso prévio.
URL:https://lecanton.com.br/evento/quebra-cabeca-gigante/2026-04-30/
LOCATION:Canton Ville
CATEGORIES:Crianças de 5 a 8 anos
ATTACH;FMTTYPE=image/jpeg:https://lecanton.com.br/wp-content/uploads/2026/04/quebra-cabeca.jpg
END:VEVENT
BEGIN:VEVENT
DTSTART;TZID=America/Sao_Paulo:20260507T154000
DTEND;TZID=America/Sao_Paulo:20260507T164000
DTSTAMP:20260421T093529
CREATED:20260420T205958Z
LAST-MODIFIED:20260420T205958Z
UID:10030375-1778168400-1778172000@lecanton.com.br
SUMMARY:Quebra-Cabeça Gigante
DESCRIPTION:Uma atividade divertida e colaborativa para crianças de 5 a 8 anos! Com peças grandes e coloridas\, os participantes trabalham juntos para montar o desafio\, estimulando raciocínio lógico\, coordenação e trabalho em equipe.O evento pode sofrer alterações de data\, local ou cancelamento sem aviso prévio.
URL:https://lecanton.com.br/evento/quebra-cabeca-gigante/2026-05-07/
LOCATION:Canton Ville
CATEGORIES:Crianças de 5 a 8 anos
ATTACH;FMTTYPE=image/jpeg:https://lecanton.com.br/wp-content/uploads/2026/04/quebra-cabeca.jpg
END:VEVENT
BEGIN:VEVENT
DTSTART;TZID=America/Sao_Paulo:20260514T154000
DTEND;TZID=America/Sao_Paulo:20260514T164000
DTSTAMP:20260421T093529
CREATED:20260420T205958Z
LAST-MODIFIED:20260420T205958Z
UID:10030376-1778773200-1778776800@lecanton.com.br
SUMMARY:Quebra-Cabeça Gigante
DESCRIPTION:Uma atividade divertida e colaborativa para crianças de 5 a 8 anos! Com peças grandes e coloridas\, os participantes trabalham juntos para montar o desafio\, estimulando raciocínio lógico\, coordenação e trabalho em equipe.O evento pode sofrer alterações de data\, local ou cancelamento sem aviso prévio.
URL:https://lecanton.com.br/evento/quebra-cabeca-gigante/2026-05-14/
LOCATION:Canton Ville
CATEGORIES:Crianças de 5 a 8 anos
ATTACH;FMTTYPE=image/jpeg:https://lecanton.com.br/wp-content/uploads/2026/04/quebra-cabeca.jpg
END:VEVENT
BEGIN:VEVENT
DTSTART;TZID=America/Sao_Paulo:20260521T154000
DTEND;TZID=America/Sao_Paulo:20260521T164000
DTSTAMP:20260421T093529
CREATED:20260420T205958Z
LAST-MODIFIED:20260420T205958Z
UID:10030377-1779378000-1779381600@lecanton.com.br
SUMMARY:Quebra-Cabeça Gigante
DESCRIPTION:Uma atividade divertida e colaborativa para crianças de 5 a 8 anos! Com peças grandes e coloridas\, os participantes trabalham juntos para montar o desafio\, estimulando raciocínio lógico\, coordenação e trabalho em equipe.O evento pode sofrer alterações de data\, local ou cancelamento sem aviso prévio.
URL:https://lecanton.com.br/evento/quebra-cabeca-gigante/2026-05-21/
LOCATION:Canton Ville
CATEGORIES:Crianças de 5 a 8 anos
ATTACH;FMTTYPE=image/jpeg:https://lecanton.com.br/wp-content/uploads/2026/04/quebra-cabeca.jpg
END:VEVENT
BEGIN:VEVENT
DTSTART;TZID=America/Sao_Paulo:20260528T154000
DTEND;TZID=America/Sao_Paulo:20260528T164000
DTSTAMP:20260421T093529
CREATED:20260420T205958Z
LAST-MODIFIED:20260420T205958Z
UID:10030378-1779982800-1779986400@lecanton.com.br
SUMMARY:Quebra-Cabeça Gigante
DESCRIPTION:Uma atividade divertida e colaborativa para crianças de 5 a 8 anos! Com peças grandes e coloridas\, os participantes trabalham juntos para montar o desafio\, estimulando raciocínio lógico\, coordenação e trabalho em equipe.O evento pode sofrer alterações de data\, local ou cancelamento sem aviso prévio.
URL:https://lecanton.com.br/evento/quebra-cabeca-gigante/2026-05-28/
LOCATION:Canton Ville
CATEGORIES:Crianças de 5 a 8 anos
ATTACH;FMTTYPE=image/jpeg:https://lecanton.com.br/wp-content/uploads/2026/04/quebra-cabeca.jpg
END:VEVENT
BEGIN:VEVENT
DTSTART;TZID=America/Sao_Paulo:20260604T154000
DTEND;TZID=America/Sao_Paulo:20260604T164000
DTSTAMP:20260421T093529
CREATED:20260420T205958Z
LAST-MODIFIED:20260420T205958Z
UID:10030379-1780587600-1780591200@lecanton.com.br
SUMMARY:Quebra-Cabeça Gigante
DESCRIPTION:Uma atividade divertida e colaborativa para crianças de 5 a 8 anos! Com peças grandes e coloridas\, os participantes trabalham juntos para montar o desafio\, estimulando raciocínio lógico\, coordenação e trabalho em equipe.O evento pode sofrer alterações de data\, local ou cancelamento sem aviso prévio.
URL:https://lecanton.com.br/evento/quebra-cabeca-gigante/2026-06-04/
LOCATION:Canton Ville
CATEGORIES:Crianças de 5 a 8 anos
ATTACH;FMTTYPE=image/jpeg:https://lecanton.com.br/wp-content/uploads/2026/04/quebra-cabeca.jpg
END:VEVENT
BEGIN:VEVENT
DTSTART;TZID=America/Sao_Paulo:20260611T154000
DTEND;TZID=America/Sao_Paulo:20260611T164000
DTSTAMP:20260421T093529
CREATED:20260420T205958Z
LAST-MODIFIED:20260420T205958Z
UID:10030380-1781192400-1781196000@lecanton.com.br
SUMMARY:Quebra-Cabeça Gigante
DESCRIPTION:Uma atividade divertida e colaborativa para crianças de 5 a 8 anos! Com peças grandes e coloridas\, os participantes trabalham juntos para montar o desafio\, estimulando raciocínio lógico\, coordenação e trabalho em equipe.O evento pode sofrer alterações de data\, local ou cancelamento sem aviso prévio.
URL:https://lecanton.com.br/evento/quebra-cabeca-gigante/2026-06-11/
LOCATION:Canton Ville
CATEGORIES:Crianças de 5 a 8 anos
ATTACH;FMTTYPE=image/jpeg:https://lecanton.com.br/wp-content/uploads/2026/04/quebra-cabeca.jpg
END:VEVENT
BEGIN:VEVENT
DTSTART;TZID=America/Sao_Paulo:20260618T154000
DTEND;TZID=America/Sao_Paulo:20260618T164000
DTSTAMP:20260421T093529
CREATED:20260420T205958Z
LAST-MODIFIED:20260420T205958Z
UID:10030381-1781797200-1781800800@lecanton.com.br
SUMMARY:Quebra-Cabeça Gigante
DESCRIPTION:Uma atividade divertida e colaborativa para crianças de 5 a 8 anos! Com peças grandes e coloridas\, os participantes trabalham juntos para montar o desafio\, estimulando raciocínio lógico\, coordenação e trabalho em equipe.O evento pode sofrer alterações de data\, local ou cancelamento sem aviso prévio.
URL:https://lecanton.com.br/evento/quebra-cabeca-gigante/2026-06-18/
LOCATION:Canton Ville
CATEGORIES:Crianças de 5 a 8 anos
ATTACH;FMTTYPE=image/jpeg:https://lecanton.com.br/wp-content/uploads/2026/04/quebra-cabeca.jpg
END:VEVENT
BEGIN:VEVENT
DTSTART;TZID=America/Sao_Paulo:20260625T154000
DTEND;TZID=America/Sao_Paulo:20260625T164000
DTSTAMP:20260421T093529
CREATED:20260420T205958Z
LAST-MODIFIED:20260420T205958Z
UID:10030382-1782402000-1782405600@lecanton.com.br
SUMMARY:Quebra-Cabeça Gigante
DESCRIPTION:Uma atividade divertida e colaborativa para crianças de 5 a 8 anos! Com peças grandes e coloridas\, os participantes trabalham juntos para montar o desafio\, estimulando raciocínio lógico\, coordenação e trabalho em equipe.O evento pode sofrer alterações de data\, local ou cancelamento sem aviso prévio.
URL:https://lecanton.com.br/evento/quebra-cabeca-gigante/2026-06-25/
LOCATION:Canton Ville
CATEGORIES:Crianças de 5 a 8 anos
ATTACH;FMTTYPE=image/jpeg:https://lecanton.com.br/wp-content/uploads/2026/04/quebra-cabeca.jpg
END:VEVENT
BEGIN:VEVENT
DTSTART;TZID=America/Sao_Paulo:20260702T154000
DTEND;TZID=America/Sao_Paulo:20260702T164000
DTSTAMP:20260421T093529
CREATED:20260420T205958Z
LAST-MODIFIED:20260420T205958Z
UID:10030383-1783006800-1783010400@lecanton.com.br
SUMMARY:Quebra-Cabeça Gigante
DESCRIPTION:Uma atividade divertida e colaborativa para crianças de 5 a 8 anos! Com peças grandes e coloridas\, os participantes trabalham juntos para montar o desafio\, estimulando raciocínio lógico\, coordenação e trabalho em equipe.O evento pode sofrer alterações de data\, local ou cancelamento sem aviso prévio.
URL:https://lecanton.com.br/evento/quebra-cabeca-gigante/2026-07-02/
LOCATION:Canton Ville
CATEGORIES:Crianças de 5 a 8 anos
ATTACH;FMTTYPE=image/jpeg:https://lecanton.com.br/wp-content/uploads/2026/04/quebra-cabeca.jpg
END:VEVENT
BEGIN:VEVENT
DTSTART;TZID=America/Sao_Paulo:20260709T154000
DTEND;TZID=America/Sao_Paulo:20260709T164000
DTSTAMP:20260421T093529
CREATED:20260420T205958Z
LAST-MODIFIED:20260420T205958Z
UID:10030384-1783611600-1783615200@lecanton.com.br
SUMMARY:Quebra-Cabeça Gigante
DESCRIPTION:Uma atividade divertida e colaborativa para crianças de 5 a 8 anos! Com peças grandes e coloridas\, os participantes trabalham juntos para montar o desafio\, estimulando raciocínio lógico\, coordenação e trabalho em equipe.O evento pode sofrer alterações de data\, local ou cancelamento sem aviso prévio.
URL:https://lecanton.com.br/evento/quebra-cabeca-gigante/2026-07-09/
LOCATION:Canton Ville
CATEGORIES:Crianças de 5 a 8 anos
ATTACH;FMTTYPE=image/jpeg:https://lecanton.com.br/wp-content/uploads/2026/04/quebra-cabeca.jpg
END:VEVENT
BEGIN:VEVENT
DTSTART;TZID=America/Sao_Paulo:20260716T154000
DTEND;TZID=America/Sao_Paulo:20260716T164000
DTSTAMP:20260421T093529
CREATED:20260420T205958Z
LAST-MODIFIED:20260420T205958Z
UID:10030385-1784216400-1784220000@lecanton.com.br
SUMMARY:Quebra-Cabeça Gigante
DESCRIPTION:Uma atividade divertida e colaborativa para crianças de 5 a 8 anos! Com peças grandes e coloridas\, os participantes trabalham juntos para montar o desafio\, estimulando raciocínio lógico\, coordenação e trabalho em equipe.O evento pode sofrer alterações de data\, local ou cancelamento sem aviso prévio.
URL:https://lecanton.com.br/evento/quebra-cabeca-gigante/2026-07-16/
LOCATION:Canton Ville
CATEGORIES:Crianças de 5 a 8 anos
ATTACH;FMTTYPE=image/jpeg:https://lecanton.com.br/wp-content/uploads/2026/04/quebra-cabeca.jpg
END:VEVENT
BEGIN:VEVENT
DTSTART;TZID=America/Sao_Paulo:20260723T154000
DTEND;TZID=America/Sao_Paulo:20260723T164000
DTSTAMP:20260421T093529
CREATED:20260420T205958Z
LAST-MODIFIED:20260420T205958Z
UID:10030386-1784821200-1784824800@lecanton.com.br
SUMMARY:Quebra-Cabeça Gigante
DESCRIPTION:Uma atividade divertida e colaborativa para crianças de 5 a 8 anos! Com peças grandes e coloridas\, os participantes trabalham juntos para montar o desafio\, estimulando raciocínio lógico\, coordenação e trabalho em equipe.O evento pode sofrer alterações de data\, local ou cancelamento sem aviso prévio.
URL:https://lecanton.com.br/evento/quebra-cabeca-gigante/2026-07-23/
LOCATION:Canton Ville
CATEGORIES:Crianças de 5 a 8 anos
ATTACH;FMTTYPE=image/jpeg:https://lecanton.com.br/wp-content/uploads/2026/04/quebra-cabeca.jpg
END:VEVENT
BEGIN:VEVENT
DTSTART;TZID=America/Sao_Paulo:20260730T154000
DTEND;TZID=America/Sao_Paulo:20260730T164000
DTSTAMP:20260421T093529
CREATED:20260420T205958Z
LAST-MODIFIED:20260420T205958Z
UID:10030387-1785426000-1785429600@lecanton.com.br
SUMMARY:Quebra-Cabeça Gigante
DESCRIPTION:Uma atividade divertida e colaborativa para crianças de 5 a 8 anos! Com peças grandes e coloridas\, os participantes trabalham juntos para montar o desafio\, estimulando raciocínio lógico\, coordenação e trabalho em equipe.O evento pode sofrer alterações de data\, local ou cancelamento sem aviso prévio.
URL:https://lecanton.com.br/evento/quebra-cabeca-gigante/2026-07-30/
LOCATION:Canton Ville
CATEGORIES:Crianças de 5 a 8 anos
ATTACH;FMTTYPE=image/jpeg:https://lecanton.com.br/wp-content/uploads/2026/04/quebra-cabeca.jpg
END:VEVENT
BEGIN:VEVENT
DTSTART;TZID=America/Sao_Paulo:20260806T154000
DTEND;TZID=America/Sao_Paulo:20260806T164000
DTSTAMP:20260421T093529
CREATED:20260420T205958Z
LAST-MODIFIED:20260420T205958Z
UID:10030388-1786030800-1786034400@lecanton.com.br
SUMMARY:Quebra-Cabeça Gigante
DESCRIPTION:Uma atividade divertida e colaborativa para crianças de 5 a 8 anos! Com peças grandes e coloridas\, os participantes trabalham juntos para montar o desafio\, estimulando raciocínio lógico\, coordenação e trabalho em equipe.O evento pode sofrer alterações de data\, local ou cancelamento sem aviso prévio.
URL:https://lecanton.com.br/evento/quebra-cabeca-gigante/2026-08-06/
LOCATION:Canton Ville
CATEGORIES:Crianças de 5 a 8 anos
ATTACH;FMTTYPE=image/jpeg:https://lecanton.com.br/wp-content/uploads/2026/04/quebra-cabeca.jpg
END:VEVENT
BEGIN:VEVENT
DTSTART;TZID=America/Sao_Paulo:20260813T154000
DTEND;TZID=America/Sao_Paulo:20260813T164000
DTSTAMP:20260421T093529
CREATED:20260420T205958Z
LAST-MODIFIED:20260420T205958Z
UID:10030389-1786635600-1786639200@lecanton.com.br
SUMMARY:Quebra-Cabeça Gigante
DESCRIPTION:Uma atividade divertida e colaborativa para crianças de 5 a 8 anos! Com peças grandes e coloridas\, os participantes trabalham juntos para montar o desafio\, estimulando raciocínio lógico\, coordenação e trabalho em equipe.O evento pode sofrer alterações de data\, local ou cancelamento sem aviso prévio.
URL:https://lecanton.com.br/evento/quebra-cabeca-gigante/2026-08-13/
LOCATION:Canton Ville
CATEGORIES:Crianças de 5 a 8 anos
ATTACH;FMTTYPE=image/jpeg:https://lecanton.com.br/wp-content/uploads/2026/04/quebra-cabeca.jpg
END:VEVENT
BEGIN:VEVENT
DTSTART;TZID=America/Sao_Paulo:20260820T154000
DTEND;TZID=America/Sao_Paulo:20260820T164000
DTSTAMP:20260421T093529
CREATED:20260420T205958Z
LAST-MODIFIED:20260420T205958Z
UID:10030390-1787240400-1787244000@lecanton.com.br
SUMMARY:Quebra-Cabeça Gigante
DESCRIPTION:Uma atividade divertida e colaborativa para crianças de 5 a 8 anos! Com peças grandes e coloridas\, os participantes trabalham juntos para montar o desafio\, estimulando raciocínio lógico\, coordenação e trabalho em equipe.O evento pode sofrer alterações de data\, local ou cancelamento sem aviso prévio.
URL:https://lecanton.com.br/evento/quebra-cabeca-gigante/2026-08-20/
LOCATION:Canton Ville
CATEGORIES:Crianças de 5 a 8 anos
ATTACH;FMTTYPE=image/jpeg:https://lecanton.com.br/wp-content/uploads/2026/04/quebra-cabeca.jpg
END:VEVENT
BEGIN:VEVENT
DTSTART;TZID=America/Sao_Paulo:20260827T154000
DTEND;TZID=America/Sao_Paulo:20260827T164000
DTSTAMP:20260421T093529
CREATED:20260420T205958Z
LAST-MODIFIED:20260420T205958Z
UID:10030391-1787845200-1787848800@lecanton.com.br
SUMMARY:Quebra-Cabeça Gigante
DESCRIPTION:Uma atividade divertida e colaborativa para crianças de 5 a 8 anos! Com peças grandes e coloridas\, os participantes trabalham juntos para montar o desafio\, estimulando raciocínio lógico\, coordenação e trabalho em equipe.O evento pode sofrer alterações de data\, local ou cancelamento sem aviso prévio.
URL:https://lecanton.com.br/evento/quebra-cabeca-gigante/2026-08-27/
LOCATION:Canton Ville
CATEGORIES:Crianças de 5 a 8 anos
ATTACH;FMTTYPE=image/jpeg:https://lecanton.com.br/wp-content/uploads/2026/04/quebra-cabeca.jpg
END:VEVENT
BEGIN:VEVENT
DTSTART;TZID=America/Sao_Paulo:20260903T154000
DTEND;TZID=America/Sao_Paulo:20260903T164000
DTSTAMP:20260421T093529
CREATED:20260420T205958Z
LAST-MODIFIED:20260420T205958Z
UID:10030392-1788450000-1788453600@lecanton.com.br
SUMMARY:Quebra-Cabeça Gigante
DESCRIPTION:Uma atividade divertida e colaborativa para crianças de 5 a 8 anos! Com peças grandes e coloridas\, os participantes trabalham juntos para montar o desafio\, estimulando raciocínio lógico\, coordenação e trabalho em equipe.O evento pode sofrer alterações de data\, local ou cancelamento sem aviso prévio.
URL:https://lecanton.com.br/evento/quebra-cabeca-gigante/2026-09-03/
LOCATION:Canton Ville
CATEGORIES:Crianças de 5 a 8 anos
ATTACH;FMTTYPE=image/jpeg:https://lecanton.com.br/wp-content/uploads/2026/04/quebra-cabeca.jpg
END:VEVENT
BEGIN:VEVENT
DTSTART;TZID=America/Sao_Paulo:20260910T154000
DTEND;TZID=America/Sao_Paulo:20260910T164000
DTSTAMP:20260421T093529
CREATED:20260420T205958Z
LAST-MODIFIED:20260420T205958Z
UID:10030393-1789054800-1789058400@lecanton.com.br
SUMMARY:Quebra-Cabeça Gigante
DESCRIPTION:Uma atividade divertida e colaborativa para crianças de 5 a 8 anos! Com peças grandes e coloridas\, os participantes trabalham juntos para montar o desafio\, estimulando raciocínio lógico\, coordenação e trabalho em equipe.O evento pode sofrer alterações de data\, local ou cancelamento sem aviso prévio.
URL:https://lecanton.com.br/evento/quebra-cabeca-gigante/2026-09-10/
LOCATION:Canton Ville
CATEGORIES:Crianças de 5 a 8 anos
ATTACH;FMTTYPE=image/jpeg:https://lecanton.com.br/wp-content/uploads/2026/04/quebra-cabeca.jpg
END:VEVENT
BEGIN:VEVENT
DTSTART;TZID=America/Sao_Paulo:20260917T154000
DTEND;TZID=America/Sao_Paulo:20260917T164000
DTSTAMP:20260421T093529
CREATED:20260420T205958Z
LAST-MODIFIED:20260420T205958Z
UID:10030394-1789659600-1789663200@lecanton.com.br
SUMMARY:Quebra-Cabeça Gigante
DESCRIPTION:Uma atividade divertida e colaborativa para crianças de 5 a 8 anos! Com peças grandes e coloridas\, os participantes trabalham juntos para montar o desafio\, estimulando raciocínio lógico\, coordenação e trabalho em equipe.O evento pode sofrer alterações de data\, local ou cancelamento sem aviso prévio.
URL:https://lecanton.com.br/evento/quebra-cabeca-gigante/2026-09-17/
LOCATION:Canton Ville
CATEGORIES:Crianças de 5 a 8 anos
ATTACH;FMTTYPE=image/jpeg:https://lecanton.com.br/wp-content/uploads/2026/04/quebra-cabeca.jpg
END:VEVENT
BEGIN:VEVENT
DTSTART;TZID=America/Sao_Paulo:20260924T154000
DTEND;TZID=America/Sao_Paulo:20260924T164000
DTSTAMP:20260421T093529
CREATED:20260420T205958Z
LAST-MODIFIED:20260420T205958Z
UID:10030395-1790264400-1790268000@lecanton.com.br
SUMMARY:Quebra-Cabeça Gigante
DESCRIPTION:Uma atividade divertida e colaborativa para crianças de 5 a 8 anos! Com peças grandes e coloridas\, os participantes trabalham juntos para montar o desafio\, estimulando raciocínio lógico\, coordenação e trabalho em equipe.O evento pode sofrer alterações de data\, local ou cancelamento sem aviso prévio.
URL:https://lecanton.com.br/evento/quebra-cabeca-gigante/2026-09-24/
LOCATION:Canton Ville
CATEGORIES:Crianças de 5 a 8 anos
ATTACH;FMTTYPE=image/jpeg:https://lecanton.com.br/wp-content/uploads/2026/04/quebra-cabeca.jpg
END:VEVENT
BEGIN:VEVENT
DTSTART;TZID=America/Sao_Paulo:20261001T154000
DTEND;TZID=America/Sao_Paulo:20261001T164000
DTSTAMP:20260421T093529
CREATED:20260420T205958Z
LAST-MODIFIED:20260420T205958Z
UID:10030396-1790869200-1790872800@lecanton.com.br
SUMMARY:Quebra-Cabeça Gigante
DESCRIPTION:Uma atividade divertida e colaborativa para crianças de 5 a 8 anos! Com peças grandes e coloridas\, os participantes trabalham juntos para montar o desafio\, estimulando raciocínio lógico\, coordenação e trabalho em equipe.O evento pode sofrer alterações de data\, local ou cancelamento sem aviso prévio.
URL:https://lecanton.com.br/evento/quebra-cabeca-gigante/2026-10-01/
LOCATION:Canton Ville
CATEGORIES:Crianças de 5 a 8 anos
ATTACH;FMTTYPE=image/jpeg:https://lecanton.com.br/wp-content/uploads/2026/04/quebra-cabeca.jpg
END:VEVENT
BEGIN:VEVENT
DTSTART;TZID=America/Sao_Paulo:20261008T154000
DTEND;TZID=America/Sao_Paulo:20261008T164000
DTSTAMP:20260421T093529
CREATED:20260420T205958Z
LAST-MODIFIED:20260420T205958Z
UID:10030397-1791474000-1791477600@lecanton.com.br
SUMMARY:Quebra-Cabeça Gigante
DESCRIPTION:Uma atividade divertida e colaborativa para crianças de 5 a 8 anos! Com peças grandes e coloridas\, os participantes trabalham juntos para montar o desafio\, estimulando raciocínio lógico\, coordenação e trabalho em equipe.O evento pode sofrer alterações de data\, local ou cancelamento sem aviso prévio.
URL:https://lecanton.com.br/evento/quebra-cabeca-gigante/2026-10-08/
LOCATION:Canton Ville
CATEGORIES:Crianças de 5 a 8 anos
ATTACH;FMTTYPE=image/jpeg:https://lecanton.com.br/wp-content/uploads/2026/04/quebra-cabeca.jpg
END:VEVENT
BEGIN:VEVENT
DTSTART;TZID=America/Sao_Paulo:20261015T154000
DTEND;TZID=America/Sao_Paulo:20261015T164000
DTSTAMP:20260421T093529
CREATED:20260420T205958Z
LAST-MODIFIED:20260420T205958Z
UID:10030398-1792078800-1792082400@lecanton.com.br
SUMMARY:Quebra-Cabeça Gigante
DESCRIPTION:Uma atividade divertida e colaborativa para crianças de 5 a 8 anos! Com peças grandes e coloridas\, os participantes trabalham juntos para montar o desafio\, estimulando raciocínio lógico\, coordenação e trabalho em equipe.O evento pode sofrer alterações de data\, local ou cancelamento sem aviso prévio.
URL:https://lecanton.com.br/evento/quebra-cabeca-gigante/2026-10-15/
LOCATION:Canton Ville
CATEGORIES:Crianças de 5 a 8 anos
ATTACH;FMTTYPE=image/jpeg:https://lecanton.com.br/wp-content/uploads/2026/04/quebra-cabeca.jpg
END:VEVENT
BEGIN:VEVENT
DTSTART;TZID=America/Sao_Paulo:20261022T154000
DTEND;TZID=America/Sao_Paulo:20261022T164000
DTSTAMP:20260421T093529
CREATED:20260420T205958Z
LAST-MODIFIED:20260420T205958Z
UID:10030399-1792683600-1792687200@lecanton.com.br
SUMMARY:Quebra-Cabeça Gigante
DESCRIPTION:Uma atividade divertida e colaborativa para crianças de 5 a 8 anos! Com peças grandes e coloridas\, os participantes trabalham juntos para montar o desafio\, estimulando raciocínio lógico\, coordenação e trabalho em equipe.O evento pode sofrer alterações de data\, local ou cancelamento sem aviso prévio.
URL:https://lecanton.com.br/evento/quebra-cabeca-gigante/2026-10-22/
LOCATION:Canton Ville
CATEGORIES:Crianças de 5 a 8 anos
ATTACH;FMTTYPE=image/jpeg:https://lecanton.com.br/wp-content/uploads/2026/04/quebra-cabeca.jpg
END:VEVENT
BEGIN:VEVENT
DTSTART;TZID=America/Sao_Paulo:20261029T154000
DTEND;TZID=America/Sao_Paulo:20261029T164000
DTSTAMP:20260421T093529
CREATED:20260420T205958Z
LAST-MODIFIED:20260420T205958Z
UID:10030400-1793288400-1793292000@lecanton.com.br
SUMMARY:Quebra-Cabeça Gigante
DESCRIPTION:Uma atividade divertida e colaborativa para crianças de 5 a 8 anos! Com peças grandes e coloridas\, os participantes trabalham juntos para montar o desafio\, estimulando raciocínio lógico\, coordenação e trabalho em equipe.O evento pode sofrer alterações de data\, local ou cancelamento sem aviso prévio.
URL:https://lecanton.com.br/evento/quebra-cabeca-gigante/2026-10-29/
LOCATION:Canton Ville
CATEGORIES:Crianças de 5 a 8 anos
ATTACH;FMTTYPE=image/jpeg:https://lecanton.com.br/wp-content/uploads/2026/04/quebra-cabeca.jpg
END:VEVENT
BEGIN:VEVENT
DTSTART;TZID=America/Sao_Paulo:20261105T154000
DTEND;TZID=America/Sao_Paulo:20261105T164000
DTSTAMP:20260421T093529
CREATED:20260420T205958Z
LAST-MODIFIED:20260420T205958Z
UID:10030401-1793893200-1793896800@lecanton.com.br
SUMMARY:Quebra-Cabeça Gigante
DESCRIPTION:Uma atividade divertida e colaborativa para crianças de 5 a 8 anos! Com peças grandes e coloridas\, os participantes trabalham juntos para montar o desafio\, estimulando raciocínio lógico\, coordenação e trabalho em equipe.O evento pode sofrer alterações de data\, local ou cancelamento sem aviso prévio.
URL:https://lecanton.com.br/evento/quebra-cabeca-gigante/2026-11-05/
LOCATION:Canton Ville
CATEGORIES:Crianças de 5 a 8 anos
ATTACH;FMTTYPE=image/jpeg:https://lecanton.com.br/wp-content/uploads/2026/04/quebra-cabeca.jpg
END:VEVENT
BEGIN:VEVENT
DTSTART;TZID=America/Sao_Paulo:20261112T154000
DTEND;TZID=America/Sao_Paulo:20261112T164000
DTSTAMP:20260421T093529
CREATED:20260420T205958Z
LAST-MODIFIED:20260420T205958Z
UID:10030402-1794498000-1794501600@lecanton.com.br
SUMMARY:Quebra-Cabeça Gigante
DESCRIPTION:Uma atividade divertida e colaborativa para crianças de 5 a 8 anos! Com peças grandes e coloridas\, os participantes trabalham juntos para montar o desafio\, estimulando raciocínio lógico\, coordenação e trabalho em equipe.O evento pode sofrer alterações de data\, local ou cancelamento sem aviso prévio.
URL:https://lecanton.com.br/evento/quebra-cabeca-gigante/2026-11-12/
LOCATION:Canton Ville
CATEGORIES:Crianças de 5 a 8 anos
ATTACH;FMTTYPE=image/jpeg:https://lecanton.com.br/wp-content/uploads/2026/04/quebra-cabeca.jpg
END:VEVENT
END:VCALENDAR