BEGIN:VCALENDAR
VERSION:2.0
PRODID:-//Le Canton | O melhor Resort da Serra - ECPv6.15.17.1//NONSGML v1.0//EN
CALSCALE:GREGORIAN
METHOD:PUBLISH
X-WR-CALNAME:Le Canton | O melhor Resort da Serra
X-ORIGINAL-URL:https://lecanton.com.br
X-WR-CALDESC:Eventos para Le Canton | O melhor Resort da Serra
REFRESH-INTERVAL;VALUE=DURATION:PT1H
X-Robots-Tag:noindex
X-PUBLISHED-TTL:PT1H
BEGIN:VTIMEZONE
TZID:America/Sao_Paulo
BEGIN:STANDARD
TZOFFSETFROM:-0300
TZOFFSETTO:-0300
TZNAME:-03
DTSTART:20250101T000000
END:STANDARD
END:VTIMEZONE
BEGIN:VEVENT
DTSTART;TZID=America/Sao_Paulo:20260424T154000
DTEND;TZID=America/Sao_Paulo:20260424T164000
DTSTAMP:20260421T203227
CREATED:20260420T204650Z
LAST-MODIFIED:20260420T204650Z
UID:10030111-1777045200-1777048800@lecanton.com.br
SUMMARY:Pique Diversos
DESCRIPTION:Pique Diversos \nUma atividade cheia de movimento e variedade para crianças de 5 a 8 anos! Com diferentes versões de pega-pega\, os participantes exploram agilidade\, atenção e interação em grupo\, garantindo momentos dinâmicos e muita diversão.\nO evento pode sofrer alterações de data\, local ou cancelamento sem aviso prévio.
URL:https://lecanton.com.br/evento/pique-diversos/2026-04-24/
LOCATION:Canton Ville
CATEGORIES:Crianças de 5 a 8 anos
ATTACH;FMTTYPE=image/jpeg:https://lecanton.com.br/wp-content/uploads/2026/04/caca.jpg
END:VEVENT
BEGIN:VEVENT
DTSTART;TZID=America/Sao_Paulo:20260501T154000
DTEND;TZID=America/Sao_Paulo:20260501T164000
DTSTAMP:20260421T203227
CREATED:20260420T204650Z
LAST-MODIFIED:20260420T204650Z
UID:10030112-1777650000-1777653600@lecanton.com.br
SUMMARY:Pique Diversos
DESCRIPTION:Pique Diversos \nUma atividade cheia de movimento e variedade para crianças de 5 a 8 anos! Com diferentes versões de pega-pega\, os participantes exploram agilidade\, atenção e interação em grupo\, garantindo momentos dinâmicos e muita diversão.\nO evento pode sofrer alterações de data\, local ou cancelamento sem aviso prévio.
URL:https://lecanton.com.br/evento/pique-diversos/2026-05-01/
LOCATION:Canton Ville
CATEGORIES:Crianças de 5 a 8 anos
ATTACH;FMTTYPE=image/jpeg:https://lecanton.com.br/wp-content/uploads/2026/04/caca.jpg
END:VEVENT
BEGIN:VEVENT
DTSTART;TZID=America/Sao_Paulo:20260508T154000
DTEND;TZID=America/Sao_Paulo:20260508T164000
DTSTAMP:20260421T203227
CREATED:20260420T204650Z
LAST-MODIFIED:20260420T204650Z
UID:10030113-1778254800-1778258400@lecanton.com.br
SUMMARY:Pique Diversos
DESCRIPTION:Pique Diversos \nUma atividade cheia de movimento e variedade para crianças de 5 a 8 anos! Com diferentes versões de pega-pega\, os participantes exploram agilidade\, atenção e interação em grupo\, garantindo momentos dinâmicos e muita diversão.\nO evento pode sofrer alterações de data\, local ou cancelamento sem aviso prévio.
URL:https://lecanton.com.br/evento/pique-diversos/2026-05-08/
LOCATION:Canton Ville
CATEGORIES:Crianças de 5 a 8 anos
ATTACH;FMTTYPE=image/jpeg:https://lecanton.com.br/wp-content/uploads/2026/04/caca.jpg
END:VEVENT
BEGIN:VEVENT
DTSTART;TZID=America/Sao_Paulo:20260515T154000
DTEND;TZID=America/Sao_Paulo:20260515T164000
DTSTAMP:20260421T203227
CREATED:20260420T204650Z
LAST-MODIFIED:20260420T204650Z
UID:10030114-1778859600-1778863200@lecanton.com.br
SUMMARY:Pique Diversos
DESCRIPTION:Pique Diversos \nUma atividade cheia de movimento e variedade para crianças de 5 a 8 anos! Com diferentes versões de pega-pega\, os participantes exploram agilidade\, atenção e interação em grupo\, garantindo momentos dinâmicos e muita diversão.\nO evento pode sofrer alterações de data\, local ou cancelamento sem aviso prévio.
URL:https://lecanton.com.br/evento/pique-diversos/2026-05-15/
LOCATION:Canton Ville
CATEGORIES:Crianças de 5 a 8 anos
ATTACH;FMTTYPE=image/jpeg:https://lecanton.com.br/wp-content/uploads/2026/04/caca.jpg
END:VEVENT
BEGIN:VEVENT
DTSTART;TZID=America/Sao_Paulo:20260522T154000
DTEND;TZID=America/Sao_Paulo:20260522T164000
DTSTAMP:20260421T203227
CREATED:20260420T204650Z
LAST-MODIFIED:20260420T204650Z
UID:10030115-1779464400-1779468000@lecanton.com.br
SUMMARY:Pique Diversos
DESCRIPTION:Pique Diversos \nUma atividade cheia de movimento e variedade para crianças de 5 a 8 anos! Com diferentes versões de pega-pega\, os participantes exploram agilidade\, atenção e interação em grupo\, garantindo momentos dinâmicos e muita diversão.\nO evento pode sofrer alterações de data\, local ou cancelamento sem aviso prévio.
URL:https://lecanton.com.br/evento/pique-diversos/2026-05-22/
LOCATION:Canton Ville
CATEGORIES:Crianças de 5 a 8 anos
ATTACH;FMTTYPE=image/jpeg:https://lecanton.com.br/wp-content/uploads/2026/04/caca.jpg
END:VEVENT
BEGIN:VEVENT
DTSTART;TZID=America/Sao_Paulo:20260529T154000
DTEND;TZID=America/Sao_Paulo:20260529T164000
DTSTAMP:20260421T203227
CREATED:20260420T204650Z
LAST-MODIFIED:20260420T204650Z
UID:10030116-1780069200-1780072800@lecanton.com.br
SUMMARY:Pique Diversos
DESCRIPTION:Pique Diversos \nUma atividade cheia de movimento e variedade para crianças de 5 a 8 anos! Com diferentes versões de pega-pega\, os participantes exploram agilidade\, atenção e interação em grupo\, garantindo momentos dinâmicos e muita diversão.\nO evento pode sofrer alterações de data\, local ou cancelamento sem aviso prévio.
URL:https://lecanton.com.br/evento/pique-diversos/2026-05-29/
LOCATION:Canton Ville
CATEGORIES:Crianças de 5 a 8 anos
ATTACH;FMTTYPE=image/jpeg:https://lecanton.com.br/wp-content/uploads/2026/04/caca.jpg
END:VEVENT
BEGIN:VEVENT
DTSTART;TZID=America/Sao_Paulo:20260605T154000
DTEND;TZID=America/Sao_Paulo:20260605T164000
DTSTAMP:20260421T203227
CREATED:20260420T204650Z
LAST-MODIFIED:20260420T204650Z
UID:10030117-1780674000-1780677600@lecanton.com.br
SUMMARY:Pique Diversos
DESCRIPTION:Pique Diversos \nUma atividade cheia de movimento e variedade para crianças de 5 a 8 anos! Com diferentes versões de pega-pega\, os participantes exploram agilidade\, atenção e interação em grupo\, garantindo momentos dinâmicos e muita diversão.\nO evento pode sofrer alterações de data\, local ou cancelamento sem aviso prévio.
URL:https://lecanton.com.br/evento/pique-diversos/2026-06-05/
LOCATION:Canton Ville
CATEGORIES:Crianças de 5 a 8 anos
ATTACH;FMTTYPE=image/jpeg:https://lecanton.com.br/wp-content/uploads/2026/04/caca.jpg
END:VEVENT
BEGIN:VEVENT
DTSTART;TZID=America/Sao_Paulo:20260612T154000
DTEND;TZID=America/Sao_Paulo:20260612T164000
DTSTAMP:20260421T203227
CREATED:20260420T204650Z
LAST-MODIFIED:20260420T204650Z
UID:10030118-1781278800-1781282400@lecanton.com.br
SUMMARY:Pique Diversos
DESCRIPTION:Pique Diversos \nUma atividade cheia de movimento e variedade para crianças de 5 a 8 anos! Com diferentes versões de pega-pega\, os participantes exploram agilidade\, atenção e interação em grupo\, garantindo momentos dinâmicos e muita diversão.\nO evento pode sofrer alterações de data\, local ou cancelamento sem aviso prévio.
URL:https://lecanton.com.br/evento/pique-diversos/2026-06-12/
LOCATION:Canton Ville
CATEGORIES:Crianças de 5 a 8 anos
ATTACH;FMTTYPE=image/jpeg:https://lecanton.com.br/wp-content/uploads/2026/04/caca.jpg
END:VEVENT
BEGIN:VEVENT
DTSTART;TZID=America/Sao_Paulo:20260619T154000
DTEND;TZID=America/Sao_Paulo:20260619T164000
DTSTAMP:20260421T203227
CREATED:20260420T204650Z
LAST-MODIFIED:20260420T204650Z
UID:10030119-1781883600-1781887200@lecanton.com.br
SUMMARY:Pique Diversos
DESCRIPTION:Pique Diversos \nUma atividade cheia de movimento e variedade para crianças de 5 a 8 anos! Com diferentes versões de pega-pega\, os participantes exploram agilidade\, atenção e interação em grupo\, garantindo momentos dinâmicos e muita diversão.\nO evento pode sofrer alterações de data\, local ou cancelamento sem aviso prévio.
URL:https://lecanton.com.br/evento/pique-diversos/2026-06-19/
LOCATION:Canton Ville
CATEGORIES:Crianças de 5 a 8 anos
ATTACH;FMTTYPE=image/jpeg:https://lecanton.com.br/wp-content/uploads/2026/04/caca.jpg
END:VEVENT
BEGIN:VEVENT
DTSTART;TZID=America/Sao_Paulo:20260626T154000
DTEND;TZID=America/Sao_Paulo:20260626T164000
DTSTAMP:20260421T203227
CREATED:20260420T204650Z
LAST-MODIFIED:20260420T204650Z
UID:10030120-1782488400-1782492000@lecanton.com.br
SUMMARY:Pique Diversos
DESCRIPTION:Pique Diversos \nUma atividade cheia de movimento e variedade para crianças de 5 a 8 anos! Com diferentes versões de pega-pega\, os participantes exploram agilidade\, atenção e interação em grupo\, garantindo momentos dinâmicos e muita diversão.\nO evento pode sofrer alterações de data\, local ou cancelamento sem aviso prévio.
URL:https://lecanton.com.br/evento/pique-diversos/2026-06-26/
LOCATION:Canton Ville
CATEGORIES:Crianças de 5 a 8 anos
ATTACH;FMTTYPE=image/jpeg:https://lecanton.com.br/wp-content/uploads/2026/04/caca.jpg
END:VEVENT
BEGIN:VEVENT
DTSTART;TZID=America/Sao_Paulo:20260703T154000
DTEND;TZID=America/Sao_Paulo:20260703T164000
DTSTAMP:20260421T203227
CREATED:20260420T204650Z
LAST-MODIFIED:20260420T204650Z
UID:10030121-1783093200-1783096800@lecanton.com.br
SUMMARY:Pique Diversos
DESCRIPTION:Pique Diversos \nUma atividade cheia de movimento e variedade para crianças de 5 a 8 anos! Com diferentes versões de pega-pega\, os participantes exploram agilidade\, atenção e interação em grupo\, garantindo momentos dinâmicos e muita diversão.\nO evento pode sofrer alterações de data\, local ou cancelamento sem aviso prévio.
URL:https://lecanton.com.br/evento/pique-diversos/2026-07-03/
LOCATION:Canton Ville
CATEGORIES:Crianças de 5 a 8 anos
ATTACH;FMTTYPE=image/jpeg:https://lecanton.com.br/wp-content/uploads/2026/04/caca.jpg
END:VEVENT
BEGIN:VEVENT
DTSTART;TZID=America/Sao_Paulo:20260710T154000
DTEND;TZID=America/Sao_Paulo:20260710T164000
DTSTAMP:20260421T203227
CREATED:20260420T204650Z
LAST-MODIFIED:20260420T204650Z
UID:10030122-1783698000-1783701600@lecanton.com.br
SUMMARY:Pique Diversos
DESCRIPTION:Pique Diversos \nUma atividade cheia de movimento e variedade para crianças de 5 a 8 anos! Com diferentes versões de pega-pega\, os participantes exploram agilidade\, atenção e interação em grupo\, garantindo momentos dinâmicos e muita diversão.\nO evento pode sofrer alterações de data\, local ou cancelamento sem aviso prévio.
URL:https://lecanton.com.br/evento/pique-diversos/2026-07-10/
LOCATION:Canton Ville
CATEGORIES:Crianças de 5 a 8 anos
ATTACH;FMTTYPE=image/jpeg:https://lecanton.com.br/wp-content/uploads/2026/04/caca.jpg
END:VEVENT
BEGIN:VEVENT
DTSTART;TZID=America/Sao_Paulo:20260717T154000
DTEND;TZID=America/Sao_Paulo:20260717T164000
DTSTAMP:20260421T203227
CREATED:20260420T204650Z
LAST-MODIFIED:20260420T204650Z
UID:10030123-1784302800-1784306400@lecanton.com.br
SUMMARY:Pique Diversos
DESCRIPTION:Pique Diversos \nUma atividade cheia de movimento e variedade para crianças de 5 a 8 anos! Com diferentes versões de pega-pega\, os participantes exploram agilidade\, atenção e interação em grupo\, garantindo momentos dinâmicos e muita diversão.\nO evento pode sofrer alterações de data\, local ou cancelamento sem aviso prévio.
URL:https://lecanton.com.br/evento/pique-diversos/2026-07-17/
LOCATION:Canton Ville
CATEGORIES:Crianças de 5 a 8 anos
ATTACH;FMTTYPE=image/jpeg:https://lecanton.com.br/wp-content/uploads/2026/04/caca.jpg
END:VEVENT
BEGIN:VEVENT
DTSTART;TZID=America/Sao_Paulo:20260724T154000
DTEND;TZID=America/Sao_Paulo:20260724T164000
DTSTAMP:20260421T203227
CREATED:20260420T204650Z
LAST-MODIFIED:20260420T204650Z
UID:10030124-1784907600-1784911200@lecanton.com.br
SUMMARY:Pique Diversos
DESCRIPTION:Pique Diversos \nUma atividade cheia de movimento e variedade para crianças de 5 a 8 anos! Com diferentes versões de pega-pega\, os participantes exploram agilidade\, atenção e interação em grupo\, garantindo momentos dinâmicos e muita diversão.\nO evento pode sofrer alterações de data\, local ou cancelamento sem aviso prévio.
URL:https://lecanton.com.br/evento/pique-diversos/2026-07-24/
LOCATION:Canton Ville
CATEGORIES:Crianças de 5 a 8 anos
ATTACH;FMTTYPE=image/jpeg:https://lecanton.com.br/wp-content/uploads/2026/04/caca.jpg
END:VEVENT
BEGIN:VEVENT
DTSTART;TZID=America/Sao_Paulo:20260731T154000
DTEND;TZID=America/Sao_Paulo:20260731T164000
DTSTAMP:20260421T203227
CREATED:20260420T204650Z
LAST-MODIFIED:20260420T204650Z
UID:10030125-1785512400-1785516000@lecanton.com.br
SUMMARY:Pique Diversos
DESCRIPTION:Pique Diversos \nUma atividade cheia de movimento e variedade para crianças de 5 a 8 anos! Com diferentes versões de pega-pega\, os participantes exploram agilidade\, atenção e interação em grupo\, garantindo momentos dinâmicos e muita diversão.\nO evento pode sofrer alterações de data\, local ou cancelamento sem aviso prévio.
URL:https://lecanton.com.br/evento/pique-diversos/2026-07-31/
LOCATION:Canton Ville
CATEGORIES:Crianças de 5 a 8 anos
ATTACH;FMTTYPE=image/jpeg:https://lecanton.com.br/wp-content/uploads/2026/04/caca.jpg
END:VEVENT
BEGIN:VEVENT
DTSTART;TZID=America/Sao_Paulo:20260807T154000
DTEND;TZID=America/Sao_Paulo:20260807T164000
DTSTAMP:20260421T203227
CREATED:20260420T204650Z
LAST-MODIFIED:20260420T204650Z
UID:10030126-1786117200-1786120800@lecanton.com.br
SUMMARY:Pique Diversos
DESCRIPTION:Pique Diversos \nUma atividade cheia de movimento e variedade para crianças de 5 a 8 anos! Com diferentes versões de pega-pega\, os participantes exploram agilidade\, atenção e interação em grupo\, garantindo momentos dinâmicos e muita diversão.\nO evento pode sofrer alterações de data\, local ou cancelamento sem aviso prévio.
URL:https://lecanton.com.br/evento/pique-diversos/2026-08-07/
LOCATION:Canton Ville
CATEGORIES:Crianças de 5 a 8 anos
ATTACH;FMTTYPE=image/jpeg:https://lecanton.com.br/wp-content/uploads/2026/04/caca.jpg
END:VEVENT
BEGIN:VEVENT
DTSTART;TZID=America/Sao_Paulo:20260814T154000
DTEND;TZID=America/Sao_Paulo:20260814T164000
DTSTAMP:20260421T203227
CREATED:20260420T204650Z
LAST-MODIFIED:20260420T204650Z
UID:10030127-1786722000-1786725600@lecanton.com.br
SUMMARY:Pique Diversos
DESCRIPTION:Pique Diversos \nUma atividade cheia de movimento e variedade para crianças de 5 a 8 anos! Com diferentes versões de pega-pega\, os participantes exploram agilidade\, atenção e interação em grupo\, garantindo momentos dinâmicos e muita diversão.\nO evento pode sofrer alterações de data\, local ou cancelamento sem aviso prévio.
URL:https://lecanton.com.br/evento/pique-diversos/2026-08-14/
LOCATION:Canton Ville
CATEGORIES:Crianças de 5 a 8 anos
ATTACH;FMTTYPE=image/jpeg:https://lecanton.com.br/wp-content/uploads/2026/04/caca.jpg
END:VEVENT
BEGIN:VEVENT
DTSTART;TZID=America/Sao_Paulo:20260821T154000
DTEND;TZID=America/Sao_Paulo:20260821T164000
DTSTAMP:20260421T203227
CREATED:20260420T204650Z
LAST-MODIFIED:20260420T204650Z
UID:10030128-1787326800-1787330400@lecanton.com.br
SUMMARY:Pique Diversos
DESCRIPTION:Pique Diversos \nUma atividade cheia de movimento e variedade para crianças de 5 a 8 anos! Com diferentes versões de pega-pega\, os participantes exploram agilidade\, atenção e interação em grupo\, garantindo momentos dinâmicos e muita diversão.\nO evento pode sofrer alterações de data\, local ou cancelamento sem aviso prévio.
URL:https://lecanton.com.br/evento/pique-diversos/2026-08-21/
LOCATION:Canton Ville
CATEGORIES:Crianças de 5 a 8 anos
ATTACH;FMTTYPE=image/jpeg:https://lecanton.com.br/wp-content/uploads/2026/04/caca.jpg
END:VEVENT
BEGIN:VEVENT
DTSTART;TZID=America/Sao_Paulo:20260828T154000
DTEND;TZID=America/Sao_Paulo:20260828T164000
DTSTAMP:20260421T203227
CREATED:20260420T204650Z
LAST-MODIFIED:20260420T204650Z
UID:10030129-1787931600-1787935200@lecanton.com.br
SUMMARY:Pique Diversos
DESCRIPTION:Pique Diversos \nUma atividade cheia de movimento e variedade para crianças de 5 a 8 anos! Com diferentes versões de pega-pega\, os participantes exploram agilidade\, atenção e interação em grupo\, garantindo momentos dinâmicos e muita diversão.\nO evento pode sofrer alterações de data\, local ou cancelamento sem aviso prévio.
URL:https://lecanton.com.br/evento/pique-diversos/2026-08-28/
LOCATION:Canton Ville
CATEGORIES:Crianças de 5 a 8 anos
ATTACH;FMTTYPE=image/jpeg:https://lecanton.com.br/wp-content/uploads/2026/04/caca.jpg
END:VEVENT
BEGIN:VEVENT
DTSTART;TZID=America/Sao_Paulo:20260904T154000
DTEND;TZID=America/Sao_Paulo:20260904T164000
DTSTAMP:20260421T203227
CREATED:20260420T204650Z
LAST-MODIFIED:20260420T204650Z
UID:10030130-1788536400-1788540000@lecanton.com.br
SUMMARY:Pique Diversos
DESCRIPTION:Pique Diversos \nUma atividade cheia de movimento e variedade para crianças de 5 a 8 anos! Com diferentes versões de pega-pega\, os participantes exploram agilidade\, atenção e interação em grupo\, garantindo momentos dinâmicos e muita diversão.\nO evento pode sofrer alterações de data\, local ou cancelamento sem aviso prévio.
URL:https://lecanton.com.br/evento/pique-diversos/2026-09-04/
LOCATION:Canton Ville
CATEGORIES:Crianças de 5 a 8 anos
ATTACH;FMTTYPE=image/jpeg:https://lecanton.com.br/wp-content/uploads/2026/04/caca.jpg
END:VEVENT
BEGIN:VEVENT
DTSTART;TZID=America/Sao_Paulo:20260911T154000
DTEND;TZID=America/Sao_Paulo:20260911T164000
DTSTAMP:20260421T203227
CREATED:20260420T204650Z
LAST-MODIFIED:20260420T204650Z
UID:10030131-1789141200-1789144800@lecanton.com.br
SUMMARY:Pique Diversos
DESCRIPTION:Pique Diversos \nUma atividade cheia de movimento e variedade para crianças de 5 a 8 anos! Com diferentes versões de pega-pega\, os participantes exploram agilidade\, atenção e interação em grupo\, garantindo momentos dinâmicos e muita diversão.\nO evento pode sofrer alterações de data\, local ou cancelamento sem aviso prévio.
URL:https://lecanton.com.br/evento/pique-diversos/2026-09-11/
LOCATION:Canton Ville
CATEGORIES:Crianças de 5 a 8 anos
ATTACH;FMTTYPE=image/jpeg:https://lecanton.com.br/wp-content/uploads/2026/04/caca.jpg
END:VEVENT
BEGIN:VEVENT
DTSTART;TZID=America/Sao_Paulo:20260918T154000
DTEND;TZID=America/Sao_Paulo:20260918T164000
DTSTAMP:20260421T203227
CREATED:20260420T204650Z
LAST-MODIFIED:20260420T204650Z
UID:10030132-1789746000-1789749600@lecanton.com.br
SUMMARY:Pique Diversos
DESCRIPTION:Pique Diversos \nUma atividade cheia de movimento e variedade para crianças de 5 a 8 anos! Com diferentes versões de pega-pega\, os participantes exploram agilidade\, atenção e interação em grupo\, garantindo momentos dinâmicos e muita diversão.\nO evento pode sofrer alterações de data\, local ou cancelamento sem aviso prévio.
URL:https://lecanton.com.br/evento/pique-diversos/2026-09-18/
LOCATION:Canton Ville
CATEGORIES:Crianças de 5 a 8 anos
ATTACH;FMTTYPE=image/jpeg:https://lecanton.com.br/wp-content/uploads/2026/04/caca.jpg
END:VEVENT
BEGIN:VEVENT
DTSTART;TZID=America/Sao_Paulo:20260925T154000
DTEND;TZID=America/Sao_Paulo:20260925T164000
DTSTAMP:20260421T203227
CREATED:20260420T204650Z
LAST-MODIFIED:20260420T204650Z
UID:10030133-1790350800-1790354400@lecanton.com.br
SUMMARY:Pique Diversos
DESCRIPTION:Pique Diversos \nUma atividade cheia de movimento e variedade para crianças de 5 a 8 anos! Com diferentes versões de pega-pega\, os participantes exploram agilidade\, atenção e interação em grupo\, garantindo momentos dinâmicos e muita diversão.\nO evento pode sofrer alterações de data\, local ou cancelamento sem aviso prévio.
URL:https://lecanton.com.br/evento/pique-diversos/2026-09-25/
LOCATION:Canton Ville
CATEGORIES:Crianças de 5 a 8 anos
ATTACH;FMTTYPE=image/jpeg:https://lecanton.com.br/wp-content/uploads/2026/04/caca.jpg
END:VEVENT
BEGIN:VEVENT
DTSTART;TZID=America/Sao_Paulo:20261002T154000
DTEND;TZID=America/Sao_Paulo:20261002T164000
DTSTAMP:20260421T203227
CREATED:20260420T204650Z
LAST-MODIFIED:20260420T204650Z
UID:10030134-1790955600-1790959200@lecanton.com.br
SUMMARY:Pique Diversos
DESCRIPTION:Pique Diversos \nUma atividade cheia de movimento e variedade para crianças de 5 a 8 anos! Com diferentes versões de pega-pega\, os participantes exploram agilidade\, atenção e interação em grupo\, garantindo momentos dinâmicos e muita diversão.\nO evento pode sofrer alterações de data\, local ou cancelamento sem aviso prévio.
URL:https://lecanton.com.br/evento/pique-diversos/2026-10-02/
LOCATION:Canton Ville
CATEGORIES:Crianças de 5 a 8 anos
ATTACH;FMTTYPE=image/jpeg:https://lecanton.com.br/wp-content/uploads/2026/04/caca.jpg
END:VEVENT
BEGIN:VEVENT
DTSTART;TZID=America/Sao_Paulo:20261009T154000
DTEND;TZID=America/Sao_Paulo:20261009T164000
DTSTAMP:20260421T203227
CREATED:20260420T204650Z
LAST-MODIFIED:20260420T204650Z
UID:10030135-1791560400-1791564000@lecanton.com.br
SUMMARY:Pique Diversos
DESCRIPTION:Pique Diversos \nUma atividade cheia de movimento e variedade para crianças de 5 a 8 anos! Com diferentes versões de pega-pega\, os participantes exploram agilidade\, atenção e interação em grupo\, garantindo momentos dinâmicos e muita diversão.\nO evento pode sofrer alterações de data\, local ou cancelamento sem aviso prévio.
URL:https://lecanton.com.br/evento/pique-diversos/2026-10-09/
LOCATION:Canton Ville
CATEGORIES:Crianças de 5 a 8 anos
ATTACH;FMTTYPE=image/jpeg:https://lecanton.com.br/wp-content/uploads/2026/04/caca.jpg
END:VEVENT
BEGIN:VEVENT
DTSTART;TZID=America/Sao_Paulo:20261016T154000
DTEND;TZID=America/Sao_Paulo:20261016T164000
DTSTAMP:20260421T203227
CREATED:20260420T204650Z
LAST-MODIFIED:20260420T204650Z
UID:10030136-1792165200-1792168800@lecanton.com.br
SUMMARY:Pique Diversos
DESCRIPTION:Pique Diversos \nUma atividade cheia de movimento e variedade para crianças de 5 a 8 anos! Com diferentes versões de pega-pega\, os participantes exploram agilidade\, atenção e interação em grupo\, garantindo momentos dinâmicos e muita diversão.\nO evento pode sofrer alterações de data\, local ou cancelamento sem aviso prévio.
URL:https://lecanton.com.br/evento/pique-diversos/2026-10-16/
LOCATION:Canton Ville
CATEGORIES:Crianças de 5 a 8 anos
ATTACH;FMTTYPE=image/jpeg:https://lecanton.com.br/wp-content/uploads/2026/04/caca.jpg
END:VEVENT
BEGIN:VEVENT
DTSTART;TZID=America/Sao_Paulo:20261023T154000
DTEND;TZID=America/Sao_Paulo:20261023T164000
DTSTAMP:20260421T203227
CREATED:20260420T204650Z
LAST-MODIFIED:20260420T204650Z
UID:10030137-1792770000-1792773600@lecanton.com.br
SUMMARY:Pique Diversos
DESCRIPTION:Pique Diversos \nUma atividade cheia de movimento e variedade para crianças de 5 a 8 anos! Com diferentes versões de pega-pega\, os participantes exploram agilidade\, atenção e interação em grupo\, garantindo momentos dinâmicos e muita diversão.\nO evento pode sofrer alterações de data\, local ou cancelamento sem aviso prévio.
URL:https://lecanton.com.br/evento/pique-diversos/2026-10-23/
LOCATION:Canton Ville
CATEGORIES:Crianças de 5 a 8 anos
ATTACH;FMTTYPE=image/jpeg:https://lecanton.com.br/wp-content/uploads/2026/04/caca.jpg
END:VEVENT
BEGIN:VEVENT
DTSTART;TZID=America/Sao_Paulo:20261030T154000
DTEND;TZID=America/Sao_Paulo:20261030T164000
DTSTAMP:20260421T203227
CREATED:20260420T204650Z
LAST-MODIFIED:20260420T204650Z
UID:10030138-1793374800-1793378400@lecanton.com.br
SUMMARY:Pique Diversos
DESCRIPTION:Pique Diversos \nUma atividade cheia de movimento e variedade para crianças de 5 a 8 anos! Com diferentes versões de pega-pega\, os participantes exploram agilidade\, atenção e interação em grupo\, garantindo momentos dinâmicos e muita diversão.\nO evento pode sofrer alterações de data\, local ou cancelamento sem aviso prévio.
URL:https://lecanton.com.br/evento/pique-diversos/2026-10-30/
LOCATION:Canton Ville
CATEGORIES:Crianças de 5 a 8 anos
ATTACH;FMTTYPE=image/jpeg:https://lecanton.com.br/wp-content/uploads/2026/04/caca.jpg
END:VEVENT
BEGIN:VEVENT
DTSTART;TZID=America/Sao_Paulo:20261106T154000
DTEND;TZID=America/Sao_Paulo:20261106T164000
DTSTAMP:20260421T203227
CREATED:20260420T204650Z
LAST-MODIFIED:20260420T204650Z
UID:10030139-1793979600-1793983200@lecanton.com.br
SUMMARY:Pique Diversos
DESCRIPTION:Pique Diversos \nUma atividade cheia de movimento e variedade para crianças de 5 a 8 anos! Com diferentes versões de pega-pega\, os participantes exploram agilidade\, atenção e interação em grupo\, garantindo momentos dinâmicos e muita diversão.\nO evento pode sofrer alterações de data\, local ou cancelamento sem aviso prévio.
URL:https://lecanton.com.br/evento/pique-diversos/2026-11-06/
LOCATION:Canton Ville
CATEGORIES:Crianças de 5 a 8 anos
ATTACH;FMTTYPE=image/jpeg:https://lecanton.com.br/wp-content/uploads/2026/04/caca.jpg
END:VEVENT
BEGIN:VEVENT
DTSTART;TZID=America/Sao_Paulo:20261113T154000
DTEND;TZID=America/Sao_Paulo:20261113T164000
DTSTAMP:20260421T203227
CREATED:20260420T204650Z
LAST-MODIFIED:20260420T204650Z
UID:10030140-1794584400-1794588000@lecanton.com.br
SUMMARY:Pique Diversos
DESCRIPTION:Pique Diversos \nUma atividade cheia de movimento e variedade para crianças de 5 a 8 anos! Com diferentes versões de pega-pega\, os participantes exploram agilidade\, atenção e interação em grupo\, garantindo momentos dinâmicos e muita diversão.\nO evento pode sofrer alterações de data\, local ou cancelamento sem aviso prévio.
URL:https://lecanton.com.br/evento/pique-diversos/2026-11-13/
LOCATION:Canton Ville
CATEGORIES:Crianças de 5 a 8 anos
ATTACH;FMTTYPE=image/jpeg:https://lecanton.com.br/wp-content/uploads/2026/04/caca.jpg
END:VEVENT
END:VCALENDAR