BEGIN:VCALENDAR
VERSION:2.0
PRODID:-//Le Canton | O melhor Resort da Serra - ECPv6.15.17.1//NONSGML v1.0//EN
CALSCALE:GREGORIAN
METHOD:PUBLISH
X-WR-CALNAME:Le Canton | O melhor Resort da Serra
X-ORIGINAL-URL:https://lecanton.com.br
X-WR-CALDESC:Eventos para Le Canton | O melhor Resort da Serra
REFRESH-INTERVAL;VALUE=DURATION:PT1H
X-Robots-Tag:noindex
X-PUBLISHED-TTL:PT1H
BEGIN:VTIMEZONE
TZID:America/Sao_Paulo
BEGIN:STANDARD
TZOFFSETFROM:-0300
TZOFFSETTO:-0300
TZNAME:-03
DTSTART:20250101T000000
END:STANDARD
END:VTIMEZONE
BEGIN:VEVENT
DTSTART;TZID=America/Sao_Paulo:20260423T112000
DTEND;TZID=America/Sao_Paulo:20260423T122000
DTSTAMP:20260421T094717
CREATED:20260420T204346Z
LAST-MODIFIED:20260420T204346Z
UID:10029849-1776943200-1776946800@lecanton.com.br
SUMMARY:Pique Ameba
DESCRIPTION:Uma versão divertida e adaptada do queimado para crianças de 5 a 8 anos! No jogo\, quem pega a bola deve permanecer parado e tentar “queimar” os colegas. Ao ser atingido\, o participante vira uma “ameba”\, permanecendo no chão até conseguir voltar ao jogo por meio da ajuda dos colegas ou recuperando a bola. A atividade estimula coordenação\, atenção e muita interação em grupo.O evento pode sofrer alterações de data\, local ou cancelamento sem aviso prévio.
URL:https://lecanton.com.br/evento/pique-ameba-2/2026-04-23/
LOCATION:Canton Ville
CATEGORIES:Crianças de 5 a 8 anos
ATTACH;FMTTYPE=image/jpeg:https://lecanton.com.br/wp-content/uploads/2026/04/caca.jpg
END:VEVENT
BEGIN:VEVENT
DTSTART;TZID=America/Sao_Paulo:20260430T112000
DTEND;TZID=America/Sao_Paulo:20260430T122000
DTSTAMP:20260421T094717
CREATED:20260420T204346Z
LAST-MODIFIED:20260420T204346Z
UID:10029850-1777548000-1777551600@lecanton.com.br
SUMMARY:Pique Ameba
DESCRIPTION:Uma versão divertida e adaptada do queimado para crianças de 5 a 8 anos! No jogo\, quem pega a bola deve permanecer parado e tentar “queimar” os colegas. Ao ser atingido\, o participante vira uma “ameba”\, permanecendo no chão até conseguir voltar ao jogo por meio da ajuda dos colegas ou recuperando a bola. A atividade estimula coordenação\, atenção e muita interação em grupo.O evento pode sofrer alterações de data\, local ou cancelamento sem aviso prévio.
URL:https://lecanton.com.br/evento/pique-ameba-2/2026-04-30/
LOCATION:Canton Ville
CATEGORIES:Crianças de 5 a 8 anos
ATTACH;FMTTYPE=image/jpeg:https://lecanton.com.br/wp-content/uploads/2026/04/caca.jpg
END:VEVENT
BEGIN:VEVENT
DTSTART;TZID=America/Sao_Paulo:20260507T112000
DTEND;TZID=America/Sao_Paulo:20260507T122000
DTSTAMP:20260421T094717
CREATED:20260420T204346Z
LAST-MODIFIED:20260420T204346Z
UID:10029851-1778152800-1778156400@lecanton.com.br
SUMMARY:Pique Ameba
DESCRIPTION:Uma versão divertida e adaptada do queimado para crianças de 5 a 8 anos! No jogo\, quem pega a bola deve permanecer parado e tentar “queimar” os colegas. Ao ser atingido\, o participante vira uma “ameba”\, permanecendo no chão até conseguir voltar ao jogo por meio da ajuda dos colegas ou recuperando a bola. A atividade estimula coordenação\, atenção e muita interação em grupo.O evento pode sofrer alterações de data\, local ou cancelamento sem aviso prévio.
URL:https://lecanton.com.br/evento/pique-ameba-2/2026-05-07/
LOCATION:Canton Ville
CATEGORIES:Crianças de 5 a 8 anos
ATTACH;FMTTYPE=image/jpeg:https://lecanton.com.br/wp-content/uploads/2026/04/caca.jpg
END:VEVENT
BEGIN:VEVENT
DTSTART;TZID=America/Sao_Paulo:20260514T112000
DTEND;TZID=America/Sao_Paulo:20260514T122000
DTSTAMP:20260421T094717
CREATED:20260420T204346Z
LAST-MODIFIED:20260420T204346Z
UID:10029852-1778757600-1778761200@lecanton.com.br
SUMMARY:Pique Ameba
DESCRIPTION:Uma versão divertida e adaptada do queimado para crianças de 5 a 8 anos! No jogo\, quem pega a bola deve permanecer parado e tentar “queimar” os colegas. Ao ser atingido\, o participante vira uma “ameba”\, permanecendo no chão até conseguir voltar ao jogo por meio da ajuda dos colegas ou recuperando a bola. A atividade estimula coordenação\, atenção e muita interação em grupo.O evento pode sofrer alterações de data\, local ou cancelamento sem aviso prévio.
URL:https://lecanton.com.br/evento/pique-ameba-2/2026-05-14/
LOCATION:Canton Ville
CATEGORIES:Crianças de 5 a 8 anos
ATTACH;FMTTYPE=image/jpeg:https://lecanton.com.br/wp-content/uploads/2026/04/caca.jpg
END:VEVENT
BEGIN:VEVENT
DTSTART;TZID=America/Sao_Paulo:20260521T112000
DTEND;TZID=America/Sao_Paulo:20260521T122000
DTSTAMP:20260421T094717
CREATED:20260420T204346Z
LAST-MODIFIED:20260420T204346Z
UID:10029853-1779362400-1779366000@lecanton.com.br
SUMMARY:Pique Ameba
DESCRIPTION:Uma versão divertida e adaptada do queimado para crianças de 5 a 8 anos! No jogo\, quem pega a bola deve permanecer parado e tentar “queimar” os colegas. Ao ser atingido\, o participante vira uma “ameba”\, permanecendo no chão até conseguir voltar ao jogo por meio da ajuda dos colegas ou recuperando a bola. A atividade estimula coordenação\, atenção e muita interação em grupo.O evento pode sofrer alterações de data\, local ou cancelamento sem aviso prévio.
URL:https://lecanton.com.br/evento/pique-ameba-2/2026-05-21/
LOCATION:Canton Ville
CATEGORIES:Crianças de 5 a 8 anos
ATTACH;FMTTYPE=image/jpeg:https://lecanton.com.br/wp-content/uploads/2026/04/caca.jpg
END:VEVENT
BEGIN:VEVENT
DTSTART;TZID=America/Sao_Paulo:20260528T112000
DTEND;TZID=America/Sao_Paulo:20260528T122000
DTSTAMP:20260421T094717
CREATED:20260420T204346Z
LAST-MODIFIED:20260420T204346Z
UID:10029854-1779967200-1779970800@lecanton.com.br
SUMMARY:Pique Ameba
DESCRIPTION:Uma versão divertida e adaptada do queimado para crianças de 5 a 8 anos! No jogo\, quem pega a bola deve permanecer parado e tentar “queimar” os colegas. Ao ser atingido\, o participante vira uma “ameba”\, permanecendo no chão até conseguir voltar ao jogo por meio da ajuda dos colegas ou recuperando a bola. A atividade estimula coordenação\, atenção e muita interação em grupo.O evento pode sofrer alterações de data\, local ou cancelamento sem aviso prévio.
URL:https://lecanton.com.br/evento/pique-ameba-2/2026-05-28/
LOCATION:Canton Ville
CATEGORIES:Crianças de 5 a 8 anos
ATTACH;FMTTYPE=image/jpeg:https://lecanton.com.br/wp-content/uploads/2026/04/caca.jpg
END:VEVENT
BEGIN:VEVENT
DTSTART;TZID=America/Sao_Paulo:20260604T112000
DTEND;TZID=America/Sao_Paulo:20260604T122000
DTSTAMP:20260421T094717
CREATED:20260420T204346Z
LAST-MODIFIED:20260420T204346Z
UID:10029855-1780572000-1780575600@lecanton.com.br
SUMMARY:Pique Ameba
DESCRIPTION:Uma versão divertida e adaptada do queimado para crianças de 5 a 8 anos! No jogo\, quem pega a bola deve permanecer parado e tentar “queimar” os colegas. Ao ser atingido\, o participante vira uma “ameba”\, permanecendo no chão até conseguir voltar ao jogo por meio da ajuda dos colegas ou recuperando a bola. A atividade estimula coordenação\, atenção e muita interação em grupo.O evento pode sofrer alterações de data\, local ou cancelamento sem aviso prévio.
URL:https://lecanton.com.br/evento/pique-ameba-2/2026-06-04/
LOCATION:Canton Ville
CATEGORIES:Crianças de 5 a 8 anos
ATTACH;FMTTYPE=image/jpeg:https://lecanton.com.br/wp-content/uploads/2026/04/caca.jpg
END:VEVENT
BEGIN:VEVENT
DTSTART;TZID=America/Sao_Paulo:20260611T112000
DTEND;TZID=America/Sao_Paulo:20260611T122000
DTSTAMP:20260421T094717
CREATED:20260420T204346Z
LAST-MODIFIED:20260420T204346Z
UID:10029856-1781176800-1781180400@lecanton.com.br
SUMMARY:Pique Ameba
DESCRIPTION:Uma versão divertida e adaptada do queimado para crianças de 5 a 8 anos! No jogo\, quem pega a bola deve permanecer parado e tentar “queimar” os colegas. Ao ser atingido\, o participante vira uma “ameba”\, permanecendo no chão até conseguir voltar ao jogo por meio da ajuda dos colegas ou recuperando a bola. A atividade estimula coordenação\, atenção e muita interação em grupo.O evento pode sofrer alterações de data\, local ou cancelamento sem aviso prévio.
URL:https://lecanton.com.br/evento/pique-ameba-2/2026-06-11/
LOCATION:Canton Ville
CATEGORIES:Crianças de 5 a 8 anos
ATTACH;FMTTYPE=image/jpeg:https://lecanton.com.br/wp-content/uploads/2026/04/caca.jpg
END:VEVENT
BEGIN:VEVENT
DTSTART;TZID=America/Sao_Paulo:20260618T112000
DTEND;TZID=America/Sao_Paulo:20260618T122000
DTSTAMP:20260421T094717
CREATED:20260420T204346Z
LAST-MODIFIED:20260420T204346Z
UID:10029857-1781781600-1781785200@lecanton.com.br
SUMMARY:Pique Ameba
DESCRIPTION:Uma versão divertida e adaptada do queimado para crianças de 5 a 8 anos! No jogo\, quem pega a bola deve permanecer parado e tentar “queimar” os colegas. Ao ser atingido\, o participante vira uma “ameba”\, permanecendo no chão até conseguir voltar ao jogo por meio da ajuda dos colegas ou recuperando a bola. A atividade estimula coordenação\, atenção e muita interação em grupo.O evento pode sofrer alterações de data\, local ou cancelamento sem aviso prévio.
URL:https://lecanton.com.br/evento/pique-ameba-2/2026-06-18/
LOCATION:Canton Ville
CATEGORIES:Crianças de 5 a 8 anos
ATTACH;FMTTYPE=image/jpeg:https://lecanton.com.br/wp-content/uploads/2026/04/caca.jpg
END:VEVENT
BEGIN:VEVENT
DTSTART;TZID=America/Sao_Paulo:20260625T112000
DTEND;TZID=America/Sao_Paulo:20260625T122000
DTSTAMP:20260421T094717
CREATED:20260420T204346Z
LAST-MODIFIED:20260420T204346Z
UID:10029858-1782386400-1782390000@lecanton.com.br
SUMMARY:Pique Ameba
DESCRIPTION:Uma versão divertida e adaptada do queimado para crianças de 5 a 8 anos! No jogo\, quem pega a bola deve permanecer parado e tentar “queimar” os colegas. Ao ser atingido\, o participante vira uma “ameba”\, permanecendo no chão até conseguir voltar ao jogo por meio da ajuda dos colegas ou recuperando a bola. A atividade estimula coordenação\, atenção e muita interação em grupo.O evento pode sofrer alterações de data\, local ou cancelamento sem aviso prévio.
URL:https://lecanton.com.br/evento/pique-ameba-2/2026-06-25/
LOCATION:Canton Ville
CATEGORIES:Crianças de 5 a 8 anos
ATTACH;FMTTYPE=image/jpeg:https://lecanton.com.br/wp-content/uploads/2026/04/caca.jpg
END:VEVENT
BEGIN:VEVENT
DTSTART;TZID=America/Sao_Paulo:20260702T112000
DTEND;TZID=America/Sao_Paulo:20260702T122000
DTSTAMP:20260421T094717
CREATED:20260420T204346Z
LAST-MODIFIED:20260420T204346Z
UID:10029859-1782991200-1782994800@lecanton.com.br
SUMMARY:Pique Ameba
DESCRIPTION:Uma versão divertida e adaptada do queimado para crianças de 5 a 8 anos! No jogo\, quem pega a bola deve permanecer parado e tentar “queimar” os colegas. Ao ser atingido\, o participante vira uma “ameba”\, permanecendo no chão até conseguir voltar ao jogo por meio da ajuda dos colegas ou recuperando a bola. A atividade estimula coordenação\, atenção e muita interação em grupo.O evento pode sofrer alterações de data\, local ou cancelamento sem aviso prévio.
URL:https://lecanton.com.br/evento/pique-ameba-2/2026-07-02/
LOCATION:Canton Ville
CATEGORIES:Crianças de 5 a 8 anos
ATTACH;FMTTYPE=image/jpeg:https://lecanton.com.br/wp-content/uploads/2026/04/caca.jpg
END:VEVENT
BEGIN:VEVENT
DTSTART;TZID=America/Sao_Paulo:20260709T112000
DTEND;TZID=America/Sao_Paulo:20260709T122000
DTSTAMP:20260421T094717
CREATED:20260420T204346Z
LAST-MODIFIED:20260420T204346Z
UID:10029860-1783596000-1783599600@lecanton.com.br
SUMMARY:Pique Ameba
DESCRIPTION:Uma versão divertida e adaptada do queimado para crianças de 5 a 8 anos! No jogo\, quem pega a bola deve permanecer parado e tentar “queimar” os colegas. Ao ser atingido\, o participante vira uma “ameba”\, permanecendo no chão até conseguir voltar ao jogo por meio da ajuda dos colegas ou recuperando a bola. A atividade estimula coordenação\, atenção e muita interação em grupo.O evento pode sofrer alterações de data\, local ou cancelamento sem aviso prévio.
URL:https://lecanton.com.br/evento/pique-ameba-2/2026-07-09/
LOCATION:Canton Ville
CATEGORIES:Crianças de 5 a 8 anos
ATTACH;FMTTYPE=image/jpeg:https://lecanton.com.br/wp-content/uploads/2026/04/caca.jpg
END:VEVENT
BEGIN:VEVENT
DTSTART;TZID=America/Sao_Paulo:20260716T112000
DTEND;TZID=America/Sao_Paulo:20260716T122000
DTSTAMP:20260421T094717
CREATED:20260420T204346Z
LAST-MODIFIED:20260420T204346Z
UID:10029861-1784200800-1784204400@lecanton.com.br
SUMMARY:Pique Ameba
DESCRIPTION:Uma versão divertida e adaptada do queimado para crianças de 5 a 8 anos! No jogo\, quem pega a bola deve permanecer parado e tentar “queimar” os colegas. Ao ser atingido\, o participante vira uma “ameba”\, permanecendo no chão até conseguir voltar ao jogo por meio da ajuda dos colegas ou recuperando a bola. A atividade estimula coordenação\, atenção e muita interação em grupo.O evento pode sofrer alterações de data\, local ou cancelamento sem aviso prévio.
URL:https://lecanton.com.br/evento/pique-ameba-2/2026-07-16/
LOCATION:Canton Ville
CATEGORIES:Crianças de 5 a 8 anos
ATTACH;FMTTYPE=image/jpeg:https://lecanton.com.br/wp-content/uploads/2026/04/caca.jpg
END:VEVENT
BEGIN:VEVENT
DTSTART;TZID=America/Sao_Paulo:20260723T112000
DTEND;TZID=America/Sao_Paulo:20260723T122000
DTSTAMP:20260421T094717
CREATED:20260420T204346Z
LAST-MODIFIED:20260420T204346Z
UID:10029862-1784805600-1784809200@lecanton.com.br
SUMMARY:Pique Ameba
DESCRIPTION:Uma versão divertida e adaptada do queimado para crianças de 5 a 8 anos! No jogo\, quem pega a bola deve permanecer parado e tentar “queimar” os colegas. Ao ser atingido\, o participante vira uma “ameba”\, permanecendo no chão até conseguir voltar ao jogo por meio da ajuda dos colegas ou recuperando a bola. A atividade estimula coordenação\, atenção e muita interação em grupo.O evento pode sofrer alterações de data\, local ou cancelamento sem aviso prévio.
URL:https://lecanton.com.br/evento/pique-ameba-2/2026-07-23/
LOCATION:Canton Ville
CATEGORIES:Crianças de 5 a 8 anos
ATTACH;FMTTYPE=image/jpeg:https://lecanton.com.br/wp-content/uploads/2026/04/caca.jpg
END:VEVENT
BEGIN:VEVENT
DTSTART;TZID=America/Sao_Paulo:20260730T112000
DTEND;TZID=America/Sao_Paulo:20260730T122000
DTSTAMP:20260421T094717
CREATED:20260420T204346Z
LAST-MODIFIED:20260420T204346Z
UID:10029863-1785410400-1785414000@lecanton.com.br
SUMMARY:Pique Ameba
DESCRIPTION:Uma versão divertida e adaptada do queimado para crianças de 5 a 8 anos! No jogo\, quem pega a bola deve permanecer parado e tentar “queimar” os colegas. Ao ser atingido\, o participante vira uma “ameba”\, permanecendo no chão até conseguir voltar ao jogo por meio da ajuda dos colegas ou recuperando a bola. A atividade estimula coordenação\, atenção e muita interação em grupo.O evento pode sofrer alterações de data\, local ou cancelamento sem aviso prévio.
URL:https://lecanton.com.br/evento/pique-ameba-2/2026-07-30/
LOCATION:Canton Ville
CATEGORIES:Crianças de 5 a 8 anos
ATTACH;FMTTYPE=image/jpeg:https://lecanton.com.br/wp-content/uploads/2026/04/caca.jpg
END:VEVENT
BEGIN:VEVENT
DTSTART;TZID=America/Sao_Paulo:20260806T112000
DTEND;TZID=America/Sao_Paulo:20260806T122000
DTSTAMP:20260421T094717
CREATED:20260420T204346Z
LAST-MODIFIED:20260420T204346Z
UID:10029864-1786015200-1786018800@lecanton.com.br
SUMMARY:Pique Ameba
DESCRIPTION:Uma versão divertida e adaptada do queimado para crianças de 5 a 8 anos! No jogo\, quem pega a bola deve permanecer parado e tentar “queimar” os colegas. Ao ser atingido\, o participante vira uma “ameba”\, permanecendo no chão até conseguir voltar ao jogo por meio da ajuda dos colegas ou recuperando a bola. A atividade estimula coordenação\, atenção e muita interação em grupo.O evento pode sofrer alterações de data\, local ou cancelamento sem aviso prévio.
URL:https://lecanton.com.br/evento/pique-ameba-2/2026-08-06/
LOCATION:Canton Ville
CATEGORIES:Crianças de 5 a 8 anos
ATTACH;FMTTYPE=image/jpeg:https://lecanton.com.br/wp-content/uploads/2026/04/caca.jpg
END:VEVENT
BEGIN:VEVENT
DTSTART;TZID=America/Sao_Paulo:20260813T112000
DTEND;TZID=America/Sao_Paulo:20260813T122000
DTSTAMP:20260421T094717
CREATED:20260420T204346Z
LAST-MODIFIED:20260420T204346Z
UID:10029865-1786620000-1786623600@lecanton.com.br
SUMMARY:Pique Ameba
DESCRIPTION:Uma versão divertida e adaptada do queimado para crianças de 5 a 8 anos! No jogo\, quem pega a bola deve permanecer parado e tentar “queimar” os colegas. Ao ser atingido\, o participante vira uma “ameba”\, permanecendo no chão até conseguir voltar ao jogo por meio da ajuda dos colegas ou recuperando a bola. A atividade estimula coordenação\, atenção e muita interação em grupo.O evento pode sofrer alterações de data\, local ou cancelamento sem aviso prévio.
URL:https://lecanton.com.br/evento/pique-ameba-2/2026-08-13/
LOCATION:Canton Ville
CATEGORIES:Crianças de 5 a 8 anos
ATTACH;FMTTYPE=image/jpeg:https://lecanton.com.br/wp-content/uploads/2026/04/caca.jpg
END:VEVENT
BEGIN:VEVENT
DTSTART;TZID=America/Sao_Paulo:20260820T112000
DTEND;TZID=America/Sao_Paulo:20260820T122000
DTSTAMP:20260421T094717
CREATED:20260420T204346Z
LAST-MODIFIED:20260420T204346Z
UID:10029866-1787224800-1787228400@lecanton.com.br
SUMMARY:Pique Ameba
DESCRIPTION:Uma versão divertida e adaptada do queimado para crianças de 5 a 8 anos! No jogo\, quem pega a bola deve permanecer parado e tentar “queimar” os colegas. Ao ser atingido\, o participante vira uma “ameba”\, permanecendo no chão até conseguir voltar ao jogo por meio da ajuda dos colegas ou recuperando a bola. A atividade estimula coordenação\, atenção e muita interação em grupo.O evento pode sofrer alterações de data\, local ou cancelamento sem aviso prévio.
URL:https://lecanton.com.br/evento/pique-ameba-2/2026-08-20/
LOCATION:Canton Ville
CATEGORIES:Crianças de 5 a 8 anos
ATTACH;FMTTYPE=image/jpeg:https://lecanton.com.br/wp-content/uploads/2026/04/caca.jpg
END:VEVENT
BEGIN:VEVENT
DTSTART;TZID=America/Sao_Paulo:20260827T112000
DTEND;TZID=America/Sao_Paulo:20260827T122000
DTSTAMP:20260421T094717
CREATED:20260420T204346Z
LAST-MODIFIED:20260420T204346Z
UID:10029867-1787829600-1787833200@lecanton.com.br
SUMMARY:Pique Ameba
DESCRIPTION:Uma versão divertida e adaptada do queimado para crianças de 5 a 8 anos! No jogo\, quem pega a bola deve permanecer parado e tentar “queimar” os colegas. Ao ser atingido\, o participante vira uma “ameba”\, permanecendo no chão até conseguir voltar ao jogo por meio da ajuda dos colegas ou recuperando a bola. A atividade estimula coordenação\, atenção e muita interação em grupo.O evento pode sofrer alterações de data\, local ou cancelamento sem aviso prévio.
URL:https://lecanton.com.br/evento/pique-ameba-2/2026-08-27/
LOCATION:Canton Ville
CATEGORIES:Crianças de 5 a 8 anos
ATTACH;FMTTYPE=image/jpeg:https://lecanton.com.br/wp-content/uploads/2026/04/caca.jpg
END:VEVENT
BEGIN:VEVENT
DTSTART;TZID=America/Sao_Paulo:20260903T112000
DTEND;TZID=America/Sao_Paulo:20260903T122000
DTSTAMP:20260421T094717
CREATED:20260420T204346Z
LAST-MODIFIED:20260420T204346Z
UID:10029868-1788434400-1788438000@lecanton.com.br
SUMMARY:Pique Ameba
DESCRIPTION:Uma versão divertida e adaptada do queimado para crianças de 5 a 8 anos! No jogo\, quem pega a bola deve permanecer parado e tentar “queimar” os colegas. Ao ser atingido\, o participante vira uma “ameba”\, permanecendo no chão até conseguir voltar ao jogo por meio da ajuda dos colegas ou recuperando a bola. A atividade estimula coordenação\, atenção e muita interação em grupo.O evento pode sofrer alterações de data\, local ou cancelamento sem aviso prévio.
URL:https://lecanton.com.br/evento/pique-ameba-2/2026-09-03/
LOCATION:Canton Ville
CATEGORIES:Crianças de 5 a 8 anos
ATTACH;FMTTYPE=image/jpeg:https://lecanton.com.br/wp-content/uploads/2026/04/caca.jpg
END:VEVENT
BEGIN:VEVENT
DTSTART;TZID=America/Sao_Paulo:20260910T112000
DTEND;TZID=America/Sao_Paulo:20260910T122000
DTSTAMP:20260421T094717
CREATED:20260420T204346Z
LAST-MODIFIED:20260420T204346Z
UID:10029869-1789039200-1789042800@lecanton.com.br
SUMMARY:Pique Ameba
DESCRIPTION:Uma versão divertida e adaptada do queimado para crianças de 5 a 8 anos! No jogo\, quem pega a bola deve permanecer parado e tentar “queimar” os colegas. Ao ser atingido\, o participante vira uma “ameba”\, permanecendo no chão até conseguir voltar ao jogo por meio da ajuda dos colegas ou recuperando a bola. A atividade estimula coordenação\, atenção e muita interação em grupo.O evento pode sofrer alterações de data\, local ou cancelamento sem aviso prévio.
URL:https://lecanton.com.br/evento/pique-ameba-2/2026-09-10/
LOCATION:Canton Ville
CATEGORIES:Crianças de 5 a 8 anos
ATTACH;FMTTYPE=image/jpeg:https://lecanton.com.br/wp-content/uploads/2026/04/caca.jpg
END:VEVENT
BEGIN:VEVENT
DTSTART;TZID=America/Sao_Paulo:20260917T112000
DTEND;TZID=America/Sao_Paulo:20260917T122000
DTSTAMP:20260421T094717
CREATED:20260420T204346Z
LAST-MODIFIED:20260420T204346Z
UID:10029870-1789644000-1789647600@lecanton.com.br
SUMMARY:Pique Ameba
DESCRIPTION:Uma versão divertida e adaptada do queimado para crianças de 5 a 8 anos! No jogo\, quem pega a bola deve permanecer parado e tentar “queimar” os colegas. Ao ser atingido\, o participante vira uma “ameba”\, permanecendo no chão até conseguir voltar ao jogo por meio da ajuda dos colegas ou recuperando a bola. A atividade estimula coordenação\, atenção e muita interação em grupo.O evento pode sofrer alterações de data\, local ou cancelamento sem aviso prévio.
URL:https://lecanton.com.br/evento/pique-ameba-2/2026-09-17/
LOCATION:Canton Ville
CATEGORIES:Crianças de 5 a 8 anos
ATTACH;FMTTYPE=image/jpeg:https://lecanton.com.br/wp-content/uploads/2026/04/caca.jpg
END:VEVENT
BEGIN:VEVENT
DTSTART;TZID=America/Sao_Paulo:20260924T112000
DTEND;TZID=America/Sao_Paulo:20260924T122000
DTSTAMP:20260421T094717
CREATED:20260420T204346Z
LAST-MODIFIED:20260420T204346Z
UID:10029871-1790248800-1790252400@lecanton.com.br
SUMMARY:Pique Ameba
DESCRIPTION:Uma versão divertida e adaptada do queimado para crianças de 5 a 8 anos! No jogo\, quem pega a bola deve permanecer parado e tentar “queimar” os colegas. Ao ser atingido\, o participante vira uma “ameba”\, permanecendo no chão até conseguir voltar ao jogo por meio da ajuda dos colegas ou recuperando a bola. A atividade estimula coordenação\, atenção e muita interação em grupo.O evento pode sofrer alterações de data\, local ou cancelamento sem aviso prévio.
URL:https://lecanton.com.br/evento/pique-ameba-2/2026-09-24/
LOCATION:Canton Ville
CATEGORIES:Crianças de 5 a 8 anos
ATTACH;FMTTYPE=image/jpeg:https://lecanton.com.br/wp-content/uploads/2026/04/caca.jpg
END:VEVENT
BEGIN:VEVENT
DTSTART;TZID=America/Sao_Paulo:20261001T112000
DTEND;TZID=America/Sao_Paulo:20261001T122000
DTSTAMP:20260421T094717
CREATED:20260420T204346Z
LAST-MODIFIED:20260420T204346Z
UID:10029872-1790853600-1790857200@lecanton.com.br
SUMMARY:Pique Ameba
DESCRIPTION:Uma versão divertida e adaptada do queimado para crianças de 5 a 8 anos! No jogo\, quem pega a bola deve permanecer parado e tentar “queimar” os colegas. Ao ser atingido\, o participante vira uma “ameba”\, permanecendo no chão até conseguir voltar ao jogo por meio da ajuda dos colegas ou recuperando a bola. A atividade estimula coordenação\, atenção e muita interação em grupo.O evento pode sofrer alterações de data\, local ou cancelamento sem aviso prévio.
URL:https://lecanton.com.br/evento/pique-ameba-2/2026-10-01/
LOCATION:Canton Ville
CATEGORIES:Crianças de 5 a 8 anos
ATTACH;FMTTYPE=image/jpeg:https://lecanton.com.br/wp-content/uploads/2026/04/caca.jpg
END:VEVENT
BEGIN:VEVENT
DTSTART;TZID=America/Sao_Paulo:20261008T112000
DTEND;TZID=America/Sao_Paulo:20261008T122000
DTSTAMP:20260421T094717
CREATED:20260420T204346Z
LAST-MODIFIED:20260420T204346Z
UID:10029873-1791458400-1791462000@lecanton.com.br
SUMMARY:Pique Ameba
DESCRIPTION:Uma versão divertida e adaptada do queimado para crianças de 5 a 8 anos! No jogo\, quem pega a bola deve permanecer parado e tentar “queimar” os colegas. Ao ser atingido\, o participante vira uma “ameba”\, permanecendo no chão até conseguir voltar ao jogo por meio da ajuda dos colegas ou recuperando a bola. A atividade estimula coordenação\, atenção e muita interação em grupo.O evento pode sofrer alterações de data\, local ou cancelamento sem aviso prévio.
URL:https://lecanton.com.br/evento/pique-ameba-2/2026-10-08/
LOCATION:Canton Ville
CATEGORIES:Crianças de 5 a 8 anos
ATTACH;FMTTYPE=image/jpeg:https://lecanton.com.br/wp-content/uploads/2026/04/caca.jpg
END:VEVENT
BEGIN:VEVENT
DTSTART;TZID=America/Sao_Paulo:20261015T112000
DTEND;TZID=America/Sao_Paulo:20261015T122000
DTSTAMP:20260421T094717
CREATED:20260420T204346Z
LAST-MODIFIED:20260420T204346Z
UID:10029874-1792063200-1792066800@lecanton.com.br
SUMMARY:Pique Ameba
DESCRIPTION:Uma versão divertida e adaptada do queimado para crianças de 5 a 8 anos! No jogo\, quem pega a bola deve permanecer parado e tentar “queimar” os colegas. Ao ser atingido\, o participante vira uma “ameba”\, permanecendo no chão até conseguir voltar ao jogo por meio da ajuda dos colegas ou recuperando a bola. A atividade estimula coordenação\, atenção e muita interação em grupo.O evento pode sofrer alterações de data\, local ou cancelamento sem aviso prévio.
URL:https://lecanton.com.br/evento/pique-ameba-2/2026-10-15/
LOCATION:Canton Ville
CATEGORIES:Crianças de 5 a 8 anos
ATTACH;FMTTYPE=image/jpeg:https://lecanton.com.br/wp-content/uploads/2026/04/caca.jpg
END:VEVENT
BEGIN:VEVENT
DTSTART;TZID=America/Sao_Paulo:20261022T112000
DTEND;TZID=America/Sao_Paulo:20261022T122000
DTSTAMP:20260421T094717
CREATED:20260420T204346Z
LAST-MODIFIED:20260420T204346Z
UID:10029875-1792668000-1792671600@lecanton.com.br
SUMMARY:Pique Ameba
DESCRIPTION:Uma versão divertida e adaptada do queimado para crianças de 5 a 8 anos! No jogo\, quem pega a bola deve permanecer parado e tentar “queimar” os colegas. Ao ser atingido\, o participante vira uma “ameba”\, permanecendo no chão até conseguir voltar ao jogo por meio da ajuda dos colegas ou recuperando a bola. A atividade estimula coordenação\, atenção e muita interação em grupo.O evento pode sofrer alterações de data\, local ou cancelamento sem aviso prévio.
URL:https://lecanton.com.br/evento/pique-ameba-2/2026-10-22/
LOCATION:Canton Ville
CATEGORIES:Crianças de 5 a 8 anos
ATTACH;FMTTYPE=image/jpeg:https://lecanton.com.br/wp-content/uploads/2026/04/caca.jpg
END:VEVENT
BEGIN:VEVENT
DTSTART;TZID=America/Sao_Paulo:20261029T112000
DTEND;TZID=America/Sao_Paulo:20261029T122000
DTSTAMP:20260421T094717
CREATED:20260420T204346Z
LAST-MODIFIED:20260420T204346Z
UID:10029876-1793272800-1793276400@lecanton.com.br
SUMMARY:Pique Ameba
DESCRIPTION:Uma versão divertida e adaptada do queimado para crianças de 5 a 8 anos! No jogo\, quem pega a bola deve permanecer parado e tentar “queimar” os colegas. Ao ser atingido\, o participante vira uma “ameba”\, permanecendo no chão até conseguir voltar ao jogo por meio da ajuda dos colegas ou recuperando a bola. A atividade estimula coordenação\, atenção e muita interação em grupo.O evento pode sofrer alterações de data\, local ou cancelamento sem aviso prévio.
URL:https://lecanton.com.br/evento/pique-ameba-2/2026-10-29/
LOCATION:Canton Ville
CATEGORIES:Crianças de 5 a 8 anos
ATTACH;FMTTYPE=image/jpeg:https://lecanton.com.br/wp-content/uploads/2026/04/caca.jpg
END:VEVENT
BEGIN:VEVENT
DTSTART;TZID=America/Sao_Paulo:20261105T112000
DTEND;TZID=America/Sao_Paulo:20261105T122000
DTSTAMP:20260421T094717
CREATED:20260420T204346Z
LAST-MODIFIED:20260420T204346Z
UID:10029877-1793877600-1793881200@lecanton.com.br
SUMMARY:Pique Ameba
DESCRIPTION:Uma versão divertida e adaptada do queimado para crianças de 5 a 8 anos! No jogo\, quem pega a bola deve permanecer parado e tentar “queimar” os colegas. Ao ser atingido\, o participante vira uma “ameba”\, permanecendo no chão até conseguir voltar ao jogo por meio da ajuda dos colegas ou recuperando a bola. A atividade estimula coordenação\, atenção e muita interação em grupo.O evento pode sofrer alterações de data\, local ou cancelamento sem aviso prévio.
URL:https://lecanton.com.br/evento/pique-ameba-2/2026-11-05/
LOCATION:Canton Ville
CATEGORIES:Crianças de 5 a 8 anos
ATTACH;FMTTYPE=image/jpeg:https://lecanton.com.br/wp-content/uploads/2026/04/caca.jpg
END:VEVENT
BEGIN:VEVENT
DTSTART;TZID=America/Sao_Paulo:20261112T112000
DTEND;TZID=America/Sao_Paulo:20261112T122000
DTSTAMP:20260421T094717
CREATED:20260420T204346Z
LAST-MODIFIED:20260420T204346Z
UID:10029878-1794482400-1794486000@lecanton.com.br
SUMMARY:Pique Ameba
DESCRIPTION:Uma versão divertida e adaptada do queimado para crianças de 5 a 8 anos! No jogo\, quem pega a bola deve permanecer parado e tentar “queimar” os colegas. Ao ser atingido\, o participante vira uma “ameba”\, permanecendo no chão até conseguir voltar ao jogo por meio da ajuda dos colegas ou recuperando a bola. A atividade estimula coordenação\, atenção e muita interação em grupo.O evento pode sofrer alterações de data\, local ou cancelamento sem aviso prévio.
URL:https://lecanton.com.br/evento/pique-ameba-2/2026-11-12/
LOCATION:Canton Ville
CATEGORIES:Crianças de 5 a 8 anos
ATTACH;FMTTYPE=image/jpeg:https://lecanton.com.br/wp-content/uploads/2026/04/caca.jpg
END:VEVENT
END:VCALENDAR