BEGIN:VCALENDAR
VERSION:2.0
PRODID:-//Le Canton | O melhor Resort da Serra - ECPv6.15.17.1//NONSGML v1.0//EN
CALSCALE:GREGORIAN
METHOD:PUBLISH
X-WR-CALNAME:Le Canton | O melhor Resort da Serra
X-ORIGINAL-URL:https://lecanton.com.br
X-WR-CALDESC:Eventos para Le Canton | O melhor Resort da Serra
REFRESH-INTERVAL;VALUE=DURATION:PT1H
X-Robots-Tag:noindex
X-PUBLISHED-TTL:PT1H
BEGIN:VTIMEZONE
TZID:America/Sao_Paulo
BEGIN:STANDARD
TZOFFSETFROM:-0300
TZOFFSETTO:-0300
TZNAME:-03
DTSTART:20250101T000000
END:STANDARD
END:VTIMEZONE
BEGIN:VEVENT
DTSTART;TZID=America/Sao_Paulo:20260422T164000
DTEND;TZID=America/Sao_Paulo:20260422T171000
DTSTAMP:20260422T170004
CREATED:20260420T203317Z
LAST-MODIFIED:20260420T203317Z
UID:10029063-1776876000-1776877800@lecanton.com.br
SUMMARY:Jogo das Cores
DESCRIPTION:Uma atividade educativa e divertida para crianças de 5 a 8 anos! A brincadeira estimula o reconhecimento das cores por meio de desafios dinâmicos\, promovendo interação\, atenção e muita diversão em grupo.\nO evento pode sofrer alterações de data\, local ou cancelamento sem aviso prévio.
URL:https://lecanton.com.br/evento/jogo-das-cores/2026-04-22/
LOCATION:Canton Ville
CATEGORIES:Crianças de 5 a 8 anos
ATTACH;FMTTYPE=image/jpeg:https://lecanton.com.br/wp-content/uploads/2026/04/bolinhas.jpg
END:VEVENT
BEGIN:VEVENT
DTSTART;TZID=America/Sao_Paulo:20260429T164000
DTEND;TZID=America/Sao_Paulo:20260429T171000
DTSTAMP:20260422T170004
CREATED:20260420T203317Z
LAST-MODIFIED:20260420T203317Z
UID:10029064-1777480800-1777482600@lecanton.com.br
SUMMARY:Jogo das Cores
DESCRIPTION:Uma atividade educativa e divertida para crianças de 5 a 8 anos! A brincadeira estimula o reconhecimento das cores por meio de desafios dinâmicos\, promovendo interação\, atenção e muita diversão em grupo.\nO evento pode sofrer alterações de data\, local ou cancelamento sem aviso prévio.
URL:https://lecanton.com.br/evento/jogo-das-cores/2026-04-29/
LOCATION:Canton Ville
CATEGORIES:Crianças de 5 a 8 anos
ATTACH;FMTTYPE=image/jpeg:https://lecanton.com.br/wp-content/uploads/2026/04/bolinhas.jpg
END:VEVENT
BEGIN:VEVENT
DTSTART;TZID=America/Sao_Paulo:20260506T164000
DTEND;TZID=America/Sao_Paulo:20260506T171000
DTSTAMP:20260422T170004
CREATED:20260420T203317Z
LAST-MODIFIED:20260420T203317Z
UID:10029065-1778085600-1778087400@lecanton.com.br
SUMMARY:Jogo das Cores
DESCRIPTION:Uma atividade educativa e divertida para crianças de 5 a 8 anos! A brincadeira estimula o reconhecimento das cores por meio de desafios dinâmicos\, promovendo interação\, atenção e muita diversão em grupo.\nO evento pode sofrer alterações de data\, local ou cancelamento sem aviso prévio.
URL:https://lecanton.com.br/evento/jogo-das-cores/2026-05-06/
LOCATION:Canton Ville
CATEGORIES:Crianças de 5 a 8 anos
ATTACH;FMTTYPE=image/jpeg:https://lecanton.com.br/wp-content/uploads/2026/04/bolinhas.jpg
END:VEVENT
BEGIN:VEVENT
DTSTART;TZID=America/Sao_Paulo:20260513T164000
DTEND;TZID=America/Sao_Paulo:20260513T171000
DTSTAMP:20260422T170004
CREATED:20260420T203317Z
LAST-MODIFIED:20260420T203317Z
UID:10029066-1778690400-1778692200@lecanton.com.br
SUMMARY:Jogo das Cores
DESCRIPTION:Uma atividade educativa e divertida para crianças de 5 a 8 anos! A brincadeira estimula o reconhecimento das cores por meio de desafios dinâmicos\, promovendo interação\, atenção e muita diversão em grupo.\nO evento pode sofrer alterações de data\, local ou cancelamento sem aviso prévio.
URL:https://lecanton.com.br/evento/jogo-das-cores/2026-05-13/
LOCATION:Canton Ville
CATEGORIES:Crianças de 5 a 8 anos
ATTACH;FMTTYPE=image/jpeg:https://lecanton.com.br/wp-content/uploads/2026/04/bolinhas.jpg
END:VEVENT
BEGIN:VEVENT
DTSTART;TZID=America/Sao_Paulo:20260520T164000
DTEND;TZID=America/Sao_Paulo:20260520T171000
DTSTAMP:20260422T170004
CREATED:20260420T203317Z
LAST-MODIFIED:20260420T203317Z
UID:10029067-1779295200-1779297000@lecanton.com.br
SUMMARY:Jogo das Cores
DESCRIPTION:Uma atividade educativa e divertida para crianças de 5 a 8 anos! A brincadeira estimula o reconhecimento das cores por meio de desafios dinâmicos\, promovendo interação\, atenção e muita diversão em grupo.\nO evento pode sofrer alterações de data\, local ou cancelamento sem aviso prévio.
URL:https://lecanton.com.br/evento/jogo-das-cores/2026-05-20/
LOCATION:Canton Ville
CATEGORIES:Crianças de 5 a 8 anos
ATTACH;FMTTYPE=image/jpeg:https://lecanton.com.br/wp-content/uploads/2026/04/bolinhas.jpg
END:VEVENT
BEGIN:VEVENT
DTSTART;TZID=America/Sao_Paulo:20260527T164000
DTEND;TZID=America/Sao_Paulo:20260527T171000
DTSTAMP:20260422T170004
CREATED:20260420T203317Z
LAST-MODIFIED:20260420T203317Z
UID:10029068-1779900000-1779901800@lecanton.com.br
SUMMARY:Jogo das Cores
DESCRIPTION:Uma atividade educativa e divertida para crianças de 5 a 8 anos! A brincadeira estimula o reconhecimento das cores por meio de desafios dinâmicos\, promovendo interação\, atenção e muita diversão em grupo.\nO evento pode sofrer alterações de data\, local ou cancelamento sem aviso prévio.
URL:https://lecanton.com.br/evento/jogo-das-cores/2026-05-27/
LOCATION:Canton Ville
CATEGORIES:Crianças de 5 a 8 anos
ATTACH;FMTTYPE=image/jpeg:https://lecanton.com.br/wp-content/uploads/2026/04/bolinhas.jpg
END:VEVENT
BEGIN:VEVENT
DTSTART;TZID=America/Sao_Paulo:20260603T164000
DTEND;TZID=America/Sao_Paulo:20260603T171000
DTSTAMP:20260422T170004
CREATED:20260420T203317Z
LAST-MODIFIED:20260420T203317Z
UID:10029069-1780504800-1780506600@lecanton.com.br
SUMMARY:Jogo das Cores
DESCRIPTION:Uma atividade educativa e divertida para crianças de 5 a 8 anos! A brincadeira estimula o reconhecimento das cores por meio de desafios dinâmicos\, promovendo interação\, atenção e muita diversão em grupo.\nO evento pode sofrer alterações de data\, local ou cancelamento sem aviso prévio.
URL:https://lecanton.com.br/evento/jogo-das-cores/2026-06-03/
LOCATION:Canton Ville
CATEGORIES:Crianças de 5 a 8 anos
ATTACH;FMTTYPE=image/jpeg:https://lecanton.com.br/wp-content/uploads/2026/04/bolinhas.jpg
END:VEVENT
BEGIN:VEVENT
DTSTART;TZID=America/Sao_Paulo:20260610T164000
DTEND;TZID=America/Sao_Paulo:20260610T171000
DTSTAMP:20260422T170004
CREATED:20260420T203317Z
LAST-MODIFIED:20260420T203317Z
UID:10029070-1781109600-1781111400@lecanton.com.br
SUMMARY:Jogo das Cores
DESCRIPTION:Uma atividade educativa e divertida para crianças de 5 a 8 anos! A brincadeira estimula o reconhecimento das cores por meio de desafios dinâmicos\, promovendo interação\, atenção e muita diversão em grupo.\nO evento pode sofrer alterações de data\, local ou cancelamento sem aviso prévio.
URL:https://lecanton.com.br/evento/jogo-das-cores/2026-06-10/
LOCATION:Canton Ville
CATEGORIES:Crianças de 5 a 8 anos
ATTACH;FMTTYPE=image/jpeg:https://lecanton.com.br/wp-content/uploads/2026/04/bolinhas.jpg
END:VEVENT
BEGIN:VEVENT
DTSTART;TZID=America/Sao_Paulo:20260617T164000
DTEND;TZID=America/Sao_Paulo:20260617T171000
DTSTAMP:20260422T170004
CREATED:20260420T203317Z
LAST-MODIFIED:20260420T203317Z
UID:10029071-1781714400-1781716200@lecanton.com.br
SUMMARY:Jogo das Cores
DESCRIPTION:Uma atividade educativa e divertida para crianças de 5 a 8 anos! A brincadeira estimula o reconhecimento das cores por meio de desafios dinâmicos\, promovendo interação\, atenção e muita diversão em grupo.\nO evento pode sofrer alterações de data\, local ou cancelamento sem aviso prévio.
URL:https://lecanton.com.br/evento/jogo-das-cores/2026-06-17/
LOCATION:Canton Ville
CATEGORIES:Crianças de 5 a 8 anos
ATTACH;FMTTYPE=image/jpeg:https://lecanton.com.br/wp-content/uploads/2026/04/bolinhas.jpg
END:VEVENT
BEGIN:VEVENT
DTSTART;TZID=America/Sao_Paulo:20260624T164000
DTEND;TZID=America/Sao_Paulo:20260624T171000
DTSTAMP:20260422T170004
CREATED:20260420T203317Z
LAST-MODIFIED:20260420T203317Z
UID:10029072-1782319200-1782321000@lecanton.com.br
SUMMARY:Jogo das Cores
DESCRIPTION:Uma atividade educativa e divertida para crianças de 5 a 8 anos! A brincadeira estimula o reconhecimento das cores por meio de desafios dinâmicos\, promovendo interação\, atenção e muita diversão em grupo.\nO evento pode sofrer alterações de data\, local ou cancelamento sem aviso prévio.
URL:https://lecanton.com.br/evento/jogo-das-cores/2026-06-24/
LOCATION:Canton Ville
CATEGORIES:Crianças de 5 a 8 anos
ATTACH;FMTTYPE=image/jpeg:https://lecanton.com.br/wp-content/uploads/2026/04/bolinhas.jpg
END:VEVENT
BEGIN:VEVENT
DTSTART;TZID=America/Sao_Paulo:20260701T164000
DTEND;TZID=America/Sao_Paulo:20260701T171000
DTSTAMP:20260422T170004
CREATED:20260420T203317Z
LAST-MODIFIED:20260420T203317Z
UID:10029073-1782924000-1782925800@lecanton.com.br
SUMMARY:Jogo das Cores
DESCRIPTION:Uma atividade educativa e divertida para crianças de 5 a 8 anos! A brincadeira estimula o reconhecimento das cores por meio de desafios dinâmicos\, promovendo interação\, atenção e muita diversão em grupo.\nO evento pode sofrer alterações de data\, local ou cancelamento sem aviso prévio.
URL:https://lecanton.com.br/evento/jogo-das-cores/2026-07-01/
LOCATION:Canton Ville
CATEGORIES:Crianças de 5 a 8 anos
ATTACH;FMTTYPE=image/jpeg:https://lecanton.com.br/wp-content/uploads/2026/04/bolinhas.jpg
END:VEVENT
BEGIN:VEVENT
DTSTART;TZID=America/Sao_Paulo:20260708T164000
DTEND;TZID=America/Sao_Paulo:20260708T171000
DTSTAMP:20260422T170004
CREATED:20260420T203317Z
LAST-MODIFIED:20260420T203317Z
UID:10029074-1783528800-1783530600@lecanton.com.br
SUMMARY:Jogo das Cores
DESCRIPTION:Uma atividade educativa e divertida para crianças de 5 a 8 anos! A brincadeira estimula o reconhecimento das cores por meio de desafios dinâmicos\, promovendo interação\, atenção e muita diversão em grupo.\nO evento pode sofrer alterações de data\, local ou cancelamento sem aviso prévio.
URL:https://lecanton.com.br/evento/jogo-das-cores/2026-07-08/
LOCATION:Canton Ville
CATEGORIES:Crianças de 5 a 8 anos
ATTACH;FMTTYPE=image/jpeg:https://lecanton.com.br/wp-content/uploads/2026/04/bolinhas.jpg
END:VEVENT
BEGIN:VEVENT
DTSTART;TZID=America/Sao_Paulo:20260715T164000
DTEND;TZID=America/Sao_Paulo:20260715T171000
DTSTAMP:20260422T170004
CREATED:20260420T203317Z
LAST-MODIFIED:20260420T203317Z
UID:10029075-1784133600-1784135400@lecanton.com.br
SUMMARY:Jogo das Cores
DESCRIPTION:Uma atividade educativa e divertida para crianças de 5 a 8 anos! A brincadeira estimula o reconhecimento das cores por meio de desafios dinâmicos\, promovendo interação\, atenção e muita diversão em grupo.\nO evento pode sofrer alterações de data\, local ou cancelamento sem aviso prévio.
URL:https://lecanton.com.br/evento/jogo-das-cores/2026-07-15/
LOCATION:Canton Ville
CATEGORIES:Crianças de 5 a 8 anos
ATTACH;FMTTYPE=image/jpeg:https://lecanton.com.br/wp-content/uploads/2026/04/bolinhas.jpg
END:VEVENT
BEGIN:VEVENT
DTSTART;TZID=America/Sao_Paulo:20260722T164000
DTEND;TZID=America/Sao_Paulo:20260722T171000
DTSTAMP:20260422T170004
CREATED:20260420T203317Z
LAST-MODIFIED:20260420T203317Z
UID:10029076-1784738400-1784740200@lecanton.com.br
SUMMARY:Jogo das Cores
DESCRIPTION:Uma atividade educativa e divertida para crianças de 5 a 8 anos! A brincadeira estimula o reconhecimento das cores por meio de desafios dinâmicos\, promovendo interação\, atenção e muita diversão em grupo.\nO evento pode sofrer alterações de data\, local ou cancelamento sem aviso prévio.
URL:https://lecanton.com.br/evento/jogo-das-cores/2026-07-22/
LOCATION:Canton Ville
CATEGORIES:Crianças de 5 a 8 anos
ATTACH;FMTTYPE=image/jpeg:https://lecanton.com.br/wp-content/uploads/2026/04/bolinhas.jpg
END:VEVENT
BEGIN:VEVENT
DTSTART;TZID=America/Sao_Paulo:20260729T164000
DTEND;TZID=America/Sao_Paulo:20260729T171000
DTSTAMP:20260422T170004
CREATED:20260420T203317Z
LAST-MODIFIED:20260420T203317Z
UID:10029077-1785343200-1785345000@lecanton.com.br
SUMMARY:Jogo das Cores
DESCRIPTION:Uma atividade educativa e divertida para crianças de 5 a 8 anos! A brincadeira estimula o reconhecimento das cores por meio de desafios dinâmicos\, promovendo interação\, atenção e muita diversão em grupo.\nO evento pode sofrer alterações de data\, local ou cancelamento sem aviso prévio.
URL:https://lecanton.com.br/evento/jogo-das-cores/2026-07-29/
LOCATION:Canton Ville
CATEGORIES:Crianças de 5 a 8 anos
ATTACH;FMTTYPE=image/jpeg:https://lecanton.com.br/wp-content/uploads/2026/04/bolinhas.jpg
END:VEVENT
BEGIN:VEVENT
DTSTART;TZID=America/Sao_Paulo:20260805T164000
DTEND;TZID=America/Sao_Paulo:20260805T171000
DTSTAMP:20260422T170004
CREATED:20260420T203317Z
LAST-MODIFIED:20260420T203317Z
UID:10029078-1785948000-1785949800@lecanton.com.br
SUMMARY:Jogo das Cores
DESCRIPTION:Uma atividade educativa e divertida para crianças de 5 a 8 anos! A brincadeira estimula o reconhecimento das cores por meio de desafios dinâmicos\, promovendo interação\, atenção e muita diversão em grupo.\nO evento pode sofrer alterações de data\, local ou cancelamento sem aviso prévio.
URL:https://lecanton.com.br/evento/jogo-das-cores/2026-08-05/
LOCATION:Canton Ville
CATEGORIES:Crianças de 5 a 8 anos
ATTACH;FMTTYPE=image/jpeg:https://lecanton.com.br/wp-content/uploads/2026/04/bolinhas.jpg
END:VEVENT
BEGIN:VEVENT
DTSTART;TZID=America/Sao_Paulo:20260812T164000
DTEND;TZID=America/Sao_Paulo:20260812T171000
DTSTAMP:20260422T170005
CREATED:20260420T203317Z
LAST-MODIFIED:20260420T203317Z
UID:10029079-1786552800-1786554600@lecanton.com.br
SUMMARY:Jogo das Cores
DESCRIPTION:Uma atividade educativa e divertida para crianças de 5 a 8 anos! A brincadeira estimula o reconhecimento das cores por meio de desafios dinâmicos\, promovendo interação\, atenção e muita diversão em grupo.\nO evento pode sofrer alterações de data\, local ou cancelamento sem aviso prévio.
URL:https://lecanton.com.br/evento/jogo-das-cores/2026-08-12/
LOCATION:Canton Ville
CATEGORIES:Crianças de 5 a 8 anos
ATTACH;FMTTYPE=image/jpeg:https://lecanton.com.br/wp-content/uploads/2026/04/bolinhas.jpg
END:VEVENT
BEGIN:VEVENT
DTSTART;TZID=America/Sao_Paulo:20260819T164000
DTEND;TZID=America/Sao_Paulo:20260819T171000
DTSTAMP:20260422T170005
CREATED:20260420T203317Z
LAST-MODIFIED:20260420T203317Z
UID:10029080-1787157600-1787159400@lecanton.com.br
SUMMARY:Jogo das Cores
DESCRIPTION:Uma atividade educativa e divertida para crianças de 5 a 8 anos! A brincadeira estimula o reconhecimento das cores por meio de desafios dinâmicos\, promovendo interação\, atenção e muita diversão em grupo.\nO evento pode sofrer alterações de data\, local ou cancelamento sem aviso prévio.
URL:https://lecanton.com.br/evento/jogo-das-cores/2026-08-19/
LOCATION:Canton Ville
CATEGORIES:Crianças de 5 a 8 anos
ATTACH;FMTTYPE=image/jpeg:https://lecanton.com.br/wp-content/uploads/2026/04/bolinhas.jpg
END:VEVENT
BEGIN:VEVENT
DTSTART;TZID=America/Sao_Paulo:20260826T164000
DTEND;TZID=America/Sao_Paulo:20260826T171000
DTSTAMP:20260422T170005
CREATED:20260420T203317Z
LAST-MODIFIED:20260420T203317Z
UID:10029081-1787762400-1787764200@lecanton.com.br
SUMMARY:Jogo das Cores
DESCRIPTION:Uma atividade educativa e divertida para crianças de 5 a 8 anos! A brincadeira estimula o reconhecimento das cores por meio de desafios dinâmicos\, promovendo interação\, atenção e muita diversão em grupo.\nO evento pode sofrer alterações de data\, local ou cancelamento sem aviso prévio.
URL:https://lecanton.com.br/evento/jogo-das-cores/2026-08-26/
LOCATION:Canton Ville
CATEGORIES:Crianças de 5 a 8 anos
ATTACH;FMTTYPE=image/jpeg:https://lecanton.com.br/wp-content/uploads/2026/04/bolinhas.jpg
END:VEVENT
BEGIN:VEVENT
DTSTART;TZID=America/Sao_Paulo:20260902T164000
DTEND;TZID=America/Sao_Paulo:20260902T171000
DTSTAMP:20260422T170005
CREATED:20260420T203317Z
LAST-MODIFIED:20260420T203317Z
UID:10029082-1788367200-1788369000@lecanton.com.br
SUMMARY:Jogo das Cores
DESCRIPTION:Uma atividade educativa e divertida para crianças de 5 a 8 anos! A brincadeira estimula o reconhecimento das cores por meio de desafios dinâmicos\, promovendo interação\, atenção e muita diversão em grupo.\nO evento pode sofrer alterações de data\, local ou cancelamento sem aviso prévio.
URL:https://lecanton.com.br/evento/jogo-das-cores/2026-09-02/
LOCATION:Canton Ville
CATEGORIES:Crianças de 5 a 8 anos
ATTACH;FMTTYPE=image/jpeg:https://lecanton.com.br/wp-content/uploads/2026/04/bolinhas.jpg
END:VEVENT
BEGIN:VEVENT
DTSTART;TZID=America/Sao_Paulo:20260909T164000
DTEND;TZID=America/Sao_Paulo:20260909T171000
DTSTAMP:20260422T170005
CREATED:20260420T203317Z
LAST-MODIFIED:20260420T203317Z
UID:10029083-1788972000-1788973800@lecanton.com.br
SUMMARY:Jogo das Cores
DESCRIPTION:Uma atividade educativa e divertida para crianças de 5 a 8 anos! A brincadeira estimula o reconhecimento das cores por meio de desafios dinâmicos\, promovendo interação\, atenção e muita diversão em grupo.\nO evento pode sofrer alterações de data\, local ou cancelamento sem aviso prévio.
URL:https://lecanton.com.br/evento/jogo-das-cores/2026-09-09/
LOCATION:Canton Ville
CATEGORIES:Crianças de 5 a 8 anos
ATTACH;FMTTYPE=image/jpeg:https://lecanton.com.br/wp-content/uploads/2026/04/bolinhas.jpg
END:VEVENT
BEGIN:VEVENT
DTSTART;TZID=America/Sao_Paulo:20260916T164000
DTEND;TZID=America/Sao_Paulo:20260916T171000
DTSTAMP:20260422T170005
CREATED:20260420T203317Z
LAST-MODIFIED:20260420T203317Z
UID:10029084-1789576800-1789578600@lecanton.com.br
SUMMARY:Jogo das Cores
DESCRIPTION:Uma atividade educativa e divertida para crianças de 5 a 8 anos! A brincadeira estimula o reconhecimento das cores por meio de desafios dinâmicos\, promovendo interação\, atenção e muita diversão em grupo.\nO evento pode sofrer alterações de data\, local ou cancelamento sem aviso prévio.
URL:https://lecanton.com.br/evento/jogo-das-cores/2026-09-16/
LOCATION:Canton Ville
CATEGORIES:Crianças de 5 a 8 anos
ATTACH;FMTTYPE=image/jpeg:https://lecanton.com.br/wp-content/uploads/2026/04/bolinhas.jpg
END:VEVENT
BEGIN:VEVENT
DTSTART;TZID=America/Sao_Paulo:20260923T164000
DTEND;TZID=America/Sao_Paulo:20260923T171000
DTSTAMP:20260422T170005
CREATED:20260420T203317Z
LAST-MODIFIED:20260420T203317Z
UID:10029085-1790181600-1790183400@lecanton.com.br
SUMMARY:Jogo das Cores
DESCRIPTION:Uma atividade educativa e divertida para crianças de 5 a 8 anos! A brincadeira estimula o reconhecimento das cores por meio de desafios dinâmicos\, promovendo interação\, atenção e muita diversão em grupo.\nO evento pode sofrer alterações de data\, local ou cancelamento sem aviso prévio.
URL:https://lecanton.com.br/evento/jogo-das-cores/2026-09-23/
LOCATION:Canton Ville
CATEGORIES:Crianças de 5 a 8 anos
ATTACH;FMTTYPE=image/jpeg:https://lecanton.com.br/wp-content/uploads/2026/04/bolinhas.jpg
END:VEVENT
BEGIN:VEVENT
DTSTART;TZID=America/Sao_Paulo:20260930T164000
DTEND;TZID=America/Sao_Paulo:20260930T171000
DTSTAMP:20260422T170005
CREATED:20260420T203317Z
LAST-MODIFIED:20260420T203317Z
UID:10029086-1790786400-1790788200@lecanton.com.br
SUMMARY:Jogo das Cores
DESCRIPTION:Uma atividade educativa e divertida para crianças de 5 a 8 anos! A brincadeira estimula o reconhecimento das cores por meio de desafios dinâmicos\, promovendo interação\, atenção e muita diversão em grupo.\nO evento pode sofrer alterações de data\, local ou cancelamento sem aviso prévio.
URL:https://lecanton.com.br/evento/jogo-das-cores/2026-09-30/
LOCATION:Canton Ville
CATEGORIES:Crianças de 5 a 8 anos
ATTACH;FMTTYPE=image/jpeg:https://lecanton.com.br/wp-content/uploads/2026/04/bolinhas.jpg
END:VEVENT
BEGIN:VEVENT
DTSTART;TZID=America/Sao_Paulo:20261007T164000
DTEND;TZID=America/Sao_Paulo:20261007T171000
DTSTAMP:20260422T170005
CREATED:20260420T203317Z
LAST-MODIFIED:20260420T203317Z
UID:10029087-1791391200-1791393000@lecanton.com.br
SUMMARY:Jogo das Cores
DESCRIPTION:Uma atividade educativa e divertida para crianças de 5 a 8 anos! A brincadeira estimula o reconhecimento das cores por meio de desafios dinâmicos\, promovendo interação\, atenção e muita diversão em grupo.\nO evento pode sofrer alterações de data\, local ou cancelamento sem aviso prévio.
URL:https://lecanton.com.br/evento/jogo-das-cores/2026-10-07/
LOCATION:Canton Ville
CATEGORIES:Crianças de 5 a 8 anos
ATTACH;FMTTYPE=image/jpeg:https://lecanton.com.br/wp-content/uploads/2026/04/bolinhas.jpg
END:VEVENT
BEGIN:VEVENT
DTSTART;TZID=America/Sao_Paulo:20261014T164000
DTEND;TZID=America/Sao_Paulo:20261014T171000
DTSTAMP:20260422T170005
CREATED:20260420T203317Z
LAST-MODIFIED:20260420T203317Z
UID:10029088-1791996000-1791997800@lecanton.com.br
SUMMARY:Jogo das Cores
DESCRIPTION:Uma atividade educativa e divertida para crianças de 5 a 8 anos! A brincadeira estimula o reconhecimento das cores por meio de desafios dinâmicos\, promovendo interação\, atenção e muita diversão em grupo.\nO evento pode sofrer alterações de data\, local ou cancelamento sem aviso prévio.
URL:https://lecanton.com.br/evento/jogo-das-cores/2026-10-14/
LOCATION:Canton Ville
CATEGORIES:Crianças de 5 a 8 anos
ATTACH;FMTTYPE=image/jpeg:https://lecanton.com.br/wp-content/uploads/2026/04/bolinhas.jpg
END:VEVENT
BEGIN:VEVENT
DTSTART;TZID=America/Sao_Paulo:20261021T164000
DTEND;TZID=America/Sao_Paulo:20261021T171000
DTSTAMP:20260422T170005
CREATED:20260420T203317Z
LAST-MODIFIED:20260420T203317Z
UID:10029089-1792600800-1792602600@lecanton.com.br
SUMMARY:Jogo das Cores
DESCRIPTION:Uma atividade educativa e divertida para crianças de 5 a 8 anos! A brincadeira estimula o reconhecimento das cores por meio de desafios dinâmicos\, promovendo interação\, atenção e muita diversão em grupo.\nO evento pode sofrer alterações de data\, local ou cancelamento sem aviso prévio.
URL:https://lecanton.com.br/evento/jogo-das-cores/2026-10-21/
LOCATION:Canton Ville
CATEGORIES:Crianças de 5 a 8 anos
ATTACH;FMTTYPE=image/jpeg:https://lecanton.com.br/wp-content/uploads/2026/04/bolinhas.jpg
END:VEVENT
BEGIN:VEVENT
DTSTART;TZID=America/Sao_Paulo:20261028T164000
DTEND;TZID=America/Sao_Paulo:20261028T171000
DTSTAMP:20260422T170005
CREATED:20260420T203317Z
LAST-MODIFIED:20260420T203317Z
UID:10029090-1793205600-1793207400@lecanton.com.br
SUMMARY:Jogo das Cores
DESCRIPTION:Uma atividade educativa e divertida para crianças de 5 a 8 anos! A brincadeira estimula o reconhecimento das cores por meio de desafios dinâmicos\, promovendo interação\, atenção e muita diversão em grupo.\nO evento pode sofrer alterações de data\, local ou cancelamento sem aviso prévio.
URL:https://lecanton.com.br/evento/jogo-das-cores/2026-10-28/
LOCATION:Canton Ville
CATEGORIES:Crianças de 5 a 8 anos
ATTACH;FMTTYPE=image/jpeg:https://lecanton.com.br/wp-content/uploads/2026/04/bolinhas.jpg
END:VEVENT
BEGIN:VEVENT
DTSTART;TZID=America/Sao_Paulo:20261104T164000
DTEND;TZID=America/Sao_Paulo:20261104T171000
DTSTAMP:20260422T170005
CREATED:20260420T203317Z
LAST-MODIFIED:20260420T203317Z
UID:10029091-1793810400-1793812200@lecanton.com.br
SUMMARY:Jogo das Cores
DESCRIPTION:Uma atividade educativa e divertida para crianças de 5 a 8 anos! A brincadeira estimula o reconhecimento das cores por meio de desafios dinâmicos\, promovendo interação\, atenção e muita diversão em grupo.\nO evento pode sofrer alterações de data\, local ou cancelamento sem aviso prévio.
URL:https://lecanton.com.br/evento/jogo-das-cores/2026-11-04/
LOCATION:Canton Ville
CATEGORIES:Crianças de 5 a 8 anos
ATTACH;FMTTYPE=image/jpeg:https://lecanton.com.br/wp-content/uploads/2026/04/bolinhas.jpg
END:VEVENT
BEGIN:VEVENT
DTSTART;TZID=America/Sao_Paulo:20261111T164000
DTEND;TZID=America/Sao_Paulo:20261111T171000
DTSTAMP:20260422T170005
CREATED:20260420T203317Z
LAST-MODIFIED:20260420T203317Z
UID:10029092-1794415200-1794417000@lecanton.com.br
SUMMARY:Jogo das Cores
DESCRIPTION:Uma atividade educativa e divertida para crianças de 5 a 8 anos! A brincadeira estimula o reconhecimento das cores por meio de desafios dinâmicos\, promovendo interação\, atenção e muita diversão em grupo.\nO evento pode sofrer alterações de data\, local ou cancelamento sem aviso prévio.
URL:https://lecanton.com.br/evento/jogo-das-cores/2026-11-11/
LOCATION:Canton Ville
CATEGORIES:Crianças de 5 a 8 anos
ATTACH;FMTTYPE=image/jpeg:https://lecanton.com.br/wp-content/uploads/2026/04/bolinhas.jpg
END:VEVENT
END:VCALENDAR