BEGIN:VCALENDAR
VERSION:2.0
PRODID:-//Le Canton | O melhor Resort da Serra - ECPv6.15.17.1//NONSGML v1.0//EN
CALSCALE:GREGORIAN
METHOD:PUBLISH
X-WR-CALNAME:Le Canton | O melhor Resort da Serra
X-ORIGINAL-URL:https://lecanton.com.br
X-WR-CALDESC:Eventos para Le Canton | O melhor Resort da Serra
REFRESH-INTERVAL;VALUE=DURATION:PT1H
X-Robots-Tag:noindex
X-PUBLISHED-TTL:PT1H
BEGIN:VTIMEZONE
TZID:America/Sao_Paulo
BEGIN:STANDARD
TZOFFSETFROM:-0300
TZOFFSETTO:-0300
TZNAME:-03
DTSTART:20250101T000000
END:STANDARD
END:VTIMEZONE
BEGIN:VEVENT
DTSTART;TZID=America/Sao_Paulo:20260421T112000
DTEND;TZID=America/Sao_Paulo:20260421T122000
DTSTAMP:20260419T101700
CREATED:20260418T060943Z
LAST-MODIFIED:20260418T060943Z
UID:10028531-1776770400-1776774000@lecanton.com.br
SUMMARY:Borboleta Encantada
DESCRIPTION:Uma atividade lúdica e cheia de imaginação para crianças de 5 a 8 anos! Os participantes embarcam em uma história encantadora enquanto procuram borboletas escondidas\, trabalhando em equipe para encontrar a borboleta mestre e completar o desafio. A dinâmica estimula cooperação\, curiosidade e criatividade em uma experiência mágica e envolvente.O evento pode sofrer alterações de data\, local ou cancelamento sem aviso prévio.
URL:https://lecanton.com.br/evento/borboleta-encantada/2026-04-21/
LOCATION:Canton Ville
CATEGORIES:Crianças de 5 a 8 anos
ATTACH;FMTTYPE=image/jpeg:https://lecanton.com.br/wp-content/uploads/2026/04/borboleta.jpg
END:VEVENT
BEGIN:VEVENT
DTSTART;TZID=America/Sao_Paulo:20260428T112000
DTEND;TZID=America/Sao_Paulo:20260428T122000
DTSTAMP:20260419T101700
CREATED:20260418T060943Z
LAST-MODIFIED:20260418T060943Z
UID:10028532-1777375200-1777378800@lecanton.com.br
SUMMARY:Borboleta Encantada
DESCRIPTION:Uma atividade lúdica e cheia de imaginação para crianças de 5 a 8 anos! Os participantes embarcam em uma história encantadora enquanto procuram borboletas escondidas\, trabalhando em equipe para encontrar a borboleta mestre e completar o desafio. A dinâmica estimula cooperação\, curiosidade e criatividade em uma experiência mágica e envolvente.O evento pode sofrer alterações de data\, local ou cancelamento sem aviso prévio.
URL:https://lecanton.com.br/evento/borboleta-encantada/2026-04-28/
LOCATION:Canton Ville
CATEGORIES:Crianças de 5 a 8 anos
ATTACH;FMTTYPE=image/jpeg:https://lecanton.com.br/wp-content/uploads/2026/04/borboleta.jpg
END:VEVENT
BEGIN:VEVENT
DTSTART;TZID=America/Sao_Paulo:20260505T112000
DTEND;TZID=America/Sao_Paulo:20260505T122000
DTSTAMP:20260419T101700
CREATED:20260418T060943Z
LAST-MODIFIED:20260418T060943Z
UID:10028533-1777980000-1777983600@lecanton.com.br
SUMMARY:Borboleta Encantada
DESCRIPTION:Uma atividade lúdica e cheia de imaginação para crianças de 5 a 8 anos! Os participantes embarcam em uma história encantadora enquanto procuram borboletas escondidas\, trabalhando em equipe para encontrar a borboleta mestre e completar o desafio. A dinâmica estimula cooperação\, curiosidade e criatividade em uma experiência mágica e envolvente.O evento pode sofrer alterações de data\, local ou cancelamento sem aviso prévio.
URL:https://lecanton.com.br/evento/borboleta-encantada/2026-05-05/
LOCATION:Canton Ville
CATEGORIES:Crianças de 5 a 8 anos
ATTACH;FMTTYPE=image/jpeg:https://lecanton.com.br/wp-content/uploads/2026/04/borboleta.jpg
END:VEVENT
BEGIN:VEVENT
DTSTART;TZID=America/Sao_Paulo:20260512T112000
DTEND;TZID=America/Sao_Paulo:20260512T122000
DTSTAMP:20260419T101700
CREATED:20260418T060943Z
LAST-MODIFIED:20260418T060943Z
UID:10028534-1778584800-1778588400@lecanton.com.br
SUMMARY:Borboleta Encantada
DESCRIPTION:Uma atividade lúdica e cheia de imaginação para crianças de 5 a 8 anos! Os participantes embarcam em uma história encantadora enquanto procuram borboletas escondidas\, trabalhando em equipe para encontrar a borboleta mestre e completar o desafio. A dinâmica estimula cooperação\, curiosidade e criatividade em uma experiência mágica e envolvente.O evento pode sofrer alterações de data\, local ou cancelamento sem aviso prévio.
URL:https://lecanton.com.br/evento/borboleta-encantada/2026-05-12/
LOCATION:Canton Ville
CATEGORIES:Crianças de 5 a 8 anos
ATTACH;FMTTYPE=image/jpeg:https://lecanton.com.br/wp-content/uploads/2026/04/borboleta.jpg
END:VEVENT
BEGIN:VEVENT
DTSTART;TZID=America/Sao_Paulo:20260519T112000
DTEND;TZID=America/Sao_Paulo:20260519T122000
DTSTAMP:20260419T101700
CREATED:20260418T060943Z
LAST-MODIFIED:20260418T060943Z
UID:10028535-1779189600-1779193200@lecanton.com.br
SUMMARY:Borboleta Encantada
DESCRIPTION:Uma atividade lúdica e cheia de imaginação para crianças de 5 a 8 anos! Os participantes embarcam em uma história encantadora enquanto procuram borboletas escondidas\, trabalhando em equipe para encontrar a borboleta mestre e completar o desafio. A dinâmica estimula cooperação\, curiosidade e criatividade em uma experiência mágica e envolvente.O evento pode sofrer alterações de data\, local ou cancelamento sem aviso prévio.
URL:https://lecanton.com.br/evento/borboleta-encantada/2026-05-19/
LOCATION:Canton Ville
CATEGORIES:Crianças de 5 a 8 anos
ATTACH;FMTTYPE=image/jpeg:https://lecanton.com.br/wp-content/uploads/2026/04/borboleta.jpg
END:VEVENT
BEGIN:VEVENT
DTSTART;TZID=America/Sao_Paulo:20260526T112000
DTEND;TZID=America/Sao_Paulo:20260526T122000
DTSTAMP:20260419T101700
CREATED:20260418T060943Z
LAST-MODIFIED:20260418T060943Z
UID:10028536-1779794400-1779798000@lecanton.com.br
SUMMARY:Borboleta Encantada
DESCRIPTION:Uma atividade lúdica e cheia de imaginação para crianças de 5 a 8 anos! Os participantes embarcam em uma história encantadora enquanto procuram borboletas escondidas\, trabalhando em equipe para encontrar a borboleta mestre e completar o desafio. A dinâmica estimula cooperação\, curiosidade e criatividade em uma experiência mágica e envolvente.O evento pode sofrer alterações de data\, local ou cancelamento sem aviso prévio.
URL:https://lecanton.com.br/evento/borboleta-encantada/2026-05-26/
LOCATION:Canton Ville
CATEGORIES:Crianças de 5 a 8 anos
ATTACH;FMTTYPE=image/jpeg:https://lecanton.com.br/wp-content/uploads/2026/04/borboleta.jpg
END:VEVENT
BEGIN:VEVENT
DTSTART;TZID=America/Sao_Paulo:20260602T112000
DTEND;TZID=America/Sao_Paulo:20260602T122000
DTSTAMP:20260419T101700
CREATED:20260418T060943Z
LAST-MODIFIED:20260418T060943Z
UID:10028537-1780399200-1780402800@lecanton.com.br
SUMMARY:Borboleta Encantada
DESCRIPTION:Uma atividade lúdica e cheia de imaginação para crianças de 5 a 8 anos! Os participantes embarcam em uma história encantadora enquanto procuram borboletas escondidas\, trabalhando em equipe para encontrar a borboleta mestre e completar o desafio. A dinâmica estimula cooperação\, curiosidade e criatividade em uma experiência mágica e envolvente.O evento pode sofrer alterações de data\, local ou cancelamento sem aviso prévio.
URL:https://lecanton.com.br/evento/borboleta-encantada/2026-06-02/
LOCATION:Canton Ville
CATEGORIES:Crianças de 5 a 8 anos
ATTACH;FMTTYPE=image/jpeg:https://lecanton.com.br/wp-content/uploads/2026/04/borboleta.jpg
END:VEVENT
BEGIN:VEVENT
DTSTART;TZID=America/Sao_Paulo:20260609T112000
DTEND;TZID=America/Sao_Paulo:20260609T122000
DTSTAMP:20260419T101700
CREATED:20260418T060943Z
LAST-MODIFIED:20260418T060943Z
UID:10028538-1781004000-1781007600@lecanton.com.br
SUMMARY:Borboleta Encantada
DESCRIPTION:Uma atividade lúdica e cheia de imaginação para crianças de 5 a 8 anos! Os participantes embarcam em uma história encantadora enquanto procuram borboletas escondidas\, trabalhando em equipe para encontrar a borboleta mestre e completar o desafio. A dinâmica estimula cooperação\, curiosidade e criatividade em uma experiência mágica e envolvente.O evento pode sofrer alterações de data\, local ou cancelamento sem aviso prévio.
URL:https://lecanton.com.br/evento/borboleta-encantada/2026-06-09/
LOCATION:Canton Ville
CATEGORIES:Crianças de 5 a 8 anos
ATTACH;FMTTYPE=image/jpeg:https://lecanton.com.br/wp-content/uploads/2026/04/borboleta.jpg
END:VEVENT
BEGIN:VEVENT
DTSTART;TZID=America/Sao_Paulo:20260616T112000
DTEND;TZID=America/Sao_Paulo:20260616T122000
DTSTAMP:20260419T101700
CREATED:20260418T060943Z
LAST-MODIFIED:20260418T060943Z
UID:10028539-1781608800-1781612400@lecanton.com.br
SUMMARY:Borboleta Encantada
DESCRIPTION:Uma atividade lúdica e cheia de imaginação para crianças de 5 a 8 anos! Os participantes embarcam em uma história encantadora enquanto procuram borboletas escondidas\, trabalhando em equipe para encontrar a borboleta mestre e completar o desafio. A dinâmica estimula cooperação\, curiosidade e criatividade em uma experiência mágica e envolvente.O evento pode sofrer alterações de data\, local ou cancelamento sem aviso prévio.
URL:https://lecanton.com.br/evento/borboleta-encantada/2026-06-16/
LOCATION:Canton Ville
CATEGORIES:Crianças de 5 a 8 anos
ATTACH;FMTTYPE=image/jpeg:https://lecanton.com.br/wp-content/uploads/2026/04/borboleta.jpg
END:VEVENT
BEGIN:VEVENT
DTSTART;TZID=America/Sao_Paulo:20260623T112000
DTEND;TZID=America/Sao_Paulo:20260623T122000
DTSTAMP:20260419T101700
CREATED:20260418T060943Z
LAST-MODIFIED:20260418T060943Z
UID:10028540-1782213600-1782217200@lecanton.com.br
SUMMARY:Borboleta Encantada
DESCRIPTION:Uma atividade lúdica e cheia de imaginação para crianças de 5 a 8 anos! Os participantes embarcam em uma história encantadora enquanto procuram borboletas escondidas\, trabalhando em equipe para encontrar a borboleta mestre e completar o desafio. A dinâmica estimula cooperação\, curiosidade e criatividade em uma experiência mágica e envolvente.O evento pode sofrer alterações de data\, local ou cancelamento sem aviso prévio.
URL:https://lecanton.com.br/evento/borboleta-encantada/2026-06-23/
LOCATION:Canton Ville
CATEGORIES:Crianças de 5 a 8 anos
ATTACH;FMTTYPE=image/jpeg:https://lecanton.com.br/wp-content/uploads/2026/04/borboleta.jpg
END:VEVENT
BEGIN:VEVENT
DTSTART;TZID=America/Sao_Paulo:20260630T112000
DTEND;TZID=America/Sao_Paulo:20260630T122000
DTSTAMP:20260419T101700
CREATED:20260418T060943Z
LAST-MODIFIED:20260418T060943Z
UID:10028541-1782818400-1782822000@lecanton.com.br
SUMMARY:Borboleta Encantada
DESCRIPTION:Uma atividade lúdica e cheia de imaginação para crianças de 5 a 8 anos! Os participantes embarcam em uma história encantadora enquanto procuram borboletas escondidas\, trabalhando em equipe para encontrar a borboleta mestre e completar o desafio. A dinâmica estimula cooperação\, curiosidade e criatividade em uma experiência mágica e envolvente.O evento pode sofrer alterações de data\, local ou cancelamento sem aviso prévio.
URL:https://lecanton.com.br/evento/borboleta-encantada/2026-06-30/
LOCATION:Canton Ville
CATEGORIES:Crianças de 5 a 8 anos
ATTACH;FMTTYPE=image/jpeg:https://lecanton.com.br/wp-content/uploads/2026/04/borboleta.jpg
END:VEVENT
BEGIN:VEVENT
DTSTART;TZID=America/Sao_Paulo:20260707T112000
DTEND;TZID=America/Sao_Paulo:20260707T122000
DTSTAMP:20260419T101700
CREATED:20260418T060943Z
LAST-MODIFIED:20260418T060943Z
UID:10028542-1783423200-1783426800@lecanton.com.br
SUMMARY:Borboleta Encantada
DESCRIPTION:Uma atividade lúdica e cheia de imaginação para crianças de 5 a 8 anos! Os participantes embarcam em uma história encantadora enquanto procuram borboletas escondidas\, trabalhando em equipe para encontrar a borboleta mestre e completar o desafio. A dinâmica estimula cooperação\, curiosidade e criatividade em uma experiência mágica e envolvente.O evento pode sofrer alterações de data\, local ou cancelamento sem aviso prévio.
URL:https://lecanton.com.br/evento/borboleta-encantada/2026-07-07/
LOCATION:Canton Ville
CATEGORIES:Crianças de 5 a 8 anos
ATTACH;FMTTYPE=image/jpeg:https://lecanton.com.br/wp-content/uploads/2026/04/borboleta.jpg
END:VEVENT
BEGIN:VEVENT
DTSTART;TZID=America/Sao_Paulo:20260714T112000
DTEND;TZID=America/Sao_Paulo:20260714T122000
DTSTAMP:20260419T101700
CREATED:20260418T060943Z
LAST-MODIFIED:20260418T060943Z
UID:10028543-1784028000-1784031600@lecanton.com.br
SUMMARY:Borboleta Encantada
DESCRIPTION:Uma atividade lúdica e cheia de imaginação para crianças de 5 a 8 anos! Os participantes embarcam em uma história encantadora enquanto procuram borboletas escondidas\, trabalhando em equipe para encontrar a borboleta mestre e completar o desafio. A dinâmica estimula cooperação\, curiosidade e criatividade em uma experiência mágica e envolvente.O evento pode sofrer alterações de data\, local ou cancelamento sem aviso prévio.
URL:https://lecanton.com.br/evento/borboleta-encantada/2026-07-14/
LOCATION:Canton Ville
CATEGORIES:Crianças de 5 a 8 anos
ATTACH;FMTTYPE=image/jpeg:https://lecanton.com.br/wp-content/uploads/2026/04/borboleta.jpg
END:VEVENT
BEGIN:VEVENT
DTSTART;TZID=America/Sao_Paulo:20260721T112000
DTEND;TZID=America/Sao_Paulo:20260721T122000
DTSTAMP:20260419T101700
CREATED:20260418T060943Z
LAST-MODIFIED:20260418T060943Z
UID:10028544-1784632800-1784636400@lecanton.com.br
SUMMARY:Borboleta Encantada
DESCRIPTION:Uma atividade lúdica e cheia de imaginação para crianças de 5 a 8 anos! Os participantes embarcam em uma história encantadora enquanto procuram borboletas escondidas\, trabalhando em equipe para encontrar a borboleta mestre e completar o desafio. A dinâmica estimula cooperação\, curiosidade e criatividade em uma experiência mágica e envolvente.O evento pode sofrer alterações de data\, local ou cancelamento sem aviso prévio.
URL:https://lecanton.com.br/evento/borboleta-encantada/2026-07-21/
LOCATION:Canton Ville
CATEGORIES:Crianças de 5 a 8 anos
ATTACH;FMTTYPE=image/jpeg:https://lecanton.com.br/wp-content/uploads/2026/04/borboleta.jpg
END:VEVENT
BEGIN:VEVENT
DTSTART;TZID=America/Sao_Paulo:20260728T112000
DTEND;TZID=America/Sao_Paulo:20260728T122000
DTSTAMP:20260419T101700
CREATED:20260418T060943Z
LAST-MODIFIED:20260418T060943Z
UID:10028545-1785237600-1785241200@lecanton.com.br
SUMMARY:Borboleta Encantada
DESCRIPTION:Uma atividade lúdica e cheia de imaginação para crianças de 5 a 8 anos! Os participantes embarcam em uma história encantadora enquanto procuram borboletas escondidas\, trabalhando em equipe para encontrar a borboleta mestre e completar o desafio. A dinâmica estimula cooperação\, curiosidade e criatividade em uma experiência mágica e envolvente.O evento pode sofrer alterações de data\, local ou cancelamento sem aviso prévio.
URL:https://lecanton.com.br/evento/borboleta-encantada/2026-07-28/
LOCATION:Canton Ville
CATEGORIES:Crianças de 5 a 8 anos
ATTACH;FMTTYPE=image/jpeg:https://lecanton.com.br/wp-content/uploads/2026/04/borboleta.jpg
END:VEVENT
BEGIN:VEVENT
DTSTART;TZID=America/Sao_Paulo:20260804T112000
DTEND;TZID=America/Sao_Paulo:20260804T122000
DTSTAMP:20260419T101700
CREATED:20260418T060943Z
LAST-MODIFIED:20260418T060943Z
UID:10028546-1785842400-1785846000@lecanton.com.br
SUMMARY:Borboleta Encantada
DESCRIPTION:Uma atividade lúdica e cheia de imaginação para crianças de 5 a 8 anos! Os participantes embarcam em uma história encantadora enquanto procuram borboletas escondidas\, trabalhando em equipe para encontrar a borboleta mestre e completar o desafio. A dinâmica estimula cooperação\, curiosidade e criatividade em uma experiência mágica e envolvente.O evento pode sofrer alterações de data\, local ou cancelamento sem aviso prévio.
URL:https://lecanton.com.br/evento/borboleta-encantada/2026-08-04/
LOCATION:Canton Ville
CATEGORIES:Crianças de 5 a 8 anos
ATTACH;FMTTYPE=image/jpeg:https://lecanton.com.br/wp-content/uploads/2026/04/borboleta.jpg
END:VEVENT
BEGIN:VEVENT
DTSTART;TZID=America/Sao_Paulo:20260811T112000
DTEND;TZID=America/Sao_Paulo:20260811T122000
DTSTAMP:20260419T101700
CREATED:20260418T060943Z
LAST-MODIFIED:20260418T060943Z
UID:10028547-1786447200-1786450800@lecanton.com.br
SUMMARY:Borboleta Encantada
DESCRIPTION:Uma atividade lúdica e cheia de imaginação para crianças de 5 a 8 anos! Os participantes embarcam em uma história encantadora enquanto procuram borboletas escondidas\, trabalhando em equipe para encontrar a borboleta mestre e completar o desafio. A dinâmica estimula cooperação\, curiosidade e criatividade em uma experiência mágica e envolvente.O evento pode sofrer alterações de data\, local ou cancelamento sem aviso prévio.
URL:https://lecanton.com.br/evento/borboleta-encantada/2026-08-11/
LOCATION:Canton Ville
CATEGORIES:Crianças de 5 a 8 anos
ATTACH;FMTTYPE=image/jpeg:https://lecanton.com.br/wp-content/uploads/2026/04/borboleta.jpg
END:VEVENT
BEGIN:VEVENT
DTSTART;TZID=America/Sao_Paulo:20260818T112000
DTEND;TZID=America/Sao_Paulo:20260818T122000
DTSTAMP:20260419T101700
CREATED:20260418T060943Z
LAST-MODIFIED:20260418T060943Z
UID:10028548-1787052000-1787055600@lecanton.com.br
SUMMARY:Borboleta Encantada
DESCRIPTION:Uma atividade lúdica e cheia de imaginação para crianças de 5 a 8 anos! Os participantes embarcam em uma história encantadora enquanto procuram borboletas escondidas\, trabalhando em equipe para encontrar a borboleta mestre e completar o desafio. A dinâmica estimula cooperação\, curiosidade e criatividade em uma experiência mágica e envolvente.O evento pode sofrer alterações de data\, local ou cancelamento sem aviso prévio.
URL:https://lecanton.com.br/evento/borboleta-encantada/2026-08-18/
LOCATION:Canton Ville
CATEGORIES:Crianças de 5 a 8 anos
ATTACH;FMTTYPE=image/jpeg:https://lecanton.com.br/wp-content/uploads/2026/04/borboleta.jpg
END:VEVENT
BEGIN:VEVENT
DTSTART;TZID=America/Sao_Paulo:20260825T112000
DTEND;TZID=America/Sao_Paulo:20260825T122000
DTSTAMP:20260419T101700
CREATED:20260418T060943Z
LAST-MODIFIED:20260418T060943Z
UID:10028549-1787656800-1787660400@lecanton.com.br
SUMMARY:Borboleta Encantada
DESCRIPTION:Uma atividade lúdica e cheia de imaginação para crianças de 5 a 8 anos! Os participantes embarcam em uma história encantadora enquanto procuram borboletas escondidas\, trabalhando em equipe para encontrar a borboleta mestre e completar o desafio. A dinâmica estimula cooperação\, curiosidade e criatividade em uma experiência mágica e envolvente.O evento pode sofrer alterações de data\, local ou cancelamento sem aviso prévio.
URL:https://lecanton.com.br/evento/borboleta-encantada/2026-08-25/
LOCATION:Canton Ville
CATEGORIES:Crianças de 5 a 8 anos
ATTACH;FMTTYPE=image/jpeg:https://lecanton.com.br/wp-content/uploads/2026/04/borboleta.jpg
END:VEVENT
BEGIN:VEVENT
DTSTART;TZID=America/Sao_Paulo:20260901T112000
DTEND;TZID=America/Sao_Paulo:20260901T122000
DTSTAMP:20260419T101700
CREATED:20260418T060943Z
LAST-MODIFIED:20260418T060943Z
UID:10028550-1788261600-1788265200@lecanton.com.br
SUMMARY:Borboleta Encantada
DESCRIPTION:Uma atividade lúdica e cheia de imaginação para crianças de 5 a 8 anos! Os participantes embarcam em uma história encantadora enquanto procuram borboletas escondidas\, trabalhando em equipe para encontrar a borboleta mestre e completar o desafio. A dinâmica estimula cooperação\, curiosidade e criatividade em uma experiência mágica e envolvente.O evento pode sofrer alterações de data\, local ou cancelamento sem aviso prévio.
URL:https://lecanton.com.br/evento/borboleta-encantada/2026-09-01/
LOCATION:Canton Ville
CATEGORIES:Crianças de 5 a 8 anos
ATTACH;FMTTYPE=image/jpeg:https://lecanton.com.br/wp-content/uploads/2026/04/borboleta.jpg
END:VEVENT
BEGIN:VEVENT
DTSTART;TZID=America/Sao_Paulo:20260908T112000
DTEND;TZID=America/Sao_Paulo:20260908T122000
DTSTAMP:20260419T101700
CREATED:20260418T060943Z
LAST-MODIFIED:20260418T060943Z
UID:10028551-1788866400-1788870000@lecanton.com.br
SUMMARY:Borboleta Encantada
DESCRIPTION:Uma atividade lúdica e cheia de imaginação para crianças de 5 a 8 anos! Os participantes embarcam em uma história encantadora enquanto procuram borboletas escondidas\, trabalhando em equipe para encontrar a borboleta mestre e completar o desafio. A dinâmica estimula cooperação\, curiosidade e criatividade em uma experiência mágica e envolvente.O evento pode sofrer alterações de data\, local ou cancelamento sem aviso prévio.
URL:https://lecanton.com.br/evento/borboleta-encantada/2026-09-08/
LOCATION:Canton Ville
CATEGORIES:Crianças de 5 a 8 anos
ATTACH;FMTTYPE=image/jpeg:https://lecanton.com.br/wp-content/uploads/2026/04/borboleta.jpg
END:VEVENT
BEGIN:VEVENT
DTSTART;TZID=America/Sao_Paulo:20260915T112000
DTEND;TZID=America/Sao_Paulo:20260915T122000
DTSTAMP:20260419T101700
CREATED:20260418T060943Z
LAST-MODIFIED:20260418T060943Z
UID:10028552-1789471200-1789474800@lecanton.com.br
SUMMARY:Borboleta Encantada
DESCRIPTION:Uma atividade lúdica e cheia de imaginação para crianças de 5 a 8 anos! Os participantes embarcam em uma história encantadora enquanto procuram borboletas escondidas\, trabalhando em equipe para encontrar a borboleta mestre e completar o desafio. A dinâmica estimula cooperação\, curiosidade e criatividade em uma experiência mágica e envolvente.O evento pode sofrer alterações de data\, local ou cancelamento sem aviso prévio.
URL:https://lecanton.com.br/evento/borboleta-encantada/2026-09-15/
LOCATION:Canton Ville
CATEGORIES:Crianças de 5 a 8 anos
ATTACH;FMTTYPE=image/jpeg:https://lecanton.com.br/wp-content/uploads/2026/04/borboleta.jpg
END:VEVENT
BEGIN:VEVENT
DTSTART;TZID=America/Sao_Paulo:20260922T112000
DTEND;TZID=America/Sao_Paulo:20260922T122000
DTSTAMP:20260419T101700
CREATED:20260418T060943Z
LAST-MODIFIED:20260418T060943Z
UID:10028553-1790076000-1790079600@lecanton.com.br
SUMMARY:Borboleta Encantada
DESCRIPTION:Uma atividade lúdica e cheia de imaginação para crianças de 5 a 8 anos! Os participantes embarcam em uma história encantadora enquanto procuram borboletas escondidas\, trabalhando em equipe para encontrar a borboleta mestre e completar o desafio. A dinâmica estimula cooperação\, curiosidade e criatividade em uma experiência mágica e envolvente.O evento pode sofrer alterações de data\, local ou cancelamento sem aviso prévio.
URL:https://lecanton.com.br/evento/borboleta-encantada/2026-09-22/
LOCATION:Canton Ville
CATEGORIES:Crianças de 5 a 8 anos
ATTACH;FMTTYPE=image/jpeg:https://lecanton.com.br/wp-content/uploads/2026/04/borboleta.jpg
END:VEVENT
BEGIN:VEVENT
DTSTART;TZID=America/Sao_Paulo:20260929T112000
DTEND;TZID=America/Sao_Paulo:20260929T122000
DTSTAMP:20260419T101700
CREATED:20260418T060943Z
LAST-MODIFIED:20260418T060943Z
UID:10028554-1790680800-1790684400@lecanton.com.br
SUMMARY:Borboleta Encantada
DESCRIPTION:Uma atividade lúdica e cheia de imaginação para crianças de 5 a 8 anos! Os participantes embarcam em uma história encantadora enquanto procuram borboletas escondidas\, trabalhando em equipe para encontrar a borboleta mestre e completar o desafio. A dinâmica estimula cooperação\, curiosidade e criatividade em uma experiência mágica e envolvente.O evento pode sofrer alterações de data\, local ou cancelamento sem aviso prévio.
URL:https://lecanton.com.br/evento/borboleta-encantada/2026-09-29/
LOCATION:Canton Ville
CATEGORIES:Crianças de 5 a 8 anos
ATTACH;FMTTYPE=image/jpeg:https://lecanton.com.br/wp-content/uploads/2026/04/borboleta.jpg
END:VEVENT
BEGIN:VEVENT
DTSTART;TZID=America/Sao_Paulo:20261006T112000
DTEND;TZID=America/Sao_Paulo:20261006T122000
DTSTAMP:20260419T101700
CREATED:20260418T060943Z
LAST-MODIFIED:20260418T060943Z
UID:10028555-1791285600-1791289200@lecanton.com.br
SUMMARY:Borboleta Encantada
DESCRIPTION:Uma atividade lúdica e cheia de imaginação para crianças de 5 a 8 anos! Os participantes embarcam em uma história encantadora enquanto procuram borboletas escondidas\, trabalhando em equipe para encontrar a borboleta mestre e completar o desafio. A dinâmica estimula cooperação\, curiosidade e criatividade em uma experiência mágica e envolvente.O evento pode sofrer alterações de data\, local ou cancelamento sem aviso prévio.
URL:https://lecanton.com.br/evento/borboleta-encantada/2026-10-06/
LOCATION:Canton Ville
CATEGORIES:Crianças de 5 a 8 anos
ATTACH;FMTTYPE=image/jpeg:https://lecanton.com.br/wp-content/uploads/2026/04/borboleta.jpg
END:VEVENT
BEGIN:VEVENT
DTSTART;TZID=America/Sao_Paulo:20261013T112000
DTEND;TZID=America/Sao_Paulo:20261013T122000
DTSTAMP:20260419T101700
CREATED:20260418T060943Z
LAST-MODIFIED:20260418T060943Z
UID:10028556-1791890400-1791894000@lecanton.com.br
SUMMARY:Borboleta Encantada
DESCRIPTION:Uma atividade lúdica e cheia de imaginação para crianças de 5 a 8 anos! Os participantes embarcam em uma história encantadora enquanto procuram borboletas escondidas\, trabalhando em equipe para encontrar a borboleta mestre e completar o desafio. A dinâmica estimula cooperação\, curiosidade e criatividade em uma experiência mágica e envolvente.O evento pode sofrer alterações de data\, local ou cancelamento sem aviso prévio.
URL:https://lecanton.com.br/evento/borboleta-encantada/2026-10-13/
LOCATION:Canton Ville
CATEGORIES:Crianças de 5 a 8 anos
ATTACH;FMTTYPE=image/jpeg:https://lecanton.com.br/wp-content/uploads/2026/04/borboleta.jpg
END:VEVENT
BEGIN:VEVENT
DTSTART;TZID=America/Sao_Paulo:20261020T112000
DTEND;TZID=America/Sao_Paulo:20261020T122000
DTSTAMP:20260419T101700
CREATED:20260418T060943Z
LAST-MODIFIED:20260418T060943Z
UID:10028557-1792495200-1792498800@lecanton.com.br
SUMMARY:Borboleta Encantada
DESCRIPTION:Uma atividade lúdica e cheia de imaginação para crianças de 5 a 8 anos! Os participantes embarcam em uma história encantadora enquanto procuram borboletas escondidas\, trabalhando em equipe para encontrar a borboleta mestre e completar o desafio. A dinâmica estimula cooperação\, curiosidade e criatividade em uma experiência mágica e envolvente.O evento pode sofrer alterações de data\, local ou cancelamento sem aviso prévio.
URL:https://lecanton.com.br/evento/borboleta-encantada/2026-10-20/
LOCATION:Canton Ville
CATEGORIES:Crianças de 5 a 8 anos
ATTACH;FMTTYPE=image/jpeg:https://lecanton.com.br/wp-content/uploads/2026/04/borboleta.jpg
END:VEVENT
BEGIN:VEVENT
DTSTART;TZID=America/Sao_Paulo:20261027T112000
DTEND;TZID=America/Sao_Paulo:20261027T122000
DTSTAMP:20260419T101700
CREATED:20260418T060943Z
LAST-MODIFIED:20260418T060943Z
UID:10028558-1793100000-1793103600@lecanton.com.br
SUMMARY:Borboleta Encantada
DESCRIPTION:Uma atividade lúdica e cheia de imaginação para crianças de 5 a 8 anos! Os participantes embarcam em uma história encantadora enquanto procuram borboletas escondidas\, trabalhando em equipe para encontrar a borboleta mestre e completar o desafio. A dinâmica estimula cooperação\, curiosidade e criatividade em uma experiência mágica e envolvente.O evento pode sofrer alterações de data\, local ou cancelamento sem aviso prévio.
URL:https://lecanton.com.br/evento/borboleta-encantada/2026-10-27/
LOCATION:Canton Ville
CATEGORIES:Crianças de 5 a 8 anos
ATTACH;FMTTYPE=image/jpeg:https://lecanton.com.br/wp-content/uploads/2026/04/borboleta.jpg
END:VEVENT
BEGIN:VEVENT
DTSTART;TZID=America/Sao_Paulo:20261103T112000
DTEND;TZID=America/Sao_Paulo:20261103T122000
DTSTAMP:20260419T101700
CREATED:20260418T060943Z
LAST-MODIFIED:20260418T060943Z
UID:10028559-1793704800-1793708400@lecanton.com.br
SUMMARY:Borboleta Encantada
DESCRIPTION:Uma atividade lúdica e cheia de imaginação para crianças de 5 a 8 anos! Os participantes embarcam em uma história encantadora enquanto procuram borboletas escondidas\, trabalhando em equipe para encontrar a borboleta mestre e completar o desafio. A dinâmica estimula cooperação\, curiosidade e criatividade em uma experiência mágica e envolvente.O evento pode sofrer alterações de data\, local ou cancelamento sem aviso prévio.
URL:https://lecanton.com.br/evento/borboleta-encantada/2026-11-03/
LOCATION:Canton Ville
CATEGORIES:Crianças de 5 a 8 anos
ATTACH;FMTTYPE=image/jpeg:https://lecanton.com.br/wp-content/uploads/2026/04/borboleta.jpg
END:VEVENT
BEGIN:VEVENT
DTSTART;TZID=America/Sao_Paulo:20261110T112000
DTEND;TZID=America/Sao_Paulo:20261110T122000
DTSTAMP:20260419T101700
CREATED:20260418T060943Z
LAST-MODIFIED:20260418T060943Z
UID:10028560-1794309600-1794313200@lecanton.com.br
SUMMARY:Borboleta Encantada
DESCRIPTION:Uma atividade lúdica e cheia de imaginação para crianças de 5 a 8 anos! Os participantes embarcam em uma história encantadora enquanto procuram borboletas escondidas\, trabalhando em equipe para encontrar a borboleta mestre e completar o desafio. A dinâmica estimula cooperação\, curiosidade e criatividade em uma experiência mágica e envolvente.O evento pode sofrer alterações de data\, local ou cancelamento sem aviso prévio.
URL:https://lecanton.com.br/evento/borboleta-encantada/2026-11-10/
LOCATION:Canton Ville
CATEGORIES:Crianças de 5 a 8 anos
ATTACH;FMTTYPE=image/jpeg:https://lecanton.com.br/wp-content/uploads/2026/04/borboleta.jpg
END:VEVENT
END:VCALENDAR