BEGIN:VCALENDAR
VERSION:2.0
PRODID:-//Le Canton | O melhor Resort da Serra - ECPv6.15.17.1//NONSGML v1.0//EN
CALSCALE:GREGORIAN
METHOD:PUBLISH
X-WR-CALNAME:Le Canton | O melhor Resort da Serra
X-ORIGINAL-URL:https://lecanton.com.br
X-WR-CALDESC:Eventos para Le Canton | O melhor Resort da Serra
REFRESH-INTERVAL;VALUE=DURATION:PT1H
X-Robots-Tag:noindex
X-PUBLISHED-TTL:PT1H
BEGIN:VTIMEZONE
TZID:America/Sao_Paulo
BEGIN:STANDARD
TZOFFSETFROM:-0300
TZOFFSETTO:-0300
TZNAME:-03
DTSTART:20250101T000000
END:STANDARD
END:VTIMEZONE
BEGIN:VEVENT
DTSTART;TZID=America/Sao_Paulo:20260423T102000
DTEND;TZID=America/Sao_Paulo:20260423T112000
DTSTAMP:20260422T073407
CREATED:20260418T041046Z
LAST-MODIFIED:20260418T041046Z
UID:10027488-1776939600-1776943200@lecanton.com.br
SUMMARY:Escola de Circo
DESCRIPTION:Uma atividade divertida e cheia de criatividade para crianças de 5 a 8 anos! A Escola de Circo apresenta técnicas circenses de forma leve e segura\, estimulando coordenação\, equilíbrio e expressão corporal em um ambiente lúdico e envolvente.O evento pode sofrer alterações de data\, local ou cancelamento sem aviso prévio.
URL:https://lecanton.com.br/evento/escola-de-circo-2/2026-04-23/
LOCATION:Tenda
CATEGORIES:Crianças de 5 a 8 anos
ATTACH;FMTTYPE=image/jpeg:https://lecanton.com.br/wp-content/uploads/2026/04/escola-de-circo.jpg
END:VEVENT
BEGIN:VEVENT
DTSTART;TZID=America/Sao_Paulo:20260426T102000
DTEND;TZID=America/Sao_Paulo:20260426T112000
DTSTAMP:20260422T073407
CREATED:20260418T041046Z
LAST-MODIFIED:20260418T041046Z
UID:10027489-1777198800-1777202400@lecanton.com.br
SUMMARY:Escola de Circo
DESCRIPTION:Uma atividade divertida e cheia de criatividade para crianças de 5 a 8 anos! A Escola de Circo apresenta técnicas circenses de forma leve e segura\, estimulando coordenação\, equilíbrio e expressão corporal em um ambiente lúdico e envolvente.O evento pode sofrer alterações de data\, local ou cancelamento sem aviso prévio.
URL:https://lecanton.com.br/evento/escola-de-circo-2/2026-04-26/
LOCATION:Tenda
CATEGORIES:Crianças de 5 a 8 anos
ATTACH;FMTTYPE=image/jpeg:https://lecanton.com.br/wp-content/uploads/2026/04/escola-de-circo.jpg
END:VEVENT
BEGIN:VEVENT
DTSTART;TZID=America/Sao_Paulo:20260428T102000
DTEND;TZID=America/Sao_Paulo:20260428T112000
DTSTAMP:20260422T073407
CREATED:20260418T041046Z
LAST-MODIFIED:20260418T041046Z
UID:10027490-1777371600-1777375200@lecanton.com.br
SUMMARY:Escola de Circo
DESCRIPTION:Uma atividade divertida e cheia de criatividade para crianças de 5 a 8 anos! A Escola de Circo apresenta técnicas circenses de forma leve e segura\, estimulando coordenação\, equilíbrio e expressão corporal em um ambiente lúdico e envolvente.O evento pode sofrer alterações de data\, local ou cancelamento sem aviso prévio.
URL:https://lecanton.com.br/evento/escola-de-circo-2/2026-04-28/
LOCATION:Tenda
CATEGORIES:Crianças de 5 a 8 anos
ATTACH;FMTTYPE=image/jpeg:https://lecanton.com.br/wp-content/uploads/2026/04/escola-de-circo.jpg
END:VEVENT
BEGIN:VEVENT
DTSTART;TZID=America/Sao_Paulo:20260430T102000
DTEND;TZID=America/Sao_Paulo:20260430T112000
DTSTAMP:20260422T073407
CREATED:20260418T041046Z
LAST-MODIFIED:20260418T041046Z
UID:10027491-1777544400-1777548000@lecanton.com.br
SUMMARY:Escola de Circo
DESCRIPTION:Uma atividade divertida e cheia de criatividade para crianças de 5 a 8 anos! A Escola de Circo apresenta técnicas circenses de forma leve e segura\, estimulando coordenação\, equilíbrio e expressão corporal em um ambiente lúdico e envolvente.O evento pode sofrer alterações de data\, local ou cancelamento sem aviso prévio.
URL:https://lecanton.com.br/evento/escola-de-circo-2/2026-04-30/
LOCATION:Tenda
CATEGORIES:Crianças de 5 a 8 anos
ATTACH;FMTTYPE=image/jpeg:https://lecanton.com.br/wp-content/uploads/2026/04/escola-de-circo.jpg
END:VEVENT
BEGIN:VEVENT
DTSTART;TZID=America/Sao_Paulo:20260503T102000
DTEND;TZID=America/Sao_Paulo:20260503T112000
DTSTAMP:20260422T073407
CREATED:20260418T041046Z
LAST-MODIFIED:20260418T041046Z
UID:10027492-1777803600-1777807200@lecanton.com.br
SUMMARY:Escola de Circo
DESCRIPTION:Uma atividade divertida e cheia de criatividade para crianças de 5 a 8 anos! A Escola de Circo apresenta técnicas circenses de forma leve e segura\, estimulando coordenação\, equilíbrio e expressão corporal em um ambiente lúdico e envolvente.O evento pode sofrer alterações de data\, local ou cancelamento sem aviso prévio.
URL:https://lecanton.com.br/evento/escola-de-circo-2/2026-05-03/
LOCATION:Tenda
CATEGORIES:Crianças de 5 a 8 anos
ATTACH;FMTTYPE=image/jpeg:https://lecanton.com.br/wp-content/uploads/2026/04/escola-de-circo.jpg
END:VEVENT
BEGIN:VEVENT
DTSTART;TZID=America/Sao_Paulo:20260505T102000
DTEND;TZID=America/Sao_Paulo:20260505T112000
DTSTAMP:20260422T073407
CREATED:20260418T041046Z
LAST-MODIFIED:20260418T041046Z
UID:10027493-1777976400-1777980000@lecanton.com.br
SUMMARY:Escola de Circo
DESCRIPTION:Uma atividade divertida e cheia de criatividade para crianças de 5 a 8 anos! A Escola de Circo apresenta técnicas circenses de forma leve e segura\, estimulando coordenação\, equilíbrio e expressão corporal em um ambiente lúdico e envolvente.O evento pode sofrer alterações de data\, local ou cancelamento sem aviso prévio.
URL:https://lecanton.com.br/evento/escola-de-circo-2/2026-05-05/
LOCATION:Tenda
CATEGORIES:Crianças de 5 a 8 anos
ATTACH;FMTTYPE=image/jpeg:https://lecanton.com.br/wp-content/uploads/2026/04/escola-de-circo.jpg
END:VEVENT
BEGIN:VEVENT
DTSTART;TZID=America/Sao_Paulo:20260507T102000
DTEND;TZID=America/Sao_Paulo:20260507T112000
DTSTAMP:20260422T073407
CREATED:20260418T041046Z
LAST-MODIFIED:20260418T041046Z
UID:10027494-1778149200-1778152800@lecanton.com.br
SUMMARY:Escola de Circo
DESCRIPTION:Uma atividade divertida e cheia de criatividade para crianças de 5 a 8 anos! A Escola de Circo apresenta técnicas circenses de forma leve e segura\, estimulando coordenação\, equilíbrio e expressão corporal em um ambiente lúdico e envolvente.O evento pode sofrer alterações de data\, local ou cancelamento sem aviso prévio.
URL:https://lecanton.com.br/evento/escola-de-circo-2/2026-05-07/
LOCATION:Tenda
CATEGORIES:Crianças de 5 a 8 anos
ATTACH;FMTTYPE=image/jpeg:https://lecanton.com.br/wp-content/uploads/2026/04/escola-de-circo.jpg
END:VEVENT
BEGIN:VEVENT
DTSTART;TZID=America/Sao_Paulo:20260510T102000
DTEND;TZID=America/Sao_Paulo:20260510T112000
DTSTAMP:20260422T073407
CREATED:20260418T041046Z
LAST-MODIFIED:20260418T041046Z
UID:10027495-1778408400-1778412000@lecanton.com.br
SUMMARY:Escola de Circo
DESCRIPTION:Uma atividade divertida e cheia de criatividade para crianças de 5 a 8 anos! A Escola de Circo apresenta técnicas circenses de forma leve e segura\, estimulando coordenação\, equilíbrio e expressão corporal em um ambiente lúdico e envolvente.O evento pode sofrer alterações de data\, local ou cancelamento sem aviso prévio.
URL:https://lecanton.com.br/evento/escola-de-circo-2/2026-05-10/
LOCATION:Tenda
CATEGORIES:Crianças de 5 a 8 anos
ATTACH;FMTTYPE=image/jpeg:https://lecanton.com.br/wp-content/uploads/2026/04/escola-de-circo.jpg
END:VEVENT
BEGIN:VEVENT
DTSTART;TZID=America/Sao_Paulo:20260512T102000
DTEND;TZID=America/Sao_Paulo:20260512T112000
DTSTAMP:20260422T073407
CREATED:20260418T041046Z
LAST-MODIFIED:20260418T041046Z
UID:10027496-1778581200-1778584800@lecanton.com.br
SUMMARY:Escola de Circo
DESCRIPTION:Uma atividade divertida e cheia de criatividade para crianças de 5 a 8 anos! A Escola de Circo apresenta técnicas circenses de forma leve e segura\, estimulando coordenação\, equilíbrio e expressão corporal em um ambiente lúdico e envolvente.O evento pode sofrer alterações de data\, local ou cancelamento sem aviso prévio.
URL:https://lecanton.com.br/evento/escola-de-circo-2/2026-05-12/
LOCATION:Tenda
CATEGORIES:Crianças de 5 a 8 anos
ATTACH;FMTTYPE=image/jpeg:https://lecanton.com.br/wp-content/uploads/2026/04/escola-de-circo.jpg
END:VEVENT
BEGIN:VEVENT
DTSTART;TZID=America/Sao_Paulo:20260514T102000
DTEND;TZID=America/Sao_Paulo:20260514T112000
DTSTAMP:20260422T073407
CREATED:20260418T041046Z
LAST-MODIFIED:20260418T041046Z
UID:10027497-1778754000-1778757600@lecanton.com.br
SUMMARY:Escola de Circo
DESCRIPTION:Uma atividade divertida e cheia de criatividade para crianças de 5 a 8 anos! A Escola de Circo apresenta técnicas circenses de forma leve e segura\, estimulando coordenação\, equilíbrio e expressão corporal em um ambiente lúdico e envolvente.O evento pode sofrer alterações de data\, local ou cancelamento sem aviso prévio.
URL:https://lecanton.com.br/evento/escola-de-circo-2/2026-05-14/
LOCATION:Tenda
CATEGORIES:Crianças de 5 a 8 anos
ATTACH;FMTTYPE=image/jpeg:https://lecanton.com.br/wp-content/uploads/2026/04/escola-de-circo.jpg
END:VEVENT
BEGIN:VEVENT
DTSTART;TZID=America/Sao_Paulo:20260517T102000
DTEND;TZID=America/Sao_Paulo:20260517T112000
DTSTAMP:20260422T073407
CREATED:20260418T041046Z
LAST-MODIFIED:20260418T041046Z
UID:10027498-1779013200-1779016800@lecanton.com.br
SUMMARY:Escola de Circo
DESCRIPTION:Uma atividade divertida e cheia de criatividade para crianças de 5 a 8 anos! A Escola de Circo apresenta técnicas circenses de forma leve e segura\, estimulando coordenação\, equilíbrio e expressão corporal em um ambiente lúdico e envolvente.O evento pode sofrer alterações de data\, local ou cancelamento sem aviso prévio.
URL:https://lecanton.com.br/evento/escola-de-circo-2/2026-05-17/
LOCATION:Tenda
CATEGORIES:Crianças de 5 a 8 anos
ATTACH;FMTTYPE=image/jpeg:https://lecanton.com.br/wp-content/uploads/2026/04/escola-de-circo.jpg
END:VEVENT
BEGIN:VEVENT
DTSTART;TZID=America/Sao_Paulo:20260519T102000
DTEND;TZID=America/Sao_Paulo:20260519T112000
DTSTAMP:20260422T073407
CREATED:20260418T041046Z
LAST-MODIFIED:20260418T041046Z
UID:10027499-1779186000-1779189600@lecanton.com.br
SUMMARY:Escola de Circo
DESCRIPTION:Uma atividade divertida e cheia de criatividade para crianças de 5 a 8 anos! A Escola de Circo apresenta técnicas circenses de forma leve e segura\, estimulando coordenação\, equilíbrio e expressão corporal em um ambiente lúdico e envolvente.O evento pode sofrer alterações de data\, local ou cancelamento sem aviso prévio.
URL:https://lecanton.com.br/evento/escola-de-circo-2/2026-05-19/
LOCATION:Tenda
CATEGORIES:Crianças de 5 a 8 anos
ATTACH;FMTTYPE=image/jpeg:https://lecanton.com.br/wp-content/uploads/2026/04/escola-de-circo.jpg
END:VEVENT
BEGIN:VEVENT
DTSTART;TZID=America/Sao_Paulo:20260521T102000
DTEND;TZID=America/Sao_Paulo:20260521T112000
DTSTAMP:20260422T073407
CREATED:20260418T041046Z
LAST-MODIFIED:20260418T041046Z
UID:10027500-1779358800-1779362400@lecanton.com.br
SUMMARY:Escola de Circo
DESCRIPTION:Uma atividade divertida e cheia de criatividade para crianças de 5 a 8 anos! A Escola de Circo apresenta técnicas circenses de forma leve e segura\, estimulando coordenação\, equilíbrio e expressão corporal em um ambiente lúdico e envolvente.O evento pode sofrer alterações de data\, local ou cancelamento sem aviso prévio.
URL:https://lecanton.com.br/evento/escola-de-circo-2/2026-05-21/
LOCATION:Tenda
CATEGORIES:Crianças de 5 a 8 anos
ATTACH;FMTTYPE=image/jpeg:https://lecanton.com.br/wp-content/uploads/2026/04/escola-de-circo.jpg
END:VEVENT
BEGIN:VEVENT
DTSTART;TZID=America/Sao_Paulo:20260524T102000
DTEND;TZID=America/Sao_Paulo:20260524T112000
DTSTAMP:20260422T073407
CREATED:20260418T041046Z
LAST-MODIFIED:20260418T041046Z
UID:10027501-1779618000-1779621600@lecanton.com.br
SUMMARY:Escola de Circo
DESCRIPTION:Uma atividade divertida e cheia de criatividade para crianças de 5 a 8 anos! A Escola de Circo apresenta técnicas circenses de forma leve e segura\, estimulando coordenação\, equilíbrio e expressão corporal em um ambiente lúdico e envolvente.O evento pode sofrer alterações de data\, local ou cancelamento sem aviso prévio.
URL:https://lecanton.com.br/evento/escola-de-circo-2/2026-05-24/
LOCATION:Tenda
CATEGORIES:Crianças de 5 a 8 anos
ATTACH;FMTTYPE=image/jpeg:https://lecanton.com.br/wp-content/uploads/2026/04/escola-de-circo.jpg
END:VEVENT
BEGIN:VEVENT
DTSTART;TZID=America/Sao_Paulo:20260526T102000
DTEND;TZID=America/Sao_Paulo:20260526T112000
DTSTAMP:20260422T073408
CREATED:20260418T041046Z
LAST-MODIFIED:20260418T041046Z
UID:10027502-1779790800-1779794400@lecanton.com.br
SUMMARY:Escola de Circo
DESCRIPTION:Uma atividade divertida e cheia de criatividade para crianças de 5 a 8 anos! A Escola de Circo apresenta técnicas circenses de forma leve e segura\, estimulando coordenação\, equilíbrio e expressão corporal em um ambiente lúdico e envolvente.O evento pode sofrer alterações de data\, local ou cancelamento sem aviso prévio.
URL:https://lecanton.com.br/evento/escola-de-circo-2/2026-05-26/
LOCATION:Tenda
CATEGORIES:Crianças de 5 a 8 anos
ATTACH;FMTTYPE=image/jpeg:https://lecanton.com.br/wp-content/uploads/2026/04/escola-de-circo.jpg
END:VEVENT
BEGIN:VEVENT
DTSTART;TZID=America/Sao_Paulo:20260528T102000
DTEND;TZID=America/Sao_Paulo:20260528T112000
DTSTAMP:20260422T073408
CREATED:20260418T041046Z
LAST-MODIFIED:20260418T041046Z
UID:10027503-1779963600-1779967200@lecanton.com.br
SUMMARY:Escola de Circo
DESCRIPTION:Uma atividade divertida e cheia de criatividade para crianças de 5 a 8 anos! A Escola de Circo apresenta técnicas circenses de forma leve e segura\, estimulando coordenação\, equilíbrio e expressão corporal em um ambiente lúdico e envolvente.O evento pode sofrer alterações de data\, local ou cancelamento sem aviso prévio.
URL:https://lecanton.com.br/evento/escola-de-circo-2/2026-05-28/
LOCATION:Tenda
CATEGORIES:Crianças de 5 a 8 anos
ATTACH;FMTTYPE=image/jpeg:https://lecanton.com.br/wp-content/uploads/2026/04/escola-de-circo.jpg
END:VEVENT
BEGIN:VEVENT
DTSTART;TZID=America/Sao_Paulo:20260531T102000
DTEND;TZID=America/Sao_Paulo:20260531T112000
DTSTAMP:20260422T073408
CREATED:20260418T041046Z
LAST-MODIFIED:20260418T041046Z
UID:10027504-1780222800-1780226400@lecanton.com.br
SUMMARY:Escola de Circo
DESCRIPTION:Uma atividade divertida e cheia de criatividade para crianças de 5 a 8 anos! A Escola de Circo apresenta técnicas circenses de forma leve e segura\, estimulando coordenação\, equilíbrio e expressão corporal em um ambiente lúdico e envolvente.O evento pode sofrer alterações de data\, local ou cancelamento sem aviso prévio.
URL:https://lecanton.com.br/evento/escola-de-circo-2/2026-05-31/
LOCATION:Tenda
CATEGORIES:Crianças de 5 a 8 anos
ATTACH;FMTTYPE=image/jpeg:https://lecanton.com.br/wp-content/uploads/2026/04/escola-de-circo.jpg
END:VEVENT
BEGIN:VEVENT
DTSTART;TZID=America/Sao_Paulo:20260602T102000
DTEND;TZID=America/Sao_Paulo:20260602T112000
DTSTAMP:20260422T073408
CREATED:20260418T041046Z
LAST-MODIFIED:20260418T041046Z
UID:10027505-1780395600-1780399200@lecanton.com.br
SUMMARY:Escola de Circo
DESCRIPTION:Uma atividade divertida e cheia de criatividade para crianças de 5 a 8 anos! A Escola de Circo apresenta técnicas circenses de forma leve e segura\, estimulando coordenação\, equilíbrio e expressão corporal em um ambiente lúdico e envolvente.O evento pode sofrer alterações de data\, local ou cancelamento sem aviso prévio.
URL:https://lecanton.com.br/evento/escola-de-circo-2/2026-06-02/
LOCATION:Tenda
CATEGORIES:Crianças de 5 a 8 anos
ATTACH;FMTTYPE=image/jpeg:https://lecanton.com.br/wp-content/uploads/2026/04/escola-de-circo.jpg
END:VEVENT
BEGIN:VEVENT
DTSTART;TZID=America/Sao_Paulo:20260604T102000
DTEND;TZID=America/Sao_Paulo:20260604T112000
DTSTAMP:20260422T073408
CREATED:20260418T041046Z
LAST-MODIFIED:20260418T041046Z
UID:10027506-1780568400-1780572000@lecanton.com.br
SUMMARY:Escola de Circo
DESCRIPTION:Uma atividade divertida e cheia de criatividade para crianças de 5 a 8 anos! A Escola de Circo apresenta técnicas circenses de forma leve e segura\, estimulando coordenação\, equilíbrio e expressão corporal em um ambiente lúdico e envolvente.O evento pode sofrer alterações de data\, local ou cancelamento sem aviso prévio.
URL:https://lecanton.com.br/evento/escola-de-circo-2/2026-06-04/
LOCATION:Tenda
CATEGORIES:Crianças de 5 a 8 anos
ATTACH;FMTTYPE=image/jpeg:https://lecanton.com.br/wp-content/uploads/2026/04/escola-de-circo.jpg
END:VEVENT
BEGIN:VEVENT
DTSTART;TZID=America/Sao_Paulo:20260607T102000
DTEND;TZID=America/Sao_Paulo:20260607T112000
DTSTAMP:20260422T073408
CREATED:20260418T041046Z
LAST-MODIFIED:20260418T041046Z
UID:10027507-1780827600-1780831200@lecanton.com.br
SUMMARY:Escola de Circo
DESCRIPTION:Uma atividade divertida e cheia de criatividade para crianças de 5 a 8 anos! A Escola de Circo apresenta técnicas circenses de forma leve e segura\, estimulando coordenação\, equilíbrio e expressão corporal em um ambiente lúdico e envolvente.O evento pode sofrer alterações de data\, local ou cancelamento sem aviso prévio.
URL:https://lecanton.com.br/evento/escola-de-circo-2/2026-06-07/
LOCATION:Tenda
CATEGORIES:Crianças de 5 a 8 anos
ATTACH;FMTTYPE=image/jpeg:https://lecanton.com.br/wp-content/uploads/2026/04/escola-de-circo.jpg
END:VEVENT
BEGIN:VEVENT
DTSTART;TZID=America/Sao_Paulo:20260609T102000
DTEND;TZID=America/Sao_Paulo:20260609T112000
DTSTAMP:20260422T073408
CREATED:20260418T041046Z
LAST-MODIFIED:20260418T041046Z
UID:10027508-1781000400-1781004000@lecanton.com.br
SUMMARY:Escola de Circo
DESCRIPTION:Uma atividade divertida e cheia de criatividade para crianças de 5 a 8 anos! A Escola de Circo apresenta técnicas circenses de forma leve e segura\, estimulando coordenação\, equilíbrio e expressão corporal em um ambiente lúdico e envolvente.O evento pode sofrer alterações de data\, local ou cancelamento sem aviso prévio.
URL:https://lecanton.com.br/evento/escola-de-circo-2/2026-06-09/
LOCATION:Tenda
CATEGORIES:Crianças de 5 a 8 anos
ATTACH;FMTTYPE=image/jpeg:https://lecanton.com.br/wp-content/uploads/2026/04/escola-de-circo.jpg
END:VEVENT
BEGIN:VEVENT
DTSTART;TZID=America/Sao_Paulo:20260611T102000
DTEND;TZID=America/Sao_Paulo:20260611T112000
DTSTAMP:20260422T073408
CREATED:20260418T041046Z
LAST-MODIFIED:20260418T041046Z
UID:10027509-1781173200-1781176800@lecanton.com.br
SUMMARY:Escola de Circo
DESCRIPTION:Uma atividade divertida e cheia de criatividade para crianças de 5 a 8 anos! A Escola de Circo apresenta técnicas circenses de forma leve e segura\, estimulando coordenação\, equilíbrio e expressão corporal em um ambiente lúdico e envolvente.O evento pode sofrer alterações de data\, local ou cancelamento sem aviso prévio.
URL:https://lecanton.com.br/evento/escola-de-circo-2/2026-06-11/
LOCATION:Tenda
CATEGORIES:Crianças de 5 a 8 anos
ATTACH;FMTTYPE=image/jpeg:https://lecanton.com.br/wp-content/uploads/2026/04/escola-de-circo.jpg
END:VEVENT
BEGIN:VEVENT
DTSTART;TZID=America/Sao_Paulo:20260614T102000
DTEND;TZID=America/Sao_Paulo:20260614T112000
DTSTAMP:20260422T073408
CREATED:20260418T041046Z
LAST-MODIFIED:20260418T041046Z
UID:10027510-1781432400-1781436000@lecanton.com.br
SUMMARY:Escola de Circo
DESCRIPTION:Uma atividade divertida e cheia de criatividade para crianças de 5 a 8 anos! A Escola de Circo apresenta técnicas circenses de forma leve e segura\, estimulando coordenação\, equilíbrio e expressão corporal em um ambiente lúdico e envolvente.O evento pode sofrer alterações de data\, local ou cancelamento sem aviso prévio.
URL:https://lecanton.com.br/evento/escola-de-circo-2/2026-06-14/
LOCATION:Tenda
CATEGORIES:Crianças de 5 a 8 anos
ATTACH;FMTTYPE=image/jpeg:https://lecanton.com.br/wp-content/uploads/2026/04/escola-de-circo.jpg
END:VEVENT
BEGIN:VEVENT
DTSTART;TZID=America/Sao_Paulo:20260616T102000
DTEND;TZID=America/Sao_Paulo:20260616T112000
DTSTAMP:20260422T073408
CREATED:20260418T041046Z
LAST-MODIFIED:20260418T041046Z
UID:10027511-1781605200-1781608800@lecanton.com.br
SUMMARY:Escola de Circo
DESCRIPTION:Uma atividade divertida e cheia de criatividade para crianças de 5 a 8 anos! A Escola de Circo apresenta técnicas circenses de forma leve e segura\, estimulando coordenação\, equilíbrio e expressão corporal em um ambiente lúdico e envolvente.O evento pode sofrer alterações de data\, local ou cancelamento sem aviso prévio.
URL:https://lecanton.com.br/evento/escola-de-circo-2/2026-06-16/
LOCATION:Tenda
CATEGORIES:Crianças de 5 a 8 anos
ATTACH;FMTTYPE=image/jpeg:https://lecanton.com.br/wp-content/uploads/2026/04/escola-de-circo.jpg
END:VEVENT
BEGIN:VEVENT
DTSTART;TZID=America/Sao_Paulo:20260618T102000
DTEND;TZID=America/Sao_Paulo:20260618T112000
DTSTAMP:20260422T073408
CREATED:20260418T041046Z
LAST-MODIFIED:20260418T041046Z
UID:10027512-1781778000-1781781600@lecanton.com.br
SUMMARY:Escola de Circo
DESCRIPTION:Uma atividade divertida e cheia de criatividade para crianças de 5 a 8 anos! A Escola de Circo apresenta técnicas circenses de forma leve e segura\, estimulando coordenação\, equilíbrio e expressão corporal em um ambiente lúdico e envolvente.O evento pode sofrer alterações de data\, local ou cancelamento sem aviso prévio.
URL:https://lecanton.com.br/evento/escola-de-circo-2/2026-06-18/
LOCATION:Tenda
CATEGORIES:Crianças de 5 a 8 anos
ATTACH;FMTTYPE=image/jpeg:https://lecanton.com.br/wp-content/uploads/2026/04/escola-de-circo.jpg
END:VEVENT
BEGIN:VEVENT
DTSTART;TZID=America/Sao_Paulo:20260621T102000
DTEND;TZID=America/Sao_Paulo:20260621T112000
DTSTAMP:20260422T073408
CREATED:20260418T041046Z
LAST-MODIFIED:20260418T041046Z
UID:10027513-1782037200-1782040800@lecanton.com.br
SUMMARY:Escola de Circo
DESCRIPTION:Uma atividade divertida e cheia de criatividade para crianças de 5 a 8 anos! A Escola de Circo apresenta técnicas circenses de forma leve e segura\, estimulando coordenação\, equilíbrio e expressão corporal em um ambiente lúdico e envolvente.O evento pode sofrer alterações de data\, local ou cancelamento sem aviso prévio.
URL:https://lecanton.com.br/evento/escola-de-circo-2/2026-06-21/
LOCATION:Tenda
CATEGORIES:Crianças de 5 a 8 anos
ATTACH;FMTTYPE=image/jpeg:https://lecanton.com.br/wp-content/uploads/2026/04/escola-de-circo.jpg
END:VEVENT
BEGIN:VEVENT
DTSTART;TZID=America/Sao_Paulo:20260623T102000
DTEND;TZID=America/Sao_Paulo:20260623T112000
DTSTAMP:20260422T073408
CREATED:20260418T041046Z
LAST-MODIFIED:20260418T041046Z
UID:10027514-1782210000-1782213600@lecanton.com.br
SUMMARY:Escola de Circo
DESCRIPTION:Uma atividade divertida e cheia de criatividade para crianças de 5 a 8 anos! A Escola de Circo apresenta técnicas circenses de forma leve e segura\, estimulando coordenação\, equilíbrio e expressão corporal em um ambiente lúdico e envolvente.O evento pode sofrer alterações de data\, local ou cancelamento sem aviso prévio.
URL:https://lecanton.com.br/evento/escola-de-circo-2/2026-06-23/
LOCATION:Tenda
CATEGORIES:Crianças de 5 a 8 anos
ATTACH;FMTTYPE=image/jpeg:https://lecanton.com.br/wp-content/uploads/2026/04/escola-de-circo.jpg
END:VEVENT
BEGIN:VEVENT
DTSTART;TZID=America/Sao_Paulo:20260625T102000
DTEND;TZID=America/Sao_Paulo:20260625T112000
DTSTAMP:20260422T073408
CREATED:20260418T041046Z
LAST-MODIFIED:20260418T041046Z
UID:10027515-1782382800-1782386400@lecanton.com.br
SUMMARY:Escola de Circo
DESCRIPTION:Uma atividade divertida e cheia de criatividade para crianças de 5 a 8 anos! A Escola de Circo apresenta técnicas circenses de forma leve e segura\, estimulando coordenação\, equilíbrio e expressão corporal em um ambiente lúdico e envolvente.O evento pode sofrer alterações de data\, local ou cancelamento sem aviso prévio.
URL:https://lecanton.com.br/evento/escola-de-circo-2/2026-06-25/
LOCATION:Tenda
CATEGORIES:Crianças de 5 a 8 anos
ATTACH;FMTTYPE=image/jpeg:https://lecanton.com.br/wp-content/uploads/2026/04/escola-de-circo.jpg
END:VEVENT
BEGIN:VEVENT
DTSTART;TZID=America/Sao_Paulo:20260628T102000
DTEND;TZID=America/Sao_Paulo:20260628T112000
DTSTAMP:20260422T073408
CREATED:20260418T041046Z
LAST-MODIFIED:20260418T041046Z
UID:10027516-1782642000-1782645600@lecanton.com.br
SUMMARY:Escola de Circo
DESCRIPTION:Uma atividade divertida e cheia de criatividade para crianças de 5 a 8 anos! A Escola de Circo apresenta técnicas circenses de forma leve e segura\, estimulando coordenação\, equilíbrio e expressão corporal em um ambiente lúdico e envolvente.O evento pode sofrer alterações de data\, local ou cancelamento sem aviso prévio.
URL:https://lecanton.com.br/evento/escola-de-circo-2/2026-06-28/
LOCATION:Tenda
CATEGORIES:Crianças de 5 a 8 anos
ATTACH;FMTTYPE=image/jpeg:https://lecanton.com.br/wp-content/uploads/2026/04/escola-de-circo.jpg
END:VEVENT
BEGIN:VEVENT
DTSTART;TZID=America/Sao_Paulo:20260630T102000
DTEND;TZID=America/Sao_Paulo:20260630T112000
DTSTAMP:20260422T073408
CREATED:20260418T041046Z
LAST-MODIFIED:20260418T041046Z
UID:10027517-1782814800-1782818400@lecanton.com.br
SUMMARY:Escola de Circo
DESCRIPTION:Uma atividade divertida e cheia de criatividade para crianças de 5 a 8 anos! A Escola de Circo apresenta técnicas circenses de forma leve e segura\, estimulando coordenação\, equilíbrio e expressão corporal em um ambiente lúdico e envolvente.O evento pode sofrer alterações de data\, local ou cancelamento sem aviso prévio.
URL:https://lecanton.com.br/evento/escola-de-circo-2/2026-06-30/
LOCATION:Tenda
CATEGORIES:Crianças de 5 a 8 anos
ATTACH;FMTTYPE=image/jpeg:https://lecanton.com.br/wp-content/uploads/2026/04/escola-de-circo.jpg
END:VEVENT
END:VCALENDAR