BEGIN:VCALENDAR
VERSION:2.0
PRODID:-//Le Canton | O melhor Resort da Serra - ECPv6.15.17.1//NONSGML v1.0//EN
CALSCALE:GREGORIAN
METHOD:PUBLISH
X-WR-CALNAME:Le Canton | O melhor Resort da Serra
X-ORIGINAL-URL:https://lecanton.com.br
X-WR-CALDESC:Eventos para Le Canton | O melhor Resort da Serra
REFRESH-INTERVAL;VALUE=DURATION:PT1H
X-Robots-Tag:noindex
X-PUBLISHED-TTL:PT1H
BEGIN:VTIMEZONE
TZID:America/Sao_Paulo
BEGIN:STANDARD
TZOFFSETFROM:-0300
TZOFFSETTO:-0300
TZNAME:-03
DTSTART:20250101T000000
END:STANDARD
END:VTIMEZONE
BEGIN:VEVENT
DTSTART;TZID=America/Sao_Paulo:20260423T144000
DTEND;TZID=America/Sao_Paulo:20260423T154000
DTSTAMP:20260422T160208
CREATED:20260418T025245Z
LAST-MODIFIED:20260418T025245Z
UID:10024355-1776955200-1776958800@lecanton.com.br
SUMMARY:Artesanato
DESCRIPTION:Uma atividade criativa e divertida para crianças de 5 a 8 anos! Os pequenos exploram diferentes materiais e técnicas para criar peças únicas\, estimulando a imaginação\, a coordenação motora e a expressão artística.O evento pode sofrer alterações de data\, local ou cancelamento sem aviso prévio.
URL:https://lecanton.com.br/evento/artesanato/2026-04-23/
LOCATION:L’Arena
CATEGORIES:Crianças de 5 a 8 anos
ATTACH;FMTTYPE=image/jpeg:https://lecanton.com.br/wp-content/uploads/2026/04/artesanato.jpg
END:VEVENT
BEGIN:VEVENT
DTSTART;TZID=America/Sao_Paulo:20260424T144000
DTEND;TZID=America/Sao_Paulo:20260424T154000
DTSTAMP:20260422T160208
CREATED:20260418T025245Z
LAST-MODIFIED:20260418T025245Z
UID:10024356-1777041600-1777045200@lecanton.com.br
SUMMARY:Artesanato
DESCRIPTION:Uma atividade criativa e divertida para crianças de 5 a 8 anos! Os pequenos exploram diferentes materiais e técnicas para criar peças únicas\, estimulando a imaginação\, a coordenação motora e a expressão artística.O evento pode sofrer alterações de data\, local ou cancelamento sem aviso prévio.
URL:https://lecanton.com.br/evento/artesanato/2026-04-24/
LOCATION:L’Arena
CATEGORIES:Crianças de 5 a 8 anos
ATTACH;FMTTYPE=image/jpeg:https://lecanton.com.br/wp-content/uploads/2026/04/artesanato.jpg
END:VEVENT
BEGIN:VEVENT
DTSTART;TZID=America/Sao_Paulo:20260425T144000
DTEND;TZID=America/Sao_Paulo:20260425T154000
DTSTAMP:20260422T160208
CREATED:20260418T025245Z
LAST-MODIFIED:20260418T025245Z
UID:10024357-1777128000-1777131600@lecanton.com.br
SUMMARY:Artesanato
DESCRIPTION:Uma atividade criativa e divertida para crianças de 5 a 8 anos! Os pequenos exploram diferentes materiais e técnicas para criar peças únicas\, estimulando a imaginação\, a coordenação motora e a expressão artística.O evento pode sofrer alterações de data\, local ou cancelamento sem aviso prévio.
URL:https://lecanton.com.br/evento/artesanato/2026-04-25/
LOCATION:L’Arena
CATEGORIES:Crianças de 5 a 8 anos
ATTACH;FMTTYPE=image/jpeg:https://lecanton.com.br/wp-content/uploads/2026/04/artesanato.jpg
END:VEVENT
BEGIN:VEVENT
DTSTART;TZID=America/Sao_Paulo:20260426T144000
DTEND;TZID=America/Sao_Paulo:20260426T154000
DTSTAMP:20260422T160208
CREATED:20260418T025245Z
LAST-MODIFIED:20260418T025245Z
UID:10024358-1777214400-1777218000@lecanton.com.br
SUMMARY:Artesanato
DESCRIPTION:Uma atividade criativa e divertida para crianças de 5 a 8 anos! Os pequenos exploram diferentes materiais e técnicas para criar peças únicas\, estimulando a imaginação\, a coordenação motora e a expressão artística.O evento pode sofrer alterações de data\, local ou cancelamento sem aviso prévio.
URL:https://lecanton.com.br/evento/artesanato/2026-04-26/
LOCATION:L’Arena
CATEGORIES:Crianças de 5 a 8 anos
ATTACH;FMTTYPE=image/jpeg:https://lecanton.com.br/wp-content/uploads/2026/04/artesanato.jpg
END:VEVENT
BEGIN:VEVENT
DTSTART;TZID=America/Sao_Paulo:20260427T144000
DTEND;TZID=America/Sao_Paulo:20260427T154000
DTSTAMP:20260422T160208
CREATED:20260418T025245Z
LAST-MODIFIED:20260418T025245Z
UID:10024359-1777300800-1777304400@lecanton.com.br
SUMMARY:Artesanato
DESCRIPTION:Uma atividade criativa e divertida para crianças de 5 a 8 anos! Os pequenos exploram diferentes materiais e técnicas para criar peças únicas\, estimulando a imaginação\, a coordenação motora e a expressão artística.O evento pode sofrer alterações de data\, local ou cancelamento sem aviso prévio.
URL:https://lecanton.com.br/evento/artesanato/2026-04-27/
LOCATION:L’Arena
CATEGORIES:Crianças de 5 a 8 anos
ATTACH;FMTTYPE=image/jpeg:https://lecanton.com.br/wp-content/uploads/2026/04/artesanato.jpg
END:VEVENT
BEGIN:VEVENT
DTSTART;TZID=America/Sao_Paulo:20260428T144000
DTEND;TZID=America/Sao_Paulo:20260428T154000
DTSTAMP:20260422T160208
CREATED:20260418T025245Z
LAST-MODIFIED:20260418T025245Z
UID:10024360-1777387200-1777390800@lecanton.com.br
SUMMARY:Artesanato
DESCRIPTION:Uma atividade criativa e divertida para crianças de 5 a 8 anos! Os pequenos exploram diferentes materiais e técnicas para criar peças únicas\, estimulando a imaginação\, a coordenação motora e a expressão artística.O evento pode sofrer alterações de data\, local ou cancelamento sem aviso prévio.
URL:https://lecanton.com.br/evento/artesanato/2026-04-28/
LOCATION:L’Arena
CATEGORIES:Crianças de 5 a 8 anos
ATTACH;FMTTYPE=image/jpeg:https://lecanton.com.br/wp-content/uploads/2026/04/artesanato.jpg
END:VEVENT
BEGIN:VEVENT
DTSTART;TZID=America/Sao_Paulo:20260429T144000
DTEND;TZID=America/Sao_Paulo:20260429T154000
DTSTAMP:20260422T160208
CREATED:20260418T025245Z
LAST-MODIFIED:20260418T025245Z
UID:10024361-1777473600-1777477200@lecanton.com.br
SUMMARY:Artesanato
DESCRIPTION:Uma atividade criativa e divertida para crianças de 5 a 8 anos! Os pequenos exploram diferentes materiais e técnicas para criar peças únicas\, estimulando a imaginação\, a coordenação motora e a expressão artística.O evento pode sofrer alterações de data\, local ou cancelamento sem aviso prévio.
URL:https://lecanton.com.br/evento/artesanato/2026-04-29/
LOCATION:L’Arena
CATEGORIES:Crianças de 5 a 8 anos
ATTACH;FMTTYPE=image/jpeg:https://lecanton.com.br/wp-content/uploads/2026/04/artesanato.jpg
END:VEVENT
BEGIN:VEVENT
DTSTART;TZID=America/Sao_Paulo:20260430T144000
DTEND;TZID=America/Sao_Paulo:20260430T154000
DTSTAMP:20260422T160208
CREATED:20260418T025245Z
LAST-MODIFIED:20260418T025245Z
UID:10024362-1777560000-1777563600@lecanton.com.br
SUMMARY:Artesanato
DESCRIPTION:Uma atividade criativa e divertida para crianças de 5 a 8 anos! Os pequenos exploram diferentes materiais e técnicas para criar peças únicas\, estimulando a imaginação\, a coordenação motora e a expressão artística.O evento pode sofrer alterações de data\, local ou cancelamento sem aviso prévio.
URL:https://lecanton.com.br/evento/artesanato/2026-04-30/
LOCATION:L’Arena
CATEGORIES:Crianças de 5 a 8 anos
ATTACH;FMTTYPE=image/jpeg:https://lecanton.com.br/wp-content/uploads/2026/04/artesanato.jpg
END:VEVENT
BEGIN:VEVENT
DTSTART;TZID=America/Sao_Paulo:20260501T144000
DTEND;TZID=America/Sao_Paulo:20260501T154000
DTSTAMP:20260422T160208
CREATED:20260418T025245Z
LAST-MODIFIED:20260418T025245Z
UID:10024363-1777646400-1777650000@lecanton.com.br
SUMMARY:Artesanato
DESCRIPTION:Uma atividade criativa e divertida para crianças de 5 a 8 anos! Os pequenos exploram diferentes materiais e técnicas para criar peças únicas\, estimulando a imaginação\, a coordenação motora e a expressão artística.O evento pode sofrer alterações de data\, local ou cancelamento sem aviso prévio.
URL:https://lecanton.com.br/evento/artesanato/2026-05-01/
LOCATION:L’Arena
CATEGORIES:Crianças de 5 a 8 anos
ATTACH;FMTTYPE=image/jpeg:https://lecanton.com.br/wp-content/uploads/2026/04/artesanato.jpg
END:VEVENT
BEGIN:VEVENT
DTSTART;TZID=America/Sao_Paulo:20260502T144000
DTEND;TZID=America/Sao_Paulo:20260502T154000
DTSTAMP:20260422T160208
CREATED:20260418T025245Z
LAST-MODIFIED:20260418T025245Z
UID:10024364-1777732800-1777736400@lecanton.com.br
SUMMARY:Artesanato
DESCRIPTION:Uma atividade criativa e divertida para crianças de 5 a 8 anos! Os pequenos exploram diferentes materiais e técnicas para criar peças únicas\, estimulando a imaginação\, a coordenação motora e a expressão artística.O evento pode sofrer alterações de data\, local ou cancelamento sem aviso prévio.
URL:https://lecanton.com.br/evento/artesanato/2026-05-02/
LOCATION:L’Arena
CATEGORIES:Crianças de 5 a 8 anos
ATTACH;FMTTYPE=image/jpeg:https://lecanton.com.br/wp-content/uploads/2026/04/artesanato.jpg
END:VEVENT
BEGIN:VEVENT
DTSTART;TZID=America/Sao_Paulo:20260503T144000
DTEND;TZID=America/Sao_Paulo:20260503T154000
DTSTAMP:20260422T160208
CREATED:20260418T025245Z
LAST-MODIFIED:20260418T025245Z
UID:10024365-1777819200-1777822800@lecanton.com.br
SUMMARY:Artesanato
DESCRIPTION:Uma atividade criativa e divertida para crianças de 5 a 8 anos! Os pequenos exploram diferentes materiais e técnicas para criar peças únicas\, estimulando a imaginação\, a coordenação motora e a expressão artística.O evento pode sofrer alterações de data\, local ou cancelamento sem aviso prévio.
URL:https://lecanton.com.br/evento/artesanato/2026-05-03/
LOCATION:L’Arena
CATEGORIES:Crianças de 5 a 8 anos
ATTACH;FMTTYPE=image/jpeg:https://lecanton.com.br/wp-content/uploads/2026/04/artesanato.jpg
END:VEVENT
BEGIN:VEVENT
DTSTART;TZID=America/Sao_Paulo:20260504T144000
DTEND;TZID=America/Sao_Paulo:20260504T154000
DTSTAMP:20260422T160208
CREATED:20260418T025245Z
LAST-MODIFIED:20260418T025245Z
UID:10024366-1777905600-1777909200@lecanton.com.br
SUMMARY:Artesanato
DESCRIPTION:Uma atividade criativa e divertida para crianças de 5 a 8 anos! Os pequenos exploram diferentes materiais e técnicas para criar peças únicas\, estimulando a imaginação\, a coordenação motora e a expressão artística.O evento pode sofrer alterações de data\, local ou cancelamento sem aviso prévio.
URL:https://lecanton.com.br/evento/artesanato/2026-05-04/
LOCATION:L’Arena
CATEGORIES:Crianças de 5 a 8 anos
ATTACH;FMTTYPE=image/jpeg:https://lecanton.com.br/wp-content/uploads/2026/04/artesanato.jpg
END:VEVENT
BEGIN:VEVENT
DTSTART;TZID=America/Sao_Paulo:20260505T144000
DTEND;TZID=America/Sao_Paulo:20260505T154000
DTSTAMP:20260422T160208
CREATED:20260418T025245Z
LAST-MODIFIED:20260418T025245Z
UID:10024367-1777992000-1777995600@lecanton.com.br
SUMMARY:Artesanato
DESCRIPTION:Uma atividade criativa e divertida para crianças de 5 a 8 anos! Os pequenos exploram diferentes materiais e técnicas para criar peças únicas\, estimulando a imaginação\, a coordenação motora e a expressão artística.O evento pode sofrer alterações de data\, local ou cancelamento sem aviso prévio.
URL:https://lecanton.com.br/evento/artesanato/2026-05-05/
LOCATION:L’Arena
CATEGORIES:Crianças de 5 a 8 anos
ATTACH;FMTTYPE=image/jpeg:https://lecanton.com.br/wp-content/uploads/2026/04/artesanato.jpg
END:VEVENT
BEGIN:VEVENT
DTSTART;TZID=America/Sao_Paulo:20260506T144000
DTEND;TZID=America/Sao_Paulo:20260506T154000
DTSTAMP:20260422T160208
CREATED:20260418T025245Z
LAST-MODIFIED:20260418T025245Z
UID:10024368-1778078400-1778082000@lecanton.com.br
SUMMARY:Artesanato
DESCRIPTION:Uma atividade criativa e divertida para crianças de 5 a 8 anos! Os pequenos exploram diferentes materiais e técnicas para criar peças únicas\, estimulando a imaginação\, a coordenação motora e a expressão artística.O evento pode sofrer alterações de data\, local ou cancelamento sem aviso prévio.
URL:https://lecanton.com.br/evento/artesanato/2026-05-06/
LOCATION:L’Arena
CATEGORIES:Crianças de 5 a 8 anos
ATTACH;FMTTYPE=image/jpeg:https://lecanton.com.br/wp-content/uploads/2026/04/artesanato.jpg
END:VEVENT
BEGIN:VEVENT
DTSTART;TZID=America/Sao_Paulo:20260507T144000
DTEND;TZID=America/Sao_Paulo:20260507T154000
DTSTAMP:20260422T160208
CREATED:20260418T025245Z
LAST-MODIFIED:20260418T025245Z
UID:10024369-1778164800-1778168400@lecanton.com.br
SUMMARY:Artesanato
DESCRIPTION:Uma atividade criativa e divertida para crianças de 5 a 8 anos! Os pequenos exploram diferentes materiais e técnicas para criar peças únicas\, estimulando a imaginação\, a coordenação motora e a expressão artística.O evento pode sofrer alterações de data\, local ou cancelamento sem aviso prévio.
URL:https://lecanton.com.br/evento/artesanato/2026-05-07/
LOCATION:L’Arena
CATEGORIES:Crianças de 5 a 8 anos
ATTACH;FMTTYPE=image/jpeg:https://lecanton.com.br/wp-content/uploads/2026/04/artesanato.jpg
END:VEVENT
BEGIN:VEVENT
DTSTART;TZID=America/Sao_Paulo:20260508T144000
DTEND;TZID=America/Sao_Paulo:20260508T154000
DTSTAMP:20260422T160208
CREATED:20260418T025245Z
LAST-MODIFIED:20260418T025245Z
UID:10024370-1778251200-1778254800@lecanton.com.br
SUMMARY:Artesanato
DESCRIPTION:Uma atividade criativa e divertida para crianças de 5 a 8 anos! Os pequenos exploram diferentes materiais e técnicas para criar peças únicas\, estimulando a imaginação\, a coordenação motora e a expressão artística.O evento pode sofrer alterações de data\, local ou cancelamento sem aviso prévio.
URL:https://lecanton.com.br/evento/artesanato/2026-05-08/
LOCATION:L’Arena
CATEGORIES:Crianças de 5 a 8 anos
ATTACH;FMTTYPE=image/jpeg:https://lecanton.com.br/wp-content/uploads/2026/04/artesanato.jpg
END:VEVENT
BEGIN:VEVENT
DTSTART;TZID=America/Sao_Paulo:20260509T144000
DTEND;TZID=America/Sao_Paulo:20260509T154000
DTSTAMP:20260422T160208
CREATED:20260418T025245Z
LAST-MODIFIED:20260418T025245Z
UID:10024371-1778337600-1778341200@lecanton.com.br
SUMMARY:Artesanato
DESCRIPTION:Uma atividade criativa e divertida para crianças de 5 a 8 anos! Os pequenos exploram diferentes materiais e técnicas para criar peças únicas\, estimulando a imaginação\, a coordenação motora e a expressão artística.O evento pode sofrer alterações de data\, local ou cancelamento sem aviso prévio.
URL:https://lecanton.com.br/evento/artesanato/2026-05-09/
LOCATION:L’Arena
CATEGORIES:Crianças de 5 a 8 anos
ATTACH;FMTTYPE=image/jpeg:https://lecanton.com.br/wp-content/uploads/2026/04/artesanato.jpg
END:VEVENT
BEGIN:VEVENT
DTSTART;TZID=America/Sao_Paulo:20260510T144000
DTEND;TZID=America/Sao_Paulo:20260510T154000
DTSTAMP:20260422T160208
CREATED:20260418T025245Z
LAST-MODIFIED:20260418T025245Z
UID:10024372-1778424000-1778427600@lecanton.com.br
SUMMARY:Artesanato
DESCRIPTION:Uma atividade criativa e divertida para crianças de 5 a 8 anos! Os pequenos exploram diferentes materiais e técnicas para criar peças únicas\, estimulando a imaginação\, a coordenação motora e a expressão artística.O evento pode sofrer alterações de data\, local ou cancelamento sem aviso prévio.
URL:https://lecanton.com.br/evento/artesanato/2026-05-10/
LOCATION:L’Arena
CATEGORIES:Crianças de 5 a 8 anos
ATTACH;FMTTYPE=image/jpeg:https://lecanton.com.br/wp-content/uploads/2026/04/artesanato.jpg
END:VEVENT
BEGIN:VEVENT
DTSTART;TZID=America/Sao_Paulo:20260511T144000
DTEND;TZID=America/Sao_Paulo:20260511T154000
DTSTAMP:20260422T160208
CREATED:20260418T025245Z
LAST-MODIFIED:20260418T025245Z
UID:10024373-1778510400-1778514000@lecanton.com.br
SUMMARY:Artesanato
DESCRIPTION:Uma atividade criativa e divertida para crianças de 5 a 8 anos! Os pequenos exploram diferentes materiais e técnicas para criar peças únicas\, estimulando a imaginação\, a coordenação motora e a expressão artística.O evento pode sofrer alterações de data\, local ou cancelamento sem aviso prévio.
URL:https://lecanton.com.br/evento/artesanato/2026-05-11/
LOCATION:L’Arena
CATEGORIES:Crianças de 5 a 8 anos
ATTACH;FMTTYPE=image/jpeg:https://lecanton.com.br/wp-content/uploads/2026/04/artesanato.jpg
END:VEVENT
BEGIN:VEVENT
DTSTART;TZID=America/Sao_Paulo:20260512T144000
DTEND;TZID=America/Sao_Paulo:20260512T154000
DTSTAMP:20260422T160208
CREATED:20260418T025245Z
LAST-MODIFIED:20260418T025245Z
UID:10024374-1778596800-1778600400@lecanton.com.br
SUMMARY:Artesanato
DESCRIPTION:Uma atividade criativa e divertida para crianças de 5 a 8 anos! Os pequenos exploram diferentes materiais e técnicas para criar peças únicas\, estimulando a imaginação\, a coordenação motora e a expressão artística.O evento pode sofrer alterações de data\, local ou cancelamento sem aviso prévio.
URL:https://lecanton.com.br/evento/artesanato/2026-05-12/
LOCATION:L’Arena
CATEGORIES:Crianças de 5 a 8 anos
ATTACH;FMTTYPE=image/jpeg:https://lecanton.com.br/wp-content/uploads/2026/04/artesanato.jpg
END:VEVENT
BEGIN:VEVENT
DTSTART;TZID=America/Sao_Paulo:20260513T144000
DTEND;TZID=America/Sao_Paulo:20260513T154000
DTSTAMP:20260422T160208
CREATED:20260418T025245Z
LAST-MODIFIED:20260418T025245Z
UID:10024375-1778683200-1778686800@lecanton.com.br
SUMMARY:Artesanato
DESCRIPTION:Uma atividade criativa e divertida para crianças de 5 a 8 anos! Os pequenos exploram diferentes materiais e técnicas para criar peças únicas\, estimulando a imaginação\, a coordenação motora e a expressão artística.O evento pode sofrer alterações de data\, local ou cancelamento sem aviso prévio.
URL:https://lecanton.com.br/evento/artesanato/2026-05-13/
LOCATION:L’Arena
CATEGORIES:Crianças de 5 a 8 anos
ATTACH;FMTTYPE=image/jpeg:https://lecanton.com.br/wp-content/uploads/2026/04/artesanato.jpg
END:VEVENT
BEGIN:VEVENT
DTSTART;TZID=America/Sao_Paulo:20260514T144000
DTEND;TZID=America/Sao_Paulo:20260514T154000
DTSTAMP:20260422T160208
CREATED:20260418T025245Z
LAST-MODIFIED:20260418T025245Z
UID:10024376-1778769600-1778773200@lecanton.com.br
SUMMARY:Artesanato
DESCRIPTION:Uma atividade criativa e divertida para crianças de 5 a 8 anos! Os pequenos exploram diferentes materiais e técnicas para criar peças únicas\, estimulando a imaginação\, a coordenação motora e a expressão artística.O evento pode sofrer alterações de data\, local ou cancelamento sem aviso prévio.
URL:https://lecanton.com.br/evento/artesanato/2026-05-14/
LOCATION:L’Arena
CATEGORIES:Crianças de 5 a 8 anos
ATTACH;FMTTYPE=image/jpeg:https://lecanton.com.br/wp-content/uploads/2026/04/artesanato.jpg
END:VEVENT
BEGIN:VEVENT
DTSTART;TZID=America/Sao_Paulo:20260515T144000
DTEND;TZID=America/Sao_Paulo:20260515T154000
DTSTAMP:20260422T160208
CREATED:20260418T025245Z
LAST-MODIFIED:20260418T025245Z
UID:10024377-1778856000-1778859600@lecanton.com.br
SUMMARY:Artesanato
DESCRIPTION:Uma atividade criativa e divertida para crianças de 5 a 8 anos! Os pequenos exploram diferentes materiais e técnicas para criar peças únicas\, estimulando a imaginação\, a coordenação motora e a expressão artística.O evento pode sofrer alterações de data\, local ou cancelamento sem aviso prévio.
URL:https://lecanton.com.br/evento/artesanato/2026-05-15/
LOCATION:L’Arena
CATEGORIES:Crianças de 5 a 8 anos
ATTACH;FMTTYPE=image/jpeg:https://lecanton.com.br/wp-content/uploads/2026/04/artesanato.jpg
END:VEVENT
BEGIN:VEVENT
DTSTART;TZID=America/Sao_Paulo:20260516T144000
DTEND;TZID=America/Sao_Paulo:20260516T154000
DTSTAMP:20260422T160208
CREATED:20260418T025245Z
LAST-MODIFIED:20260418T025245Z
UID:10024378-1778942400-1778946000@lecanton.com.br
SUMMARY:Artesanato
DESCRIPTION:Uma atividade criativa e divertida para crianças de 5 a 8 anos! Os pequenos exploram diferentes materiais e técnicas para criar peças únicas\, estimulando a imaginação\, a coordenação motora e a expressão artística.O evento pode sofrer alterações de data\, local ou cancelamento sem aviso prévio.
URL:https://lecanton.com.br/evento/artesanato/2026-05-16/
LOCATION:L’Arena
CATEGORIES:Crianças de 5 a 8 anos
ATTACH;FMTTYPE=image/jpeg:https://lecanton.com.br/wp-content/uploads/2026/04/artesanato.jpg
END:VEVENT
BEGIN:VEVENT
DTSTART;TZID=America/Sao_Paulo:20260517T144000
DTEND;TZID=America/Sao_Paulo:20260517T154000
DTSTAMP:20260422T160208
CREATED:20260418T025245Z
LAST-MODIFIED:20260418T025245Z
UID:10024379-1779028800-1779032400@lecanton.com.br
SUMMARY:Artesanato
DESCRIPTION:Uma atividade criativa e divertida para crianças de 5 a 8 anos! Os pequenos exploram diferentes materiais e técnicas para criar peças únicas\, estimulando a imaginação\, a coordenação motora e a expressão artística.O evento pode sofrer alterações de data\, local ou cancelamento sem aviso prévio.
URL:https://lecanton.com.br/evento/artesanato/2026-05-17/
LOCATION:L’Arena
CATEGORIES:Crianças de 5 a 8 anos
ATTACH;FMTTYPE=image/jpeg:https://lecanton.com.br/wp-content/uploads/2026/04/artesanato.jpg
END:VEVENT
BEGIN:VEVENT
DTSTART;TZID=America/Sao_Paulo:20260518T144000
DTEND;TZID=America/Sao_Paulo:20260518T154000
DTSTAMP:20260422T160208
CREATED:20260418T025245Z
LAST-MODIFIED:20260418T025245Z
UID:10024380-1779115200-1779118800@lecanton.com.br
SUMMARY:Artesanato
DESCRIPTION:Uma atividade criativa e divertida para crianças de 5 a 8 anos! Os pequenos exploram diferentes materiais e técnicas para criar peças únicas\, estimulando a imaginação\, a coordenação motora e a expressão artística.O evento pode sofrer alterações de data\, local ou cancelamento sem aviso prévio.
URL:https://lecanton.com.br/evento/artesanato/2026-05-18/
LOCATION:L’Arena
CATEGORIES:Crianças de 5 a 8 anos
ATTACH;FMTTYPE=image/jpeg:https://lecanton.com.br/wp-content/uploads/2026/04/artesanato.jpg
END:VEVENT
BEGIN:VEVENT
DTSTART;TZID=America/Sao_Paulo:20260519T144000
DTEND;TZID=America/Sao_Paulo:20260519T154000
DTSTAMP:20260422T160208
CREATED:20260418T025245Z
LAST-MODIFIED:20260418T025245Z
UID:10024381-1779201600-1779205200@lecanton.com.br
SUMMARY:Artesanato
DESCRIPTION:Uma atividade criativa e divertida para crianças de 5 a 8 anos! Os pequenos exploram diferentes materiais e técnicas para criar peças únicas\, estimulando a imaginação\, a coordenação motora e a expressão artística.O evento pode sofrer alterações de data\, local ou cancelamento sem aviso prévio.
URL:https://lecanton.com.br/evento/artesanato/2026-05-19/
LOCATION:L’Arena
CATEGORIES:Crianças de 5 a 8 anos
ATTACH;FMTTYPE=image/jpeg:https://lecanton.com.br/wp-content/uploads/2026/04/artesanato.jpg
END:VEVENT
BEGIN:VEVENT
DTSTART;TZID=America/Sao_Paulo:20260520T144000
DTEND;TZID=America/Sao_Paulo:20260520T154000
DTSTAMP:20260422T160208
CREATED:20260418T025245Z
LAST-MODIFIED:20260418T025245Z
UID:10024382-1779288000-1779291600@lecanton.com.br
SUMMARY:Artesanato
DESCRIPTION:Uma atividade criativa e divertida para crianças de 5 a 8 anos! Os pequenos exploram diferentes materiais e técnicas para criar peças únicas\, estimulando a imaginação\, a coordenação motora e a expressão artística.O evento pode sofrer alterações de data\, local ou cancelamento sem aviso prévio.
URL:https://lecanton.com.br/evento/artesanato/2026-05-20/
LOCATION:L’Arena
CATEGORIES:Crianças de 5 a 8 anos
ATTACH;FMTTYPE=image/jpeg:https://lecanton.com.br/wp-content/uploads/2026/04/artesanato.jpg
END:VEVENT
BEGIN:VEVENT
DTSTART;TZID=America/Sao_Paulo:20260521T144000
DTEND;TZID=America/Sao_Paulo:20260521T154000
DTSTAMP:20260422T160208
CREATED:20260418T025245Z
LAST-MODIFIED:20260418T025245Z
UID:10024383-1779374400-1779378000@lecanton.com.br
SUMMARY:Artesanato
DESCRIPTION:Uma atividade criativa e divertida para crianças de 5 a 8 anos! Os pequenos exploram diferentes materiais e técnicas para criar peças únicas\, estimulando a imaginação\, a coordenação motora e a expressão artística.O evento pode sofrer alterações de data\, local ou cancelamento sem aviso prévio.
URL:https://lecanton.com.br/evento/artesanato/2026-05-21/
LOCATION:L’Arena
CATEGORIES:Crianças de 5 a 8 anos
ATTACH;FMTTYPE=image/jpeg:https://lecanton.com.br/wp-content/uploads/2026/04/artesanato.jpg
END:VEVENT
BEGIN:VEVENT
DTSTART;TZID=America/Sao_Paulo:20260522T144000
DTEND;TZID=America/Sao_Paulo:20260522T154000
DTSTAMP:20260422T160208
CREATED:20260418T025245Z
LAST-MODIFIED:20260418T025245Z
UID:10024384-1779460800-1779464400@lecanton.com.br
SUMMARY:Artesanato
DESCRIPTION:Uma atividade criativa e divertida para crianças de 5 a 8 anos! Os pequenos exploram diferentes materiais e técnicas para criar peças únicas\, estimulando a imaginação\, a coordenação motora e a expressão artística.O evento pode sofrer alterações de data\, local ou cancelamento sem aviso prévio.
URL:https://lecanton.com.br/evento/artesanato/2026-05-22/
LOCATION:L’Arena
CATEGORIES:Crianças de 5 a 8 anos
ATTACH;FMTTYPE=image/jpeg:https://lecanton.com.br/wp-content/uploads/2026/04/artesanato.jpg
END:VEVENT
END:VCALENDAR